{"text_format":"1","workbook":"xlsx","n_sheets":3,"sheets":["入力欄","ブランド","DB"],"not_rendered":{"charts":0,"images":0,"macros":1,"external_links":0,"defined_names":2,"comments":0,"pivot_tables":0},"unopened":[],"bounds":{"document_bytes":16777216,"sheet_cells":100000,"rows_first":2000,"rows_last":500,"rows_between":2000,"halvings":0,"cell_chars":16384,"cell_head_chars":4096},"cells_cut":0,"cells_raw":0,"read":"whole","date_system":"1900"}

{"sheet":"入力欄","index":0,"n_rows":505,"n_cols":19,"rows_kept":505,"cut":false,"hidden":false,"merged":[[485,2,494,2],[495,2,504,2],[425,2,434,2],[435,2,444,2],[445,2,454,2],[455,2,464,2],[465,2,474,2],[475,2,484,2],[415,2,424,2],[305,2,314,2],[315,2,324,2],[325,2,334,2],[335,2,344,2],[345,2,354,2],[355,2,364,2],[365,2,374,2],[375,2,384,2],[385,2,394,2],[395,2,404,2],[405,2,414,2],[295,2,304,2],[185,2,194,2],[195,2,204,2],[205,2,214,2],[215,2,224,2],[225,2,234,2],[235,2,244,2],[245,2,254,2],[255,2,264,2],[265,2,274,2],[275,2,284,2],[285,2,294,2],[175,2,184,2],[65,2,74,2],[75,2,84,2],[85,2,94,2],[95,2,104,2],[105,2,114,2],[115,2,124,2],[125,2,134,2],[135,2,144,2],[145,2,154,2],[155,2,164,2],[165,2,174,2],[55,2,64,2],[5,2,14,2],[15,2,24,2],[25,2,34,2],[35,2,44,2],[45,2,54,2]]}
["■大吉オークション出品リスト_入力画面（ブランド）"]
[]
[null,"先頭箱番",null,null,"申請箱数",null,null,"出品月"]
[]
[null,"通し番号","箱番","行番","ブランド名","ライン","商品名","品番","カラー","素材","ランク","付属品・備考","保留交渉\n可否","指値（税抜）","区分","ブランド名","ランク","可否","出品月"]
[null,1,{"$f":"C$3&D$3","v":""},1,null,null,null,null,null,null,null,null,null,null,"J","ルイ・ヴィトン","N","可","1月"]
[null,2,null,2,null,null,null,null,null,null,null,null,null,null,"D","エルメス","S","否","2月"]
[null,3,null,3,null,null,null,null,null,null,null,null,null,null,"B","カルティエ","SA",null,"3月"]
[null,4,null,4,null,null,null,null,null,null,null,null,null,null,"W","シャネル","A",null,"4月"]
[null,5,null,5,null,null,null,null,null,null,null,null,null,null,null,"ブルガリ","AB",null,"5月"]
[null,6,null,6,null,null,null,null,null,null,null,null,null,null,null,"グッチ","B",null,"6月"]
[null,7,null,7,null,null,null,null,null,null,null,null,null,null,null,"アルマーニ","BC",null,"7月"]
[null,8,null,8,null,null,null,null,null,null,null,null,null,null,null,"アンテプリマ","C",null,"8月"]
[null,9,null,9,null,null,null,null,null,null,null,null,null,null,null,"イヴ・サンローラン","ジャンク",null,"9月"]
[null,10,null,10,null,null,null,null,null,null,null,null,null,null,null,"ヴァレンティノ",null,null,"10月"]
[null,11,{"$f":"IF(INT(B16/10)<F$3,C$3&(D$3+INT(B16/10)),\"\")","v":""},1,null,null,null,null,null,null,null,null,null,null,null,"ヴィヴィアン・ウエストウッド",null,null,"11月"]
[null,12,null,2,null,null,null,null,null,null,null,null,null,null,null,"ヴェルサーチ",null,null,"12月"]
[null,13,null,3,null,null,null,null,null,null,null,null,null,null,null,"ウォーターマン"]
[null,14,null,4,null,null,null,null,null,null,null,null,null,null,null,"エトロ"]
[null,15,null,5,null,null,null,null,null,null,null,null,null,null,null,"エミリオ・プッチ"]
[null,16,null,6,null,null,null,null,null,null,null,null,null,null,null,"MCM"]
[null,17,null,7,null,null,null,null,null,null,null,null,null,null,null,"オロビアンコ"]
[null,18,null,8,null,null,null,null,null,null,null,null,null,null,null,"ガガミラノ"]
[null,19,null,9,null,null,null,null,null,null,null,null,null,null,null,"カレラ・イ・カレラ"]
[null,20,null,10,null,null,null,null,null,null,null,null,null,null,null,"クリスチャン・ディオール"]
[null,21,{"$f":"IF(INT(B26/10)<F$3,C$3&(D$3+INT(B26/10)),\"\")","v":""},1,null,null,null,null,null,null,null,null,null,null,null,"クレージュ"]
[null,22,null,2,null,null,null,null,null,null,null,null,null,null,null,"クロエ"]
[null,23,null,3,null,null,null,null,null,null,null,null,null,null,null,"ケイト・スペード"]
[null,24,null,4,null,null,null,null,null,null,null,null,null,null,null,"コーチ"]
[null,25,null,5,null,null,null,null,null,null,null,null,null,null,null,"コール・ハーン"]
[null,26,null,6,null,null,null,null,null,null,null,null,null,null,null,"コグ"]
[null,27,null,7,null,null,null,null,null,null,null,null,null,null,null,"ゴヤール"]
[null,28,null,8,null,null,null,null,null,null,null,null,null,null,null,"サマンサタバサ"]
[null,29,null,9,null,null,null,null,null,null,null,null,null,null,null,"シーバイクロエ"]
[null,30,null,10,null,null,null,null,null,null,null,null,null,null,null,"シチズン"]
[null,31,{"$f":"IF(INT(B36/10)<F$3,C$3&(D$3+INT(B36/10)),\"\")","v":""},1,null,null,null,null,null,null,null,null,null,null,null,"ジミーチュウ"]
[null,32,null,2,null,null,null,null,null,null,null,null,null,null,null,"ショーメ"]
[null,33,null,3,null,null,null,null,null,null,null,null,null,null,null,"ショパール"]
[null,34,null,4,null,null,null,null,null,null,null,null,null,null,null,"スワロフスキー"]
[null,35,null,5,null,null,null,null,null,null,null,null,null,null,null,"セリーヌ"]
[null,36,null,6,null,null,null,null,null,null,null,null,null,null,null,"ゼロハリバートン"]
[null,37,null,7,null,null,null,null,null,null,null,null,null,null,null,"タサキ"]
[null,38,null,8,null,null,null,null,null,null,null,null,null,null,null,"ダンヒル"]
[null,39,null,9,null,null,null,null,null,null,null,null,null,null,null,"ティファニー"]
[null,40,null,10,null,null,null,null,null,null,null,null,null,null,null,"デュポン"]
[null,41,{"$f":"IF(INT(B46/10)<F$3,C$3&(D$3+INT(B46/10)),\"\")","v":""},1,null,null,null,null,null,null,null,null,null,null,null,"トゥミ"]
[null,42,null,2,null,null,null,null,null,null,null,null,null,null,null,"トッズ"]
[null,43,null,3,null,null,null,null,null,null,null,null,null,null,null,"トムフォード"]
[null,44,null,4,null,null,null,null,null,null,null,null,null,null,null,"トリーバーチ"]
[null,45,null,5,null,null,null,null,null,null,null,null,null,null,null,"ドルチェ&ガッバーナ"]
[null,46,null,6,null,null,null,null,null,null,null,null,null,null,null,"ニクソン"]
[null,47,null,7,null,null,null,null,null,null,null,null,null,null,null,"パーカー"]
[null,48,null,8,null,null,null,null,null,null,null,null,null,null,null,"バーバリー"]
[null,49,null,9,null,null,null,null,null,null,null,null,null,null,null,"バカラ"]
[null,50,null,10,null,null,null,null,null,null,null,null,null,null,null,"ハミルトン"]
[null,51,{"$f":"IF(INT(B56/10)<F$3,C$3&(D$3+INT(B56/10)),\"\")","v":""},1,null,null,null,null,null,null,null,null,null,null,null,"バリー"]
[null,52,null,2,null,null,null,null,null,null,null,null,null,null,null,"バレンシアガ"]
[null,53,null,3,null,null,null,null,null,null,null,null,null,null,null,"ハンティングワールド"]
[null,54,null,4,null,null,null,null,null,null,null,null,null,null,null,"ピエール・カルダン"]
[null,55,null,5,null,null,null,null,null,null,null,null,null,null,null,"フェラガモ"]
[null,56,null,6,null,null,null,null,null,null,null,null,null,null,null,"フェンディ"]
[null,57,null,7,null,null,null,null,null,null,null,null,null,null,null,"フォリフォリ"]
[null,58,null,8,null,null,null,null,null,null,null,null,null,null,null,"ブシュロン"]
[null,59,null,9,null,null,null,null,null,null,null,null,null,null,null,"プラダ"]
[null,60,null,10,null,null,null,null,null,null,null,null,null,null,null,"フランチェスコ・ビアジア"]
[null,61,{"$f":"IF(INT(B66/10)<F$3,C$3&(D$3+INT(B66/10)),\"\")","v":""},1,null,null,null,null,null,null,null,null,null,null,null,"プリマクラッセ"]
[null,62,null,2,null,null,null,null,null,null,null,null,null,null,null,"フルラ"]
[null,63,null,3,null,null,null,null,null,null,null,null,null,null,null,"ポール・スミス"]
[null,64,null,4,null,null,null,null,null,null,null,null,null,null,null,"ボッテガ・ヴェネタ"]
[null,65,null,5,null,null,null,null,null,null,null,null,null,null,null,"ポリス"]
[null,66,null,6,null,null,null,null,null,null,null,null,null,null,null,"マークジェイコブス"]
[null,67,null,7,null,null,null,null,null,null,null,null,null,null,null,"ミキモト"]
[null,68,null,8,null,null,null,null,null,null,null,null,null,null,null,"ミュウミュウ"]
[null,69,null,9,null,null,null,null,null,null,null,null,null,null,null,"ミラ・ショーン"]
[null,70,null,10,null,null,null,null,null,null,null,null,null,null,null,"モンブラン"]
[null,71,{"$f":"IF(INT(B76/10)<F$3,C$3&(D$3+INT(B76/10)),\"\")","v":""},1,null,null,null,null,null,null,null,null,null,null,null,"リモワ"]
[null,72,null,2,null,null,null,null,null,null,null,null,null,null,null,"レイバン"]
[null,73,null,3,null,null,null,null,null,null,null,null,null,null,null,"ロエベ"]
[null,74,null,4,null,null,null,null,null,null,null,null,null,null,null,"ロベルタディカメリーノ"]
[null,75,null,5,null,null,null,null,null,null,null,null,null,null,null,"ロンシャン"]
[null,76,null,6,null,null,null,null,null,null,null,null,null,null,null,"吉田カバン"]
[null,77,null,7,null,null,null,null,null,null,null,null,null,null,null,"4℃"]
[null,78,null,8,null,null,null,null,null,null,null,null,null,null,null,"ノーブランド"]
[null,79,null,9,null,null,null,null,null,null,null,null,null,null,null,"その他"]
[null,80,null,10]
[null,81,{"$f":"IF(INT(B86/10)<F$3,C$3&(D$3+INT(B86/10)),\"\")","v":""},1]
[null,82,null,2]
[null,83,null,3]
[null,84,null,4]
[null,85,null,5]
[null,86,null,6]
[null,87,null,7]
[null,88,null,8]
[null,89,null,9]
[null,90,null,10]
[null,91,{"$f":"IF(INT(B96/10)<F$3,C$3&(D$3+INT(B96/10)),\"\")","v":""},1]
[null,92,null,2]
[null,93,null,3]
[null,94,null,4]
[null,95,null,5]
[null,96,null,6]
[null,97,null,7]
[null,98,null,8]
[null,99,null,9]
[null,100,null,10]
[null,101,{"$f":"IF(INT(B106/10)<F$3,C$3&(D$3+INT(B106/10)),\"\")","v":""},1]
[null,102,null,2]
[null,103,null,3]
[null,104,null,4]
[null,105,null,5]
[null,106,null,6]
[null,107,null,7]
[null,108,null,8]
[null,109,null,9]
[null,110,null,10]
[null,111,{"$f":"IF(INT(B116/10)<F$3,C$3&(D$3+INT(B116/10)),\"\")","v":""},1]
[null,112,null,2]
[null,113,null,3]
[null,114,null,4]
[null,115,null,5]
[null,116,null,6]
[null,117,null,7]
[null,118,null,8]
[null,119,null,9]
[null,120,null,10]
[null,121,{"$f":"IF(INT(B126/10)<F$3,C$3&(D$3+INT(B126/10)),\"\")","v":""},1]
[null,122,null,2]
[null,123,null,3]
[null,124,null,4]
[null,125,null,5]
[null,126,null,6]
[null,127,null,7]
[null,128,null,8]
[null,129,null,9]
[null,130,null,10]
[null,131,{"$f":"IF(INT(B136/10)<F$3,C$3&(D$3+INT(B136/10)),\"\")","v":""},1]
[null,132,null,2]
[null,133,null,3]
[null,134,null,4]
[null,135,null,5]
[null,136,null,6]
[null,137,null,7]
[null,138,null,8]
[null,139,null,9]
[null,140,null,10]
[null,141,{"$f":"IF(INT(B146/10)<F$3,C$3&(D$3+INT(B146/10)),\"\")","v":""},1]
[null,142,null,2]
[null,143,null,3]
[null,144,null,4]
[null,145,null,5]
[null,146,null,6]
[null,147,null,7]
[null,148,null,8]
[null,149,null,9]
[null,150,null,10]
[null,151,{"$f":"IF(INT(B156/10)<F$3,C$3&(D$3+INT(B156/10)),\"\")","v":""},1]
[null,152,null,2]
[null,153,null,3]
[null,154,null,4]
[null,155,null,5]
[null,156,null,6]
[null,157,null,7]
[null,158,null,8]
[null,159,null,9]
[null,160,null,10]
[null,161,{"$f":"IF(INT(B166/10)<F$3,C$3&(D$3+INT(B166/10)),\"\")","v":""},1]
[null,162,null,2]
[null,163,null,3]
[null,164,null,4]
[null,165,null,5]
[null,166,null,6]
[null,167,null,7]
[null,168,null,8]
[null,169,null,9]
[null,170,null,10]
[null,171,{"$f":"IF(INT(B176/10)<F$3,C$3&(D$3+INT(B176/10)),\"\")","v":""},1]
[null,172,null,2]
[null,173,null,3]
[null,174,null,4]
[null,175,null,5]
[null,176,null,6]
[null,177,null,7]
[null,178,null,8]
[null,179,null,9]
[null,180,null,10]
[null,181,{"$f":"IF(INT(B186/10)<F$3,C$3&(D$3+INT(B186/10)),\"\")","v":""},1]
[null,182,null,2]
[null,183,null,3]
[null,184,null,4]
[null,185,null,5]
[null,186,null,6]
[null,187,null,7]
[null,188,null,8]
[null,189,null,9]
[null,190,null,10]
[null,191,{"$f":"IF(INT(B196/10)<F$3,C$3&(D$3+INT(B196/10)),\"\")","v":""},1]
[null,192,null,2]
[null,193,null,3]
[null,194,null,4]
[null,195,null,5]
[null,196,null,6]
[null,197,null,7]
[null,198,null,8]
[null,199,null,9]
[null,200,null,10]
[null,201,{"$f":"IF(INT(B206/10)<F$3,C$3&(D$3+INT(B206/10)),\"\")","v":""},1]
[null,202,null,2]
[null,203,null,3]
[null,204,null,4]
[null,205,null,5]
[null,206,null,6]
[null,207,null,7]
[null,208,null,8]
[null,209,null,9]
[null,210,null,10]
[null,211,{"$f":"IF(INT(B216/10)<F$3,C$3&(D$3+INT(B216/10)),\"\")","v":""},1]
[null,212,null,2]
[null,213,null,3]
[null,214,null,4]
[null,215,null,5]
[null,216,null,6]
[null,217,null,7]
[null,218,null,8]
[null,219,null,9]
[null,220,null,10]
[null,221,{"$f":"IF(INT(B226/10)<F$3,C$3&(D$3+INT(B226/10)),\"\")","v":""},1]
[null,222,null,2]
[null,223,null,3]
[null,224,null,4]
[null,225,null,5]
[null,226,null,6]
[null,227,null,7]
[null,228,null,8]
[null,229,null,9]
[null,230,null,10]
[null,231,{"$f":"IF(INT(B236/10)<F$3,C$3&(D$3+INT(B236/10)),\"\")","v":""},1]
[null,232,null,2]
[null,233,null,3]
[null,234,null,4]
[null,235,null,5]
[null,236,null,6]
[null,237,null,7]
[null,238,null,8]
[null,239,null,9]
[null,240,null,10]
[null,241,{"$f":"IF(INT(B246/10)<F$3,C$3&(D$3+INT(B246/10)),\"\")","v":""},1]
[null,242,null,2]
[null,243,null,3]
[null,244,null,4]
[null,245,null,5]
[null,246,null,6]
[null,247,null,7]
[null,248,null,8]
[null,249,null,9]
[null,250,null,10]
[null,251,{"$f":"IF(INT(B256/10)<F$3,C$3&(D$3+INT(B256/10)),\"\")","v":""},1]
[null,252,null,2]
[null,253,null,3]
[null,254,null,4]
[null,255,null,5]
[null,256,null,6]
[null,257,null,7]
[null,258,null,8]
[null,259,null,9]
[null,260,null,10]
[null,261,{"$f":"IF(INT(B266/10)<F$3,C$3&(D$3+INT(B266/10)),\"\")","v":""},1]
[null,262,null,2]
[null,263,null,3]
[null,264,null,4]
[null,265,null,5]
[null,266,null,6]
[null,267,null,7]
[null,268,null,8]
[null,269,null,9]
[null,270,null,10]
[null,271,{"$f":"IF(INT(B276/10)<F$3,C$3&(D$3+INT(B276/10)),\"\")","v":""},1]
[null,272,null,2]
[null,273,null,3]
[null,274,null,4]
[null,275,null,5]
[null,276,null,6]
[null,277,null,7]
[null,278,null,8]
[null,279,null,9]
[null,280,null,10]
[null,281,{"$f":"IF(INT(B286/10)<F$3,C$3&(D$3+INT(B286/10)),\"\")","v":""},1]
[null,282,null,2]
[null,283,null,3]
[null,284,null,4]
[null,285,null,5]
[null,286,null,6]
[null,287,null,7]
[null,288,null,8]
[null,289,null,9]
[null,290,null,10]
[null,291,{"$f":"IF(INT(B296/10)<F$3,C$3&(D$3+INT(B296/10)),\"\")","v":""},1]
[null,292,null,2]
[null,293,null,3]
[null,294,null,4]
[null,295,null,5]
[null,296,null,6]
[null,297,null,7]
[null,298,null,8]
[null,299,null,9]
[null,300,null,10]
[null,301,{"$f":"IF(INT(B306/10)<F$3,C$3&(D$3+INT(B306/10)),\"\")","v":""},1]
[null,302,null,2]
[null,303,null,3]
[null,304,null,4]
[null,305,null,5]
[null,306,null,6]
[null,307,null,7]
[null,308,null,8]
[null,309,null,9]
[null,310,null,10]
[null,311,{"$f":"IF(INT(B316/10)<F$3,C$3&(D$3+INT(B316/10)),\"\")","v":""},1]
[null,312,null,2]
[null,313,null,3]
[null,314,null,4]
[null,315,null,5]
[null,316,null,6]
[null,317,null,7]
[null,318,null,8]
[null,319,null,9]
[null,320,null,10]
[null,321,{"$f":"IF(INT(B326/10)<F$3,C$3&(D$3+INT(B326/10)),\"\")","v":""},1]
[null,322,null,2]
[null,323,null,3]
[null,324,null,4]
[null,325,null,5]
[null,326,null,6]
[null,327,null,7]
[null,328,null,8]
[null,329,null,9]
[null,330,null,10]
[null,331,{"$f":"IF(INT(B336/10)<F$3,C$3&(D$3+INT(B336/10)),\"\")","v":""},1]
[null,332,null,2]
[null,333,null,3]
[null,334,null,4]
[null,335,null,5]
[null,336,null,6]
[null,337,null,7]
[null,338,null,8]
[null,339,null,9]
[null,340,null,10]
[null,341,{"$f":"IF(INT(B346/10)<F$3,C$3&(D$3+INT(B346/10)),\"\")","v":""},1]
[null,342,null,2]
[null,343,null,3]
[null,344,null,4]
[null,345,null,5]
[null,346,null,6]
[null,347,null,7]
[null,348,null,8]
[null,349,null,9]
[null,350,null,10]
[null,351,{"$f":"IF(INT(B356/10)<F$3,C$3&(D$3+INT(B356/10)),\"\")","v":""},1]
[null,352,null,2]
[null,353,null,3]
[null,354,null,4]
[null,355,null,5]
[null,356,null,6]
[null,357,null,7]
[null,358,null,8]
[null,359,null,9]
[null,360,null,10]
[null,361,{"$f":"IF(INT(B366/10)<F$3,C$3&(D$3+INT(B366/10)),\"\")","v":""},1]
[null,362,null,2]
[null,363,null,3]
[null,364,null,4]
[null,365,null,5]
[null,366,null,6]
[null,367,null,7]
[null,368,null,8]
[null,369,null,9]
[null,370,null,10]
[null,371,{"$f":"IF(INT(B376/10)<F$3,C$3&(D$3+INT(B376/10)),\"\")","v":""},1]
[null,372,null,2]
[null,373,null,3]
[null,374,null,4]
[null,375,null,5]
[null,376,null,6]
[null,377,null,7]
[null,378,null,8]
[null,379,null,9]
[null,380,null,10]
[null,381,{"$f":"IF(INT(B386/10)<F$3,C$3&(D$3+INT(B386/10)),\"\")","v":""},1]
[null,382,null,2]
[null,383,null,3]
[null,384,null,4]
[null,385,null,5]
[null,386,null,6]
[null,387,null,7]
[null,388,null,8]
[null,389,null,9]
[null,390,null,10]
[null,391,{"$f":"IF(INT(B396/10)<F$3,C$3&(D$3+INT(B396/10)),\"\")","v":""},1]
[null,392,null,2]
[null,393,null,3]
[null,394,null,4]
[null,395,null,5]
[null,396,null,6]
[null,397,null,7]
[null,398,null,8]
[null,399,null,9]
[null,400,null,10]
[null,401,{"$f":"IF(INT(B406/10)<F$3,C$3&(D$3+INT(B406/10)),\"\")","v":""},1]
[null,402,null,2]
[null,403,null,3]
[null,404,null,4]
[null,405,null,5]
[null,406,null,6]
[null,407,null,7]
[null,408,null,8]
[null,409,null,9]
[null,410,null,10]
[null,411,{"$f":"IF(INT(B416/10)<F$3,C$3&(D$3+INT(B416/10)),\"\")","v":""},1]
[null,412,null,2]
[null,413,null,3]
[null,414,null,4]
[null,415,null,5]
[null,416,null,6]
[null,417,null,7]
[null,418,null,8]
[null,419,null,9]
[null,420,null,10]
[null,421,{"$f":"IF(INT(B426/10)<F$3,C$3&(D$3+INT(B426/10)),\"\")","v":""},1]
[null,422,null,2]
[null,423,null,3]
[null,424,null,4]
[null,425,null,5]
[null,426,null,6]
[null,427,null,7]
[null,428,null,8]
[null,429,null,9]
[null,430,null,10]
[null,431,{"$f":"IF(INT(B436/10)<F$3,C$3&(D$3+INT(B436/10)),\"\")","v":""},1]
[null,432,null,2]
[null,433,null,3]
[null,434,null,4]
[null,435,null,5]
[null,436,null,6]
[null,437,null,7]
[null,438,null,8]
[null,439,null,9]
[null,440,null,10]
[null,441,{"$f":"IF(INT(B446/10)<F$3,C$3&(D$3+INT(B446/10)),\"\")","v":""},1]
[null,442,null,2]
[null,443,null,3]
[null,444,null,4]
[null,445,null,5]
[null,446,null,6]
[null,447,null,7]
[null,448,null,8]
[null,449,null,9]
[null,450,null,10]
[null,451,{"$f":"IF(INT(B456/10)<F$3,C$3&(D$3+INT(B456/10)),\"\")","v":""},1]
[null,452,null,2]
[null,453,null,3]
[null,454,null,4]
[null,455,null,5]
[null,456,null,6]
[null,457,null,7]
[null,458,null,8]
[null,459,null,9]
[null,460,null,10]
[null,461,{"$f":"IF(INT(B466/10)<F$3,C$3&(D$3+INT(B466/10)),\"\")","v":""},1]
[null,462,null,2]
[null,463,null,3]
[null,464,null,4]
[null,465,null,5]
[null,466,null,6]
[null,467,null,7]
[null,468,null,8]
[null,469,null,9]
[null,470,null,10]
[null,471,{"$f":"IF(INT(B476/10)<F$3,C$3&(D$3+INT(B476/10)),\"\")","v":""},1]
[null,472,null,2]
[null,473,null,3]
[null,474,null,4]
[null,475,null,5]
[null,476,null,6]
[null,477,null,7]
[null,478,null,8]
[null,479,null,9]
[null,480,null,10]
[null,481,{"$f":"IF(INT(B486/10)<F$3,C$3&(D$3+INT(B486/10)),\"\")","v":""},1]
[null,482,null,2]
[null,483,null,3]
[null,484,null,4]
[null,485,null,5]
[null,486,null,6]
[null,487,null,7]
[null,488,null,8]
[null,489,null,9]
[null,490,null,10]
[null,491,{"$f":"IF(INT(B496/10)<F$3,C$3&(D$3+INT(B496/10)),\"\")","v":""},1]
[null,492,null,2]
[null,493,null,3]
[null,494,null,4]
[null,495,null,5]
[null,496,null,6]
[null,497,null,7]
[null,498,null,8]
[null,499,null,9]
[null,500,null,10]

{"sheet":"ブランド","index":1,"n_rows":509,"n_cols":29,"rows_kept":509,"cut":false,"hidden":false,"merged":[[501,2,501,3],[502,2,502,3],[503,2,503,3],[504,2,504,3],[505,2,505,3],[506,2,506,3],[507,2,507,3],[508,2,508,3],[303,2,303,3],[304,2,304,3],[305,2,305,3],[306,2,306,3],[307,2,307,3],[308,2,308,3],[309,2,309,3],[310,2,310,3],[311,2,311,3],[312,2,312,3],[313,2,313,3],[314,2,314,3],[315,2,315,3],[316,2,316,3],[317,2,317,3],[318,2,318,3],[319,2,319,3],[320,2,320,3],[321,2,321,3],[322,2,322,3],[323,2,323,3],[324,2,324,3],[325,2,325,3],[326,2,326,3],[286,2,286,3],[287,2,287,3],[288,2,288,3],[289,2,289,3],[290,2,290,3],[291,2,291,3],[292,2,292,3],[293,2,293,3],[294,2,294,3],[295,2,295,3],[296,2,296,3],[297,2,297,3],[298,2,298,3],[299,2,299,3],[300,2,300,3],[301,2,301,3],[302,2,302,3],[269,2,269,3],[270,2,270,3],[271,2,271,3],[272,2,272,3],[273,2,273,3],[274,2,274,3],[275,2,275,3],[276,2,276,3],[277,2,277,3],[278,2,278,3],[279,2,279,3],[280,2,280,3],[281,2,281,3],[282,2,282,3],[283,2,283,3],[284,2,284,3],[285,2,285,3],[252,2,252,3],[253,2,253,3],[254,2,254,3],[255,2,255,3],[256,2,256,3],[257,2,257,3],[258,2,258,3],[259,2,259,3],[260,2,260,3],[261,2,261,3],[262,2,262,3],[263,2,263,3],[264,2,264,3],[265,2,265,3],[266,2,266,3],[267,2,267,3],[268,2,268,3],[235,2,235,3],[236,2,236,3],[237,2,237,3],[238,2,238,3],[239,2,239,3],[240,2,240,3],[241,2,241,3],[242,2,242,3],[243,2,243,3],[244,2,244,3],[245,2,245,3],[246,2,246,3],[247,2,247,3],[248,2,248,3],[249,2,249,3],[250,2,250,3],[251,2,251,3],[218,2,218,3],[219,2,219,3],[220,2,220,3],[221,2,221,3],[222,2,222,3],[223,2,223,3],[224,2,224,3],[225,2,225,3],[226,2,226,3],[227,2,227,3],[228,2,228,3],[229,2,229,3],[230,2,230,3],[231,2,231,3],[232,2,232,3],[233,2,233,3],[234,2,234,3],[201,2,201,3],[202,2,202,3],[203,2,203,3],[204,2,204,3],[205,2,205,3],[206,2,206,3],[207,2,207,3],[208,2,208,3],[209,2,209,3],[210,2,210,3],[211,2,211,3],[212,2,212,3],[213,2,213,3],[214,2,214,3],[215,2,215,3],[216,2,216,3],[217,2,217,3],[184,2,184,3],[185,2,185,3],[186,2,186,3],[187,2,187,3],[188,2,188,3],[189,2,189,3],[190,2,190,3],[191,2,191,3],[192,2,192,3],[193,2,193,3],[194,2,194,3],[195,2,195,3],[196,2,196,3],[197,2,197,3],[198,2,198,3],[199,2,199,3],[200,2,200,3],[167,2,167,3],[168,2,168,3],[169,2,169,3],[170,2,170,3],[171,2,171,3],[172,2,172,3],[173,2,173,3],[174,2,174,3],[175,2,175,3],[176,2,176,3],[177,2,177,3],[178,2,178,3],[179,2,179,3],[180,2,180,3],[181,2,181,3],[182,2,182,3],[183,2,183,3],[150,2,150,3],[151,2,151,3],[152,2,152,3],[153,2,153,3],[154,2,154,3],[155,2,155,3],[156,2,156,3],[157,2,157,3],[158,2,158,3],[159,2,159,3],[160,2,160,3],[161,2,161,3],[162,2,162,3],[163,2,163,3],[164,2,164,3],[165,2,165,3],[166,2,166,3],[133,2,133,3],[134,2,134,3],[135,2,135,3],[136,2,136,3],[137,2,137,3],[138,2,138,3],[139,2,139,3],[140,2,140,3],[141,2,141,3],[142,2,142,3],[143,2,143,3],[144,2,144,3],[145,2,145,3],[146,2,146,3],[147,2,147,3],[148,2,148,3],[149,2,149,3],[116,2,116,3],[117,2,117,3],[118,2,118,3],[119,2,119,3],[120,2,120,3],[121,2,121,3],[122,2,122,3],[123,2,123,3],[124,2,124,3],[125,2,125,3],[126,2,126,3],[127,2,127,3],[128,2,128,3],[129,2,129,3],[130,2,130,3],[131,2,131,3],[132,2,132,3],[99,2,99,3],[100,2,100,3],[101,2,101,3],[102,2,102,3],[103,2,103,3],[104,2,104,3],[105,2,105,3],[106,2,106,3],[107,2,107,3],[108,2,108,3],[109,2,109,3],[110,2,110,3],[111,2,111,3],[112,2,112,3],[113,2,113,3],[114,2,114,3],[115,2,115,3],[82,2,82,3],[83,2,83,3],[84,2,84,3],[85,2,85,3],[86,2,86,3],[87,2,87,3],[88,2,88,3],[89,2,89,3],[90,2,90,3],[91,2,91,3],[92,2,92,3],[93,2,93,3],[94,2,94,3],[95,2,95,3],[96,2,96,3],[97,2,97,3],[98,2,98,3],[65,2,65,3],[66,2,66,3],[67,2,67,3],[68,2,68,3],[69,2,69,3],[70,2,70,3],[71,2,71,3],[72,2,72,3],[73,2,73,3],[74,2,74,3],[75,2,75,3],[76,2,76,3],[77,2,77,3],[78,2,78,3],[79,2,79,3],[80,2,80,3],[81,2,81,3],[48,2,48,3],[49,2,49,3],[50,2,50,3],[51,2,51,3],[52,2,52,3],[53,2,53,3],[54,2,54,3],[55,2,55,3],[56,2,56,3],[57,2,57,3],[58,2,58,3],[59,2,59,3],[60,2,60,3],[61,2,61,3],[62,2,62,3],[63,2,63,3],[64,2,64,3],[349,0,358,0],[359,0,368,0],[369,0,378,0],[379,0,388,0],[389,0,398,0],[399,0,408,0],[409,0,418,0],[419,0,428,0],[429,0,438,0],[439,0,448,0],[449,0,458,0],[459,0,468,0],[469,0,478,0],[479,0,488,0],[489,0,498,0],[499,0,508,0],[19,2,19,3],[20,2,20,3],[21,2,21,3],[22,2,22,3],[23,2,23,3],[24,2,24,3],[25,2,25,3],[26,2,26,3],[27,2,27,3],[28,2,28,3],[29,2,29,3],[30,2,30,3],[31,2,31,3],[32,2,32,3],[33,2,33,3],[34,2,34,3],[179,0,188,0],[189,0,198,0],[199,0,208,0],[209,0,218,0],[219,0,228,0],[229,0,238,0],[239,0,248,0],[249,0,258,0],[259,0,268,0],[269,0,278,0],[279,0,288,0],[289,0,298,0],[299,0,308,0],[309,0,318,0],[319,0,328,0],[329,0,338,0],[339,0,348,0],[9,0,18,0],[19,0,28,0],[29,0,38,0],[39,0,48,0],[49,0,58,0],[59,0,68,0],[69,0,78,0],[79,0,88,0],[89,0,98,0],[99,0,108,0],[109,0,118,0],[119,0,128,0],[129,0,138,0],[139,0,148,0],[149,0,158,0],[159,0,168,0],[169,0,178,0],[8,2,8,3],[9,2,9,3],[10,2,10,3],[11,2,11,3],[12,2,12,3],[13,2,13,3],[14,2,14,3],[15,2,15,3],[16,2,16,3],[17,2,17,3],[18,2,18,3],[35,2,35,3],[36,2,36,3],[37,2,37,3],[38,2,38,3],[39,2,39,3],[40,2,40,3],[41,2,41,3],[42,2,42,3],[43,2,43,3],[44,2,44,3],[45,2,45,3],[46,2,46,3],[47,2,47,3],[308,4,308,7],[308,8,308,10],[308,11,308,13],[308,14,308,16],[308,17,308,19],[308,21,308,26],[308,28,308,29],[306,4,306,7],[306,8,306,10],[306,11,306,13],[306,14,306,16],[306,17,306,19],[306,21,306,26],[306,28,306,29],[307,4,307,7],[307,8,307,10],[307,11,307,13],[307,14,307,16],[307,17,307,19],[307,21,307,26],[307,28,307,29],[304,4,304,7],[304,8,304,10],[304,11,304,13],[304,14,304,16],[304,17,304,19],[304,21,304,26],[304,28,304,29],[305,4,305,7],[305,8,305,10],[305,11,305,13],[305,14,305,16],[305,17,305,19],[305,21,305,26],[305,28,305,29],[302,4,302,7],[302,8,302,10],[302,11,302,13],[302,14,302,16],[302,17,302,19],[302,21,302,26],[302,28,302,29],[303,4,303,7],[303,8,303,10],[303,11,303,13],[303,14,303,16],[303,17,303,19],[303,21,303,26],[303,28,303,29],[300,4,300,7],[300,8,300,10],[300,11,300,13],[300,14,300,16],[300,17,300,19],[300,21,300,26],[300,28,300,29],[301,4,301,7],[301,8,301,10],[301,11,301,13],[301,14,301,16],[301,17,301,19],[301,21,301,26],[301,28,301,29],[298,4,298,7],[298,8,298,10],[298,11,298,13],[298,14,298,16],[298,17,298,19],[298,21,298,26],[298,28,298,29],[299,4,299,7],[299,8,299,10],[299,11,299,13],[299,14,299,16],[299,17,299,19],[299,21,299,26],[299,28,299,29],[296,4,296,7],[296,8,296,10],[296,11,296,13],[296,14,296,16],[296,17,296,19],[296,21,296,26],[296,28,296,29],[297,4,297,7],[297,8,297,10],[297,11,297,13],[297,14,297,16],[297,17,297,19],[297,21,297,26],[297,28,297,29],[294,4,294,7],[294,8,294,10],[294,11,294,13],[294,14,294,16],[294,17,294,19],[294,21,294,26],[294,28,294,29],[295,4,295,7],[295,8,295,10],[295,11,295,13],[295,14,295,16],[295,17,295,19],[295,21,295,26],[295,28,295,29],[292,4,292,7],[292,8,292,10],[292,11,292,13],[292,14,292,16],[292,17,292,19],[292,21,292,26],[292,28,292,29],[293,4,293,7],[293,8,293,10],[293,11,293,13],[293,14,293,16],[293,17,293,19],[293,21,293,26],[293,28,293,29],[290,4,290,7],[290,8,290,10],[290,11,290,13],[290,14,290,16],[290,17,290,19],[290,21,290,26],[290,28,290,29],[291,4,291,7],[291,8,291,10],[291,11,291,13],[291,14,291,16],[291,17,291,19],[291,21,291,26],[291,28,291,29],[288,4,288,7],[288,8,288,10],[288,11,288,13],[288,14,288,16],[288,17,288,19],[288,21,288,26],[288,28,288,29],[289,4,289,7],[289,8,289,10],[289,11,289,13],[289,14,289,16],[289,17,289,19],[289,21,289,26],[289,28,289,29],[286,4,286,7],[286,8,286,10],[286,11,286,13],[286,14,286,16],[286,17,286,19],[286,21,286,26],[286,28,286,29],[287,4,287,7],[287,8,287,10],[287,11,287,13],[287,14,287,16],[287,17,287,19],[287,21,287,26],[287,28,287,29],[284,4,284,7],[284,8,284,10],[284,11,284,13],[284,14,284,16],[284,17,284,19],[284,21,284,26],[284,28,284,29],[285,4,285,7],[285,8,285,10],[285,11,285,13],[285,14,285,16],[285,17,285,19],[285,21,285,26],[285,28,285,29],[282,4,282,7],[282,8,282,10],[282,11,282,13],[282,14,282,16],[282,17,282,19],[282,21,282,26],[282,28,282,29],[283,4,283,7],[283,8,283,10],[283,11,283,13],[283,14,283,16],[283,17,283,19],[283,21,283,26],[283,28,283,29],[280,4,280,7],[280,8,280,10],[280,11,280,13],[280,14,280,16],[280,17,280,19],[280,21,280,26],[280,28,280,29],[281,4,281,7],[281,8,281,10],[281,11,281,13],[281,14,281,16],[281,17,281,19],[281,21,281,26],[281,28,281,29],[278,4,278,7],[278,8,278,10],[278,11,278,13],[278,14,278,16],[278,17,278,19],[278,21,278,26],[278,28,278,29],[279,4,279,7],[279,8,279,10],[279,11,279,13],[279,14,279,16],[279,17,279,19],[279,21,279,26],[279,28,279,29],[276,4,276,7],[276,8,276,10],[276,11,276,13],[276,14,276,16],[276,17,276,19],[276,21,276,26],[276,28,276,29],[277,4,277,7],[277,8,277,10],[277,11,277,13],[277,14,277,16],[277,17,277,19],[277,21,277,26],[277,28,277,29],[274,4,274,7],[274,8,274,10],[274,11,274,13],[274,14,274,16],[274,17,274,19],[274,21,274,26],[274,28,274,29],[275,4,275,7],[275,8,275,10],[275,11,275,13],[275,14,275,16],[275,17,275,19],[275,21,275,26],[275,28,275,29],[272,4,272,7],[272,8,272,10],[272,11,272,13],[272,14,272,16],[272,17,272,19],[272,21,272,26],[272,28,272,29],[273,4,273,7],[273,8,273,10],[273,11,273,13],[273,14,273,16],[273,17,273,19],[273,21,273,26],[273,28,273,29],[270,4,270,7],[270,8,270,10],[270,11,270,13],[270,14,270,16],[270,17,270,19],[270,21,270,26],[270,28,270,29],[271,4,271,7],[271,8,271,10],[271,11,271,13],[271,14,271,16],[271,17,271,19],[271,21,271,26],[271,28,271,29],[268,4,268,7],[268,8,268,10],[268,11,268,13],[268,14,268,16],[268,17,268,19],[268,21,268,26],[268,28,268,29],[269,4,269,7],[269,8,269,10],[269,11,269,13],[269,14,269,16],[269,17,269,19],[269,21,269,26],[269,28,269,29],[266,4,266,7],[266,8,266,10],[266,11,266,13],[266,14,266,16],[266,17,266,19],[266,21,266,26],[266,28,266,29],[267,4,267,7],[267,8,267,10],[267,11,267,13],[267,14,267,16],[267,17,267,19],[267,21,267,26],[267,28,267,29],[264,4,264,7],[264,8,264,10],[264,11,264,13],[264,14,264,16],[264,17,264,19],[264,21,264,26],[264,28,264,29],[265,4,265,7],[265,8,265,10],[265,11,265,13],[265,14,265,16],[265,17,265,19],[265,21,265,26],[265,28,265,29],[262,4,262,7],[262,8,262,10],[262,11,262,13],[262,14,262,16],[262,17,262,19],[262,21,262,26],[262,28,262,29],[263,4,263,7],[263,8,263,10],[263,11,263,13],[263,14,263,16],[263,17,263,19],[263,21,263,26],[263,28,263,29],[260,4,260,7],[260,8,260,10],[260,11,260,13],[260,14,260,16],[260,17,260,19],[260,21,260,26],[260,28,260,29],[261,4,261,7],[261,8,261,10],[261,11,261,13],[261,14,261,16],[261,17,261,19],[261,21,261,26],[261,28,261,29],[258,4,258,7],[258,8,258,10],[258,11,258,13],[258,14,258,16],[258,17,258,19],[258,21,258,26],[258,28,258,29],[259,4,259,7],[259,8,259,10],[259,11,259,13],[259,14,259,16],[259,17,259,19],[259,21,259,26],[259,28,259,29],[256,4,256,7],[256,8,256,10],[256,11,256,13],[256,14,256,16],[256,17,256,19],[256,21,256,26],[256,28,256,29],[257,4,257,7],[257,8,257,10],[257,11,257,13],[257,14,257,16],[257,17,257,19],[257,21,257,26],[257,28,257,29],[254,4,254,7],[254,8,254,10],[254,11,254,13],[254,14,254,16],[254,17,254,19],[254,21,254,26],[254,28,254,29],[255,4,255,7],[255,8,255,10],[255,11,255,13],[255,14,255,16],[255,17,255,19],[255,21,255,26],[255,28,255,29],[252,4,252,7],[252,8,252,10],[252,11,252,13],[252,14,252,16],[252,17,252,19],[252,21,252,26],[252,28,252,29],[253,4,253,7],[253,8,253,10],[253,11,253,13],[253,14,253,16],[253,17,253,19],[253,21,253,26],[253,28,253,29],[250,4,250,7],[250,8,250,10],[250,11,250,13],[250,14,250,16],[250,17,250,19],[250,21,250,26],[250,28,250,29],[251,4,251,7],[251,8,251,10],[251,11,251,13],[251,14,251,16],[251,17,251,19],[251,21,251,26],[251,28,251,29],[248,4,248,7],[248,8,248,10],[248,11,248,13],[248,14,248,16],[248,17,248,19],[248,21,248,26],[248,28,248,29],[249,4,249,7],[249,8,249,10],[249,11,249,13],[249,14,249,16],[249,17,249,19],[249,21,249,26],[249,28,249,29],[246,4,246,7],[246,8,246,10],[246,11,246,13],[246,14,246,16],[246,17,246,19],[246,21,246,26],[246,28,246,29],[247,4,247,7],[247,8,247,10],[247,11,247,13],[247,14,247,16],[247,17,247,19],[247,21,247,26],[247,28,247,29],[244,4,244,7],[244,8,244,10],[244,11,244,13],[244,14,244,16],[244,17,244,19],[244,21,244,26],[244,28,244,29],[245,4,245,7],[245,8,245,10],[245,11,245,13],[245,14,245,16],[245,17,245,19],[245,21,245,26],[245,28,245,29],[242,4,242,7],[242,8,242,10],[242,11,242,13],[242,14,242,16],[242,17,242,19],[242,21,242,26],[242,28,242,29],[243,4,243,7],[243,8,243,10],[243,11,243,13],[243,14,243,16],[243,17,243,19],[243,21,243,26],[243,28,243,29],[240,4,240,7],[240,8,240,10],[240,11,240,13],[240,14,240,16],[240,17,240,19],[240,21,240,26],[240,28,240,29],[241,4,241,7],[241,8,241,10],[241,11,241,13],[241,14,241,16],[241,17,241,19],[241,21,241,26],[241,28,241,29],[238,4,238,7],[238,8,238,10],[238,11,238,13],[238,14,238,16],[238,17,238,19],[238,21,238,26],[238,28,238,29],[239,4,239,7],[239,8,239,10],[239,11,239,13],[239,14,239,16],[239,17,239,19],[239,21,239,26],[239,28,239,29],[236,4,236,7],[236,8,236,10],[236,11,236,13],[236,14,236,16],[236,17,236,19],[236,21,236,26],[236,28,236,29],[237,4,237,7],[237,8,237,10],[237,11,237,13],[237,14,237,16],[237,17,237,19],[237,21,237,26],[237,28,237,29],[234,4,234,7],[234,8,234,10],[234,11,234,13],[234,14,234,16],[234,17,234,19],[234,21,234,26],[234,28,234,29],[235,4,235,7],[235,8,235,10],[235,11,235,13],[235,14,235,16],[235,17,235,19],[235,21,235,26],[235,28,235,29],[232,4,232,7],[232,8,232,10],[232,11,232,13],[232,14,232,16],[232,17,232,19],[232,21,232,26],[232,28,232,29],[233,4,233,7],[233,8,233,10],[233,11,233,13],[233,14,233,16],[233,17,233,19],[233,21,233,26],[233,28,233,29],[230,4,230,7],[230,8,230,10],[230,11,230,13],[230,14,230,16],[230,17,230,19],[230,21,230,26],[230,28,230,29],[231,4,231,7],[231,8,231,10],[231,11,231,13],[231,14,231,16],[231,17,231,19],[231,21,231,26],[231,28,231,29],[228,4,228,7],[228,8,228,10],[228,11,228,13],[228,14,228,16],[228,17,228,19],[228,21,228,26],[228,28,228,29],[229,4,229,7],[229,8,229,10],[229,11,229,13],[229,14,229,16],[229,17,229,19],[229,21,229,26],[229,28,229,29],[226,4,226,7],[226,8,226,10],[226,11,226,13],[226,14,226,16],[226,17,226,19],[226,21,226,26],[226,28,226,29],[227,4,227,7],[227,8,227,10],[227,11,227,13],[227,14,227,16],[227,17,227,19],[227,21,227,26],[227,28,227,29],[224,4,224,7],[224,8,224,10],[224,11,224,13],[224,14,224,16],[224,17,224,19],[224,21,224,26],[224,28,224,29],[225,4,225,7],[225,8,225,10],[225,11,225,13],[225,14,225,16],[225,17,225,19],[225,21,225,26],[225,28,225,29],[222,4,222,7],[222,8,222,10],[222,11,222,13],[222,14,222,16],[222,17,222,19],[222,21,222,26],[222,28,222,29],[223,4,223,7],[223,8,223,10],[223,11,223,13],[223,14,223,16],[223,17,223,19],[223,21,223,26],[223,28,223,29],[220,4,220,7],[220,8,220,10],[220,11,220,13],[220,14,220,16],[220,17,220,19],[220,21,220,26],[220,28,220,29],[221,4,221,7],[221,8,221,10],[221,11,221,13],[221,14,221,16],[221,17,221,19],[221,21,221,26],[221,28,221,29]],"merged_total":4076,"flags":["merged_cut"]}
[{"$f":"CONCATENATE(\"大吉オークション　出品リスト　【ブランド　　\",入力欄!I3,\"　　出品分】\")","v":"大吉オークション　出品リスト　【ブランド　　　　出品分】"}]
[]
["フリガナ",null,null,null,null,null,null,null,null,null,null,null,null,null,null,null,null,null,null,null,null,null,null,"フリガナ"]
["会社名",null,null,null,null,null,null,null,null,null,null,null,null,null,null,null,null,null,null,null,null,null,null,"ご担当者様"]
["電話番号",null,null,null,null,null,null,null,null,null,null,null,null,null,null,null,"FAX番号"]
["ご連絡先",null,"※同上の場合、ご記入の必要はありません。",null,null,null,null,null,null,null,null,null,null,null,"落札結果\n送付先",null,null,"※登録住所と送付先が違う場合や住所変更をされた場合には必ずご記入ください。"]
[null,null,null,null,null,null,null,null,null,null,null,null,null,null,null,null,null,"〒"]
[]
["箱番","行番","ブランド名",null,"ライン",null,null,null,"商品名",null,null,"品番",null,null,"カラー",null,null,"素材",null,null,"ランク","付属品・備考",null,null,null,null,null,"保留交渉可否","指値（税抜）"]
[{"$f":"IF(入力欄!C6=\"\",\"\",入力欄!C6)","v":""},1,{"$f":"IF(入力欄!E6=\"\",\"\",入力欄!E6)","v":""},null,{"$f":"IF(入力欄!F6=\"\",\"\",入力欄!F6)","v":""},null,null,null,{"$f":"IF(入力欄!G6=\"\",\"\",入力欄!G6)","v":""},null,null,{"$f":"IF(入力欄!H6=\"\",\"\",入力欄!H6)","v":""},null,null,{"$f":"IF(入力欄!I6=\"\",\"\",入力欄!I6)","v":""},null,null,{"$f":"IF(入力欄!J6=\"\",\"\",入力欄!J6)","v":""},null,null,{"$f":"IF(入力欄!K6=\"\",\"\",入力欄!K6)","v":""},{"$f":"IF(入力欄!L6=\"\",\"\",入力欄!L6)","v":""},null,null,null,null,null,{"$f":"IF(入力欄!M6=\"\",\"\",入力欄!M6)","v":""},{"$f":"IF(入力欄!N6=\"\",\"\",入力欄!N6)","v":""}]
[null,2,{"$f":"IF(入力欄!E7=\"\",\"\",入力欄!E7)","v":""},null,{"$f":"IF(入力欄!F7=\"\",\"\",入力欄!F7)","v":""},null,null,null,{"$f":"IF(入力欄!G7=\"\",\"\",入力欄!G7)","v":""},null,null,{"$f":"IF(入力欄!H7=\"\",\"\",入力欄!H7)","v":""},null,null,{"$f":"IF(入力欄!I7=\"\",\"\",入力欄!I7)","v":""},null,null,{"$f":"IF(入力欄!J7=\"\",\"\",入力欄!J7)","v":""},null,null,{"$f":"IF(入力欄!K7=\"\",\"\",入力欄!K7)","v":""},{"$f":"IF(入力欄!L7=\"\",\"\",入力欄!L7)","v":""},null,null,null,null,null,{"$f":"IF(入力欄!M7=\"\",\"\",入力欄!M7)","v":""},{"$f":"IF(入力欄!N7=\"\",\"\",入力欄!N7)","v":""}]
[null,3,{"$f":"IF(入力欄!E8=\"\",\"\",入力欄!E8)","v":""},null,{"$f":"IF(入力欄!F8=\"\",\"\",入力欄!F8)","v":""},null,null,null,{"$f":"IF(入力欄!G8=\"\",\"\",入力欄!G8)","v":""},null,null,{"$f":"IF(入力欄!H8=\"\",\"\",入力欄!H8)","v":""},null,null,{"$f":"IF(入力欄!I8=\"\",\"\",入力欄!I8)","v":""},null,null,{"$f":"IF(入力欄!J8=\"\",\"\",入力欄!J8)","v":""},null,null,{"$f":"IF(入力欄!K8=\"\",\"\",入力欄!K8)","v":""},{"$f":"IF(入力欄!L8=\"\",\"\",入力欄!L8)","v":""},null,null,null,null,null,{"$f":"IF(入力欄!M8=\"\",\"\",入力欄!M8)","v":""},{"$f":"IF(入力欄!N8=\"\",\"\",入力欄!N8)","v":""}]
[null,4,{"$f":"IF(入力欄!E9=\"\",\"\",入力欄!E9)","v":""},null,{"$f":"IF(入力欄!F9=\"\",\"\",入力欄!F9)","v":""},null,null,null,{"$f":"IF(入力欄!G9=\"\",\"\",入力欄!G9)","v":""},null,null,{"$f":"IF(入力欄!H9=\"\",\"\",入力欄!H9)","v":""},null,null,{"$f":"IF(入力欄!I9=\"\",\"\",入力欄!I9)","v":""},null,null,{"$f":"IF(入力欄!J9=\"\",\"\",入力欄!J9)","v":""},null,null,{"$f":"IF(入力欄!K9=\"\",\"\",入力欄!K9)","v":""},{"$f":"IF(入力欄!L9=\"\",\"\",入力欄!L9)","v":""},null,null,null,null,null,{"$f":"IF(入力欄!M9=\"\",\"\",入力欄!M9)","v":""},{"$f":"IF(入力欄!N9=\"\",\"\",入力欄!N9)","v":""}]
[null,5,{"$f":"IF(入力欄!E10=\"\",\"\",入力欄!E10)","v":""},null,{"$f":"IF(入力欄!F10=\"\",\"\",入力欄!F10)","v":""},null,null,null,{"$f":"IF(入力欄!G10=\"\",\"\",入力欄!G10)","v":""},null,null,{"$f":"IF(入力欄!H10=\"\",\"\",入力欄!H10)","v":""},null,null,{"$f":"IF(入力欄!I10=\"\",\"\",入力欄!I10)","v":""},null,null,{"$f":"IF(入力欄!J10=\"\",\"\",入力欄!J10)","v":""},null,null,{"$f":"IF(入力欄!K10=\"\",\"\",入力欄!K10)","v":""},{"$f":"IF(入力欄!L10=\"\",\"\",入力欄!L10)","v":""},null,null,null,null,null,{"$f":"IF(入力欄!M10=\"\",\"\",入力欄!M10)","v":""},{"$f":"IF(入力欄!N10=\"\",\"\",入力欄!N10)","v":""}]
[null,6,{"$f":"IF(入力欄!E11=\"\",\"\",入力欄!E11)","v":""},null,{"$f":"IF(入力欄!F11=\"\",\"\",入力欄!F11)","v":""},null,null,null,{"$f":"IF(入力欄!G11=\"\",\"\",入力欄!G11)","v":""},null,null,{"$f":"IF(入力欄!H11=\"\",\"\",入力欄!H11)","v":""},null,null,{"$f":"IF(入力欄!I11=\"\",\"\",入力欄!I11)","v":""},null,null,{"$f":"IF(入力欄!J11=\"\",\"\",入力欄!J11)","v":""},null,null,{"$f":"IF(入力欄!K11=\"\",\"\",入力欄!K11)","v":""},{"$f":"IF(入力欄!L11=\"\",\"\",入力欄!L11)","v":""},null,null,null,null,null,{"$f":"IF(入力欄!M11=\"\",\"\",入力欄!M11)","v":""},{"$f":"IF(入力欄!N11=\"\",\"\",入力欄!N11)","v":""}]
[null,7,{"$f":"IF(入力欄!E12=\"\",\"\",入力欄!E12)","v":""},null,{"$f":"IF(入力欄!F12=\"\",\"\",入力欄!F12)","v":""},null,null,null,{"$f":"IF(入力欄!G12=\"\",\"\",入力欄!G12)","v":""},null,null,{"$f":"IF(入力欄!H12=\"\",\"\",入力欄!H12)","v":""},null,null,{"$f":"IF(入力欄!I12=\"\",\"\",入力欄!I12)","v":""},null,null,{"$f":"IF(入力欄!J12=\"\",\"\",入力欄!J12)","v":""},null,null,{"$f":"IF(入力欄!K12=\"\",\"\",入力欄!K12)","v":""},{"$f":"IF(入力欄!L12=\"\",\"\",入力欄!L12)","v":""},null,null,null,null,null,{"$f":"IF(入力欄!M12=\"\",\"\",入力欄!M12)","v":""},{"$f":"IF(入力欄!N12=\"\",\"\",入力欄!N12)","v":""}]
[null,8,{"$f":"IF(入力欄!E13=\"\",\"\",入力欄!E13)","v":""},null,{"$f":"IF(入力欄!F13=\"\",\"\",入力欄!F13)","v":""},null,null,null,{"$f":"IF(入力欄!G13=\"\",\"\",入力欄!G13)","v":""},null,null,{"$f":"IF(入力欄!H13=\"\",\"\",入力欄!H13)","v":""},null,null,{"$f":"IF(入力欄!I13=\"\",\"\",入力欄!I13)","v":""},null,null,{"$f":"IF(入力欄!J13=\"\",\"\",入力欄!J13)","v":""},null,null,{"$f":"IF(入力欄!K13=\"\",\"\",入力欄!K13)","v":""},{"$f":"IF(入力欄!L13=\"\",\"\",入力欄!L13)","v":""},null,null,null,null,null,{"$f":"IF(入力欄!M13=\"\",\"\",入力欄!M13)","v":""},{"$f":"IF(入力欄!N13=\"\",\"\",入力欄!N13)","v":""}]
[null,9,{"$f":"IF(入力欄!E14=\"\",\"\",入力欄!E14)","v":""},null,{"$f":"IF(入力欄!F14=\"\",\"\",入力欄!F14)","v":""},null,null,null,{"$f":"IF(入力欄!G14=\"\",\"\",入力欄!G14)","v":""},null,null,{"$f":"IF(入力欄!H14=\"\",\"\",入力欄!H14)","v":""},null,null,{"$f":"IF(入力欄!I14=\"\",\"\",入力欄!I14)","v":""},null,null,{"$f":"IF(入力欄!J14=\"\",\"\",入力欄!J14)","v":""},null,null,{"$f":"IF(入力欄!K14=\"\",\"\",入力欄!K14)","v":""},{"$f":"IF(入力欄!L14=\"\",\"\",入力欄!L14)","v":""},null,null,null,null,null,{"$f":"IF(入力欄!M14=\"\",\"\",入力欄!M14)","v":""},{"$f":"IF(入力欄!N14=\"\",\"\",入力欄!N14)","v":""}]
[null,10,{"$f":"IF(入力欄!E15=\"\",\"\",入力欄!E15)","v":""},null,{"$f":"IF(入力欄!F15=\"\",\"\",入力欄!F15)","v":""},null,null,null,{"$f":"IF(入力欄!G15=\"\",\"\",入力欄!G15)","v":""},null,null,{"$f":"IF(入力欄!H15=\"\",\"\",入力欄!H15)","v":""},null,null,{"$f":"IF(入力欄!I15=\"\",\"\",入力欄!I15)","v":""},null,null,{"$f":"IF(入力欄!J15=\"\",\"\",入力欄!J15)","v":""},null,null,{"$f":"IF(入力欄!K15=\"\",\"\",入力欄!K15)","v":""},{"$f":"IF(入力欄!L15=\"\",\"\",入力欄!L15)","v":""},null,null,null,null,null,{"$f":"IF(入力欄!M15=\"\",\"\",入力欄!M15)","v":""},{"$f":"IF(入力欄!N15=\"\",\"\",入力欄!N15)","v":""}]
[{"$f":"IF(入力欄!C16=\"\",\"\",入力欄!C16)","v":""},1,{"$f":"IF(入力欄!E16=\"\",\"\",入力欄!E16)","v":""},null,{"$f":"IF(入力欄!F16=\"\",\"\",入力欄!F16)","v":""},null,null,null,{"$f":"IF(入力欄!G16=\"\",\"\",入力欄!G16)","v":""},null,null,{"$f":"IF(入力欄!H16=\"\",\"\",入力欄!H16)","v":""},null,null,{"$f":"IF(入力欄!I16=\"\",\"\",入力欄!I16)","v":""},null,null,{"$f":"IF(入力欄!J16=\"\",\"\",入力欄!J16)","v":""},null,null,{"$f":"IF(入力欄!K16=\"\",\"\",入力欄!K16)","v":""},{"$f":"IF(入力欄!L16=\"\",\"\",入力欄!L16)","v":""},null,null,null,null,null,{"$f":"IF(入力欄!M16=\"\",\"\",入力欄!M16)","v":""},{"$f":"IF(入力欄!N16=\"\",\"\",入力欄!N16)","v":""}]
[null,2,{"$f":"IF(入力欄!E17=\"\",\"\",入力欄!E17)","v":""},null,{"$f":"IF(入力欄!F17=\"\",\"\",入力欄!F17)","v":""},null,null,null,{"$f":"IF(入力欄!G17=\"\",\"\",入力欄!G17)","v":""},null,null,{"$f":"IF(入力欄!H17=\"\",\"\",入力欄!H17)","v":""},null,null,{"$f":"IF(入力欄!I17=\"\",\"\",入力欄!I17)","v":""},null,null,{"$f":"IF(入力欄!J17=\"\",\"\",入力欄!J17)","v":""},null,null,{"$f":"IF(入力欄!K17=\"\",\"\",入力欄!K17)","v":""},{"$f":"IF(入力欄!L17=\"\",\"\",入力欄!L17)","v":""},null,null,null,null,null,{"$f":"IF(入力欄!M17=\"\",\"\",入力欄!M17)","v":""},{"$f":"IF(入力欄!N17=\"\",\"\",入力欄!N17)","v":""}]
[null,3,{"$f":"IF(入力欄!E18=\"\",\"\",入力欄!E18)","v":""},null,{"$f":"IF(入力欄!F18=\"\",\"\",入力欄!F18)","v":""},null,null,null,{"$f":"IF(入力欄!G18=\"\",\"\",入力欄!G18)","v":""},null,null,{"$f":"IF(入力欄!H18=\"\",\"\",入力欄!H18)","v":""},null,null,{"$f":"IF(入力欄!I18=\"\",\"\",入力欄!I18)","v":""},null,null,{"$f":"IF(入力欄!J18=\"\",\"\",入力欄!J18)","v":""},null,null,{"$f":"IF(入力欄!K18=\"\",\"\",入力欄!K18)","v":""},{"$f":"IF(入力欄!L18=\"\",\"\",入力欄!L18)","v":""},null,null,null,null,null,{"$f":"IF(入力欄!M18=\"\",\"\",入力欄!M18)","v":""},{"$f":"IF(入力欄!N18=\"\",\"\",入力欄!N18)","v":""}]
[null,4,{"$f":"IF(入力欄!E19=\"\",\"\",入力欄!E19)","v":""},null,{"$f":"IF(入力欄!F19=\"\",\"\",入力欄!F19)","v":""},null,null,null,{"$f":"IF(入力欄!G19=\"\",\"\",入力欄!G19)","v":""},null,null,{"$f":"IF(入力欄!H19=\"\",\"\",入力欄!H19)","v":""},null,null,{"$f":"IF(入力欄!I19=\"\",\"\",入力欄!I19)","v":""},null,null,{"$f":"IF(入力欄!J19=\"\",\"\",入力欄!J19)","v":""},null,null,{"$f":"IF(入力欄!K19=\"\",\"\",入力欄!K19)","v":""},{"$f":"IF(入力欄!L19=\"\",\"\",入力欄!L19)","v":""},null,null,null,null,null,{"$f":"IF(入力欄!M19=\"\",\"\",入力欄!M19)","v":""},{"$f":"IF(入力欄!N19=\"\",\"\",入力欄!N19)","v":""}]
[null,5,{"$f":"IF(入力欄!E20=\"\",\"\",入力欄!E20)","v":""},null,{"$f":"IF(入力欄!F20=\"\",\"\",入力欄!F20)","v":""},null,null,null,{"$f":"IF(入力欄!G20=\"\",\"\",入力欄!G20)","v":""},null,null,{"$f":"IF(入力欄!H20=\"\",\"\",入力欄!H20)","v":""},null,null,{"$f":"IF(入力欄!I20=\"\",\"\",入力欄!I20)","v":""},null,null,{"$f":"IF(入力欄!J20=\"\",\"\",入力欄!J20)","v":""},null,null,{"$f":"IF(入力欄!K20=\"\",\"\",入力欄!K20)","v":""},{"$f":"IF(入力欄!L20=\"\",\"\",入力欄!L20)","v":""},null,null,null,null,null,{"$f":"IF(入力欄!M20=\"\",\"\",入力欄!M20)","v":""},{"$f":"IF(入力欄!N20=\"\",\"\",入力欄!N20)","v":""}]
[null,6,{"$f":"IF(入力欄!E21=\"\",\"\",入力欄!E21)","v":""},null,{"$f":"IF(入力欄!F21=\"\",\"\",入力欄!F21)","v":""},null,null,null,{"$f":"IF(入力欄!G21=\"\",\"\",入力欄!G21)","v":""},null,null,{"$f":"IF(入力欄!H21=\"\",\"\",入力欄!H21)","v":""},null,null,{"$f":"IF(入力欄!I21=\"\",\"\",入力欄!I21)","v":""},null,null,{"$f":"IF(入力欄!J21=\"\",\"\",入力欄!J21)","v":""},null,null,{"$f":"IF(入力欄!K21=\"\",\"\",入力欄!K21)","v":""},{"$f":"IF(入力欄!L21=\"\",\"\",入力欄!L21)","v":""},null,null,null,null,null,{"$f":"IF(入力欄!M21=\"\",\"\",入力欄!M21)","v":""},{"$f":"IF(入力欄!N21=\"\",\"\",入力欄!N21)","v":""}]
[null,7,{"$f":"IF(入力欄!E22=\"\",\"\",入力欄!E22)","v":""},null,{"$f":"IF(入力欄!F22=\"\",\"\",入力欄!F22)","v":""},null,null,null,{"$f":"IF(入力欄!G22=\"\",\"\",入力欄!G22)","v":""},null,null,{"$f":"IF(入力欄!H22=\"\",\"\",入力欄!H22)","v":""},null,null,{"$f":"IF(入力欄!I22=\"\",\"\",入力欄!I22)","v":""},null,null,{"$f":"IF(入力欄!J22=\"\",\"\",入力欄!J22)","v":""},null,null,{"$f":"IF(入力欄!K22=\"\",\"\",入力欄!K22)","v":""},{"$f":"IF(入力欄!L22=\"\",\"\",入力欄!L22)","v":""},null,null,null,null,null,{"$f":"IF(入力欄!M22=\"\",\"\",入力欄!M22)","v":""},{"$f":"IF(入力欄!N22=\"\",\"\",入力欄!N22)","v":""}]
[null,8,{"$f":"IF(入力欄!E23=\"\",\"\",入力欄!E23)","v":""},null,{"$f":"IF(入力欄!F23=\"\",\"\",入力欄!F23)","v":""},null,null,null,{"$f":"IF(入力欄!G23=\"\",\"\",入力欄!G23)","v":""},null,null,{"$f":"IF(入力欄!H23=\"\",\"\",入力欄!H23)","v":""},null,null,{"$f":"IF(入力欄!I23=\"\",\"\",入力欄!I23)","v":""},null,null,{"$f":"IF(入力欄!J23=\"\",\"\",入力欄!J23)","v":""},null,null,{"$f":"IF(入力欄!K23=\"\",\"\",入力欄!K23)","v":""},{"$f":"IF(入力欄!L23=\"\",\"\",入力欄!L23)","v":""},null,null,null,null,null,{"$f":"IF(入力欄!M23=\"\",\"\",入力欄!M23)","v":""},{"$f":"IF(入力欄!N23=\"\",\"\",入力欄!N23)","v":""}]
[null,9,{"$f":"IF(入力欄!E24=\"\",\"\",入力欄!E24)","v":""},null,{"$f":"IF(入力欄!F24=\"\",\"\",入力欄!F24)","v":""},null,null,null,{"$f":"IF(入力欄!G24=\"\",\"\",入力欄!G24)","v":""},null,null,{"$f":"IF(入力欄!H24=\"\",\"\",入力欄!H24)","v":""},null,null,{"$f":"IF(入力欄!I24=\"\",\"\",入力欄!I24)","v":""},null,null,{"$f":"IF(入力欄!J24=\"\",\"\",入力欄!J24)","v":""},null,null,{"$f":"IF(入力欄!K24=\"\",\"\",入力欄!K24)","v":""},{"$f":"IF(入力欄!L24=\"\",\"\",入力欄!L24)","v":""},null,null,null,null,null,{"$f":"IF(入力欄!M24=\"\",\"\",入力欄!M24)","v":""},{"$f":"IF(入力欄!N24=\"\",\"\",入力欄!N24)","v":""}]
[null,10,{"$f":"IF(入力欄!E25=\"\",\"\",入力欄!E25)","v":""},null,{"$f":"IF(入力欄!F25=\"\",\"\",入力欄!F25)","v":""},null,null,null,{"$f":"IF(入力欄!G25=\"\",\"\",入力欄!G25)","v":""},null,null,{"$f":"IF(入力欄!H25=\"\",\"\",入力欄!H25)","v":""},null,null,{"$f":"IF(入力欄!I25=\"\",\"\",入力欄!I25)","v":""},null,null,{"$f":"IF(入力欄!J25=\"\",\"\",入力欄!J25)","v":""},null,null,{"$f":"IF(入力欄!K25=\"\",\"\",入力欄!K25)","v":""},{"$f":"IF(入力欄!L25=\"\",\"\",入力欄!L25)","v":""},null,null,null,null,null,{"$f":"IF(入力欄!M25=\"\",\"\",入力欄!M25)","v":""},{"$f":"IF(入力欄!N25=\"\",\"\",入力欄!N25)","v":""}]
[{"$f":"IF(入力欄!C26=\"\",\"\",入力欄!C26)","v":""},1,{"$f":"IF(入力欄!E26=\"\",\"\",入力欄!E26)","v":""},null,{"$f":"IF(入力欄!F26=\"\",\"\",入力欄!F26)","v":""},null,null,null,{"$f":"IF(入力欄!G26=\"\",\"\",入力欄!G26)","v":""},null,null,{"$f":"IF(入力欄!H26=\"\",\"\",入力欄!H26)","v":""},null,null,{"$f":"IF(入力欄!I26=\"\",\"\",入力欄!I26)","v":""},null,null,{"$f":"IF(入力欄!J26=\"\",\"\",入力欄!J26)","v":""},null,null,{"$f":"IF(入力欄!K26=\"\",\"\",入力欄!K26)","v":""},{"$f":"IF(入力欄!L26=\"\",\"\",入力欄!L26)","v":""},null,null,null,null,null,{"$f":"IF(入力欄!M26=\"\",\"\",入力欄!M26)","v":""},{"$f":"IF(入力欄!N26=\"\",\"\",入力欄!N26)","v":""}]
[null,2,{"$f":"IF(入力欄!E27=\"\",\"\",入力欄!E27)","v":""},null,{"$f":"IF(入力欄!F27=\"\",\"\",入力欄!F27)","v":""},null,null,null,{"$f":"IF(入力欄!G27=\"\",\"\",入力欄!G27)","v":""},null,null,{"$f":"IF(入力欄!H27=\"\",\"\",入力欄!H27)","v":""},null,null,{"$f":"IF(入力欄!I27=\"\",\"\",入力欄!I27)","v":""},null,null,{"$f":"IF(入力欄!J27=\"\",\"\",入力欄!J27)","v":""},null,null,{"$f":"IF(入力欄!K27=\"\",\"\",入力欄!K27)","v":""},{"$f":"IF(入力欄!L27=\"\",\"\",入力欄!L27)","v":""},null,null,null,null,null,{"$f":"IF(入力欄!M27=\"\",\"\",入力欄!M27)","v":""},{"$f":"IF(入力欄!N27=\"\",\"\",入力欄!N27)","v":""}]
[null,3,{"$f":"IF(入力欄!E28=\"\",\"\",入力欄!E28)","v":""},null,{"$f":"IF(入力欄!F28=\"\",\"\",入力欄!F28)","v":""},null,null,null,{"$f":"IF(入力欄!G28=\"\",\"\",入力欄!G28)","v":""},null,null,{"$f":"IF(入力欄!H28=\"\",\"\",入力欄!H28)","v":""},null,null,{"$f":"IF(入力欄!I28=\"\",\"\",入力欄!I28)","v":""},null,null,{"$f":"IF(入力欄!J28=\"\",\"\",入力欄!J28)","v":""},null,null,{"$f":"IF(入力欄!K28=\"\",\"\",入力欄!K28)","v":""},{"$f":"IF(入力欄!L28=\"\",\"\",入力欄!L28)","v":""},null,null,null,null,null,{"$f":"IF(入力欄!M28=\"\",\"\",入力欄!M28)","v":""},{"$f":"IF(入力欄!N28=\"\",\"\",入力欄!N28)","v":""}]
[null,4,{"$f":"IF(入力欄!E29=\"\",\"\",入力欄!E29)","v":""},null,{"$f":"IF(入力欄!F29=\"\",\"\",入力欄!F29)","v":""},null,null,null,{"$f":"IF(入力欄!G29=\"\",\"\",入力欄!G29)","v":""},null,null,{"$f":"IF(入力欄!H29=\"\",\"\",入力欄!H29)","v":""},null,null,{"$f":"IF(入力欄!I29=\"\",\"\",入力欄!I29)","v":""},null,null,{"$f":"IF(入力欄!J29=\"\",\"\",入力欄!J29)","v":""},null,null,{"$f":"IF(入力欄!K29=\"\",\"\",入力欄!K29)","v":""},{"$f":"IF(入力欄!L29=\"\",\"\",入力欄!L29)","v":""},null,null,null,null,null,{"$f":"IF(入力欄!M29=\"\",\"\",入力欄!M29)","v":""},{"$f":"IF(入力欄!N29=\"\",\"\",入力欄!N29)","v":""}]
[null,5,{"$f":"IF(入力欄!E30=\"\",\"\",入力欄!E30)","v":""},null,{"$f":"IF(入力欄!F30=\"\",\"\",入力欄!F30)","v":""},null,null,null,{"$f":"IF(入力欄!G30=\"\",\"\",入力欄!G30)","v":""},null,null,{"$f":"IF(入力欄!H30=\"\",\"\",入力欄!H30)","v":""},null,null,{"$f":"IF(入力欄!I30=\"\",\"\",入力欄!I30)","v":""},null,null,{"$f":"IF(入力欄!J30=\"\",\"\",入力欄!J30)","v":""},null,null,{"$f":"IF(入力欄!K30=\"\",\"\",入力欄!K30)","v":""},{"$f":"IF(入力欄!L30=\"\",\"\",入力欄!L30)","v":""},null,null,null,null,null,{"$f":"IF(入力欄!M30=\"\",\"\",入力欄!M30)","v":""},{"$f":"IF(入力欄!N30=\"\",\"\",入力欄!N30)","v":""}]
[null,6,{"$f":"IF(入力欄!E31=\"\",\"\",入力欄!E31)","v":""},null,{"$f":"IF(入力欄!F31=\"\",\"\",入力欄!F31)","v":""},null,null,null,{"$f":"IF(入力欄!G31=\"\",\"\",入力欄!G31)","v":""},null,null,{"$f":"IF(入力欄!H31=\"\",\"\",入力欄!H31)","v":""},null,null,{"$f":"IF(入力欄!I31=\"\",\"\",入力欄!I31)","v":""},null,null,{"$f":"IF(入力欄!J31=\"\",\"\",入力欄!J31)","v":""},null,null,{"$f":"IF(入力欄!K31=\"\",\"\",入力欄!K31)","v":""},{"$f":"IF(入力欄!L31=\"\",\"\",入力欄!L31)","v":""},null,null,null,null,null,{"$f":"IF(入力欄!M31=\"\",\"\",入力欄!M31)","v":""},{"$f":"IF(入力欄!N31=\"\",\"\",入力欄!N31)","v":""}]
[null,7,{"$f":"IF(入力欄!E32=\"\",\"\",入力欄!E32)","v":""},null,{"$f":"IF(入力欄!F32=\"\",\"\",入力欄!F32)","v":""},null,null,null,{"$f":"IF(入力欄!G32=\"\",\"\",入力欄!G32)","v":""},null,null,{"$f":"IF(入力欄!H32=\"\",\"\",入力欄!H32)","v":""},null,null,{"$f":"IF(入力欄!I32=\"\",\"\",入力欄!I32)","v":""},null,null,{"$f":"IF(入力欄!J32=\"\",\"\",入力欄!J32)","v":""},null,null,{"$f":"IF(入力欄!K32=\"\",\"\",入力欄!K32)","v":""},{"$f":"IF(入力欄!L32=\"\",\"\",入力欄!L32)","v":""},null,null,null,null,null,{"$f":"IF(入力欄!M32=\"\",\"\",入力欄!M32)","v":""},{"$f":"IF(入力欄!N32=\"\",\"\",入力欄!N32)","v":""}]
[null,8,{"$f":"IF(入力欄!E33=\"\",\"\",入力欄!E33)","v":""},null,{"$f":"IF(入力欄!F33=\"\",\"\",入力欄!F33)","v":""},null,null,null,{"$f":"IF(入力欄!G33=\"\",\"\",入力欄!G33)","v":""},null,null,{"$f":"IF(入力欄!H33=\"\",\"\",入力欄!H33)","v":""},null,null,{"$f":"IF(入力欄!I33=\"\",\"\",入力欄!I33)","v":""},null,null,{"$f":"IF(入力欄!J33=\"\",\"\",入力欄!J33)","v":""},null,null,{"$f":"IF(入力欄!K33=\"\",\"\",入力欄!K33)","v":""},{"$f":"IF(入力欄!L33=\"\",\"\",入力欄!L33)","v":""},null,null,null,null,null,{"$f":"IF(入力欄!M33=\"\",\"\",入力欄!M33)","v":""},{"$f":"IF(入力欄!N33=\"\",\"\",入力欄!N33)","v":""}]
[null,9,{"$f":"IF(入力欄!E34=\"\",\"\",入力欄!E34)","v":""},null,{"$f":"IF(入力欄!F34=\"\",\"\",入力欄!F34)","v":""},null,null,null,{"$f":"IF(入力欄!G34=\"\",\"\",入力欄!G34)","v":""},null,null,{"$f":"IF(入力欄!H34=\"\",\"\",入力欄!H34)","v":""},null,null,{"$f":"IF(入力欄!I34=\"\",\"\",入力欄!I34)","v":""},null,null,{"$f":"IF(入力欄!J34=\"\",\"\",入力欄!J34)","v":""},null,null,{"$f":"IF(入力欄!K34=\"\",\"\",入力欄!K34)","v":""},{"$f":"IF(入力欄!L34=\"\",\"\",入力欄!L34)","v":""},null,null,null,null,null,{"$f":"IF(入力欄!M34=\"\",\"\",入力欄!M34)","v":""},{"$f":"IF(入力欄!N34=\"\",\"\",入力欄!N34)","v":""}]
[null,10,{"$f":"IF(入力欄!E35=\"\",\"\",入力欄!E35)","v":""},null,{"$f":"IF(入力欄!F35=\"\",\"\",入力欄!F35)","v":""},null,null,null,{"$f":"IF(入力欄!G35=\"\",\"\",入力欄!G35)","v":""},null,null,{"$f":"IF(入力欄!H35=\"\",\"\",入力欄!H35)","v":""},null,null,{"$f":"IF(入力欄!I35=\"\",\"\",入力欄!I35)","v":""},null,null,{"$f":"IF(入力欄!J35=\"\",\"\",入力欄!J35)","v":""},null,null,{"$f":"IF(入力欄!K35=\"\",\"\",入力欄!K35)","v":""},{"$f":"IF(入力欄!L35=\"\",\"\",入力欄!L35)","v":""},null,null,null,null,null,{"$f":"IF(入力欄!M35=\"\",\"\",入力欄!M35)","v":""},{"$f":"IF(入力欄!N35=\"\",\"\",入力欄!N35)","v":""}]
[{"$f":"IF(入力欄!C36=\"\",\"\",入力欄!C36)","v":""},1,{"$f":"IF(入力欄!E36=\"\",\"\",入力欄!E36)","v":""},null,{"$f":"IF(入力欄!F36=\"\",\"\",入力欄!F36)","v":""},null,null,null,{"$f":"IF(入力欄!G36=\"\",\"\",入力欄!G36)","v":""},null,null,{"$f":"IF(入力欄!H36=\"\",\"\",入力欄!H36)","v":""},null,null,{"$f":"IF(入力欄!I36=\"\",\"\",入力欄!I36)","v":""},null,null,{"$f":"IF(入力欄!J36=\"\",\"\",入力欄!J36)","v":""},null,null,{"$f":"IF(入力欄!K36=\"\",\"\",入力欄!K36)","v":""},{"$f":"IF(入力欄!L36=\"\",\"\",入力欄!L36)","v":""},null,null,null,null,null,{"$f":"IF(入力欄!M36=\"\",\"\",入力欄!M36)","v":""},{"$f":"IF(入力欄!N36=\"\",\"\",入力欄!N36)","v":""}]
[null,2,{"$f":"IF(入力欄!E37=\"\",\"\",入力欄!E37)","v":""},null,{"$f":"IF(入力欄!F37=\"\",\"\",入力欄!F37)","v":""},null,null,null,{"$f":"IF(入力欄!G37=\"\",\"\",入力欄!G37)","v":""},null,null,{"$f":"IF(入力欄!H37=\"\",\"\",入力欄!H37)","v":""},null,null,{"$f":"IF(入力欄!I37=\"\",\"\",入力欄!I37)","v":""},null,null,{"$f":"IF(入力欄!J37=\"\",\"\",入力欄!J37)","v":""},null,null,{"$f":"IF(入力欄!K37=\"\",\"\",入力欄!K37)","v":""},{"$f":"IF(入力欄!L37=\"\",\"\",入力欄!L37)","v":""},null,null,null,null,null,{"$f":"IF(入力欄!M37=\"\",\"\",入力欄!M37)","v":""},{"$f":"IF(入力欄!N37=\"\",\"\",入力欄!N37)","v":""}]
[null,3,{"$f":"IF(入力欄!E38=\"\",\"\",入力欄!E38)","v":""},null,{"$f":"IF(入力欄!F38=\"\",\"\",入力欄!F38)","v":""},null,null,null,{"$f":"IF(入力欄!G38=\"\",\"\",入力欄!G38)","v":""},null,null,{"$f":"IF(入力欄!H38=\"\",\"\",入力欄!H38)","v":""},null,null,{"$f":"IF(入力欄!I38=\"\",\"\",入力欄!I38)","v":""},null,null,{"$f":"IF(入力欄!J38=\"\",\"\",入力欄!J38)","v":""},null,null,{"$f":"IF(入力欄!K38=\"\",\"\",入力欄!K38)","v":""},{"$f":"IF(入力欄!L38=\"\",\"\",入力欄!L38)","v":""},null,null,null,null,null,{"$f":"IF(入力欄!M38=\"\",\"\",入力欄!M38)","v":""},{"$f":"IF(入力欄!N38=\"\",\"\",入力欄!N38)","v":""}]
[null,4,{"$f":"IF(入力欄!E39=\"\",\"\",入力欄!E39)","v":""},null,{"$f":"IF(入力欄!F39=\"\",\"\",入力欄!F39)","v":""},null,null,null,{"$f":"IF(入力欄!G39=\"\",\"\",入力欄!G39)","v":""},null,null,{"$f":"IF(入力欄!H39=\"\",\"\",入力欄!H39)","v":""},null,null,{"$f":"IF(入力欄!I39=\"\",\"\",入力欄!I39)","v":""},null,null,{"$f":"IF(入力欄!J39=\"\",\"\",入力欄!J39)","v":""},null,null,{"$f":"IF(入力欄!K39=\"\",\"\",入力欄!K39)","v":""},{"$f":"IF(入力欄!L39=\"\",\"\",入力欄!L39)","v":""},null,null,null,null,null,{"$f":"IF(入力欄!M39=\"\",\"\",入力欄!M39)","v":""},{"$f":"IF(入力欄!N39=\"\",\"\",入力欄!N39)","v":""}]
[null,5,{"$f":"IF(入力欄!E40=\"\",\"\",入力欄!E40)","v":""},null,{"$f":"IF(入力欄!F40=\"\",\"\",入力欄!F40)","v":""},null,null,null,{"$f":"IF(入力欄!G40=\"\",\"\",入力欄!G40)","v":""},null,null,{"$f":"IF(入力欄!H40=\"\",\"\",入力欄!H40)","v":""},null,null,{"$f":"IF(入力欄!I40=\"\",\"\",入力欄!I40)","v":""},null,null,{"$f":"IF(入力欄!J40=\"\",\"\",入力欄!J40)","v":""},null,null,{"$f":"IF(入力欄!K40=\"\",\"\",入力欄!K40)","v":""},{"$f":"IF(入力欄!L40=\"\",\"\",入力欄!L40)","v":""},null,null,null,null,null,{"$f":"IF(入力欄!M40=\"\",\"\",入力欄!M40)","v":""},{"$f":"IF(入力欄!N40=\"\",\"\",入力欄!N40)","v":""}]
[null,6,{"$f":"IF(入力欄!E41=\"\",\"\",入力欄!E41)","v":""},null,{"$f":"IF(入力欄!F41=\"\",\"\",入力欄!F41)","v":""},null,null,null,{"$f":"IF(入力欄!G41=\"\",\"\",入力欄!G41)","v":""},null,null,{"$f":"IF(入力欄!H41=\"\",\"\",入力欄!H41)","v":""},null,null,{"$f":"IF(入力欄!I41=\"\",\"\",入力欄!I41)","v":""},null,null,{"$f":"IF(入力欄!J41=\"\",\"\",入力欄!J41)","v":""},null,null,{"$f":"IF(入力欄!K41=\"\",\"\",入力欄!K41)","v":""},{"$f":"IF(入力欄!L41=\"\",\"\",入力欄!L41)","v":""},null,null,null,null,null,{"$f":"IF(入力欄!M41=\"\",\"\",入力欄!M41)","v":""},{"$f":"IF(入力欄!N41=\"\",\"\",入力欄!N41)","v":""}]
[null,7,{"$f":"IF(入力欄!E42=\"\",\"\",入力欄!E42)","v":""},null,{"$f":"IF(入力欄!F42=\"\",\"\",入力欄!F42)","v":""},null,null,null,{"$f":"IF(入力欄!G42=\"\",\"\",入力欄!G42)","v":""},null,null,{"$f":"IF(入力欄!H42=\"\",\"\",入力欄!H42)","v":""},null,null,{"$f":"IF(入力欄!I42=\"\",\"\",入力欄!I42)","v":""},null,null,{"$f":"IF(入力欄!J42=\"\",\"\",入力欄!J42)","v":""},null,null,{"$f":"IF(入力欄!K42=\"\",\"\",入力欄!K42)","v":""},{"$f":"IF(入力欄!L42=\"\",\"\",入力欄!L42)","v":""},null,null,null,null,null,{"$f":"IF(入力欄!M42=\"\",\"\",入力欄!M42)","v":""},{"$f":"IF(入力欄!N42=\"\",\"\",入力欄!N42)","v":""}]
[null,8,{"$f":"IF(入力欄!E43=\"\",\"\",入力欄!E43)","v":""},null,{"$f":"IF(入力欄!F43=\"\",\"\",入力欄!F43)","v":""},null,null,null,{"$f":"IF(入力欄!G43=\"\",\"\",入力欄!G43)","v":""},null,null,{"$f":"IF(入力欄!H43=\"\",\"\",入力欄!H43)","v":""},null,null,{"$f":"IF(入力欄!I43=\"\",\"\",入力欄!I43)","v":""},null,null,{"$f":"IF(入力欄!J43=\"\",\"\",入力欄!J43)","v":""},null,null,{"$f":"IF(入力欄!K43=\"\",\"\",入力欄!K43)","v":""},{"$f":"IF(入力欄!L43=\"\",\"\",入力欄!L43)","v":""},null,null,null,null,null,{"$f":"IF(入力欄!M43=\"\",\"\",入力欄!M43)","v":""},{"$f":"IF(入力欄!N43=\"\",\"\",入力欄!N43)","v":""}]
[null,9,{"$f":"IF(入力欄!E44=\"\",\"\",入力欄!E44)","v":""},null,{"$f":"IF(入力欄!F44=\"\",\"\",入力欄!F44)","v":""},null,null,null,{"$f":"IF(入力欄!G44=\"\",\"\",入力欄!G44)","v":""},null,null,{"$f":"IF(入力欄!H44=\"\",\"\",入力欄!H44)","v":""},null,null,{"$f":"IF(入力欄!I44=\"\",\"\",入力欄!I44)","v":""},null,null,{"$f":"IF(入力欄!J44=\"\",\"\",入力欄!J44)","v":""},null,null,{"$f":"IF(入力欄!K44=\"\",\"\",入力欄!K44)","v":""},{"$f":"IF(入力欄!L44=\"\",\"\",入力欄!L44)","v":""},null,null,null,null,null,{"$f":"IF(入力欄!M44=\"\",\"\",入力欄!M44)","v":""},{"$f":"IF(入力欄!N44=\"\",\"\",入力欄!N44)","v":""}]
[null,10,{"$f":"IF(入力欄!E45=\"\",\"\",入力欄!E45)","v":""},null,{"$f":"IF(入力欄!F45=\"\",\"\",入力欄!F45)","v":""},null,null,null,{"$f":"IF(入力欄!G45=\"\",\"\",入力欄!G45)","v":""},null,null,{"$f":"IF(入力欄!H45=\"\",\"\",入力欄!H45)","v":""},null,null,{"$f":"IF(入力欄!I45=\"\",\"\",入力欄!I45)","v":""},null,null,{"$f":"IF(入力欄!J45=\"\",\"\",入力欄!J45)","v":""},null,null,{"$f":"IF(入力欄!K45=\"\",\"\",入力欄!K45)","v":""},{"$f":"IF(入力欄!L45=\"\",\"\",入力欄!L45)","v":""},null,null,null,null,null,{"$f":"IF(入力欄!M45=\"\",\"\",入力欄!M45)","v":""},{"$f":"IF(入力欄!N45=\"\",\"\",入力欄!N45)","v":""}]
[{"$f":"IF(入力欄!C46=\"\",\"\",入力欄!C46)","v":""},1,{"$f":"IF(入力欄!E46=\"\",\"\",入力欄!E46)","v":""},null,{"$f":"IF(入力欄!F46=\"\",\"\",入力欄!F46)","v":""},null,null,null,{"$f":"IF(入力欄!G46=\"\",\"\",入力欄!G46)","v":""},null,null,{"$f":"IF(入力欄!H46=\"\",\"\",入力欄!H46)","v":""},null,null,{"$f":"IF(入力欄!I46=\"\",\"\",入力欄!I46)","v":""},null,null,{"$f":"IF(入力欄!J46=\"\",\"\",入力欄!J46)","v":""},null,null,{"$f":"IF(入力欄!K46=\"\",\"\",入力欄!K46)","v":""},{"$f":"IF(入力欄!L46=\"\",\"\",入力欄!L46)","v":""},null,null,null,null,null,{"$f":"IF(入力欄!M46=\"\",\"\",入力欄!M46)","v":""},{"$f":"IF(入力欄!N46=\"\",\"\",入力欄!N46)","v":""}]
[null,2,{"$f":"IF(入力欄!E47=\"\",\"\",入力欄!E47)","v":""},null,{"$f":"IF(入力欄!F47=\"\",\"\",入力欄!F47)","v":""},null,null,null,{"$f":"IF(入力欄!G47=\"\",\"\",入力欄!G47)","v":""},null,null,{"$f":"IF(入力欄!H47=\"\",\"\",入力欄!H47)","v":""},null,null,{"$f":"IF(入力欄!I47=\"\",\"\",入力欄!I47)","v":""},null,null,{"$f":"IF(入力欄!J47=\"\",\"\",入力欄!J47)","v":""},null,null,{"$f":"IF(入力欄!K47=\"\",\"\",入力欄!K47)","v":""},{"$f":"IF(入力欄!L47=\"\",\"\",入力欄!L47)","v":""},null,null,null,null,null,{"$f":"IF(入力欄!M47=\"\",\"\",入力欄!M47)","v":""},{"$f":"IF(入力欄!N47=\"\",\"\",入力欄!N47)","v":""}]
[null,3,{"$f":"IF(入力欄!E48=\"\",\"\",入力欄!E48)","v":""},null,{"$f":"IF(入力欄!F48=\"\",\"\",入力欄!F48)","v":""},null,null,null,{"$f":"IF(入力欄!G48=\"\",\"\",入力欄!G48)","v":""},null,null,{"$f":"IF(入力欄!H48=\"\",\"\",入力欄!H48)","v":""},null,null,{"$f":"IF(入力欄!I48=\"\",\"\",入力欄!I48)","v":""},null,null,{"$f":"IF(入力欄!J48=\"\",\"\",入力欄!J48)","v":""},null,null,{"$f":"IF(入力欄!K48=\"\",\"\",入力欄!K48)","v":""},{"$f":"IF(入力欄!L48=\"\",\"\",入力欄!L48)","v":""},null,null,null,null,null,{"$f":"IF(入力欄!M48=\"\",\"\",入力欄!M48)","v":""},{"$f":"IF(入力欄!N48=\"\",\"\",入力欄!N48)","v":""}]
[null,4,{"$f":"IF(入力欄!E49=\"\",\"\",入力欄!E49)","v":""},null,{"$f":"IF(入力欄!F49=\"\",\"\",入力欄!F49)","v":""},null,null,null,{"$f":"IF(入力欄!G49=\"\",\"\",入力欄!G49)","v":""},null,null,{"$f":"IF(入力欄!H49=\"\",\"\",入力欄!H49)","v":""},null,null,{"$f":"IF(入力欄!I49=\"\",\"\",入力欄!I49)","v":""},null,null,{"$f":"IF(入力欄!J49=\"\",\"\",入力欄!J49)","v":""},null,null,{"$f":"IF(入力欄!K49=\"\",\"\",入力欄!K49)","v":""},{"$f":"IF(入力欄!L49=\"\",\"\",入力欄!L49)","v":""},null,null,null,null,null,{"$f":"IF(入力欄!M49=\"\",\"\",入力欄!M49)","v":""},{"$f":"IF(入力欄!N49=\"\",\"\",入力欄!N49)","v":""}]
[null,5,{"$f":"IF(入力欄!E50=\"\",\"\",入力欄!E50)","v":""},null,{"$f":"IF(入力欄!F50=\"\",\"\",入力欄!F50)","v":""},null,null,null,{"$f":"IF(入力欄!G50=\"\",\"\",入力欄!G50)","v":""},null,null,{"$f":"IF(入力欄!H50=\"\",\"\",入力欄!H50)","v":""},null,null,{"$f":"IF(入力欄!I50=\"\",\"\",入力欄!I50)","v":""},null,null,{"$f":"IF(入力欄!J50=\"\",\"\",入力欄!J50)","v":""},null,null,{"$f":"IF(入力欄!K50=\"\",\"\",入力欄!K50)","v":""},{"$f":"IF(入力欄!L50=\"\",\"\",入力欄!L50)","v":""},null,null,null,null,null,{"$f":"IF(入力欄!M50=\"\",\"\",入力欄!M50)","v":""},{"$f":"IF(入力欄!N50=\"\",\"\",入力欄!N50)","v":""}]
[null,6,{"$f":"IF(入力欄!E51=\"\",\"\",入力欄!E51)","v":""},null,{"$f":"IF(入力欄!F51=\"\",\"\",入力欄!F51)","v":""},null,null,null,{"$f":"IF(入力欄!G51=\"\",\"\",入力欄!G51)","v":""},null,null,{"$f":"IF(入力欄!H51=\"\",\"\",入力欄!H51)","v":""},null,null,{"$f":"IF(入力欄!I51=\"\",\"\",入力欄!I51)","v":""},null,null,{"$f":"IF(入力欄!J51=\"\",\"\",入力欄!J51)","v":""},null,null,{"$f":"IF(入力欄!K51=\"\",\"\",入力欄!K51)","v":""},{"$f":"IF(入力欄!L51=\"\",\"\",入力欄!L51)","v":""},null,null,null,null,null,{"$f":"IF(入力欄!M51=\"\",\"\",入力欄!M51)","v":""},{"$f":"IF(入力欄!N51=\"\",\"\",入力欄!N51)","v":""}]
[null,7,{"$f":"IF(入力欄!E52=\"\",\"\",入力欄!E52)","v":""},null,{"$f":"IF(入力欄!F52=\"\",\"\",入力欄!F52)","v":""},null,null,null,{"$f":"IF(入力欄!G52=\"\",\"\",入力欄!G52)","v":""},null,null,{"$f":"IF(入力欄!H52=\"\",\"\",入力欄!H52)","v":""},null,null,{"$f":"IF(入力欄!I52=\"\",\"\",入力欄!I52)","v":""},null,null,{"$f":"IF(入力欄!J52=\"\",\"\",入力欄!J52)","v":""},null,null,{"$f":"IF(入力欄!K52=\"\",\"\",入力欄!K52)","v":""},{"$f":"IF(入力欄!L52=\"\",\"\",入力欄!L52)","v":""},null,null,null,null,null,{"$f":"IF(入力欄!M52=\"\",\"\",入力欄!M52)","v":""},{"$f":"IF(入力欄!N52=\"\",\"\",入力欄!N52)","v":""}]
[null,8,{"$f":"IF(入力欄!E53=\"\",\"\",入力欄!E53)","v":""},null,{"$f":"IF(入力欄!F53=\"\",\"\",入力欄!F53)","v":""},null,null,null,{"$f":"IF(入力欄!G53=\"\",\"\",入力欄!G53)","v":""},null,null,{"$f":"IF(入力欄!H53=\"\",\"\",入力欄!H53)","v":""},null,null,{"$f":"IF(入力欄!I53=\"\",\"\",入力欄!I53)","v":""},null,null,{"$f":"IF(入力欄!J53=\"\",\"\",入力欄!J53)","v":""},null,null,{"$f":"IF(入力欄!K53=\"\",\"\",入力欄!K53)","v":""},{"$f":"IF(入力欄!L53=\"\",\"\",入力欄!L53)","v":""},null,null,null,null,null,{"$f":"IF(入力欄!M53=\"\",\"\",入力欄!M53)","v":""},{"$f":"IF(入力欄!N53=\"\",\"\",入力欄!N53)","v":""}]
[null,9,{"$f":"IF(入力欄!E54=\"\",\"\",入力欄!E54)","v":""},null,{"$f":"IF(入力欄!F54=\"\",\"\",入力欄!F54)","v":""},null,null,null,{"$f":"IF(入力欄!G54=\"\",\"\",入力欄!G54)","v":""},null,null,{"$f":"IF(入力欄!H54=\"\",\"\",入力欄!H54)","v":""},null,null,{"$f":"IF(入力欄!I54=\"\",\"\",入力欄!I54)","v":""},null,null,{"$f":"IF(入力欄!J54=\"\",\"\",入力欄!J54)","v":""},null,null,{"$f":"IF(入力欄!K54=\"\",\"\",入力欄!K54)","v":""},{"$f":"IF(入力欄!L54=\"\",\"\",入力欄!L54)","v":""},null,null,null,null,null,{"$f":"IF(入力欄!M54=\"\",\"\",入力欄!M54)","v":""},{"$f":"IF(入力欄!N54=\"\",\"\",入力欄!N54)","v":""}]
[null,10,{"$f":"IF(入力欄!E55=\"\",\"\",入力欄!E55)","v":""},null,{"$f":"IF(入力欄!F55=\"\",\"\",入力欄!F55)","v":""},null,null,null,{"$f":"IF(入力欄!G55=\"\",\"\",入力欄!G55)","v":""},null,null,{"$f":"IF(入力欄!H55=\"\",\"\",入力欄!H55)","v":""},null,null,{"$f":"IF(入力欄!I55=\"\",\"\",入力欄!I55)","v":""},null,null,{"$f":"IF(入力欄!J55=\"\",\"\",入力欄!J55)","v":""},null,null,{"$f":"IF(入力欄!K55=\"\",\"\",入力欄!K55)","v":""},{"$f":"IF(入力欄!L55=\"\",\"\",入力欄!L55)","v":""},null,null,null,null,null,{"$f":"IF(入力欄!M55=\"\",\"\",入力欄!M55)","v":""},{"$f":"IF(入力欄!N55=\"\",\"\",入力欄!N55)","v":""}]
[{"$f":"IF(入力欄!C56=\"\",\"\",入力欄!C56)","v":""},1,{"$f":"IF(入力欄!E56=\"\",\"\",入力欄!E56)","v":""},null,{"$f":"IF(入力欄!F56=\"\",\"\",入力欄!F56)","v":""},null,null,null,{"$f":"IF(入力欄!G56=\"\",\"\",入力欄!G56)","v":""},null,null,{"$f":"IF(入力欄!H56=\"\",\"\",入力欄!H56)","v":""},null,null,{"$f":"IF(入力欄!I56=\"\",\"\",入力欄!I56)","v":""},null,null,{"$f":"IF(入力欄!J56=\"\",\"\",入力欄!J56)","v":""},null,null,{"$f":"IF(入力欄!K56=\"\",\"\",入力欄!K56)","v":""},{"$f":"IF(入力欄!L56=\"\",\"\",入力欄!L56)","v":""},null,null,null,null,null,{"$f":"IF(入力欄!M56=\"\",\"\",入力欄!M56)","v":""},{"$f":"IF(入力欄!N56=\"\",\"\",入力欄!N56)","v":""}]
[null,2,{"$f":"IF(入力欄!E57=\"\",\"\",入力欄!E57)","v":""},null,{"$f":"IF(入力欄!F57=\"\",\"\",入力欄!F57)","v":""},null,null,null,{"$f":"IF(入力欄!G57=\"\",\"\",入力欄!G57)","v":""},null,null,{"$f":"IF(入力欄!H57=\"\",\"\",入力欄!H57)","v":""},null,null,{"$f":"IF(入力欄!I57=\"\",\"\",入力欄!I57)","v":""},null,null,{"$f":"IF(入力欄!J57=\"\",\"\",入力欄!J57)","v":""},null,null,{"$f":"IF(入力欄!K57=\"\",\"\",入力欄!K57)","v":""},{"$f":"IF(入力欄!L57=\"\",\"\",入力欄!L57)","v":""},null,null,null,null,null,{"$f":"IF(入力欄!M57=\"\",\"\",入力欄!M57)","v":""},{"$f":"IF(入力欄!N57=\"\",\"\",入力欄!N57)","v":""}]
[null,3,{"$f":"IF(入力欄!E58=\"\",\"\",入力欄!E58)","v":""},null,{"$f":"IF(入力欄!F58=\"\",\"\",入力欄!F58)","v":""},null,null,null,{"$f":"IF(入力欄!G58=\"\",\"\",入力欄!G58)","v":""},null,null,{"$f":"IF(入力欄!H58=\"\",\"\",入力欄!H58)","v":""},null,null,{"$f":"IF(入力欄!I58=\"\",\"\",入力欄!I58)","v":""},null,null,{"$f":"IF(入力欄!J58=\"\",\"\",入力欄!J58)","v":""},null,null,{"$f":"IF(入力欄!K58=\"\",\"\",入力欄!K58)","v":""},{"$f":"IF(入力欄!L58=\"\",\"\",入力欄!L58)","v":""},null,null,null,null,null,{"$f":"IF(入力欄!M58=\"\",\"\",入力欄!M58)","v":""},{"$f":"IF(入力欄!N58=\"\",\"\",入力欄!N58)","v":""}]
[null,4,{"$f":"IF(入力欄!E59=\"\",\"\",入力欄!E59)","v":""},null,{"$f":"IF(入力欄!F59=\"\",\"\",入力欄!F59)","v":""},null,null,null,{"$f":"IF(入力欄!G59=\"\",\"\",入力欄!G59)","v":""},null,null,{"$f":"IF(入力欄!H59=\"\",\"\",入力欄!H59)","v":""},null,null,{"$f":"IF(入力欄!I59=\"\",\"\",入力欄!I59)","v":""},null,null,{"$f":"IF(入力欄!J59=\"\",\"\",入力欄!J59)","v":""},null,null,{"$f":"IF(入力欄!K59=\"\",\"\",入力欄!K59)","v":""},{"$f":"IF(入力欄!L59=\"\",\"\",入力欄!L59)","v":""},null,null,null,null,null,{"$f":"IF(入力欄!M59=\"\",\"\",入力欄!M59)","v":""},{"$f":"IF(入力欄!N59=\"\",\"\",入力欄!N59)","v":""}]
[null,5,{"$f":"IF(入力欄!E60=\"\",\"\",入力欄!E60)","v":""},null,{"$f":"IF(入力欄!F60=\"\",\"\",入力欄!F60)","v":""},null,null,null,{"$f":"IF(入力欄!G60=\"\",\"\",入力欄!G60)","v":""},null,null,{"$f":"IF(入力欄!H60=\"\",\"\",入力欄!H60)","v":""},null,null,{"$f":"IF(入力欄!I60=\"\",\"\",入力欄!I60)","v":""},null,null,{"$f":"IF(入力欄!J60=\"\",\"\",入力欄!J60)","v":""},null,null,{"$f":"IF(入力欄!K60=\"\",\"\",入力欄!K60)","v":""},{"$f":"IF(入力欄!L60=\"\",\"\",入力欄!L60)","v":""},null,null,null,null,null,{"$f":"IF(入力欄!M60=\"\",\"\",入力欄!M60)","v":""},{"$f":"IF(入力欄!N60=\"\",\"\",入力欄!N60)","v":""}]
[null,6,{"$f":"IF(入力欄!E61=\"\",\"\",入力欄!E61)","v":""},null,{"$f":"IF(入力欄!F61=\"\",\"\",入力欄!F61)","v":""},null,null,null,{"$f":"IF(入力欄!G61=\"\",\"\",入力欄!G61)","v":""},null,null,{"$f":"IF(入力欄!H61=\"\",\"\",入力欄!H61)","v":""},null,null,{"$f":"IF(入力欄!I61=\"\",\"\",入力欄!I61)","v":""},null,null,{"$f":"IF(入力欄!J61=\"\",\"\",入力欄!J61)","v":""},null,null,{"$f":"IF(入力欄!K61=\"\",\"\",入力欄!K61)","v":""},{"$f":"IF(入力欄!L61=\"\",\"\",入力欄!L61)","v":""},null,null,null,null,null,{"$f":"IF(入力欄!M61=\"\",\"\",入力欄!M61)","v":""},{"$f":"IF(入力欄!N61=\"\",\"\",入力欄!N61)","v":""}]
[null,7,{"$f":"IF(入力欄!E62=\"\",\"\",入力欄!E62)","v":""},null,{"$f":"IF(入力欄!F62=\"\",\"\",入力欄!F62)","v":""},null,null,null,{"$f":"IF(入力欄!G62=\"\",\"\",入力欄!G62)","v":""},null,null,{"$f":"IF(入力欄!H62=\"\",\"\",入力欄!H62)","v":""},null,null,{"$f":"IF(入力欄!I62=\"\",\"\",入力欄!I62)","v":""},null,null,{"$f":"IF(入力欄!J62=\"\",\"\",入力欄!J62)","v":""},null,null,{"$f":"IF(入力欄!K62=\"\",\"\",入力欄!K62)","v":""},{"$f":"IF(入力欄!L62=\"\",\"\",入力欄!L62)","v":""},null,null,null,null,null,{"$f":"IF(入力欄!M62=\"\",\"\",入力欄!M62)","v":""},{"$f":"IF(入力欄!N62=\"\",\"\",入力欄!N62)","v":""}]
[null,8,{"$f":"IF(入力欄!E63=\"\",\"\",入力欄!E63)","v":""},null,{"$f":"IF(入力欄!F63=\"\",\"\",入力欄!F63)","v":""},null,null,null,{"$f":"IF(入力欄!G63=\"\",\"\",入力欄!G63)","v":""},null,null,{"$f":"IF(入力欄!H63=\"\",\"\",入力欄!H63)","v":""},null,null,{"$f":"IF(入力欄!I63=\"\",\"\",入力欄!I63)","v":""},null,null,{"$f":"IF(入力欄!J63=\"\",\"\",入力欄!J63)","v":""},null,null,{"$f":"IF(入力欄!K63=\"\",\"\",入力欄!K63)","v":""},{"$f":"IF(入力欄!L63=\"\",\"\",入力欄!L63)","v":""},null,null,null,null,null,{"$f":"IF(入力欄!M63=\"\",\"\",入力欄!M63)","v":""},{"$f":"IF(入力欄!N63=\"\",\"\",入力欄!N63)","v":""}]
[null,9,{"$f":"IF(入力欄!E64=\"\",\"\",入力欄!E64)","v":""},null,{"$f":"IF(入力欄!F64=\"\",\"\",入力欄!F64)","v":""},null,null,null,{"$f":"IF(入力欄!G64=\"\",\"\",入力欄!G64)","v":""},null,null,{"$f":"IF(入力欄!H64=\"\",\"\",入力欄!H64)","v":""},null,null,{"$f":"IF(入力欄!I64=\"\",\"\",入力欄!I64)","v":""},null,null,{"$f":"IF(入力欄!J64=\"\",\"\",入力欄!J64)","v":""},null,null,{"$f":"IF(入力欄!K64=\"\",\"\",入力欄!K64)","v":""},{"$f":"IF(入力欄!L64=\"\",\"\",入力欄!L64)","v":""},null,null,null,null,null,{"$f":"IF(入力欄!M64=\"\",\"\",入力欄!M64)","v":""},{"$f":"IF(入力欄!N64=\"\",\"\",入力欄!N64)","v":""}]
[null,10,{"$f":"IF(入力欄!E65=\"\",\"\",入力欄!E65)","v":""},null,{"$f":"IF(入力欄!F65=\"\",\"\",入力欄!F65)","v":""},null,null,null,{"$f":"IF(入力欄!G65=\"\",\"\",入力欄!G65)","v":""},null,null,{"$f":"IF(入力欄!H65=\"\",\"\",入力欄!H65)","v":""},null,null,{"$f":"IF(入力欄!I65=\"\",\"\",入力欄!I65)","v":""},null,null,{"$f":"IF(入力欄!J65=\"\",\"\",入力欄!J65)","v":""},null,null,{"$f":"IF(入力欄!K65=\"\",\"\",入力欄!K65)","v":""},{"$f":"IF(入力欄!L65=\"\",\"\",入力欄!L65)","v":""},null,null,null,null,null,{"$f":"IF(入力欄!M65=\"\",\"\",入力欄!M65)","v":""},{"$f":"IF(入力欄!N65=\"\",\"\",入力欄!N65)","v":""}]
[{"$f":"IF(入力欄!C66=\"\",\"\",入力欄!C66)","v":""},1,{"$f":"IF(入力欄!E66=\"\",\"\",入力欄!E66)","v":""},null,{"$f":"IF(入力欄!F66=\"\",\"\",入力欄!F66)","v":""},null,null,null,{"$f":"IF(入力欄!G66=\"\",\"\",入力欄!G66)","v":""},null,null,{"$f":"IF(入力欄!H66=\"\",\"\",入力欄!H66)","v":""},null,null,{"$f":"IF(入力欄!I66=\"\",\"\",入力欄!I66)","v":""},null,null,{"$f":"IF(入力欄!J66=\"\",\"\",入力欄!J66)","v":""},null,null,{"$f":"IF(入力欄!K66=\"\",\"\",入力欄!K66)","v":""},{"$f":"IF(入力欄!L66=\"\",\"\",入力欄!L66)","v":""},null,null,null,null,null,{"$f":"IF(入力欄!M66=\"\",\"\",入力欄!M66)","v":""},{"$f":"IF(入力欄!N66=\"\",\"\",入力欄!N66)","v":""}]
[null,2,{"$f":"IF(入力欄!E67=\"\",\"\",入力欄!E67)","v":""},null,{"$f":"IF(入力欄!F67=\"\",\"\",入力欄!F67)","v":""},null,null,null,{"$f":"IF(入力欄!G67=\"\",\"\",入力欄!G67)","v":""},null,null,{"$f":"IF(入力欄!H67=\"\",\"\",入力欄!H67)","v":""},null,null,{"$f":"IF(入力欄!I67=\"\",\"\",入力欄!I67)","v":""},null,null,{"$f":"IF(入力欄!J67=\"\",\"\",入力欄!J67)","v":""},null,null,{"$f":"IF(入力欄!K67=\"\",\"\",入力欄!K67)","v":""},{"$f":"IF(入力欄!L67=\"\",\"\",入力欄!L67)","v":""},null,null,null,null,null,{"$f":"IF(入力欄!M67=\"\",\"\",入力欄!M67)","v":""},{"$f":"IF(入力欄!N67=\"\",\"\",入力欄!N67)","v":""}]
[null,3,{"$f":"IF(入力欄!E68=\"\",\"\",入力欄!E68)","v":""},null,{"$f":"IF(入力欄!F68=\"\",\"\",入力欄!F68)","v":""},null,null,null,{"$f":"IF(入力欄!G68=\"\",\"\",入力欄!G68)","v":""},null,null,{"$f":"IF(入力欄!H68=\"\",\"\",入力欄!H68)","v":""},null,null,{"$f":"IF(入力欄!I68=\"\",\"\",入力欄!I68)","v":""},null,null,{"$f":"IF(入力欄!J68=\"\",\"\",入力欄!J68)","v":""},null,null,{"$f":"IF(入力欄!K68=\"\",\"\",入力欄!K68)","v":""},{"$f":"IF(入力欄!L68=\"\",\"\",入力欄!L68)","v":""},null,null,null,null,null,{"$f":"IF(入力欄!M68=\"\",\"\",入力欄!M68)","v":""},{"$f":"IF(入力欄!N68=\"\",\"\",入力欄!N68)","v":""}]
[null,4,{"$f":"IF(入力欄!E69=\"\",\"\",入力欄!E69)","v":""},null,{"$f":"IF(入力欄!F69=\"\",\"\",入力欄!F69)","v":""},null,null,null,{"$f":"IF(入力欄!G69=\"\",\"\",入力欄!G69)","v":""},null,null,{"$f":"IF(入力欄!H69=\"\",\"\",入力欄!H69)","v":""},null,null,{"$f":"IF(入力欄!I69=\"\",\"\",入力欄!I69)","v":""},null,null,{"$f":"IF(入力欄!J69=\"\",\"\",入力欄!J69)","v":""},null,null,{"$f":"IF(入力欄!K69=\"\",\"\",入力欄!K69)","v":""},{"$f":"IF(入力欄!L69=\"\",\"\",入力欄!L69)","v":""},null,null,null,null,null,{"$f":"IF(入力欄!M69=\"\",\"\",入力欄!M69)","v":""},{"$f":"IF(入力欄!N69=\"\",\"\",入力欄!N69)","v":""}]
[null,5,{"$f":"IF(入力欄!E70=\"\",\"\",入力欄!E70)","v":""},null,{"$f":"IF(入力欄!F70=\"\",\"\",入力欄!F70)","v":""},null,null,null,{"$f":"IF(入力欄!G70=\"\",\"\",入力欄!G70)","v":""},null,null,{"$f":"IF(入力欄!H70=\"\",\"\",入力欄!H70)","v":""},null,null,{"$f":"IF(入力欄!I70=\"\",\"\",入力欄!I70)","v":""},null,null,{"$f":"IF(入力欄!J70=\"\",\"\",入力欄!J70)","v":""},null,null,{"$f":"IF(入力欄!K70=\"\",\"\",入力欄!K70)","v":""},{"$f":"IF(入力欄!L70=\"\",\"\",入力欄!L70)","v":""},null,null,null,null,null,{"$f":"IF(入力欄!M70=\"\",\"\",入力欄!M70)","v":""},{"$f":"IF(入力欄!N70=\"\",\"\",入力欄!N70)","v":""}]
[null,6,{"$f":"IF(入力欄!E71=\"\",\"\",入力欄!E71)","v":""},null,{"$f":"IF(入力欄!F71=\"\",\"\",入力欄!F71)","v":""},null,null,null,{"$f":"IF(入力欄!G71=\"\",\"\",入力欄!G71)","v":""},null,null,{"$f":"IF(入力欄!H71=\"\",\"\",入力欄!H71)","v":""},null,null,{"$f":"IF(入力欄!I71=\"\",\"\",入力欄!I71)","v":""},null,null,{"$f":"IF(入力欄!J71=\"\",\"\",入力欄!J71)","v":""},null,null,{"$f":"IF(入力欄!K71=\"\",\"\",入力欄!K71)","v":""},{"$f":"IF(入力欄!L71=\"\",\"\",入力欄!L71)","v":""},null,null,null,null,null,{"$f":"IF(入力欄!M71=\"\",\"\",入力欄!M71)","v":""},{"$f":"IF(入力欄!N71=\"\",\"\",入力欄!N71)","v":""}]
[null,7,{"$f":"IF(入力欄!E72=\"\",\"\",入力欄!E72)","v":""},null,{"$f":"IF(入力欄!F72=\"\",\"\",入力欄!F72)","v":""},null,null,null,{"$f":"IF(入力欄!G72=\"\",\"\",入力欄!G72)","v":""},null,null,{"$f":"IF(入力欄!H72=\"\",\"\",入力欄!H72)","v":""},null,null,{"$f":"IF(入力欄!I72=\"\",\"\",入力欄!I72)","v":""},null,null,{"$f":"IF(入力欄!J72=\"\",\"\",入力欄!J72)","v":""},null,null,{"$f":"IF(入力欄!K72=\"\",\"\",入力欄!K72)","v":""},{"$f":"IF(入力欄!L72=\"\",\"\",入力欄!L72)","v":""},null,null,null,null,null,{"$f":"IF(入力欄!M72=\"\",\"\",入力欄!M72)","v":""},{"$f":"IF(入力欄!N72=\"\",\"\",入力欄!N72)","v":""}]
[null,8,{"$f":"IF(入力欄!E73=\"\",\"\",入力欄!E73)","v":""},null,{"$f":"IF(入力欄!F73=\"\",\"\",入力欄!F73)","v":""},null,null,null,{"$f":"IF(入力欄!G73=\"\",\"\",入力欄!G73)","v":""},null,null,{"$f":"IF(入力欄!H73=\"\",\"\",入力欄!H73)","v":""},null,null,{"$f":"IF(入力欄!I73=\"\",\"\",入力欄!I73)","v":""},null,null,{"$f":"IF(入力欄!J73=\"\",\"\",入力欄!J73)","v":""},null,null,{"$f":"IF(入力欄!K73=\"\",\"\",入力欄!K73)","v":""},{"$f":"IF(入力欄!L73=\"\",\"\",入力欄!L73)","v":""},null,null,null,null,null,{"$f":"IF(入力欄!M73=\"\",\"\",入力欄!M73)","v":""},{"$f":"IF(入力欄!N73=\"\",\"\",入力欄!N73)","v":""}]
[null,9,{"$f":"IF(入力欄!E74=\"\",\"\",入力欄!E74)","v":""},null,{"$f":"IF(入力欄!F74=\"\",\"\",入力欄!F74)","v":""},null,null,null,{"$f":"IF(入力欄!G74=\"\",\"\",入力欄!G74)","v":""},null,null,{"$f":"IF(入力欄!H74=\"\",\"\",入力欄!H74)","v":""},null,null,{"$f":"IF(入力欄!I74=\"\",\"\",入力欄!I74)","v":""},null,null,{"$f":"IF(入力欄!J74=\"\",\"\",入力欄!J74)","v":""},null,null,{"$f":"IF(入力欄!K74=\"\",\"\",入力欄!K74)","v":""},{"$f":"IF(入力欄!L74=\"\",\"\",入力欄!L74)","v":""},null,null,null,null,null,{"$f":"IF(入力欄!M74=\"\",\"\",入力欄!M74)","v":""},{"$f":"IF(入力欄!N74=\"\",\"\",入力欄!N74)","v":""}]
[null,10,{"$f":"IF(入力欄!E75=\"\",\"\",入力欄!E75)","v":""},null,{"$f":"IF(入力欄!F75=\"\",\"\",入力欄!F75)","v":""},null,null,null,{"$f":"IF(入力欄!G75=\"\",\"\",入力欄!G75)","v":""},null,null,{"$f":"IF(入力欄!H75=\"\",\"\",入力欄!H75)","v":""},null,null,{"$f":"IF(入力欄!I75=\"\",\"\",入力欄!I75)","v":""},null,null,{"$f":"IF(入力欄!J75=\"\",\"\",入力欄!J75)","v":""},null,null,{"$f":"IF(入力欄!K75=\"\",\"\",入力欄!K75)","v":""},{"$f":"IF(入力欄!L75=\"\",\"\",入力欄!L75)","v":""},null,null,null,null,null,{"$f":"IF(入力欄!M75=\"\",\"\",入力欄!M75)","v":""},{"$f":"IF(入力欄!N75=\"\",\"\",入力欄!N75)","v":""}]
[{"$f":"IF(入力欄!C76=\"\",\"\",入力欄!C76)","v":""},1,{"$f":"IF(入力欄!E76=\"\",\"\",入力欄!E76)","v":""},null,{"$f":"IF(入力欄!F76=\"\",\"\",入力欄!F76)","v":""},null,null,null,{"$f":"IF(入力欄!G76=\"\",\"\",入力欄!G76)","v":""},null,null,{"$f":"IF(入力欄!H76=\"\",\"\",入力欄!H76)","v":""},null,null,{"$f":"IF(入力欄!I76=\"\",\"\",入力欄!I76)","v":""},null,null,{"$f":"IF(入力欄!J76=\"\",\"\",入力欄!J76)","v":""},null,null,{"$f":"IF(入力欄!K76=\"\",\"\",入力欄!K76)","v":""},{"$f":"IF(入力欄!L76=\"\",\"\",入力欄!L76)","v":""},null,null,null,null,null,{"$f":"IF(入力欄!M76=\"\",\"\",入力欄!M76)","v":""},{"$f":"IF(入力欄!N76=\"\",\"\",入力欄!N76)","v":""}]
[null,2,{"$f":"IF(入力欄!E77=\"\",\"\",入力欄!E77)","v":""},null,{"$f":"IF(入力欄!F77=\"\",\"\",入力欄!F77)","v":""},null,null,null,{"$f":"IF(入力欄!G77=\"\",\"\",入力欄!G77)","v":""},null,null,{"$f":"IF(入力欄!H77=\"\",\"\",入力欄!H77)","v":""},null,null,{"$f":"IF(入力欄!I77=\"\",\"\",入力欄!I77)","v":""},null,null,{"$f":"IF(入力欄!J77=\"\",\"\",入力欄!J77)","v":""},null,null,{"$f":"IF(入力欄!K77=\"\",\"\",入力欄!K77)","v":""},{"$f":"IF(入力欄!L77=\"\",\"\",入力欄!L77)","v":""},null,null,null,null,null,{"$f":"IF(入力欄!M77=\"\",\"\",入力欄!M77)","v":""},{"$f":"IF(入力欄!N77=\"\",\"\",入力欄!N77)","v":""}]
[null,3,{"$f":"IF(入力欄!E78=\"\",\"\",入力欄!E78)","v":""},null,{"$f":"IF(入力欄!F78=\"\",\"\",入力欄!F78)","v":""},null,null,null,{"$f":"IF(入力欄!G78=\"\",\"\",入力欄!G78)","v":""},null,null,{"$f":"IF(入力欄!H78=\"\",\"\",入力欄!H78)","v":""},null,null,{"$f":"IF(入力欄!I78=\"\",\"\",入力欄!I78)","v":""},null,null,{"$f":"IF(入力欄!J78=\"\",\"\",入力欄!J78)","v":""},null,null,{"$f":"IF(入力欄!K78=\"\",\"\",入力欄!K78)","v":""},{"$f":"IF(入力欄!L78=\"\",\"\",入力欄!L78)","v":""},null,null,null,null,null,{"$f":"IF(入力欄!M78=\"\",\"\",入力欄!M78)","v":""},{"$f":"IF(入力欄!N78=\"\",\"\",入力欄!N78)","v":""}]
[null,4,{"$f":"IF(入力欄!E79=\"\",\"\",入力欄!E79)","v":""},null,{"$f":"IF(入力欄!F79=\"\",\"\",入力欄!F79)","v":""},null,null,null,{"$f":"IF(入力欄!G79=\"\",\"\",入力欄!G79)","v":""},null,null,{"$f":"IF(入力欄!H79=\"\",\"\",入力欄!H79)","v":""},null,null,{"$f":"IF(入力欄!I79=\"\",\"\",入力欄!I79)","v":""},null,null,{"$f":"IF(入力欄!J79=\"\",\"\",入力欄!J79)","v":""},null,null,{"$f":"IF(入力欄!K79=\"\",\"\",入力欄!K79)","v":""},{"$f":"IF(入力欄!L79=\"\",\"\",入力欄!L79)","v":""},null,null,null,null,null,{"$f":"IF(入力欄!M79=\"\",\"\",入力欄!M79)","v":""},{"$f":"IF(入力欄!N79=\"\",\"\",入力欄!N79)","v":""}]
[null,5,{"$f":"IF(入力欄!E80=\"\",\"\",入力欄!E80)","v":""},null,{"$f":"IF(入力欄!F80=\"\",\"\",入力欄!F80)","v":""},null,null,null,{"$f":"IF(入力欄!G80=\"\",\"\",入力欄!G80)","v":""},null,null,{"$f":"IF(入力欄!H80=\"\",\"\",入力欄!H80)","v":""},null,null,{"$f":"IF(入力欄!I80=\"\",\"\",入力欄!I80)","v":""},null,null,{"$f":"IF(入力欄!J80=\"\",\"\",入力欄!J80)","v":""},null,null,{"$f":"IF(入力欄!K80=\"\",\"\",入力欄!K80)","v":""},{"$f":"IF(入力欄!L80=\"\",\"\",入力欄!L80)","v":""},null,null,null,null,null,{"$f":"IF(入力欄!M80=\"\",\"\",入力欄!M80)","v":""},{"$f":"IF(入力欄!N80=\"\",\"\",入力欄!N80)","v":""}]
[null,6,{"$f":"IF(入力欄!E81=\"\",\"\",入力欄!E81)","v":""},null,{"$f":"IF(入力欄!F81=\"\",\"\",入力欄!F81)","v":""},null,null,null,{"$f":"IF(入力欄!G81=\"\",\"\",入力欄!G81)","v":""},null,null,{"$f":"IF(入力欄!H81=\"\",\"\",入力欄!H81)","v":""},null,null,{"$f":"IF(入力欄!I81=\"\",\"\",入力欄!I81)","v":""},null,null,{"$f":"IF(入力欄!J81=\"\",\"\",入力欄!J81)","v":""},null,null,{"$f":"IF(入力欄!K81=\"\",\"\",入力欄!K81)","v":""},{"$f":"IF(入力欄!L81=\"\",\"\",入力欄!L81)","v":""},null,null,null,null,null,{"$f":"IF(入力欄!M81=\"\",\"\",入力欄!M81)","v":""},{"$f":"IF(入力欄!N81=\"\",\"\",入力欄!N81)","v":""}]
[null,7,{"$f":"IF(入力欄!E82=\"\",\"\",入力欄!E82)","v":""},null,{"$f":"IF(入力欄!F82=\"\",\"\",入力欄!F82)","v":""},null,null,null,{"$f":"IF(入力欄!G82=\"\",\"\",入力欄!G82)","v":""},null,null,{"$f":"IF(入力欄!H82=\"\",\"\",入力欄!H82)","v":""},null,null,{"$f":"IF(入力欄!I82=\"\",\"\",入力欄!I82)","v":""},null,null,{"$f":"IF(入力欄!J82=\"\",\"\",入力欄!J82)","v":""},null,null,{"$f":"IF(入力欄!K82=\"\",\"\",入力欄!K82)","v":""},{"$f":"IF(入力欄!L82=\"\",\"\",入力欄!L82)","v":""},null,null,null,null,null,{"$f":"IF(入力欄!M82=\"\",\"\",入力欄!M82)","v":""},{"$f":"IF(入力欄!N82=\"\",\"\",入力欄!N82)","v":""}]
[null,8,{"$f":"IF(入力欄!E83=\"\",\"\",入力欄!E83)","v":""},null,{"$f":"IF(入力欄!F83=\"\",\"\",入力欄!F83)","v":""},null,null,null,{"$f":"IF(入力欄!G83=\"\",\"\",入力欄!G83)","v":""},null,null,{"$f":"IF(入力欄!H83=\"\",\"\",入力欄!H83)","v":""},null,null,{"$f":"IF(入力欄!I83=\"\",\"\",入力欄!I83)","v":""},null,null,{"$f":"IF(入力欄!J83=\"\",\"\",入力欄!J83)","v":""},null,null,{"$f":"IF(入力欄!K83=\"\",\"\",入力欄!K83)","v":""},{"$f":"IF(入力欄!L83=\"\",\"\",入力欄!L83)","v":""},null,null,null,null,null,{"$f":"IF(入力欄!M83=\"\",\"\",入力欄!M83)","v":""},{"$f":"IF(入力欄!N83=\"\",\"\",入力欄!N83)","v":""}]
[null,9,{"$f":"IF(入力欄!E84=\"\",\"\",入力欄!E84)","v":""},null,{"$f":"IF(入力欄!F84=\"\",\"\",入力欄!F84)","v":""},null,null,null,{"$f":"IF(入力欄!G84=\"\",\"\",入力欄!G84)","v":""},null,null,{"$f":"IF(入力欄!H84=\"\",\"\",入力欄!H84)","v":""},null,null,{"$f":"IF(入力欄!I84=\"\",\"\",入力欄!I84)","v":""},null,null,{"$f":"IF(入力欄!J84=\"\",\"\",入力欄!J84)","v":""},null,null,{"$f":"IF(入力欄!K84=\"\",\"\",入力欄!K84)","v":""},{"$f":"IF(入力欄!L84=\"\",\"\",入力欄!L84)","v":""},null,null,null,null,null,{"$f":"IF(入力欄!M84=\"\",\"\",入力欄!M84)","v":""},{"$f":"IF(入力欄!N84=\"\",\"\",入力欄!N84)","v":""}]
[null,10,{"$f":"IF(入力欄!E85=\"\",\"\",入力欄!E85)","v":""},null,{"$f":"IF(入力欄!F85=\"\",\"\",入力欄!F85)","v":""},null,null,null,{"$f":"IF(入力欄!G85=\"\",\"\",入力欄!G85)","v":""},null,null,{"$f":"IF(入力欄!H85=\"\",\"\",入力欄!H85)","v":""},null,null,{"$f":"IF(入力欄!I85=\"\",\"\",入力欄!I85)","v":""},null,null,{"$f":"IF(入力欄!J85=\"\",\"\",入力欄!J85)","v":""},null,null,{"$f":"IF(入力欄!K85=\"\",\"\",入力欄!K85)","v":""},{"$f":"IF(入力欄!L85=\"\",\"\",入力欄!L85)","v":""},null,null,null,null,null,{"$f":"IF(入力欄!M85=\"\",\"\",入力欄!M85)","v":""},{"$f":"IF(入力欄!N85=\"\",\"\",入力欄!N85)","v":""}]
[{"$f":"IF(入力欄!C86=\"\",\"\",入力欄!C86)","v":""},1,{"$f":"IF(入力欄!E86=\"\",\"\",入力欄!E86)","v":""},null,{"$f":"IF(入力欄!F86=\"\",\"\",入力欄!F86)","v":""},null,null,null,{"$f":"IF(入力欄!G86=\"\",\"\",入力欄!G86)","v":""},null,null,{"$f":"IF(入力欄!H86=\"\",\"\",入力欄!H86)","v":""},null,null,{"$f":"IF(入力欄!I86=\"\",\"\",入力欄!I86)","v":""},null,null,{"$f":"IF(入力欄!J86=\"\",\"\",入力欄!J86)","v":""},null,null,{"$f":"IF(入力欄!K86=\"\",\"\",入力欄!K86)","v":""},{"$f":"IF(入力欄!L86=\"\",\"\",入力欄!L86)","v":""},null,null,null,null,null,{"$f":"IF(入力欄!M86=\"\",\"\",入力欄!M86)","v":""},{"$f":"IF(入力欄!N86=\"\",\"\",入力欄!N86)","v":""}]
[null,2,{"$f":"IF(入力欄!E87=\"\",\"\",入力欄!E87)","v":""},null,{"$f":"IF(入力欄!F87=\"\",\"\",入力欄!F87)","v":""},null,null,null,{"$f":"IF(入力欄!G87=\"\",\"\",入力欄!G87)","v":""},null,null,{"$f":"IF(入力欄!H87=\"\",\"\",入力欄!H87)","v":""},null,null,{"$f":"IF(入力欄!I87=\"\",\"\",入力欄!I87)","v":""},null,null,{"$f":"IF(入力欄!J87=\"\",\"\",入力欄!J87)","v":""},null,null,{"$f":"IF(入力欄!K87=\"\",\"\",入力欄!K87)","v":""},{"$f":"IF(入力欄!L87=\"\",\"\",入力欄!L87)","v":""},null,null,null,null,null,{"$f":"IF(入力欄!M87=\"\",\"\",入力欄!M87)","v":""},{"$f":"IF(入力欄!N87=\"\",\"\",入力欄!N87)","v":""}]
[null,3,{"$f":"IF(入力欄!E88=\"\",\"\",入力欄!E88)","v":""},null,{"$f":"IF(入力欄!F88=\"\",\"\",入力欄!F88)","v":""},null,null,null,{"$f":"IF(入力欄!G88=\"\",\"\",入力欄!G88)","v":""},null,null,{"$f":"IF(入力欄!H88=\"\",\"\",入力欄!H88)","v":""},null,null,{"$f":"IF(入力欄!I88=\"\",\"\",入力欄!I88)","v":""},null,null,{"$f":"IF(入力欄!J88=\"\",\"\",入力欄!J88)","v":""},null,null,{"$f":"IF(入力欄!K88=\"\",\"\",入力欄!K88)","v":""},{"$f":"IF(入力欄!L88=\"\",\"\",入力欄!L88)","v":""},null,null,null,null,null,{"$f":"IF(入力欄!M88=\"\",\"\",入力欄!M88)","v":""},{"$f":"IF(入力欄!N88=\"\",\"\",入力欄!N88)","v":""}]
[null,4,{"$f":"IF(入力欄!E89=\"\",\"\",入力欄!E89)","v":""},null,{"$f":"IF(入力欄!F89=\"\",\"\",入力欄!F89)","v":""},null,null,null,{"$f":"IF(入力欄!G89=\"\",\"\",入力欄!G89)","v":""},null,null,{"$f":"IF(入力欄!H89=\"\",\"\",入力欄!H89)","v":""},null,null,{"$f":"IF(入力欄!I89=\"\",\"\",入力欄!I89)","v":""},null,null,{"$f":"IF(入力欄!J89=\"\",\"\",入力欄!J89)","v":""},null,null,{"$f":"IF(入力欄!K89=\"\",\"\",入力欄!K89)","v":""},{"$f":"IF(入力欄!L89=\"\",\"\",入力欄!L89)","v":""},null,null,null,null,null,{"$f":"IF(入力欄!M89=\"\",\"\",入力欄!M89)","v":""},{"$f":"IF(入力欄!N89=\"\",\"\",入力欄!N89)","v":""}]
[null,5,{"$f":"IF(入力欄!E90=\"\",\"\",入力欄!E90)","v":""},null,{"$f":"IF(入力欄!F90=\"\",\"\",入力欄!F90)","v":""},null,null,null,{"$f":"IF(入力欄!G90=\"\",\"\",入力欄!G90)","v":""},null,null,{"$f":"IF(入力欄!H90=\"\",\"\",入力欄!H90)","v":""},null,null,{"$f":"IF(入力欄!I90=\"\",\"\",入力欄!I90)","v":""},null,null,{"$f":"IF(入力欄!J90=\"\",\"\",入力欄!J90)","v":""},null,null,{"$f":"IF(入力欄!K90=\"\",\"\",入力欄!K90)","v":""},{"$f":"IF(入力欄!L90=\"\",\"\",入力欄!L90)","v":""},null,null,null,null,null,{"$f":"IF(入力欄!M90=\"\",\"\",入力欄!M90)","v":""},{"$f":"IF(入力欄!N90=\"\",\"\",入力欄!N90)","v":""}]
[null,6,{"$f":"IF(入力欄!E91=\"\",\"\",入力欄!E91)","v":""},null,{"$f":"IF(入力欄!F91=\"\",\"\",入力欄!F91)","v":""},null,null,null,{"$f":"IF(入力欄!G91=\"\",\"\",入力欄!G91)","v":""},null,null,{"$f":"IF(入力欄!H91=\"\",\"\",入力欄!H91)","v":""},null,null,{"$f":"IF(入力欄!I91=\"\",\"\",入力欄!I91)","v":""},null,null,{"$f":"IF(入力欄!J91=\"\",\"\",入力欄!J91)","v":""},null,null,{"$f":"IF(入力欄!K91=\"\",\"\",入力欄!K91)","v":""},{"$f":"IF(入力欄!L91=\"\",\"\",入力欄!L91)","v":""},null,null,null,null,null,{"$f":"IF(入力欄!M91=\"\",\"\",入力欄!M91)","v":""},{"$f":"IF(入力欄!N91=\"\",\"\",入力欄!N91)","v":""}]
[null,7,{"$f":"IF(入力欄!E92=\"\",\"\",入力欄!E92)","v":""},null,{"$f":"IF(入力欄!F92=\"\",\"\",入力欄!F92)","v":""},null,null,null,{"$f":"IF(入力欄!G92=\"\",\"\",入力欄!G92)","v":""},null,null,{"$f":"IF(入力欄!H92=\"\",\"\",入力欄!H92)","v":""},null,null,{"$f":"IF(入力欄!I92=\"\",\"\",入力欄!I92)","v":""},null,null,{"$f":"IF(入力欄!J92=\"\",\"\",入力欄!J92)","v":""},null,null,{"$f":"IF(入力欄!K92=\"\",\"\",入力欄!K92)","v":""},{"$f":"IF(入力欄!L92=\"\",\"\",入力欄!L92)","v":""},null,null,null,null,null,{"$f":"IF(入力欄!M92=\"\",\"\",入力欄!M92)","v":""},{"$f":"IF(入力欄!N92=\"\",\"\",入力欄!N92)","v":""}]
[null,8,{"$f":"IF(入力欄!E93=\"\",\"\",入力欄!E93)","v":""},null,{"$f":"IF(入力欄!F93=\"\",\"\",入力欄!F93)","v":""},null,null,null,{"$f":"IF(入力欄!G93=\"\",\"\",入力欄!G93)","v":""},null,null,{"$f":"IF(入力欄!H93=\"\",\"\",入力欄!H93)","v":""},null,null,{"$f":"IF(入力欄!I93=\"\",\"\",入力欄!I93)","v":""},null,null,{"$f":"IF(入力欄!J93=\"\",\"\",入力欄!J93)","v":""},null,null,{"$f":"IF(入力欄!K93=\"\",\"\",入力欄!K93)","v":""},{"$f":"IF(入力欄!L93=\"\",\"\",入力欄!L93)","v":""},null,null,null,null,null,{"$f":"IF(入力欄!M93=\"\",\"\",入力欄!M93)","v":""},{"$f":"IF(入力欄!N93=\"\",\"\",入力欄!N93)","v":""}]
[null,9,{"$f":"IF(入力欄!E94=\"\",\"\",入力欄!E94)","v":""},null,{"$f":"IF(入力欄!F94=\"\",\"\",入力欄!F94)","v":""},null,null,null,{"$f":"IF(入力欄!G94=\"\",\"\",入力欄!G94)","v":""},null,null,{"$f":"IF(入力欄!H94=\"\",\"\",入力欄!H94)","v":""},null,null,{"$f":"IF(入力欄!I94=\"\",\"\",入力欄!I94)","v":""},null,null,{"$f":"IF(入力欄!J94=\"\",\"\",入力欄!J94)","v":""},null,null,{"$f":"IF(入力欄!K94=\"\",\"\",入力欄!K94)","v":""},{"$f":"IF(入力欄!L94=\"\",\"\",入力欄!L94)","v":""},null,null,null,null,null,{"$f":"IF(入力欄!M94=\"\",\"\",入力欄!M94)","v":""},{"$f":"IF(入力欄!N94=\"\",\"\",入力欄!N94)","v":""}]
[null,10,{"$f":"IF(入力欄!E95=\"\",\"\",入力欄!E95)","v":""},null,{"$f":"IF(入力欄!F95=\"\",\"\",入力欄!F95)","v":""},null,null,null,{"$f":"IF(入力欄!G95=\"\",\"\",入力欄!G95)","v":""},null,null,{"$f":"IF(入力欄!H95=\"\",\"\",入力欄!H95)","v":""},null,null,{"$f":"IF(入力欄!I95=\"\",\"\",入力欄!I95)","v":""},null,null,{"$f":"IF(入力欄!J95=\"\",\"\",入力欄!J95)","v":""},null,null,{"$f":"IF(入力欄!K95=\"\",\"\",入力欄!K95)","v":""},{"$f":"IF(入力欄!L95=\"\",\"\",入力欄!L95)","v":""},null,null,null,null,null,{"$f":"IF(入力欄!M95=\"\",\"\",入力欄!M95)","v":""},{"$f":"IF(入力欄!N95=\"\",\"\",入力欄!N95)","v":""}]
[{"$f":"IF(入力欄!C96=\"\",\"\",入力欄!C96)","v":""},1,{"$f":"IF(入力欄!E96=\"\",\"\",入力欄!E96)","v":""},null,{"$f":"IF(入力欄!F96=\"\",\"\",入力欄!F96)","v":""},null,null,null,{"$f":"IF(入力欄!G96=\"\",\"\",入力欄!G96)","v":""},null,null,{"$f":"IF(入力欄!H96=\"\",\"\",入力欄!H96)","v":""},null,null,{"$f":"IF(入力欄!I96=\"\",\"\",入力欄!I96)","v":""},null,null,{"$f":"IF(入力欄!J96=\"\",\"\",入力欄!J96)","v":""},null,null,{"$f":"IF(入力欄!K96=\"\",\"\",入力欄!K96)","v":""},{"$f":"IF(入力欄!L96=\"\",\"\",入力欄!L96)","v":""},null,null,null,null,null,{"$f":"IF(入力欄!M96=\"\",\"\",入力欄!M96)","v":""},{"$f":"IF(入力欄!N96=\"\",\"\",入力欄!N96)","v":""}]
[null,2,{"$f":"IF(入力欄!E97=\"\",\"\",入力欄!E97)","v":""},null,{"$f":"IF(入力欄!F97=\"\",\"\",入力欄!F97)","v":""},null,null,null,{"$f":"IF(入力欄!G97=\"\",\"\",入力欄!G97)","v":""},null,null,{"$f":"IF(入力欄!H97=\"\",\"\",入力欄!H97)","v":""},null,null,{"$f":"IF(入力欄!I97=\"\",\"\",入力欄!I97)","v":""},null,null,{"$f":"IF(入力欄!J97=\"\",\"\",入力欄!J97)","v":""},null,null,{"$f":"IF(入力欄!K97=\"\",\"\",入力欄!K97)","v":""},{"$f":"IF(入力欄!L97=\"\",\"\",入力欄!L97)","v":""},null,null,null,null,null,{"$f":"IF(入力欄!M97=\"\",\"\",入力欄!M97)","v":""},{"$f":"IF(入力欄!N97=\"\",\"\",入力欄!N97)","v":""}]
[null,3,{"$f":"IF(入力欄!E98=\"\",\"\",入力欄!E98)","v":""},null,{"$f":"IF(入力欄!F98=\"\",\"\",入力欄!F98)","v":""},null,null,null,{"$f":"IF(入力欄!G98=\"\",\"\",入力欄!G98)","v":""},null,null,{"$f":"IF(入力欄!H98=\"\",\"\",入力欄!H98)","v":""},null,null,{"$f":"IF(入力欄!I98=\"\",\"\",入力欄!I98)","v":""},null,null,{"$f":"IF(入力欄!J98=\"\",\"\",入力欄!J98)","v":""},null,null,{"$f":"IF(入力欄!K98=\"\",\"\",入力欄!K98)","v":""},{"$f":"IF(入力欄!L98=\"\",\"\",入力欄!L98)","v":""},null,null,null,null,null,{"$f":"IF(入力欄!M98=\"\",\"\",入力欄!M98)","v":""},{"$f":"IF(入力欄!N98=\"\",\"\",入力欄!N98)","v":""}]
[null,4,{"$f":"IF(入力欄!E99=\"\",\"\",入力欄!E99)","v":""},null,{"$f":"IF(入力欄!F99=\"\",\"\",入力欄!F99)","v":""},null,null,null,{"$f":"IF(入力欄!G99=\"\",\"\",入力欄!G99)","v":""},null,null,{"$f":"IF(入力欄!H99=\"\",\"\",入力欄!H99)","v":""},null,null,{"$f":"IF(入力欄!I99=\"\",\"\",入力欄!I99)","v":""},null,null,{"$f":"IF(入力欄!J99=\"\",\"\",入力欄!J99)","v":""},null,null,{"$f":"IF(入力欄!K99=\"\",\"\",入力欄!K99)","v":""},{"$f":"IF(入力欄!L99=\"\",\"\",入力欄!L99)","v":""},null,null,null,null,null,{"$f":"IF(入力欄!M99=\"\",\"\",入力欄!M99)","v":""},{"$f":"IF(入力欄!N99=\"\",\"\",入力欄!N99)","v":""}]
[null,5,{"$f":"IF(入力欄!E100=\"\",\"\",入力欄!E100)","v":""},null,{"$f":"IF(入力欄!F100=\"\",\"\",入力欄!F100)","v":""},null,null,null,{"$f":"IF(入力欄!G100=\"\",\"\",入力欄!G100)","v":""},null,null,{"$f":"IF(入力欄!H100=\"\",\"\",入力欄!H100)","v":""},null,null,{"$f":"IF(入力欄!I100=\"\",\"\",入力欄!I100)","v":""},null,null,{"$f":"IF(入力欄!J100=\"\",\"\",入力欄!J100)","v":""},null,null,{"$f":"IF(入力欄!K100=\"\",\"\",入力欄!K100)","v":""},{"$f":"IF(入力欄!L100=\"\",\"\",入力欄!L100)","v":""},null,null,null,null,null,{"$f":"IF(入力欄!M100=\"\",\"\",入力欄!M100)","v":""},{"$f":"IF(入力欄!N100=\"\",\"\",入力欄!N100)","v":""}]
[null,6,{"$f":"IF(入力欄!E101=\"\",\"\",入力欄!E101)","v":""},null,{"$f":"IF(入力欄!F101=\"\",\"\",入力欄!F101)","v":""},null,null,null,{"$f":"IF(入力欄!G101=\"\",\"\",入力欄!G101)","v":""},null,null,{"$f":"IF(入力欄!H101=\"\",\"\",入力欄!H101)","v":""},null,null,{"$f":"IF(入力欄!I101=\"\",\"\",入力欄!I101)","v":""},null,null,{"$f":"IF(入力欄!J101=\"\",\"\",入力欄!J101)","v":""},null,null,{"$f":"IF(入力欄!K101=\"\",\"\",入力欄!K101)","v":""},{"$f":"IF(入力欄!L101=\"\",\"\",入力欄!L101)","v":""},null,null,null,null,null,{"$f":"IF(入力欄!M101=\"\",\"\",入力欄!M101)","v":""},{"$f":"IF(入力欄!N101=\"\",\"\",入力欄!N101)","v":""}]
[null,7,{"$f":"IF(入力欄!E102=\"\",\"\",入力欄!E102)","v":""},null,{"$f":"IF(入力欄!F102=\"\",\"\",入力欄!F102)","v":""},null,null,null,{"$f":"IF(入力欄!G102=\"\",\"\",入力欄!G102)","v":""},null,null,{"$f":"IF(入力欄!H102=\"\",\"\",入力欄!H102)","v":""},null,null,{"$f":"IF(入力欄!I102=\"\",\"\",入力欄!I102)","v":""},null,null,{"$f":"IF(入力欄!J102=\"\",\"\",入力欄!J102)","v":""},null,null,{"$f":"IF(入力欄!K102=\"\",\"\",入力欄!K102)","v":""},{"$f":"IF(入力欄!L102=\"\",\"\",入力欄!L102)","v":""},null,null,null,null,null,{"$f":"IF(入力欄!M102=\"\",\"\",入力欄!M102)","v":""},{"$f":"IF(入力欄!N102=\"\",\"\",入力欄!N102)","v":""}]
[null,8,{"$f":"IF(入力欄!E103=\"\",\"\",入力欄!E103)","v":""},null,{"$f":"IF(入力欄!F103=\"\",\"\",入力欄!F103)","v":""},null,null,null,{"$f":"IF(入力欄!G103=\"\",\"\",入力欄!G103)","v":""},null,null,{"$f":"IF(入力欄!H103=\"\",\"\",入力欄!H103)","v":""},null,null,{"$f":"IF(入力欄!I103=\"\",\"\",入力欄!I103)","v":""},null,null,{"$f":"IF(入力欄!J103=\"\",\"\",入力欄!J103)","v":""},null,null,{"$f":"IF(入力欄!K103=\"\",\"\",入力欄!K103)","v":""},{"$f":"IF(入力欄!L103=\"\",\"\",入力欄!L103)","v":""},null,null,null,null,null,{"$f":"IF(入力欄!M103=\"\",\"\",入力欄!M103)","v":""},{"$f":"IF(入力欄!N103=\"\",\"\",入力欄!N103)","v":""}]
[null,9,{"$f":"IF(入力欄!E104=\"\",\"\",入力欄!E104)","v":""},null,{"$f":"IF(入力欄!F104=\"\",\"\",入力欄!F104)","v":""},null,null,null,{"$f":"IF(入力欄!G104=\"\",\"\",入力欄!G104)","v":""},null,null,{"$f":"IF(入力欄!H104=\"\",\"\",入力欄!H104)","v":""},null,null,{"$f":"IF(入力欄!I104=\"\",\"\",入力欄!I104)","v":""},null,null,{"$f":"IF(入力欄!J104=\"\",\"\",入力欄!J104)","v":""},null,null,{"$f":"IF(入力欄!K104=\"\",\"\",入力欄!K104)","v":""},{"$f":"IF(入力欄!L104=\"\",\"\",入力欄!L104)","v":""},null,null,null,null,null,{"$f":"IF(入力欄!M104=\"\",\"\",入力欄!M104)","v":""},{"$f":"IF(入力欄!N104=\"\",\"\",入力欄!N104)","v":""}]
[null,10,{"$f":"IF(入力欄!E105=\"\",\"\",入力欄!E105)","v":""},null,{"$f":"IF(入力欄!F105=\"\",\"\",入力欄!F105)","v":""},null,null,null,{"$f":"IF(入力欄!G105=\"\",\"\",入力欄!G105)","v":""},null,null,{"$f":"IF(入力欄!H105=\"\",\"\",入力欄!H105)","v":""},null,null,{"$f":"IF(入力欄!I105=\"\",\"\",入力欄!I105)","v":""},null,null,{"$f":"IF(入力欄!J105=\"\",\"\",入力欄!J105)","v":""},null,null,{"$f":"IF(入力欄!K105=\"\",\"\",入力欄!K105)","v":""},{"$f":"IF(入力欄!L105=\"\",\"\",入力欄!L105)","v":""},null,null,null,null,null,{"$f":"IF(入力欄!M105=\"\",\"\",入力欄!M105)","v":""},{"$f":"IF(入力欄!N105=\"\",\"\",入力欄!N105)","v":""}]
[{"$f":"IF(入力欄!C106=\"\",\"\",入力欄!C106)","v":""},1,{"$f":"IF(入力欄!E106=\"\",\"\",入力欄!E106)","v":""},null,{"$f":"IF(入力欄!F106=\"\",\"\",入力欄!F106)","v":""},null,null,null,{"$f":"IF(入力欄!G106=\"\",\"\",入力欄!G106)","v":""},null,null,{"$f":"IF(入力欄!H106=\"\",\"\",入力欄!H106)","v":""},null,null,{"$f":"IF(入力欄!I106=\"\",\"\",入力欄!I106)","v":""},null,null,{"$f":"IF(入力欄!J106=\"\",\"\",入力欄!J106)","v":""},null,null,{"$f":"IF(入力欄!K106=\"\",\"\",入力欄!K106)","v":""},{"$f":"IF(入力欄!L106=\"\",\"\",入力欄!L106)","v":""},null,null,null,null,null,{"$f":"IF(入力欄!M106=\"\",\"\",入力欄!M106)","v":""},{"$f":"IF(入力欄!N106=\"\",\"\",入力欄!N106)","v":""}]
[null,2,{"$f":"IF(入力欄!E107=\"\",\"\",入力欄!E107)","v":""},null,{"$f":"IF(入力欄!F107=\"\",\"\",入力欄!F107)","v":""},null,null,null,{"$f":"IF(入力欄!G107=\"\",\"\",入力欄!G107)","v":""},null,null,{"$f":"IF(入力欄!H107=\"\",\"\",入力欄!H107)","v":""},null,null,{"$f":"IF(入力欄!I107=\"\",\"\",入力欄!I107)","v":""},null,null,{"$f":"IF(入力欄!J107=\"\",\"\",入力欄!J107)","v":""},null,null,{"$f":"IF(入力欄!K107=\"\",\"\",入力欄!K107)","v":""},{"$f":"IF(入力欄!L107=\"\",\"\",入力欄!L107)","v":""},null,null,null,null,null,{"$f":"IF(入力欄!M107=\"\",\"\",入力欄!M107)","v":""},{"$f":"IF(入力欄!N107=\"\",\"\",入力欄!N107)","v":""}]
[null,3,{"$f":"IF(入力欄!E108=\"\",\"\",入力欄!E108)","v":""},null,{"$f":"IF(入力欄!F108=\"\",\"\",入力欄!F108)","v":""},null,null,null,{"$f":"IF(入力欄!G108=\"\",\"\",入力欄!G108)","v":""},null,null,{"$f":"IF(入力欄!H108=\"\",\"\",入力欄!H108)","v":""},null,null,{"$f":"IF(入力欄!I108=\"\",\"\",入力欄!I108)","v":""},null,null,{"$f":"IF(入力欄!J108=\"\",\"\",入力欄!J108)","v":""},null,null,{"$f":"IF(入力欄!K108=\"\",\"\",入力欄!K108)","v":""},{"$f":"IF(入力欄!L108=\"\",\"\",入力欄!L108)","v":""},null,null,null,null,null,{"$f":"IF(入力欄!M108=\"\",\"\",入力欄!M108)","v":""},{"$f":"IF(入力欄!N108=\"\",\"\",入力欄!N108)","v":""}]
[null,4,{"$f":"IF(入力欄!E109=\"\",\"\",入力欄!E109)","v":""},null,{"$f":"IF(入力欄!F109=\"\",\"\",入力欄!F109)","v":""},null,null,null,{"$f":"IF(入力欄!G109=\"\",\"\",入力欄!G109)","v":""},null,null,{"$f":"IF(入力欄!H109=\"\",\"\",入力欄!H109)","v":""},null,null,{"$f":"IF(入力欄!I109=\"\",\"\",入力欄!I109)","v":""},null,null,{"$f":"IF(入力欄!J109=\"\",\"\",入力欄!J109)","v":""},null,null,{"$f":"IF(入力欄!K109=\"\",\"\",入力欄!K109)","v":""},{"$f":"IF(入力欄!L109=\"\",\"\",入力欄!L109)","v":""},null,null,null,null,null,{"$f":"IF(入力欄!M109=\"\",\"\",入力欄!M109)","v":""},{"$f":"IF(入力欄!N109=\"\",\"\",入力欄!N109)","v":""}]
[null,5,{"$f":"IF(入力欄!E110=\"\",\"\",入力欄!E110)","v":""},null,{"$f":"IF(入力欄!F110=\"\",\"\",入力欄!F110)","v":""},null,null,null,{"$f":"IF(入力欄!G110=\"\",\"\",入力欄!G110)","v":""},null,null,{"$f":"IF(入力欄!H110=\"\",\"\",入力欄!H110)","v":""},null,null,{"$f":"IF(入力欄!I110=\"\",\"\",入力欄!I110)","v":""},null,null,{"$f":"IF(入力欄!J110=\"\",\"\",入力欄!J110)","v":""},null,null,{"$f":"IF(入力欄!K110=\"\",\"\",入力欄!K110)","v":""},{"$f":"IF(入力欄!L110=\"\",\"\",入力欄!L110)","v":""},null,null,null,null,null,{"$f":"IF(入力欄!M110=\"\",\"\",入力欄!M110)","v":""},{"$f":"IF(入力欄!N110=\"\",\"\",入力欄!N110)","v":""}]
[null,6,{"$f":"IF(入力欄!E111=\"\",\"\",入力欄!E111)","v":""},null,{"$f":"IF(入力欄!F111=\"\",\"\",入力欄!F111)","v":""},null,null,null,{"$f":"IF(入力欄!G111=\"\",\"\",入力欄!G111)","v":""},null,null,{"$f":"IF(入力欄!H111=\"\",\"\",入力欄!H111)","v":""},null,null,{"$f":"IF(入力欄!I111=\"\",\"\",入力欄!I111)","v":""},null,null,{"$f":"IF(入力欄!J111=\"\",\"\",入力欄!J111)","v":""},null,null,{"$f":"IF(入力欄!K111=\"\",\"\",入力欄!K111)","v":""},{"$f":"IF(入力欄!L111=\"\",\"\",入力欄!L111)","v":""},null,null,null,null,null,{"$f":"IF(入力欄!M111=\"\",\"\",入力欄!M111)","v":""},{"$f":"IF(入力欄!N111=\"\",\"\",入力欄!N111)","v":""}]
[null,7,{"$f":"IF(入力欄!E112=\"\",\"\",入力欄!E112)","v":""},null,{"$f":"IF(入力欄!F112=\"\",\"\",入力欄!F112)","v":""},null,null,null,{"$f":"IF(入力欄!G112=\"\",\"\",入力欄!G112)","v":""},null,null,{"$f":"IF(入力欄!H112=\"\",\"\",入力欄!H112)","v":""},null,null,{"$f":"IF(入力欄!I112=\"\",\"\",入力欄!I112)","v":""},null,null,{"$f":"IF(入力欄!J112=\"\",\"\",入力欄!J112)","v":""},null,null,{"$f":"IF(入力欄!K112=\"\",\"\",入力欄!K112)","v":""},{"$f":"IF(入力欄!L112=\"\",\"\",入力欄!L112)","v":""},null,null,null,null,null,{"$f":"IF(入力欄!M112=\"\",\"\",入力欄!M112)","v":""},{"$f":"IF(入力欄!N112=\"\",\"\",入力欄!N112)","v":""}]
[null,8,{"$f":"IF(入力欄!E113=\"\",\"\",入力欄!E113)","v":""},null,{"$f":"IF(入力欄!F113=\"\",\"\",入力欄!F113)","v":""},null,null,null,{"$f":"IF(入力欄!G113=\"\",\"\",入力欄!G113)","v":""},null,null,{"$f":"IF(入力欄!H113=\"\",\"\",入力欄!H113)","v":""},null,null,{"$f":"IF(入力欄!I113=\"\",\"\",入力欄!I113)","v":""},null,null,{"$f":"IF(入力欄!J113=\"\",\"\",入力欄!J113)","v":""},null,null,{"$f":"IF(入力欄!K113=\"\",\"\",入力欄!K113)","v":""},{"$f":"IF(入力欄!L113=\"\",\"\",入力欄!L113)","v":""},null,null,null,null,null,{"$f":"IF(入力欄!M113=\"\",\"\",入力欄!M113)","v":""},{"$f":"IF(入力欄!N113=\"\",\"\",入力欄!N113)","v":""}]
[null,9,{"$f":"IF(入力欄!E114=\"\",\"\",入力欄!E114)","v":""},null,{"$f":"IF(入力欄!F114=\"\",\"\",入力欄!F114)","v":""},null,null,null,{"$f":"IF(入力欄!G114=\"\",\"\",入力欄!G114)","v":""},null,null,{"$f":"IF(入力欄!H114=\"\",\"\",入力欄!H114)","v":""},null,null,{"$f":"IF(入力欄!I114=\"\",\"\",入力欄!I114)","v":""},null,null,{"$f":"IF(入力欄!J114=\"\",\"\",入力欄!J114)","v":""},null,null,{"$f":"IF(入力欄!K114=\"\",\"\",入力欄!K114)","v":""},{"$f":"IF(入力欄!L114=\"\",\"\",入力欄!L114)","v":""},null,null,null,null,null,{"$f":"IF(入力欄!M114=\"\",\"\",入力欄!M114)","v":""},{"$f":"IF(入力欄!N114=\"\",\"\",入力欄!N114)","v":""}]
[null,10,{"$f":"IF(入力欄!E115=\"\",\"\",入力欄!E115)","v":""},null,{"$f":"IF(入力欄!F115=\"\",\"\",入力欄!F115)","v":""},null,null,null,{"$f":"IF(入力欄!G115=\"\",\"\",入力欄!G115)","v":""},null,null,{"$f":"IF(入力欄!H115=\"\",\"\",入力欄!H115)","v":""},null,null,{"$f":"IF(入力欄!I115=\"\",\"\",入力欄!I115)","v":""},null,null,{"$f":"IF(入力欄!J115=\"\",\"\",入力欄!J115)","v":""},null,null,{"$f":"IF(入力欄!K115=\"\",\"\",入力欄!K115)","v":""},{"$f":"IF(入力欄!L115=\"\",\"\",入力欄!L115)","v":""},null,null,null,null,null,{"$f":"IF(入力欄!M115=\"\",\"\",入力欄!M115)","v":""},{"$f":"IF(入力欄!N115=\"\",\"\",入力欄!N115)","v":""}]
[{"$f":"IF(入力欄!C116=\"\",\"\",入力欄!C116)","v":""},1,{"$f":"IF(入力欄!E116=\"\",\"\",入力欄!E116)","v":""},null,{"$f":"IF(入力欄!F116=\"\",\"\",入力欄!F116)","v":""},null,null,null,{"$f":"IF(入力欄!G116=\"\",\"\",入力欄!G116)","v":""},null,null,{"$f":"IF(入力欄!H116=\"\",\"\",入力欄!H116)","v":""},null,null,{"$f":"IF(入力欄!I116=\"\",\"\",入力欄!I116)","v":""},null,null,{"$f":"IF(入力欄!J116=\"\",\"\",入力欄!J116)","v":""},null,null,{"$f":"IF(入力欄!K116=\"\",\"\",入力欄!K116)","v":""},{"$f":"IF(入力欄!L116=\"\",\"\",入力欄!L116)","v":""},null,null,null,null,null,{"$f":"IF(入力欄!M116=\"\",\"\",入力欄!M116)","v":""},{"$f":"IF(入力欄!N116=\"\",\"\",入力欄!N116)","v":""}]
[null,2,{"$f":"IF(入力欄!E117=\"\",\"\",入力欄!E117)","v":""},null,{"$f":"IF(入力欄!F117=\"\",\"\",入力欄!F117)","v":""},null,null,null,{"$f":"IF(入力欄!G117=\"\",\"\",入力欄!G117)","v":""},null,null,{"$f":"IF(入力欄!H117=\"\",\"\",入力欄!H117)","v":""},null,null,{"$f":"IF(入力欄!I117=\"\",\"\",入力欄!I117)","v":""},null,null,{"$f":"IF(入力欄!J117=\"\",\"\",入力欄!J117)","v":""},null,null,{"$f":"IF(入力欄!K117=\"\",\"\",入力欄!K117)","v":""},{"$f":"IF(入力欄!L117=\"\",\"\",入力欄!L117)","v":""},null,null,null,null,null,{"$f":"IF(入力欄!M117=\"\",\"\",入力欄!M117)","v":""},{"$f":"IF(入力欄!N117=\"\",\"\",入力欄!N117)","v":""}]
[null,3,{"$f":"IF(入力欄!E118=\"\",\"\",入力欄!E118)","v":""},null,{"$f":"IF(入力欄!F118=\"\",\"\",入力欄!F118)","v":""},null,null,null,{"$f":"IF(入力欄!G118=\"\",\"\",入力欄!G118)","v":""},null,null,{"$f":"IF(入力欄!H118=\"\",\"\",入力欄!H118)","v":""},null,null,{"$f":"IF(入力欄!I118=\"\",\"\",入力欄!I118)","v":""},null,null,{"$f":"IF(入力欄!J118=\"\",\"\",入力欄!J118)","v":""},null,null,{"$f":"IF(入力欄!K118=\"\",\"\",入力欄!K118)","v":""},{"$f":"IF(入力欄!L118=\"\",\"\",入力欄!L118)","v":""},null,null,null,null,null,{"$f":"IF(入力欄!M118=\"\",\"\",入力欄!M118)","v":""},{"$f":"IF(入力欄!N118=\"\",\"\",入力欄!N118)","v":""}]
[null,4,{"$f":"IF(入力欄!E119=\"\",\"\",入力欄!E119)","v":""},null,{"$f":"IF(入力欄!F119=\"\",\"\",入力欄!F119)","v":""},null,null,null,{"$f":"IF(入力欄!G119=\"\",\"\",入力欄!G119)","v":""},null,null,{"$f":"IF(入力欄!H119=\"\",\"\",入力欄!H119)","v":""},null,null,{"$f":"IF(入力欄!I119=\"\",\"\",入力欄!I119)","v":""},null,null,{"$f":"IF(入力欄!J119=\"\",\"\",入力欄!J119)","v":""},null,null,{"$f":"IF(入力欄!K119=\"\",\"\",入力欄!K119)","v":""},{"$f":"IF(入力欄!L119=\"\",\"\",入力欄!L119)","v":""},null,null,null,null,null,{"$f":"IF(入力欄!M119=\"\",\"\",入力欄!M119)","v":""},{"$f":"IF(入力欄!N119=\"\",\"\",入力欄!N119)","v":""}]
[null,5,{"$f":"IF(入力欄!E120=\"\",\"\",入力欄!E120)","v":""},null,{"$f":"IF(入力欄!F120=\"\",\"\",入力欄!F120)","v":""},null,null,null,{"$f":"IF(入力欄!G120=\"\",\"\",入力欄!G120)","v":""},null,null,{"$f":"IF(入力欄!H120=\"\",\"\",入力欄!H120)","v":""},null,null,{"$f":"IF(入力欄!I120=\"\",\"\",入力欄!I120)","v":""},null,null,{"$f":"IF(入力欄!J120=\"\",\"\",入力欄!J120)","v":""},null,null,{"$f":"IF(入力欄!K120=\"\",\"\",入力欄!K120)","v":""},{"$f":"IF(入力欄!L120=\"\",\"\",入力欄!L120)","v":""},null,null,null,null,null,{"$f":"IF(入力欄!M120=\"\",\"\",入力欄!M120)","v":""},{"$f":"IF(入力欄!N120=\"\",\"\",入力欄!N120)","v":""}]
[null,6,{"$f":"IF(入力欄!E121=\"\",\"\",入力欄!E121)","v":""},null,{"$f":"IF(入力欄!F121=\"\",\"\",入力欄!F121)","v":""},null,null,null,{"$f":"IF(入力欄!G121=\"\",\"\",入力欄!G121)","v":""},null,null,{"$f":"IF(入力欄!H121=\"\",\"\",入力欄!H121)","v":""},null,null,{"$f":"IF(入力欄!I121=\"\",\"\",入力欄!I121)","v":""},null,null,{"$f":"IF(入力欄!J121=\"\",\"\",入力欄!J121)","v":""},null,null,{"$f":"IF(入力欄!K121=\"\",\"\",入力欄!K121)","v":""},{"$f":"IF(入力欄!L121=\"\",\"\",入力欄!L121)","v":""},null,null,null,null,null,{"$f":"IF(入力欄!M121=\"\",\"\",入力欄!M121)","v":""},{"$f":"IF(入力欄!N121=\"\",\"\",入力欄!N121)","v":""}]
[null,7,{"$f":"IF(入力欄!E122=\"\",\"\",入力欄!E122)","v":""},null,{"$f":"IF(入力欄!F122=\"\",\"\",入力欄!F122)","v":""},null,null,null,{"$f":"IF(入力欄!G122=\"\",\"\",入力欄!G122)","v":""},null,null,{"$f":"IF(入力欄!H122=\"\",\"\",入力欄!H122)","v":""},null,null,{"$f":"IF(入力欄!I122=\"\",\"\",入力欄!I122)","v":""},null,null,{"$f":"IF(入力欄!J122=\"\",\"\",入力欄!J122)","v":""},null,null,{"$f":"IF(入力欄!K122=\"\",\"\",入力欄!K122)","v":""},{"$f":"IF(入力欄!L122=\"\",\"\",入力欄!L122)","v":""},null,null,null,null,null,{"$f":"IF(入力欄!M122=\"\",\"\",入力欄!M122)","v":""},{"$f":"IF(入力欄!N122=\"\",\"\",入力欄!N122)","v":""}]
[null,8,{"$f":"IF(入力欄!E123=\"\",\"\",入力欄!E123)","v":""},null,{"$f":"IF(入力欄!F123=\"\",\"\",入力欄!F123)","v":""},null,null,null,{"$f":"IF(入力欄!G123=\"\",\"\",入力欄!G123)","v":""},null,null,{"$f":"IF(入力欄!H123=\"\",\"\",入力欄!H123)","v":""},null,null,{"$f":"IF(入力欄!I123=\"\",\"\",入力欄!I123)","v":""},null,null,{"$f":"IF(入力欄!J123=\"\",\"\",入力欄!J123)","v":""},null,null,{"$f":"IF(入力欄!K123=\"\",\"\",入力欄!K123)","v":""},{"$f":"IF(入力欄!L123=\"\",\"\",入力欄!L123)","v":""},null,null,null,null,null,{"$f":"IF(入力欄!M123=\"\",\"\",入力欄!M123)","v":""},{"$f":"IF(入力欄!N123=\"\",\"\",入力欄!N123)","v":""}]
[null,9,{"$f":"IF(入力欄!E124=\"\",\"\",入力欄!E124)","v":""},null,{"$f":"IF(入力欄!F124=\"\",\"\",入力欄!F124)","v":""},null,null,null,{"$f":"IF(入力欄!G124=\"\",\"\",入力欄!G124)","v":""},null,null,{"$f":"IF(入力欄!H124=\"\",\"\",入力欄!H124)","v":""},null,null,{"$f":"IF(入力欄!I124=\"\",\"\",入力欄!I124)","v":""},null,null,{"$f":"IF(入力欄!J124=\"\",\"\",入力欄!J124)","v":""},null,null,{"$f":"IF(入力欄!K124=\"\",\"\",入力欄!K124)","v":""},{"$f":"IF(入力欄!L124=\"\",\"\",入力欄!L124)","v":""},null,null,null,null,null,{"$f":"IF(入力欄!M124=\"\",\"\",入力欄!M124)","v":""},{"$f":"IF(入力欄!N124=\"\",\"\",入力欄!N124)","v":""}]
[null,10,{"$f":"IF(入力欄!E125=\"\",\"\",入力欄!E125)","v":""},null,{"$f":"IF(入力欄!F125=\"\",\"\",入力欄!F125)","v":""},null,null,null,{"$f":"IF(入力欄!G125=\"\",\"\",入力欄!G125)","v":""},null,null,{"$f":"IF(入力欄!H125=\"\",\"\",入力欄!H125)","v":""},null,null,{"$f":"IF(入力欄!I125=\"\",\"\",入力欄!I125)","v":""},null,null,{"$f":"IF(入力欄!J125=\"\",\"\",入力欄!J125)","v":""},null,null,{"$f":"IF(入力欄!K125=\"\",\"\",入力欄!K125)","v":""},{"$f":"IF(入力欄!L125=\"\",\"\",入力欄!L125)","v":""},null,null,null,null,null,{"$f":"IF(入力欄!M125=\"\",\"\",入力欄!M125)","v":""},{"$f":"IF(入力欄!N125=\"\",\"\",入力欄!N125)","v":""}]
[{"$f":"IF(入力欄!C126=\"\",\"\",入力欄!C126)","v":""},1,{"$f":"IF(入力欄!E126=\"\",\"\",入力欄!E126)","v":""},null,{"$f":"IF(入力欄!F126=\"\",\"\",入力欄!F126)","v":""},null,null,null,{"$f":"IF(入力欄!G126=\"\",\"\",入力欄!G126)","v":""},null,null,{"$f":"IF(入力欄!H126=\"\",\"\",入力欄!H126)","v":""},null,null,{"$f":"IF(入力欄!I126=\"\",\"\",入力欄!I126)","v":""},null,null,{"$f":"IF(入力欄!J126=\"\",\"\",入力欄!J126)","v":""},null,null,{"$f":"IF(入力欄!K126=\"\",\"\",入力欄!K126)","v":""},{"$f":"IF(入力欄!L126=\"\",\"\",入力欄!L126)","v":""},null,null,null,null,null,{"$f":"IF(入力欄!M126=\"\",\"\",入力欄!M126)","v":""},{"$f":"IF(入力欄!N126=\"\",\"\",入力欄!N126)","v":""}]
[null,2,{"$f":"IF(入力欄!E127=\"\",\"\",入力欄!E127)","v":""},null,{"$f":"IF(入力欄!F127=\"\",\"\",入力欄!F127)","v":""},null,null,null,{"$f":"IF(入力欄!G127=\"\",\"\",入力欄!G127)","v":""},null,null,{"$f":"IF(入力欄!H127=\"\",\"\",入力欄!H127)","v":""},null,null,{"$f":"IF(入力欄!I127=\"\",\"\",入力欄!I127)","v":""},null,null,{"$f":"IF(入力欄!J127=\"\",\"\",入力欄!J127)","v":""},null,null,{"$f":"IF(入力欄!K127=\"\",\"\",入力欄!K127)","v":""},{"$f":"IF(入力欄!L127=\"\",\"\",入力欄!L127)","v":""},null,null,null,null,null,{"$f":"IF(入力欄!M127=\"\",\"\",入力欄!M127)","v":""},{"$f":"IF(入力欄!N127=\"\",\"\",入力欄!N127)","v":""}]
[null,3,{"$f":"IF(入力欄!E128=\"\",\"\",入力欄!E128)","v":""},null,{"$f":"IF(入力欄!F128=\"\",\"\",入力欄!F128)","v":""},null,null,null,{"$f":"IF(入力欄!G128=\"\",\"\",入力欄!G128)","v":""},null,null,{"$f":"IF(入力欄!H128=\"\",\"\",入力欄!H128)","v":""},null,null,{"$f":"IF(入力欄!I128=\"\",\"\",入力欄!I128)","v":""},null,null,{"$f":"IF(入力欄!J128=\"\",\"\",入力欄!J128)","v":""},null,null,{"$f":"IF(入力欄!K128=\"\",\"\",入力欄!K128)","v":""},{"$f":"IF(入力欄!L128=\"\",\"\",入力欄!L128)","v":""},null,null,null,null,null,{"$f":"IF(入力欄!M128=\"\",\"\",入力欄!M128)","v":""},{"$f":"IF(入力欄!N128=\"\",\"\",入力欄!N128)","v":""}]
[null,4,{"$f":"IF(入力欄!E129=\"\",\"\",入力欄!E129)","v":""},null,{"$f":"IF(入力欄!F129=\"\",\"\",入力欄!F129)","v":""},null,null,null,{"$f":"IF(入力欄!G129=\"\",\"\",入力欄!G129)","v":""},null,null,{"$f":"IF(入力欄!H129=\"\",\"\",入力欄!H129)","v":""},null,null,{"$f":"IF(入力欄!I129=\"\",\"\",入力欄!I129)","v":""},null,null,{"$f":"IF(入力欄!J129=\"\",\"\",入力欄!J129)","v":""},null,null,{"$f":"IF(入力欄!K129=\"\",\"\",入力欄!K129)","v":""},{"$f":"IF(入力欄!L129=\"\",\"\",入力欄!L129)","v":""},null,null,null,null,null,{"$f":"IF(入力欄!M129=\"\",\"\",入力欄!M129)","v":""},{"$f":"IF(入力欄!N129=\"\",\"\",入力欄!N129)","v":""}]
[null,5,{"$f":"IF(入力欄!E130=\"\",\"\",入力欄!E130)","v":""},null,{"$f":"IF(入力欄!F130=\"\",\"\",入力欄!F130)","v":""},null,null,null,{"$f":"IF(入力欄!G130=\"\",\"\",入力欄!G130)","v":""},null,null,{"$f":"IF(入力欄!H130=\"\",\"\",入力欄!H130)","v":""},null,null,{"$f":"IF(入力欄!I130=\"\",\"\",入力欄!I130)","v":""},null,null,{"$f":"IF(入力欄!J130=\"\",\"\",入力欄!J130)","v":""},null,null,{"$f":"IF(入力欄!K130=\"\",\"\",入力欄!K130)","v":""},{"$f":"IF(入力欄!L130=\"\",\"\",入力欄!L130)","v":""},null,null,null,null,null,{"$f":"IF(入力欄!M130=\"\",\"\",入力欄!M130)","v":""},{"$f":"IF(入力欄!N130=\"\",\"\",入力欄!N130)","v":""}]
[null,6,{"$f":"IF(入力欄!E131=\"\",\"\",入力欄!E131)","v":""},null,{"$f":"IF(入力欄!F131=\"\",\"\",入力欄!F131)","v":""},null,null,null,{"$f":"IF(入力欄!G131=\"\",\"\",入力欄!G131)","v":""},null,null,{"$f":"IF(入力欄!H131=\"\",\"\",入力欄!H131)","v":""},null,null,{"$f":"IF(入力欄!I131=\"\",\"\",入力欄!I131)","v":""},null,null,{"$f":"IF(入力欄!J131=\"\",\"\",入力欄!J131)","v":""},null,null,{"$f":"IF(入力欄!K131=\"\",\"\",入力欄!K131)","v":""},{"$f":"IF(入力欄!L131=\"\",\"\",入力欄!L131)","v":""},null,null,null,null,null,{"$f":"IF(入力欄!M131=\"\",\"\",入力欄!M131)","v":""},{"$f":"IF(入力欄!N131=\"\",\"\",入力欄!N131)","v":""}]
[null,7,{"$f":"IF(入力欄!E132=\"\",\"\",入力欄!E132)","v":""},null,{"$f":"IF(入力欄!F132=\"\",\"\",入力欄!F132)","v":""},null,null,null,{"$f":"IF(入力欄!G132=\"\",\"\",入力欄!G132)","v":""},null,null,{"$f":"IF(入力欄!H132=\"\",\"\",入力欄!H132)","v":""},null,null,{"$f":"IF(入力欄!I132=\"\",\"\",入力欄!I132)","v":""},null,null,{"$f":"IF(入力欄!J132=\"\",\"\",入力欄!J132)","v":""},null,null,{"$f":"IF(入力欄!K132=\"\",\"\",入力欄!K132)","v":""},{"$f":"IF(入力欄!L132=\"\",\"\",入力欄!L132)","v":""},null,null,null,null,null,{"$f":"IF(入力欄!M132=\"\",\"\",入力欄!M132)","v":""},{"$f":"IF(入力欄!N132=\"\",\"\",入力欄!N132)","v":""}]
[null,8,{"$f":"IF(入力欄!E133=\"\",\"\",入力欄!E133)","v":""},null,{"$f":"IF(入力欄!F133=\"\",\"\",入力欄!F133)","v":""},null,null,null,{"$f":"IF(入力欄!G133=\"\",\"\",入力欄!G133)","v":""},null,null,{"$f":"IF(入力欄!H133=\"\",\"\",入力欄!H133)","v":""},null,null,{"$f":"IF(入力欄!I133=\"\",\"\",入力欄!I133)","v":""},null,null,{"$f":"IF(入力欄!J133=\"\",\"\",入力欄!J133)","v":""},null,null,{"$f":"IF(入力欄!K133=\"\",\"\",入力欄!K133)","v":""},{"$f":"IF(入力欄!L133=\"\",\"\",入力欄!L133)","v":""},null,null,null,null,null,{"$f":"IF(入力欄!M133=\"\",\"\",入力欄!M133)","v":""},{"$f":"IF(入力欄!N133=\"\",\"\",入力欄!N133)","v":""}]
[null,9,{"$f":"IF(入力欄!E134=\"\",\"\",入力欄!E134)","v":""},null,{"$f":"IF(入力欄!F134=\"\",\"\",入力欄!F134)","v":""},null,null,null,{"$f":"IF(入力欄!G134=\"\",\"\",入力欄!G134)","v":""},null,null,{"$f":"IF(入力欄!H134=\"\",\"\",入力欄!H134)","v":""},null,null,{"$f":"IF(入力欄!I134=\"\",\"\",入力欄!I134)","v":""},null,null,{"$f":"IF(入力欄!J134=\"\",\"\",入力欄!J134)","v":""},null,null,{"$f":"IF(入力欄!K134=\"\",\"\",入力欄!K134)","v":""},{"$f":"IF(入力欄!L134=\"\",\"\",入力欄!L134)","v":""},null,null,null,null,null,{"$f":"IF(入力欄!M134=\"\",\"\",入力欄!M134)","v":""},{"$f":"IF(入力欄!N134=\"\",\"\",入力欄!N134)","v":""}]
[null,10,{"$f":"IF(入力欄!E135=\"\",\"\",入力欄!E135)","v":""},null,{"$f":"IF(入力欄!F135=\"\",\"\",入力欄!F135)","v":""},null,null,null,{"$f":"IF(入力欄!G135=\"\",\"\",入力欄!G135)","v":""},null,null,{"$f":"IF(入力欄!H135=\"\",\"\",入力欄!H135)","v":""},null,null,{"$f":"IF(入力欄!I135=\"\",\"\",入力欄!I135)","v":""},null,null,{"$f":"IF(入力欄!J135=\"\",\"\",入力欄!J135)","v":""},null,null,{"$f":"IF(入力欄!K135=\"\",\"\",入力欄!K135)","v":""},{"$f":"IF(入力欄!L135=\"\",\"\",入力欄!L135)","v":""},null,null,null,null,null,{"$f":"IF(入力欄!M135=\"\",\"\",入力欄!M135)","v":""},{"$f":"IF(入力欄!N135=\"\",\"\",入力欄!N135)","v":""}]
[{"$f":"IF(入力欄!C136=\"\",\"\",入力欄!C136)","v":""},1,{"$f":"IF(入力欄!E136=\"\",\"\",入力欄!E136)","v":""},null,{"$f":"IF(入力欄!F136=\"\",\"\",入力欄!F136)","v":""},null,null,null,{"$f":"IF(入力欄!G136=\"\",\"\",入力欄!G136)","v":""},null,null,{"$f":"IF(入力欄!H136=\"\",\"\",入力欄!H136)","v":""},null,null,{"$f":"IF(入力欄!I136=\"\",\"\",入力欄!I136)","v":""},null,null,{"$f":"IF(入力欄!J136=\"\",\"\",入力欄!J136)","v":""},null,null,{"$f":"IF(入力欄!K136=\"\",\"\",入力欄!K136)","v":""},{"$f":"IF(入力欄!L136=\"\",\"\",入力欄!L136)","v":""},null,null,null,null,null,{"$f":"IF(入力欄!M136=\"\",\"\",入力欄!M136)","v":""},{"$f":"IF(入力欄!N136=\"\",\"\",入力欄!N136)","v":""}]
[null,2,{"$f":"IF(入力欄!E137=\"\",\"\",入力欄!E137)","v":""},null,{"$f":"IF(入力欄!F137=\"\",\"\",入力欄!F137)","v":""},null,null,null,{"$f":"IF(入力欄!G137=\"\",\"\",入力欄!G137)","v":""},null,null,{"$f":"IF(入力欄!H137=\"\",\"\",入力欄!H137)","v":""},null,null,{"$f":"IF(入力欄!I137=\"\",\"\",入力欄!I137)","v":""},null,null,{"$f":"IF(入力欄!J137=\"\",\"\",入力欄!J137)","v":""},null,null,{"$f":"IF(入力欄!K137=\"\",\"\",入力欄!K137)","v":""},{"$f":"IF(入力欄!L137=\"\",\"\",入力欄!L137)","v":""},null,null,null,null,null,{"$f":"IF(入力欄!M137=\"\",\"\",入力欄!M137)","v":""},{"$f":"IF(入力欄!N137=\"\",\"\",入力欄!N137)","v":""}]
[null,3,{"$f":"IF(入力欄!E138=\"\",\"\",入力欄!E138)","v":""},null,{"$f":"IF(入力欄!F138=\"\",\"\",入力欄!F138)","v":""},null,null,null,{"$f":"IF(入力欄!G138=\"\",\"\",入力欄!G138)","v":""},null,null,{"$f":"IF(入力欄!H138=\"\",\"\",入力欄!H138)","v":""},null,null,{"$f":"IF(入力欄!I138=\"\",\"\",入力欄!I138)","v":""},null,null,{"$f":"IF(入力欄!J138=\"\",\"\",入力欄!J138)","v":""},null,null,{"$f":"IF(入力欄!K138=\"\",\"\",入力欄!K138)","v":""},{"$f":"IF(入力欄!L138=\"\",\"\",入力欄!L138)","v":""},null,null,null,null,null,{"$f":"IF(入力欄!M138=\"\",\"\",入力欄!M138)","v":""},{"$f":"IF(入力欄!N138=\"\",\"\",入力欄!N138)","v":""}]
[null,4,{"$f":"IF(入力欄!E139=\"\",\"\",入力欄!E139)","v":""},null,{"$f":"IF(入力欄!F139=\"\",\"\",入力欄!F139)","v":""},null,null,null,{"$f":"IF(入力欄!G139=\"\",\"\",入力欄!G139)","v":""},null,null,{"$f":"IF(入力欄!H139=\"\",\"\",入力欄!H139)","v":""},null,null,{"$f":"IF(入力欄!I139=\"\",\"\",入力欄!I139)","v":""},null,null,{"$f":"IF(入力欄!J139=\"\",\"\",入力欄!J139)","v":""},null,null,{"$f":"IF(入力欄!K139=\"\",\"\",入力欄!K139)","v":""},{"$f":"IF(入力欄!L139=\"\",\"\",入力欄!L139)","v":""},null,null,null,null,null,{"$f":"IF(入力欄!M139=\"\",\"\",入力欄!M139)","v":""},{"$f":"IF(入力欄!N139=\"\",\"\",入力欄!N139)","v":""}]
[null,5,{"$f":"IF(入力欄!E140=\"\",\"\",入力欄!E140)","v":""},null,{"$f":"IF(入力欄!F140=\"\",\"\",入力欄!F140)","v":""},null,null,null,{"$f":"IF(入力欄!G140=\"\",\"\",入力欄!G140)","v":""},null,null,{"$f":"IF(入力欄!H140=\"\",\"\",入力欄!H140)","v":""},null,null,{"$f":"IF(入力欄!I140=\"\",\"\",入力欄!I140)","v":""},null,null,{"$f":"IF(入力欄!J140=\"\",\"\",入力欄!J140)","v":""},null,null,{"$f":"IF(入力欄!K140=\"\",\"\",入力欄!K140)","v":""},{"$f":"IF(入力欄!L140=\"\",\"\",入力欄!L140)","v":""},null,null,null,null,null,{"$f":"IF(入力欄!M140=\"\",\"\",入力欄!M140)","v":""},{"$f":"IF(入力欄!N140=\"\",\"\",入力欄!N140)","v":""}]
[null,6,{"$f":"IF(入力欄!E141=\"\",\"\",入力欄!E141)","v":""},null,{"$f":"IF(入力欄!F141=\"\",\"\",入力欄!F141)","v":""},null,null,null,{"$f":"IF(入力欄!G141=\"\",\"\",入力欄!G141)","v":""},null,null,{"$f":"IF(入力欄!H141=\"\",\"\",入力欄!H141)","v":""},null,null,{"$f":"IF(入力欄!I141=\"\",\"\",入力欄!I141)","v":""},null,null,{"$f":"IF(入力欄!J141=\"\",\"\",入力欄!J141)","v":""},null,null,{"$f":"IF(入力欄!K141=\"\",\"\",入力欄!K141)","v":""},{"$f":"IF(入力欄!L141=\"\",\"\",入力欄!L141)","v":""},null,null,null,null,null,{"$f":"IF(入力欄!M141=\"\",\"\",入力欄!M141)","v":""},{"$f":"IF(入力欄!N141=\"\",\"\",入力欄!N141)","v":""}]
[null,7,{"$f":"IF(入力欄!E142=\"\",\"\",入力欄!E142)","v":""},null,{"$f":"IF(入力欄!F142=\"\",\"\",入力欄!F142)","v":""},null,null,null,{"$f":"IF(入力欄!G142=\"\",\"\",入力欄!G142)","v":""},null,null,{"$f":"IF(入力欄!H142=\"\",\"\",入力欄!H142)","v":""},null,null,{"$f":"IF(入力欄!I142=\"\",\"\",入力欄!I142)","v":""},null,null,{"$f":"IF(入力欄!J142=\"\",\"\",入力欄!J142)","v":""},null,null,{"$f":"IF(入力欄!K142=\"\",\"\",入力欄!K142)","v":""},{"$f":"IF(入力欄!L142=\"\",\"\",入力欄!L142)","v":""},null,null,null,null,null,{"$f":"IF(入力欄!M142=\"\",\"\",入力欄!M142)","v":""},{"$f":"IF(入力欄!N142=\"\",\"\",入力欄!N142)","v":""}]
[null,8,{"$f":"IF(入力欄!E143=\"\",\"\",入力欄!E143)","v":""},null,{"$f":"IF(入力欄!F143=\"\",\"\",入力欄!F143)","v":""},null,null,null,{"$f":"IF(入力欄!G143=\"\",\"\",入力欄!G143)","v":""},null,null,{"$f":"IF(入力欄!H143=\"\",\"\",入力欄!H143)","v":""},null,null,{"$f":"IF(入力欄!I143=\"\",\"\",入力欄!I143)","v":""},null,null,{"$f":"IF(入力欄!J143=\"\",\"\",入力欄!J143)","v":""},null,null,{"$f":"IF(入力欄!K143=\"\",\"\",入力欄!K143)","v":""},{"$f":"IF(入力欄!L143=\"\",\"\",入力欄!L143)","v":""},null,null,null,null,null,{"$f":"IF(入力欄!M143=\"\",\"\",入力欄!M143)","v":""},{"$f":"IF(入力欄!N143=\"\",\"\",入力欄!N143)","v":""}]
[null,9,{"$f":"IF(入力欄!E144=\"\",\"\",入力欄!E144)","v":""},null,{"$f":"IF(入力欄!F144=\"\",\"\",入力欄!F144)","v":""},null,null,null,{"$f":"IF(入力欄!G144=\"\",\"\",入力欄!G144)","v":""},null,null,{"$f":"IF(入力欄!H144=\"\",\"\",入力欄!H144)","v":""},null,null,{"$f":"IF(入力欄!I144=\"\",\"\",入力欄!I144)","v":""},null,null,{"$f":"IF(入力欄!J144=\"\",\"\",入力欄!J144)","v":""},null,null,{"$f":"IF(入力欄!K144=\"\",\"\",入力欄!K144)","v":""},{"$f":"IF(入力欄!L144=\"\",\"\",入力欄!L144)","v":""},null,null,null,null,null,{"$f":"IF(入力欄!M144=\"\",\"\",入力欄!M144)","v":""},{"$f":"IF(入力欄!N144=\"\",\"\",入力欄!N144)","v":""}]
[null,10,{"$f":"IF(入力欄!E145=\"\",\"\",入力欄!E145)","v":""},null,{"$f":"IF(入力欄!F145=\"\",\"\",入力欄!F145)","v":""},null,null,null,{"$f":"IF(入力欄!G145=\"\",\"\",入力欄!G145)","v":""},null,null,{"$f":"IF(入力欄!H145=\"\",\"\",入力欄!H145)","v":""},null,null,{"$f":"IF(入力欄!I145=\"\",\"\",入力欄!I145)","v":""},null,null,{"$f":"IF(入力欄!J145=\"\",\"\",入力欄!J145)","v":""},null,null,{"$f":"IF(入力欄!K145=\"\",\"\",入力欄!K145)","v":""},{"$f":"IF(入力欄!L145=\"\",\"\",入力欄!L145)","v":""},null,null,null,null,null,{"$f":"IF(入力欄!M145=\"\",\"\",入力欄!M145)","v":""},{"$f":"IF(入力欄!N145=\"\",\"\",入力欄!N145)","v":""}]
[{"$f":"IF(入力欄!C146=\"\",\"\",入力欄!C146)","v":""},1,{"$f":"IF(入力欄!E146=\"\",\"\",入力欄!E146)","v":""},null,{"$f":"IF(入力欄!F146=\"\",\"\",入力欄!F146)","v":""},null,null,null,{"$f":"IF(入力欄!G146=\"\",\"\",入力欄!G146)","v":""},null,null,{"$f":"IF(入力欄!H146=\"\",\"\",入力欄!H146)","v":""},null,null,{"$f":"IF(入力欄!I146=\"\",\"\",入力欄!I146)","v":""},null,null,{"$f":"IF(入力欄!J146=\"\",\"\",入力欄!J146)","v":""},null,null,{"$f":"IF(入力欄!K146=\"\",\"\",入力欄!K146)","v":""},{"$f":"IF(入力欄!L146=\"\",\"\",入力欄!L146)","v":""},null,null,null,null,null,{"$f":"IF(入力欄!M146=\"\",\"\",入力欄!M146)","v":""},{"$f":"IF(入力欄!N146=\"\",\"\",入力欄!N146)","v":""}]
[null,2,{"$f":"IF(入力欄!E147=\"\",\"\",入力欄!E147)","v":""},null,{"$f":"IF(入力欄!F147=\"\",\"\",入力欄!F147)","v":""},null,null,null,{"$f":"IF(入力欄!G147=\"\",\"\",入力欄!G147)","v":""},null,null,{"$f":"IF(入力欄!H147=\"\",\"\",入力欄!H147)","v":""},null,null,{"$f":"IF(入力欄!I147=\"\",\"\",入力欄!I147)","v":""},null,null,{"$f":"IF(入力欄!J147=\"\",\"\",入力欄!J147)","v":""},null,null,{"$f":"IF(入力欄!K147=\"\",\"\",入力欄!K147)","v":""},{"$f":"IF(入力欄!L147=\"\",\"\",入力欄!L147)","v":""},null,null,null,null,null,{"$f":"IF(入力欄!M147=\"\",\"\",入力欄!M147)","v":""},{"$f":"IF(入力欄!N147=\"\",\"\",入力欄!N147)","v":""}]
[null,3,{"$f":"IF(入力欄!E148=\"\",\"\",入力欄!E148)","v":""},null,{"$f":"IF(入力欄!F148=\"\",\"\",入力欄!F148)","v":""},null,null,null,{"$f":"IF(入力欄!G148=\"\",\"\",入力欄!G148)","v":""},null,null,{"$f":"IF(入力欄!H148=\"\",\"\",入力欄!H148)","v":""},null,null,{"$f":"IF(入力欄!I148=\"\",\"\",入力欄!I148)","v":""},null,null,{"$f":"IF(入力欄!J148=\"\",\"\",入力欄!J148)","v":""},null,null,{"$f":"IF(入力欄!K148=\"\",\"\",入力欄!K148)","v":""},{"$f":"IF(入力欄!L148=\"\",\"\",入力欄!L148)","v":""},null,null,null,null,null,{"$f":"IF(入力欄!M148=\"\",\"\",入力欄!M148)","v":""},{"$f":"IF(入力欄!N148=\"\",\"\",入力欄!N148)","v":""}]
[null,4,{"$f":"IF(入力欄!E149=\"\",\"\",入力欄!E149)","v":""},null,{"$f":"IF(入力欄!F149=\"\",\"\",入力欄!F149)","v":""},null,null,null,{"$f":"IF(入力欄!G149=\"\",\"\",入力欄!G149)","v":""},null,null,{"$f":"IF(入力欄!H149=\"\",\"\",入力欄!H149)","v":""},null,null,{"$f":"IF(入力欄!I149=\"\",\"\",入力欄!I149)","v":""},null,null,{"$f":"IF(入力欄!J149=\"\",\"\",入力欄!J149)","v":""},null,null,{"$f":"IF(入力欄!K149=\"\",\"\",入力欄!K149)","v":""},{"$f":"IF(入力欄!L149=\"\",\"\",入力欄!L149)","v":""},null,null,null,null,null,{"$f":"IF(入力欄!M149=\"\",\"\",入力欄!M149)","v":""},{"$f":"IF(入力欄!N149=\"\",\"\",入力欄!N149)","v":""}]
[null,5,{"$f":"IF(入力欄!E150=\"\",\"\",入力欄!E150)","v":""},null,{"$f":"IF(入力欄!F150=\"\",\"\",入力欄!F150)","v":""},null,null,null,{"$f":"IF(入力欄!G150=\"\",\"\",入力欄!G150)","v":""},null,null,{"$f":"IF(入力欄!H150=\"\",\"\",入力欄!H150)","v":""},null,null,{"$f":"IF(入力欄!I150=\"\",\"\",入力欄!I150)","v":""},null,null,{"$f":"IF(入力欄!J150=\"\",\"\",入力欄!J150)","v":""},null,null,{"$f":"IF(入力欄!K150=\"\",\"\",入力欄!K150)","v":""},{"$f":"IF(入力欄!L150=\"\",\"\",入力欄!L150)","v":""},null,null,null,null,null,{"$f":"IF(入力欄!M150=\"\",\"\",入力欄!M150)","v":""},{"$f":"IF(入力欄!N150=\"\",\"\",入力欄!N150)","v":""}]
[null,6,{"$f":"IF(入力欄!E151=\"\",\"\",入力欄!E151)","v":""},null,{"$f":"IF(入力欄!F151=\"\",\"\",入力欄!F151)","v":""},null,null,null,{"$f":"IF(入力欄!G151=\"\",\"\",入力欄!G151)","v":""},null,null,{"$f":"IF(入力欄!H151=\"\",\"\",入力欄!H151)","v":""},null,null,{"$f":"IF(入力欄!I151=\"\",\"\",入力欄!I151)","v":""},null,null,{"$f":"IF(入力欄!J151=\"\",\"\",入力欄!J151)","v":""},null,null,{"$f":"IF(入力欄!K151=\"\",\"\",入力欄!K151)","v":""},{"$f":"IF(入力欄!L151=\"\",\"\",入力欄!L151)","v":""},null,null,null,null,null,{"$f":"IF(入力欄!M151=\"\",\"\",入力欄!M151)","v":""},{"$f":"IF(入力欄!N151=\"\",\"\",入力欄!N151)","v":""}]
[null,7,{"$f":"IF(入力欄!E152=\"\",\"\",入力欄!E152)","v":""},null,{"$f":"IF(入力欄!F152=\"\",\"\",入力欄!F152)","v":""},null,null,null,{"$f":"IF(入力欄!G152=\"\",\"\",入力欄!G152)","v":""},null,null,{"$f":"IF(入力欄!H152=\"\",\"\",入力欄!H152)","v":""},null,null,{"$f":"IF(入力欄!I152=\"\",\"\",入力欄!I152)","v":""},null,null,{"$f":"IF(入力欄!J152=\"\",\"\",入力欄!J152)","v":""},null,null,{"$f":"IF(入力欄!K152=\"\",\"\",入力欄!K152)","v":""},{"$f":"IF(入力欄!L152=\"\",\"\",入力欄!L152)","v":""},null,null,null,null,null,{"$f":"IF(入力欄!M152=\"\",\"\",入力欄!M152)","v":""},{"$f":"IF(入力欄!N152=\"\",\"\",入力欄!N152)","v":""}]
[null,8,{"$f":"IF(入力欄!E153=\"\",\"\",入力欄!E153)","v":""},null,{"$f":"IF(入力欄!F153=\"\",\"\",入力欄!F153)","v":""},null,null,null,{"$f":"IF(入力欄!G153=\"\",\"\",入力欄!G153)","v":""},null,null,{"$f":"IF(入力欄!H153=\"\",\"\",入力欄!H153)","v":""},null,null,{"$f":"IF(入力欄!I153=\"\",\"\",入力欄!I153)","v":""},null,null,{"$f":"IF(入力欄!J153=\"\",\"\",入力欄!J153)","v":""},null,null,{"$f":"IF(入力欄!K153=\"\",\"\",入力欄!K153)","v":""},{"$f":"IF(入力欄!L153=\"\",\"\",入力欄!L153)","v":""},null,null,null,null,null,{"$f":"IF(入力欄!M153=\"\",\"\",入力欄!M153)","v":""},{"$f":"IF(入力欄!N153=\"\",\"\",入力欄!N153)","v":""}]
[null,9,{"$f":"IF(入力欄!E154=\"\",\"\",入力欄!E154)","v":""},null,{"$f":"IF(入力欄!F154=\"\",\"\",入力欄!F154)","v":""},null,null,null,{"$f":"IF(入力欄!G154=\"\",\"\",入力欄!G154)","v":""},null,null,{"$f":"IF(入力欄!H154=\"\",\"\",入力欄!H154)","v":""},null,null,{"$f":"IF(入力欄!I154=\"\",\"\",入力欄!I154)","v":""},null,null,{"$f":"IF(入力欄!J154=\"\",\"\",入力欄!J154)","v":""},null,null,{"$f":"IF(入力欄!K154=\"\",\"\",入力欄!K154)","v":""},{"$f":"IF(入力欄!L154=\"\",\"\",入力欄!L154)","v":""},null,null,null,null,null,{"$f":"IF(入力欄!M154=\"\",\"\",入力欄!M154)","v":""},{"$f":"IF(入力欄!N154=\"\",\"\",入力欄!N154)","v":""}]
[null,10,{"$f":"IF(入力欄!E155=\"\",\"\",入力欄!E155)","v":""},null,{"$f":"IF(入力欄!F155=\"\",\"\",入力欄!F155)","v":""},null,null,null,{"$f":"IF(入力欄!G155=\"\",\"\",入力欄!G155)","v":""},null,null,{"$f":"IF(入力欄!H155=\"\",\"\",入力欄!H155)","v":""},null,null,{"$f":"IF(入力欄!I155=\"\",\"\",入力欄!I155)","v":""},null,null,{"$f":"IF(入力欄!J155=\"\",\"\",入力欄!J155)","v":""},null,null,{"$f":"IF(入力欄!K155=\"\",\"\",入力欄!K155)","v":""},{"$f":"IF(入力欄!L155=\"\",\"\",入力欄!L155)","v":""},null,null,null,null,null,{"$f":"IF(入力欄!M155=\"\",\"\",入力欄!M155)","v":""},{"$f":"IF(入力欄!N155=\"\",\"\",入力欄!N155)","v":""}]
[{"$f":"IF(入力欄!C156=\"\",\"\",入力欄!C156)","v":""},1,{"$f":"IF(入力欄!E156=\"\",\"\",入力欄!E156)","v":""},null,{"$f":"IF(入力欄!F156=\"\",\"\",入力欄!F156)","v":""},null,null,null,{"$f":"IF(入力欄!G156=\"\",\"\",入力欄!G156)","v":""},null,null,{"$f":"IF(入力欄!H156=\"\",\"\",入力欄!H156)","v":""},null,null,{"$f":"IF(入力欄!I156=\"\",\"\",入力欄!I156)","v":""},null,null,{"$f":"IF(入力欄!J156=\"\",\"\",入力欄!J156)","v":""},null,null,{"$f":"IF(入力欄!K156=\"\",\"\",入力欄!K156)","v":""},{"$f":"IF(入力欄!L156=\"\",\"\",入力欄!L156)","v":""},null,null,null,null,null,{"$f":"IF(入力欄!M156=\"\",\"\",入力欄!M156)","v":""},{"$f":"IF(入力欄!N156=\"\",\"\",入力欄!N156)","v":""}]
[null,2,{"$f":"IF(入力欄!E157=\"\",\"\",入力欄!E157)","v":""},null,{"$f":"IF(入力欄!F157=\"\",\"\",入力欄!F157)","v":""},null,null,null,{"$f":"IF(入力欄!G157=\"\",\"\",入力欄!G157)","v":""},null,null,{"$f":"IF(入力欄!H157=\"\",\"\",入力欄!H157)","v":""},null,null,{"$f":"IF(入力欄!I157=\"\",\"\",入力欄!I157)","v":""},null,null,{"$f":"IF(入力欄!J157=\"\",\"\",入力欄!J157)","v":""},null,null,{"$f":"IF(入力欄!K157=\"\",\"\",入力欄!K157)","v":""},{"$f":"IF(入力欄!L157=\"\",\"\",入力欄!L157)","v":""},null,null,null,null,null,{"$f":"IF(入力欄!M157=\"\",\"\",入力欄!M157)","v":""},{"$f":"IF(入力欄!N157=\"\",\"\",入力欄!N157)","v":""}]
[null,3,{"$f":"IF(入力欄!E158=\"\",\"\",入力欄!E158)","v":""},null,{"$f":"IF(入力欄!F158=\"\",\"\",入力欄!F158)","v":""},null,null,null,{"$f":"IF(入力欄!G158=\"\",\"\",入力欄!G158)","v":""},null,null,{"$f":"IF(入力欄!H158=\"\",\"\",入力欄!H158)","v":""},null,null,{"$f":"IF(入力欄!I158=\"\",\"\",入力欄!I158)","v":""},null,null,{"$f":"IF(入力欄!J158=\"\",\"\",入力欄!J158)","v":""},null,null,{"$f":"IF(入力欄!K158=\"\",\"\",入力欄!K158)","v":""},{"$f":"IF(入力欄!L158=\"\",\"\",入力欄!L158)","v":""},null,null,null,null,null,{"$f":"IF(入力欄!M158=\"\",\"\",入力欄!M158)","v":""},{"$f":"IF(入力欄!N158=\"\",\"\",入力欄!N158)","v":""}]
[null,4,{"$f":"IF(入力欄!E159=\"\",\"\",入力欄!E159)","v":""},null,{"$f":"IF(入力欄!F159=\"\",\"\",入力欄!F159)","v":""},null,null,null,{"$f":"IF(入力欄!G159=\"\",\"\",入力欄!G159)","v":""},null,null,{"$f":"IF(入力欄!H159=\"\",\"\",入力欄!H159)","v":""},null,null,{"$f":"IF(入力欄!I159=\"\",\"\",入力欄!I159)","v":""},null,null,{"$f":"IF(入力欄!J159=\"\",\"\",入力欄!J159)","v":""},null,null,{"$f":"IF(入力欄!K159=\"\",\"\",入力欄!K159)","v":""},{"$f":"IF(入力欄!L159=\"\",\"\",入力欄!L159)","v":""},null,null,null,null,null,{"$f":"IF(入力欄!M159=\"\",\"\",入力欄!M159)","v":""},{"$f":"IF(入力欄!N159=\"\",\"\",入力欄!N159)","v":""}]
[null,5,{"$f":"IF(入力欄!E160=\"\",\"\",入力欄!E160)","v":""},null,{"$f":"IF(入力欄!F160=\"\",\"\",入力欄!F160)","v":""},null,null,null,{"$f":"IF(入力欄!G160=\"\",\"\",入力欄!G160)","v":""},null,null,{"$f":"IF(入力欄!H160=\"\",\"\",入力欄!H160)","v":""},null,null,{"$f":"IF(入力欄!I160=\"\",\"\",入力欄!I160)","v":""},null,null,{"$f":"IF(入力欄!J160=\"\",\"\",入力欄!J160)","v":""},null,null,{"$f":"IF(入力欄!K160=\"\",\"\",入力欄!K160)","v":""},{"$f":"IF(入力欄!L160=\"\",\"\",入力欄!L160)","v":""},null,null,null,null,null,{"$f":"IF(入力欄!M160=\"\",\"\",入力欄!M160)","v":""},{"$f":"IF(入力欄!N160=\"\",\"\",入力欄!N160)","v":""}]
[null,6,{"$f":"IF(入力欄!E161=\"\",\"\",入力欄!E161)","v":""},null,{"$f":"IF(入力欄!F161=\"\",\"\",入力欄!F161)","v":""},null,null,null,{"$f":"IF(入力欄!G161=\"\",\"\",入力欄!G161)","v":""},null,null,{"$f":"IF(入力欄!H161=\"\",\"\",入力欄!H161)","v":""},null,null,{"$f":"IF(入力欄!I161=\"\",\"\",入力欄!I161)","v":""},null,null,{"$f":"IF(入力欄!J161=\"\",\"\",入力欄!J161)","v":""},null,null,{"$f":"IF(入力欄!K161=\"\",\"\",入力欄!K161)","v":""},{"$f":"IF(入力欄!L161=\"\",\"\",入力欄!L161)","v":""},null,null,null,null,null,{"$f":"IF(入力欄!M161=\"\",\"\",入力欄!M161)","v":""},{"$f":"IF(入力欄!N161=\"\",\"\",入力欄!N161)","v":""}]
[null,7,{"$f":"IF(入力欄!E162=\"\",\"\",入力欄!E162)","v":""},null,{"$f":"IF(入力欄!F162=\"\",\"\",入力欄!F162)","v":""},null,null,null,{"$f":"IF(入力欄!G162=\"\",\"\",入力欄!G162)","v":""},null,null,{"$f":"IF(入力欄!H162=\"\",\"\",入力欄!H162)","v":""},null,null,{"$f":"IF(入力欄!I162=\"\",\"\",入力欄!I162)","v":""},null,null,{"$f":"IF(入力欄!J162=\"\",\"\",入力欄!J162)","v":""},null,null,{"$f":"IF(入力欄!K162=\"\",\"\",入力欄!K162)","v":""},{"$f":"IF(入力欄!L162=\"\",\"\",入力欄!L162)","v":""},null,null,null,null,null,{"$f":"IF(入力欄!M162=\"\",\"\",入力欄!M162)","v":""},{"$f":"IF(入力欄!N162=\"\",\"\",入力欄!N162)","v":""}]
[null,8,{"$f":"IF(入力欄!E163=\"\",\"\",入力欄!E163)","v":""},null,{"$f":"IF(入力欄!F163=\"\",\"\",入力欄!F163)","v":""},null,null,null,{"$f":"IF(入力欄!G163=\"\",\"\",入力欄!G163)","v":""},null,null,{"$f":"IF(入力欄!H163=\"\",\"\",入力欄!H163)","v":""},null,null,{"$f":"IF(入力欄!I163=\"\",\"\",入力欄!I163)","v":""},null,null,{"$f":"IF(入力欄!J163=\"\",\"\",入力欄!J163)","v":""},null,null,{"$f":"IF(入力欄!K163=\"\",\"\",入力欄!K163)","v":""},{"$f":"IF(入力欄!L163=\"\",\"\",入力欄!L163)","v":""},null,null,null,null,null,{"$f":"IF(入力欄!M163=\"\",\"\",入力欄!M163)","v":""},{"$f":"IF(入力欄!N163=\"\",\"\",入力欄!N163)","v":""}]
[null,9,{"$f":"IF(入力欄!E164=\"\",\"\",入力欄!E164)","v":""},null,{"$f":"IF(入力欄!F164=\"\",\"\",入力欄!F164)","v":""},null,null,null,{"$f":"IF(入力欄!G164=\"\",\"\",入力欄!G164)","v":""},null,null,{"$f":"IF(入力欄!H164=\"\",\"\",入力欄!H164)","v":""},null,null,{"$f":"IF(入力欄!I164=\"\",\"\",入力欄!I164)","v":""},null,null,{"$f":"IF(入力欄!J164=\"\",\"\",入力欄!J164)","v":""},null,null,{"$f":"IF(入力欄!K164=\"\",\"\",入力欄!K164)","v":""},{"$f":"IF(入力欄!L164=\"\",\"\",入力欄!L164)","v":""},null,null,null,null,null,{"$f":"IF(入力欄!M164=\"\",\"\",入力欄!M164)","v":""},{"$f":"IF(入力欄!N164=\"\",\"\",入力欄!N164)","v":""}]
[null,10,{"$f":"IF(入力欄!E165=\"\",\"\",入力欄!E165)","v":""},null,{"$f":"IF(入力欄!F165=\"\",\"\",入力欄!F165)","v":""},null,null,null,{"$f":"IF(入力欄!G165=\"\",\"\",入力欄!G165)","v":""},null,null,{"$f":"IF(入力欄!H165=\"\",\"\",入力欄!H165)","v":""},null,null,{"$f":"IF(入力欄!I165=\"\",\"\",入力欄!I165)","v":""},null,null,{"$f":"IF(入力欄!J165=\"\",\"\",入力欄!J165)","v":""},null,null,{"$f":"IF(入力欄!K165=\"\",\"\",入力欄!K165)","v":""},{"$f":"IF(入力欄!L165=\"\",\"\",入力欄!L165)","v":""},null,null,null,null,null,{"$f":"IF(入力欄!M165=\"\",\"\",入力欄!M165)","v":""},{"$f":"IF(入力欄!N165=\"\",\"\",入力欄!N165)","v":""}]
[{"$f":"IF(入力欄!C166=\"\",\"\",入力欄!C166)","v":""},1,{"$f":"IF(入力欄!E166=\"\",\"\",入力欄!E166)","v":""},null,{"$f":"IF(入力欄!F166=\"\",\"\",入力欄!F166)","v":""},null,null,null,{"$f":"IF(入力欄!G166=\"\",\"\",入力欄!G166)","v":""},null,null,{"$f":"IF(入力欄!H166=\"\",\"\",入力欄!H166)","v":""},null,null,{"$f":"IF(入力欄!I166=\"\",\"\",入力欄!I166)","v":""},null,null,{"$f":"IF(入力欄!J166=\"\",\"\",入力欄!J166)","v":""},null,null,{"$f":"IF(入力欄!K166=\"\",\"\",入力欄!K166)","v":""},{"$f":"IF(入力欄!L166=\"\",\"\",入力欄!L166)","v":""},null,null,null,null,null,{"$f":"IF(入力欄!M166=\"\",\"\",入力欄!M166)","v":""},{"$f":"IF(入力欄!N166=\"\",\"\",入力欄!N166)","v":""}]
[null,2,{"$f":"IF(入力欄!E167=\"\",\"\",入力欄!E167)","v":""},null,{"$f":"IF(入力欄!F167=\"\",\"\",入力欄!F167)","v":""},null,null,null,{"$f":"IF(入力欄!G167=\"\",\"\",入力欄!G167)","v":""},null,null,{"$f":"IF(入力欄!H167=\"\",\"\",入力欄!H167)","v":""},null,null,{"$f":"IF(入力欄!I167=\"\",\"\",入力欄!I167)","v":""},null,null,{"$f":"IF(入力欄!J167=\"\",\"\",入力欄!J167)","v":""},null,null,{"$f":"IF(入力欄!K167=\"\",\"\",入力欄!K167)","v":""},{"$f":"IF(入力欄!L167=\"\",\"\",入力欄!L167)","v":""},null,null,null,null,null,{"$f":"IF(入力欄!M167=\"\",\"\",入力欄!M167)","v":""},{"$f":"IF(入力欄!N167=\"\",\"\",入力欄!N167)","v":""}]
[null,3,{"$f":"IF(入力欄!E168=\"\",\"\",入力欄!E168)","v":""},null,{"$f":"IF(入力欄!F168=\"\",\"\",入力欄!F168)","v":""},null,null,null,{"$f":"IF(入力欄!G168=\"\",\"\",入力欄!G168)","v":""},null,null,{"$f":"IF(入力欄!H168=\"\",\"\",入力欄!H168)","v":""},null,null,{"$f":"IF(入力欄!I168=\"\",\"\",入力欄!I168)","v":""},null,null,{"$f":"IF(入力欄!J168=\"\",\"\",入力欄!J168)","v":""},null,null,{"$f":"IF(入力欄!K168=\"\",\"\",入力欄!K168)","v":""},{"$f":"IF(入力欄!L168=\"\",\"\",入力欄!L168)","v":""},null,null,null,null,null,{"$f":"IF(入力欄!M168=\"\",\"\",入力欄!M168)","v":""},{"$f":"IF(入力欄!N168=\"\",\"\",入力欄!N168)","v":""}]
[null,4,{"$f":"IF(入力欄!E169=\"\",\"\",入力欄!E169)","v":""},null,{"$f":"IF(入力欄!F169=\"\",\"\",入力欄!F169)","v":""},null,null,null,{"$f":"IF(入力欄!G169=\"\",\"\",入力欄!G169)","v":""},null,null,{"$f":"IF(入力欄!H169=\"\",\"\",入力欄!H169)","v":""},null,null,{"$f":"IF(入力欄!I169=\"\",\"\",入力欄!I169)","v":""},null,null,{"$f":"IF(入力欄!J169=\"\",\"\",入力欄!J169)","v":""},null,null,{"$f":"IF(入力欄!K169=\"\",\"\",入力欄!K169)","v":""},{"$f":"IF(入力欄!L169=\"\",\"\",入力欄!L169)","v":""},null,null,null,null,null,{"$f":"IF(入力欄!M169=\"\",\"\",入力欄!M169)","v":""},{"$f":"IF(入力欄!N169=\"\",\"\",入力欄!N169)","v":""}]
[null,5,{"$f":"IF(入力欄!E170=\"\",\"\",入力欄!E170)","v":""},null,{"$f":"IF(入力欄!F170=\"\",\"\",入力欄!F170)","v":""},null,null,null,{"$f":"IF(入力欄!G170=\"\",\"\",入力欄!G170)","v":""},null,null,{"$f":"IF(入力欄!H170=\"\",\"\",入力欄!H170)","v":""},null,null,{"$f":"IF(入力欄!I170=\"\",\"\",入力欄!I170)","v":""},null,null,{"$f":"IF(入力欄!J170=\"\",\"\",入力欄!J170)","v":""},null,null,{"$f":"IF(入力欄!K170=\"\",\"\",入力欄!K170)","v":""},{"$f":"IF(入力欄!L170=\"\",\"\",入力欄!L170)","v":""},null,null,null,null,null,{"$f":"IF(入力欄!M170=\"\",\"\",入力欄!M170)","v":""},{"$f":"IF(入力欄!N170=\"\",\"\",入力欄!N170)","v":""}]
[null,6,{"$f":"IF(入力欄!E171=\"\",\"\",入力欄!E171)","v":""},null,{"$f":"IF(入力欄!F171=\"\",\"\",入力欄!F171)","v":""},null,null,null,{"$f":"IF(入力欄!G171=\"\",\"\",入力欄!G171)","v":""},null,null,{"$f":"IF(入力欄!H171=\"\",\"\",入力欄!H171)","v":""},null,null,{"$f":"IF(入力欄!I171=\"\",\"\",入力欄!I171)","v":""},null,null,{"$f":"IF(入力欄!J171=\"\",\"\",入力欄!J171)","v":""},null,null,{"$f":"IF(入力欄!K171=\"\",\"\",入力欄!K171)","v":""},{"$f":"IF(入力欄!L171=\"\",\"\",入力欄!L171)","v":""},null,null,null,null,null,{"$f":"IF(入力欄!M171=\"\",\"\",入力欄!M171)","v":""},{"$f":"IF(入力欄!N171=\"\",\"\",入力欄!N171)","v":""}]
[null,7,{"$f":"IF(入力欄!E172=\"\",\"\",入力欄!E172)","v":""},null,{"$f":"IF(入力欄!F172=\"\",\"\",入力欄!F172)","v":""},null,null,null,{"$f":"IF(入力欄!G172=\"\",\"\",入力欄!G172)","v":""},null,null,{"$f":"IF(入力欄!H172=\"\",\"\",入力欄!H172)","v":""},null,null,{"$f":"IF(入力欄!I172=\"\",\"\",入力欄!I172)","v":""},null,null,{"$f":"IF(入力欄!J172=\"\",\"\",入力欄!J172)","v":""},null,null,{"$f":"IF(入力欄!K172=\"\",\"\",入力欄!K172)","v":""},{"$f":"IF(入力欄!L172=\"\",\"\",入力欄!L172)","v":""},null,null,null,null,null,{"$f":"IF(入力欄!M172=\"\",\"\",入力欄!M172)","v":""},{"$f":"IF(入力欄!N172=\"\",\"\",入力欄!N172)","v":""}]
[null,8,{"$f":"IF(入力欄!E173=\"\",\"\",入力欄!E173)","v":""},null,{"$f":"IF(入力欄!F173=\"\",\"\",入力欄!F173)","v":""},null,null,null,{"$f":"IF(入力欄!G173=\"\",\"\",入力欄!G173)","v":""},null,null,{"$f":"IF(入力欄!H173=\"\",\"\",入力欄!H173)","v":""},null,null,{"$f":"IF(入力欄!I173=\"\",\"\",入力欄!I173)","v":""},null,null,{"$f":"IF(入力欄!J173=\"\",\"\",入力欄!J173)","v":""},null,null,{"$f":"IF(入力欄!K173=\"\",\"\",入力欄!K173)","v":""},{"$f":"IF(入力欄!L173=\"\",\"\",入力欄!L173)","v":""},null,null,null,null,null,{"$f":"IF(入力欄!M173=\"\",\"\",入力欄!M173)","v":""},{"$f":"IF(入力欄!N173=\"\",\"\",入力欄!N173)","v":""}]
[null,9,{"$f":"IF(入力欄!E174=\"\",\"\",入力欄!E174)","v":""},null,{"$f":"IF(入力欄!F174=\"\",\"\",入力欄!F174)","v":""},null,null,null,{"$f":"IF(入力欄!G174=\"\",\"\",入力欄!G174)","v":""},null,null,{"$f":"IF(入力欄!H174=\"\",\"\",入力欄!H174)","v":""},null,null,{"$f":"IF(入力欄!I174=\"\",\"\",入力欄!I174)","v":""},null,null,{"$f":"IF(入力欄!J174=\"\",\"\",入力欄!J174)","v":""},null,null,{"$f":"IF(入力欄!K174=\"\",\"\",入力欄!K174)","v":""},{"$f":"IF(入力欄!L174=\"\",\"\",入力欄!L174)","v":""},null,null,null,null,null,{"$f":"IF(入力欄!M174=\"\",\"\",入力欄!M174)","v":""},{"$f":"IF(入力欄!N174=\"\",\"\",入力欄!N174)","v":""}]
[null,10,{"$f":"IF(入力欄!E175=\"\",\"\",入力欄!E175)","v":""},null,{"$f":"IF(入力欄!F175=\"\",\"\",入力欄!F175)","v":""},null,null,null,{"$f":"IF(入力欄!G175=\"\",\"\",入力欄!G175)","v":""},null,null,{"$f":"IF(入力欄!H175=\"\",\"\",入力欄!H175)","v":""},null,null,{"$f":"IF(入力欄!I175=\"\",\"\",入力欄!I175)","v":""},null,null,{"$f":"IF(入力欄!J175=\"\",\"\",入力欄!J175)","v":""},null,null,{"$f":"IF(入力欄!K175=\"\",\"\",入力欄!K175)","v":""},{"$f":"IF(入力欄!L175=\"\",\"\",入力欄!L175)","v":""},null,null,null,null,null,{"$f":"IF(入力欄!M175=\"\",\"\",入力欄!M175)","v":""},{"$f":"IF(入力欄!N175=\"\",\"\",入力欄!N175)","v":""}]
[{"$f":"IF(入力欄!C176=\"\",\"\",入力欄!C176)","v":""},1,{"$f":"IF(入力欄!E176=\"\",\"\",入力欄!E176)","v":""},null,{"$f":"IF(入力欄!F176=\"\",\"\",入力欄!F176)","v":""},null,null,null,{"$f":"IF(入力欄!G176=\"\",\"\",入力欄!G176)","v":""},null,null,{"$f":"IF(入力欄!H176=\"\",\"\",入力欄!H176)","v":""},null,null,{"$f":"IF(入力欄!I176=\"\",\"\",入力欄!I176)","v":""},null,null,{"$f":"IF(入力欄!J176=\"\",\"\",入力欄!J176)","v":""},null,null,{"$f":"IF(入力欄!K176=\"\",\"\",入力欄!K176)","v":""},{"$f":"IF(入力欄!L176=\"\",\"\",入力欄!L176)","v":""},null,null,null,null,null,{"$f":"IF(入力欄!M176=\"\",\"\",入力欄!M176)","v":""},{"$f":"IF(入力欄!N176=\"\",\"\",入力欄!N176)","v":""}]
[null,2,{"$f":"IF(入力欄!E177=\"\",\"\",入力欄!E177)","v":""},null,{"$f":"IF(入力欄!F177=\"\",\"\",入力欄!F177)","v":""},null,null,null,{"$f":"IF(入力欄!G177=\"\",\"\",入力欄!G177)","v":""},null,null,{"$f":"IF(入力欄!H177=\"\",\"\",入力欄!H177)","v":""},null,null,{"$f":"IF(入力欄!I177=\"\",\"\",入力欄!I177)","v":""},null,null,{"$f":"IF(入力欄!J177=\"\",\"\",入力欄!J177)","v":""},null,null,{"$f":"IF(入力欄!K177=\"\",\"\",入力欄!K177)","v":""},{"$f":"IF(入力欄!L177=\"\",\"\",入力欄!L177)","v":""},null,null,null,null,null,{"$f":"IF(入力欄!M177=\"\",\"\",入力欄!M177)","v":""},{"$f":"IF(入力欄!N177=\"\",\"\",入力欄!N177)","v":""}]
[null,3,{"$f":"IF(入力欄!E178=\"\",\"\",入力欄!E178)","v":""},null,{"$f":"IF(入力欄!F178=\"\",\"\",入力欄!F178)","v":""},null,null,null,{"$f":"IF(入力欄!G178=\"\",\"\",入力欄!G178)","v":""},null,null,{"$f":"IF(入力欄!H178=\"\",\"\",入力欄!H178)","v":""},null,null,{"$f":"IF(入力欄!I178=\"\",\"\",入力欄!I178)","v":""},null,null,{"$f":"IF(入力欄!J178=\"\",\"\",入力欄!J178)","v":""},null,null,{"$f":"IF(入力欄!K178=\"\",\"\",入力欄!K178)","v":""},{"$f":"IF(入力欄!L178=\"\",\"\",入力欄!L178)","v":""},null,null,null,null,null,{"$f":"IF(入力欄!M178=\"\",\"\",入力欄!M178)","v":""},{"$f":"IF(入力欄!N178=\"\",\"\",入力欄!N178)","v":""}]
[null,4,{"$f":"IF(入力欄!E179=\"\",\"\",入力欄!E179)","v":""},null,{"$f":"IF(入力欄!F179=\"\",\"\",入力欄!F179)","v":""},null,null,null,{"$f":"IF(入力欄!G179=\"\",\"\",入力欄!G179)","v":""},null,null,{"$f":"IF(入力欄!H179=\"\",\"\",入力欄!H179)","v":""},null,null,{"$f":"IF(入力欄!I179=\"\",\"\",入力欄!I179)","v":""},null,null,{"$f":"IF(入力欄!J179=\"\",\"\",入力欄!J179)","v":""},null,null,{"$f":"IF(入力欄!K179=\"\",\"\",入力欄!K179)","v":""},{"$f":"IF(入力欄!L179=\"\",\"\",入力欄!L179)","v":""},null,null,null,null,null,{"$f":"IF(入力欄!M179=\"\",\"\",入力欄!M179)","v":""},{"$f":"IF(入力欄!N179=\"\",\"\",入力欄!N179)","v":""}]
[null,5,{"$f":"IF(入力欄!E180=\"\",\"\",入力欄!E180)","v":""},null,{"$f":"IF(入力欄!F180=\"\",\"\",入力欄!F180)","v":""},null,null,null,{"$f":"IF(入力欄!G180=\"\",\"\",入力欄!G180)","v":""},null,null,{"$f":"IF(入力欄!H180=\"\",\"\",入力欄!H180)","v":""},null,null,{"$f":"IF(入力欄!I180=\"\",\"\",入力欄!I180)","v":""},null,null,{"$f":"IF(入力欄!J180=\"\",\"\",入力欄!J180)","v":""},null,null,{"$f":"IF(入力欄!K180=\"\",\"\",入力欄!K180)","v":""},{"$f":"IF(入力欄!L180=\"\",\"\",入力欄!L180)","v":""},null,null,null,null,null,{"$f":"IF(入力欄!M180=\"\",\"\",入力欄!M180)","v":""},{"$f":"IF(入力欄!N180=\"\",\"\",入力欄!N180)","v":""}]
[null,6,{"$f":"IF(入力欄!E181=\"\",\"\",入力欄!E181)","v":""},null,{"$f":"IF(入力欄!F181=\"\",\"\",入力欄!F181)","v":""},null,null,null,{"$f":"IF(入力欄!G181=\"\",\"\",入力欄!G181)","v":""},null,null,{"$f":"IF(入力欄!H181=\"\",\"\",入力欄!H181)","v":""},null,null,{"$f":"IF(入力欄!I181=\"\",\"\",入力欄!I181)","v":""},null,null,{"$f":"IF(入力欄!J181=\"\",\"\",入力欄!J181)","v":""},null,null,{"$f":"IF(入力欄!K181=\"\",\"\",入力欄!K181)","v":""},{"$f":"IF(入力欄!L181=\"\",\"\",入力欄!L181)","v":""},null,null,null,null,null,{"$f":"IF(入力欄!M181=\"\",\"\",入力欄!M181)","v":""},{"$f":"IF(入力欄!N181=\"\",\"\",入力欄!N181)","v":""}]
[null,7,{"$f":"IF(入力欄!E182=\"\",\"\",入力欄!E182)","v":""},null,{"$f":"IF(入力欄!F182=\"\",\"\",入力欄!F182)","v":""},null,null,null,{"$f":"IF(入力欄!G182=\"\",\"\",入力欄!G182)","v":""},null,null,{"$f":"IF(入力欄!H182=\"\",\"\",入力欄!H182)","v":""},null,null,{"$f":"IF(入力欄!I182=\"\",\"\",入力欄!I182)","v":""},null,null,{"$f":"IF(入力欄!J182=\"\",\"\",入力欄!J182)","v":""},null,null,{"$f":"IF(入力欄!K182=\"\",\"\",入力欄!K182)","v":""},{"$f":"IF(入力欄!L182=\"\",\"\",入力欄!L182)","v":""},null,null,null,null,null,{"$f":"IF(入力欄!M182=\"\",\"\",入力欄!M182)","v":""},{"$f":"IF(入力欄!N182=\"\",\"\",入力欄!N182)","v":""}]
[null,8,{"$f":"IF(入力欄!E183=\"\",\"\",入力欄!E183)","v":""},null,{"$f":"IF(入力欄!F183=\"\",\"\",入力欄!F183)","v":""},null,null,null,{"$f":"IF(入力欄!G183=\"\",\"\",入力欄!G183)","v":""},null,null,{"$f":"IF(入力欄!H183=\"\",\"\",入力欄!H183)","v":""},null,null,{"$f":"IF(入力欄!I183=\"\",\"\",入力欄!I183)","v":""},null,null,{"$f":"IF(入力欄!J183=\"\",\"\",入力欄!J183)","v":""},null,null,{"$f":"IF(入力欄!K183=\"\",\"\",入力欄!K183)","v":""},{"$f":"IF(入力欄!L183=\"\",\"\",入力欄!L183)","v":""},null,null,null,null,null,{"$f":"IF(入力欄!M183=\"\",\"\",入力欄!M183)","v":""},{"$f":"IF(入力欄!N183=\"\",\"\",入力欄!N183)","v":""}]
[null,9,{"$f":"IF(入力欄!E184=\"\",\"\",入力欄!E184)","v":""},null,{"$f":"IF(入力欄!F184=\"\",\"\",入力欄!F184)","v":""},null,null,null,{"$f":"IF(入力欄!G184=\"\",\"\",入力欄!G184)","v":""},null,null,{"$f":"IF(入力欄!H184=\"\",\"\",入力欄!H184)","v":""},null,null,{"$f":"IF(入力欄!I184=\"\",\"\",入力欄!I184)","v":""},null,null,{"$f":"IF(入力欄!J184=\"\",\"\",入力欄!J184)","v":""},null,null,{"$f":"IF(入力欄!K184=\"\",\"\",入力欄!K184)","v":""},{"$f":"IF(入力欄!L184=\"\",\"\",入力欄!L184)","v":""},null,null,null,null,null,{"$f":"IF(入力欄!M184=\"\",\"\",入力欄!M184)","v":""},{"$f":"IF(入力欄!N184=\"\",\"\",入力欄!N184)","v":""}]
[null,10,{"$f":"IF(入力欄!E185=\"\",\"\",入力欄!E185)","v":""},null,{"$f":"IF(入力欄!F185=\"\",\"\",入力欄!F185)","v":""},null,null,null,{"$f":"IF(入力欄!G185=\"\",\"\",入力欄!G185)","v":""},null,null,{"$f":"IF(入力欄!H185=\"\",\"\",入力欄!H185)","v":""},null,null,{"$f":"IF(入力欄!I185=\"\",\"\",入力欄!I185)","v":""},null,null,{"$f":"IF(入力欄!J185=\"\",\"\",入力欄!J185)","v":""},null,null,{"$f":"IF(入力欄!K185=\"\",\"\",入力欄!K185)","v":""},{"$f":"IF(入力欄!L185=\"\",\"\",入力欄!L185)","v":""},null,null,null,null,null,{"$f":"IF(入力欄!M185=\"\",\"\",入力欄!M185)","v":""},{"$f":"IF(入力欄!N185=\"\",\"\",入力欄!N185)","v":""}]
[{"$f":"IF(入力欄!C186=\"\",\"\",入力欄!C186)","v":""},1,{"$f":"IF(入力欄!E186=\"\",\"\",入力欄!E186)","v":""},null,{"$f":"IF(入力欄!F186=\"\",\"\",入力欄!F186)","v":""},null,null,null,{"$f":"IF(入力欄!G186=\"\",\"\",入力欄!G186)","v":""},null,null,{"$f":"IF(入力欄!H186=\"\",\"\",入力欄!H186)","v":""},null,null,{"$f":"IF(入力欄!I186=\"\",\"\",入力欄!I186)","v":""},null,null,{"$f":"IF(入力欄!J186=\"\",\"\",入力欄!J186)","v":""},null,null,{"$f":"IF(入力欄!K186=\"\",\"\",入力欄!K186)","v":""},{"$f":"IF(入力欄!L186=\"\",\"\",入力欄!L186)","v":""},null,null,null,null,null,{"$f":"IF(入力欄!M186=\"\",\"\",入力欄!M186)","v":""},{"$f":"IF(入力欄!N186=\"\",\"\",入力欄!N186)","v":""}]
[null,2,{"$f":"IF(入力欄!E187=\"\",\"\",入力欄!E187)","v":""},null,{"$f":"IF(入力欄!F187=\"\",\"\",入力欄!F187)","v":""},null,null,null,{"$f":"IF(入力欄!G187=\"\",\"\",入力欄!G187)","v":""},null,null,{"$f":"IF(入力欄!H187=\"\",\"\",入力欄!H187)","v":""},null,null,{"$f":"IF(入力欄!I187=\"\",\"\",入力欄!I187)","v":""},null,null,{"$f":"IF(入力欄!J187=\"\",\"\",入力欄!J187)","v":""},null,null,{"$f":"IF(入力欄!K187=\"\",\"\",入力欄!K187)","v":""},{"$f":"IF(入力欄!L187=\"\",\"\",入力欄!L187)","v":""},null,null,null,null,null,{"$f":"IF(入力欄!M187=\"\",\"\",入力欄!M187)","v":""},{"$f":"IF(入力欄!N187=\"\",\"\",入力欄!N187)","v":""}]
[null,3,{"$f":"IF(入力欄!E188=\"\",\"\",入力欄!E188)","v":""},null,{"$f":"IF(入力欄!F188=\"\",\"\",入力欄!F188)","v":""},null,null,null,{"$f":"IF(入力欄!G188=\"\",\"\",入力欄!G188)","v":""},null,null,{"$f":"IF(入力欄!H188=\"\",\"\",入力欄!H188)","v":""},null,null,{"$f":"IF(入力欄!I188=\"\",\"\",入力欄!I188)","v":""},null,null,{"$f":"IF(入力欄!J188=\"\",\"\",入力欄!J188)","v":""},null,null,{"$f":"IF(入力欄!K188=\"\",\"\",入力欄!K188)","v":""},{"$f":"IF(入力欄!L188=\"\",\"\",入力欄!L188)","v":""},null,null,null,null,null,{"$f":"IF(入力欄!M188=\"\",\"\",入力欄!M188)","v":""},{"$f":"IF(入力欄!N188=\"\",\"\",入力欄!N188)","v":""}]
[null,4,{"$f":"IF(入力欄!E189=\"\",\"\",入力欄!E189)","v":""},null,{"$f":"IF(入力欄!F189=\"\",\"\",入力欄!F189)","v":""},null,null,null,{"$f":"IF(入力欄!G189=\"\",\"\",入力欄!G189)","v":""},null,null,{"$f":"IF(入力欄!H189=\"\",\"\",入力欄!H189)","v":""},null,null,{"$f":"IF(入力欄!I189=\"\",\"\",入力欄!I189)","v":""},null,null,{"$f":"IF(入力欄!J189=\"\",\"\",入力欄!J189)","v":""},null,null,{"$f":"IF(入力欄!K189=\"\",\"\",入力欄!K189)","v":""},{"$f":"IF(入力欄!L189=\"\",\"\",入力欄!L189)","v":""},null,null,null,null,null,{"$f":"IF(入力欄!M189=\"\",\"\",入力欄!M189)","v":""},{"$f":"IF(入力欄!N189=\"\",\"\",入力欄!N189)","v":""}]
[null,5,{"$f":"IF(入力欄!E190=\"\",\"\",入力欄!E190)","v":""},null,{"$f":"IF(入力欄!F190=\"\",\"\",入力欄!F190)","v":""},null,null,null,{"$f":"IF(入力欄!G190=\"\",\"\",入力欄!G190)","v":""},null,null,{"$f":"IF(入力欄!H190=\"\",\"\",入力欄!H190)","v":""},null,null,{"$f":"IF(入力欄!I190=\"\",\"\",入力欄!I190)","v":""},null,null,{"$f":"IF(入力欄!J190=\"\",\"\",入力欄!J190)","v":""},null,null,{"$f":"IF(入力欄!K190=\"\",\"\",入力欄!K190)","v":""},{"$f":"IF(入力欄!L190=\"\",\"\",入力欄!L190)","v":""},null,null,null,null,null,{"$f":"IF(入力欄!M190=\"\",\"\",入力欄!M190)","v":""},{"$f":"IF(入力欄!N190=\"\",\"\",入力欄!N190)","v":""}]
[null,6,{"$f":"IF(入力欄!E191=\"\",\"\",入力欄!E191)","v":""},null,{"$f":"IF(入力欄!F191=\"\",\"\",入力欄!F191)","v":""},null,null,null,{"$f":"IF(入力欄!G191=\"\",\"\",入力欄!G191)","v":""},null,null,{"$f":"IF(入力欄!H191=\"\",\"\",入力欄!H191)","v":""},null,null,{"$f":"IF(入力欄!I191=\"\",\"\",入力欄!I191)","v":""},null,null,{"$f":"IF(入力欄!J191=\"\",\"\",入力欄!J191)","v":""},null,null,{"$f":"IF(入力欄!K191=\"\",\"\",入力欄!K191)","v":""},{"$f":"IF(入力欄!L191=\"\",\"\",入力欄!L191)","v":""},null,null,null,null,null,{"$f":"IF(入力欄!M191=\"\",\"\",入力欄!M191)","v":""},{"$f":"IF(入力欄!N191=\"\",\"\",入力欄!N191)","v":""}]
[null,7,{"$f":"IF(入力欄!E192=\"\",\"\",入力欄!E192)","v":""},null,{"$f":"IF(入力欄!F192=\"\",\"\",入力欄!F192)","v":""},null,null,null,{"$f":"IF(入力欄!G192=\"\",\"\",入力欄!G192)","v":""},null,null,{"$f":"IF(入力欄!H192=\"\",\"\",入力欄!H192)","v":""},null,null,{"$f":"IF(入力欄!I192=\"\",\"\",入力欄!I192)","v":""},null,null,{"$f":"IF(入力欄!J192=\"\",\"\",入力欄!J192)","v":""},null,null,{"$f":"IF(入力欄!K192=\"\",\"\",入力欄!K192)","v":""},{"$f":"IF(入力欄!L192=\"\",\"\",入力欄!L192)","v":""},null,null,null,null,null,{"$f":"IF(入力欄!M192=\"\",\"\",入力欄!M192)","v":""},{"$f":"IF(入力欄!N192=\"\",\"\",入力欄!N192)","v":""}]
[null,8,{"$f":"IF(入力欄!E193=\"\",\"\",入力欄!E193)","v":""},null,{"$f":"IF(入力欄!F193=\"\",\"\",入力欄!F193)","v":""},null,null,null,{"$f":"IF(入力欄!G193=\"\",\"\",入力欄!G193)","v":""},null,null,{"$f":"IF(入力欄!H193=\"\",\"\",入力欄!H193)","v":""},null,null,{"$f":"IF(入力欄!I193=\"\",\"\",入力欄!I193)","v":""},null,null,{"$f":"IF(入力欄!J193=\"\",\"\",入力欄!J193)","v":""},null,null,{"$f":"IF(入力欄!K193=\"\",\"\",入力欄!K193)","v":""},{"$f":"IF(入力欄!L193=\"\",\"\",入力欄!L193)","v":""},null,null,null,null,null,{"$f":"IF(入力欄!M193=\"\",\"\",入力欄!M193)","v":""},{"$f":"IF(入力欄!N193=\"\",\"\",入力欄!N193)","v":""}]
[null,9,{"$f":"IF(入力欄!E194=\"\",\"\",入力欄!E194)","v":""},null,{"$f":"IF(入力欄!F194=\"\",\"\",入力欄!F194)","v":""},null,null,null,{"$f":"IF(入力欄!G194=\"\",\"\",入力欄!G194)","v":""},null,null,{"$f":"IF(入力欄!H194=\"\",\"\",入力欄!H194)","v":""},null,null,{"$f":"IF(入力欄!I194=\"\",\"\",入力欄!I194)","v":""},null,null,{"$f":"IF(入力欄!J194=\"\",\"\",入力欄!J194)","v":""},null,null,{"$f":"IF(入力欄!K194=\"\",\"\",入力欄!K194)","v":""},{"$f":"IF(入力欄!L194=\"\",\"\",入力欄!L194)","v":""},null,null,null,null,null,{"$f":"IF(入力欄!M194=\"\",\"\",入力欄!M194)","v":""},{"$f":"IF(入力欄!N194=\"\",\"\",入力欄!N194)","v":""}]
[null,10,{"$f":"IF(入力欄!E195=\"\",\"\",入力欄!E195)","v":""},null,{"$f":"IF(入力欄!F195=\"\",\"\",入力欄!F195)","v":""},null,null,null,{"$f":"IF(入力欄!G195=\"\",\"\",入力欄!G195)","v":""},null,null,{"$f":"IF(入力欄!H195=\"\",\"\",入力欄!H195)","v":""},null,null,{"$f":"IF(入力欄!I195=\"\",\"\",入力欄!I195)","v":""},null,null,{"$f":"IF(入力欄!J195=\"\",\"\",入力欄!J195)","v":""},null,null,{"$f":"IF(入力欄!K195=\"\",\"\",入力欄!K195)","v":""},{"$f":"IF(入力欄!L195=\"\",\"\",入力欄!L195)","v":""},null,null,null,null,null,{"$f":"IF(入力欄!M195=\"\",\"\",入力欄!M195)","v":""},{"$f":"IF(入力欄!N195=\"\",\"\",入力欄!N195)","v":""}]
[{"$f":"IF(入力欄!C196=\"\",\"\",入力欄!C196)","v":""},1,{"$f":"IF(入力欄!E196=\"\",\"\",入力欄!E196)","v":""},null,{"$f":"IF(入力欄!F196=\"\",\"\",入力欄!F196)","v":""},null,null,null,{"$f":"IF(入力欄!G196=\"\",\"\",入力欄!G196)","v":""},null,null,{"$f":"IF(入力欄!H196=\"\",\"\",入力欄!H196)","v":""},null,null,{"$f":"IF(入力欄!I196=\"\",\"\",入力欄!I196)","v":""},null,null,{"$f":"IF(入力欄!J196=\"\",\"\",入力欄!J196)","v":""},null,null,{"$f":"IF(入力欄!K196=\"\",\"\",入力欄!K196)","v":""},{"$f":"IF(入力欄!L196=\"\",\"\",入力欄!L196)","v":""},null,null,null,null,null,{"$f":"IF(入力欄!M196=\"\",\"\",入力欄!M196)","v":""},{"$f":"IF(入力欄!N196=\"\",\"\",入力欄!N196)","v":""}]
[null,2,{"$f":"IF(入力欄!E197=\"\",\"\",入力欄!E197)","v":""},null,{"$f":"IF(入力欄!F197=\"\",\"\",入力欄!F197)","v":""},null,null,null,{"$f":"IF(入力欄!G197=\"\",\"\",入力欄!G197)","v":""},null,null,{"$f":"IF(入力欄!H197=\"\",\"\",入力欄!H197)","v":""},null,null,{"$f":"IF(入力欄!I197=\"\",\"\",入力欄!I197)","v":""},null,null,{"$f":"IF(入力欄!J197=\"\",\"\",入力欄!J197)","v":""},null,null,{"$f":"IF(入力欄!K197=\"\",\"\",入力欄!K197)","v":""},{"$f":"IF(入力欄!L197=\"\",\"\",入力欄!L197)","v":""},null,null,null,null,null,{"$f":"IF(入力欄!M197=\"\",\"\",入力欄!M197)","v":""},{"$f":"IF(入力欄!N197=\"\",\"\",入力欄!N197)","v":""}]
[null,3,{"$f":"IF(入力欄!E198=\"\",\"\",入力欄!E198)","v":""},null,{"$f":"IF(入力欄!F198=\"\",\"\",入力欄!F198)","v":""},null,null,null,{"$f":"IF(入力欄!G198=\"\",\"\",入力欄!G198)","v":""},null,null,{"$f":"IF(入力欄!H198=\"\",\"\",入力欄!H198)","v":""},null,null,{"$f":"IF(入力欄!I198=\"\",\"\",入力欄!I198)","v":""},null,null,{"$f":"IF(入力欄!J198=\"\",\"\",入力欄!J198)","v":""},null,null,{"$f":"IF(入力欄!K198=\"\",\"\",入力欄!K198)","v":""},{"$f":"IF(入力欄!L198=\"\",\"\",入力欄!L198)","v":""},null,null,null,null,null,{"$f":"IF(入力欄!M198=\"\",\"\",入力欄!M198)","v":""},{"$f":"IF(入力欄!N198=\"\",\"\",入力欄!N198)","v":""}]
[null,4,{"$f":"IF(入力欄!E199=\"\",\"\",入力欄!E199)","v":""},null,{"$f":"IF(入力欄!F199=\"\",\"\",入力欄!F199)","v":""},null,null,null,{"$f":"IF(入力欄!G199=\"\",\"\",入力欄!G199)","v":""},null,null,{"$f":"IF(入力欄!H199=\"\",\"\",入力欄!H199)","v":""},null,null,{"$f":"IF(入力欄!I199=\"\",\"\",入力欄!I199)","v":""},null,null,{"$f":"IF(入力欄!J199=\"\",\"\",入力欄!J199)","v":""},null,null,{"$f":"IF(入力欄!K199=\"\",\"\",入力欄!K199)","v":""},{"$f":"IF(入力欄!L199=\"\",\"\",入力欄!L199)","v":""},null,null,null,null,null,{"$f":"IF(入力欄!M199=\"\",\"\",入力欄!M199)","v":""},{"$f":"IF(入力欄!N199=\"\",\"\",入力欄!N199)","v":""}]
[null,5,{"$f":"IF(入力欄!E200=\"\",\"\",入力欄!E200)","v":""},null,{"$f":"IF(入力欄!F200=\"\",\"\",入力欄!F200)","v":""},null,null,null,{"$f":"IF(入力欄!G200=\"\",\"\",入力欄!G200)","v":""},null,null,{"$f":"IF(入力欄!H200=\"\",\"\",入力欄!H200)","v":""},null,null,{"$f":"IF(入力欄!I200=\"\",\"\",入力欄!I200)","v":""},null,null,{"$f":"IF(入力欄!J200=\"\",\"\",入力欄!J200)","v":""},null,null,{"$f":"IF(入力欄!K200=\"\",\"\",入力欄!K200)","v":""},{"$f":"IF(入力欄!L200=\"\",\"\",入力欄!L200)","v":""},null,null,null,null,null,{"$f":"IF(入力欄!M200=\"\",\"\",入力欄!M200)","v":""},{"$f":"IF(入力欄!N200=\"\",\"\",入力欄!N200)","v":""}]
[null,6,{"$f":"IF(入力欄!E201=\"\",\"\",入力欄!E201)","v":""},null,{"$f":"IF(入力欄!F201=\"\",\"\",入力欄!F201)","v":""},null,null,null,{"$f":"IF(入力欄!G201=\"\",\"\",入力欄!G201)","v":""},null,null,{"$f":"IF(入力欄!H201=\"\",\"\",入力欄!H201)","v":""},null,null,{"$f":"IF(入力欄!I201=\"\",\"\",入力欄!I201)","v":""},null,null,{"$f":"IF(入力欄!J201=\"\",\"\",入力欄!J201)","v":""},null,null,{"$f":"IF(入力欄!K201=\"\",\"\",入力欄!K201)","v":""},{"$f":"IF(入力欄!L201=\"\",\"\",入力欄!L201)","v":""},null,null,null,null,null,{"$f":"IF(入力欄!M201=\"\",\"\",入力欄!M201)","v":""},{"$f":"IF(入力欄!N201=\"\",\"\",入力欄!N201)","v":""}]
[null,7,{"$f":"IF(入力欄!E202=\"\",\"\",入力欄!E202)","v":""},null,{"$f":"IF(入力欄!F202=\"\",\"\",入力欄!F202)","v":""},null,null,null,{"$f":"IF(入力欄!G202=\"\",\"\",入力欄!G202)","v":""},null,null,{"$f":"IF(入力欄!H202=\"\",\"\",入力欄!H202)","v":""},null,null,{"$f":"IF(入力欄!I202=\"\",\"\",入力欄!I202)","v":""},null,null,{"$f":"IF(入力欄!J202=\"\",\"\",入力欄!J202)","v":""},null,null,{"$f":"IF(入力欄!K202=\"\",\"\",入力欄!K202)","v":""},{"$f":"IF(入力欄!L202=\"\",\"\",入力欄!L202)","v":""},null,null,null,null,null,{"$f":"IF(入力欄!M202=\"\",\"\",入力欄!M202)","v":""},{"$f":"IF(入力欄!N202=\"\",\"\",入力欄!N202)","v":""}]
[null,8,{"$f":"IF(入力欄!E203=\"\",\"\",入力欄!E203)","v":""},null,{"$f":"IF(入力欄!F203=\"\",\"\",入力欄!F203)","v":""},null,null,null,{"$f":"IF(入力欄!G203=\"\",\"\",入力欄!G203)","v":""},null,null,{"$f":"IF(入力欄!H203=\"\",\"\",入力欄!H203)","v":""},null,null,{"$f":"IF(入力欄!I203=\"\",\"\",入力欄!I203)","v":""},null,null,{"$f":"IF(入力欄!J203=\"\",\"\",入力欄!J203)","v":""},null,null,{"$f":"IF(入力欄!K203=\"\",\"\",入力欄!K203)","v":""},{"$f":"IF(入力欄!L203=\"\",\"\",入力欄!L203)","v":""},null,null,null,null,null,{"$f":"IF(入力欄!M203=\"\",\"\",入力欄!M203)","v":""},{"$f":"IF(入力欄!N203=\"\",\"\",入力欄!N203)","v":""}]
[null,9,{"$f":"IF(入力欄!E204=\"\",\"\",入力欄!E204)","v":""},null,{"$f":"IF(入力欄!F204=\"\",\"\",入力欄!F204)","v":""},null,null,null,{"$f":"IF(入力欄!G204=\"\",\"\",入力欄!G204)","v":""},null,null,{"$f":"IF(入力欄!H204=\"\",\"\",入力欄!H204)","v":""},null,null,{"$f":"IF(入力欄!I204=\"\",\"\",入力欄!I204)","v":""},null,null,{"$f":"IF(入力欄!J204=\"\",\"\",入力欄!J204)","v":""},null,null,{"$f":"IF(入力欄!K204=\"\",\"\",入力欄!K204)","v":""},{"$f":"IF(入力欄!L204=\"\",\"\",入力欄!L204)","v":""},null,null,null,null,null,{"$f":"IF(入力欄!M204=\"\",\"\",入力欄!M204)","v":""},{"$f":"IF(入力欄!N204=\"\",\"\",入力欄!N204)","v":""}]
[null,10,{"$f":"IF(入力欄!E205=\"\",\"\",入力欄!E205)","v":""},null,{"$f":"IF(入力欄!F205=\"\",\"\",入力欄!F205)","v":""},null,null,null,{"$f":"IF(入力欄!G205=\"\",\"\",入力欄!G205)","v":""},null,null,{"$f":"IF(入力欄!H205=\"\",\"\",入力欄!H205)","v":""},null,null,{"$f":"IF(入力欄!I205=\"\",\"\",入力欄!I205)","v":""},null,null,{"$f":"IF(入力欄!J205=\"\",\"\",入力欄!J205)","v":""},null,null,{"$f":"IF(入力欄!K205=\"\",\"\",入力欄!K205)","v":""},{"$f":"IF(入力欄!L205=\"\",\"\",入力欄!L205)","v":""},null,null,null,null,null,{"$f":"IF(入力欄!M205=\"\",\"\",入力欄!M205)","v":""},{"$f":"IF(入力欄!N205=\"\",\"\",入力欄!N205)","v":""}]
[{"$f":"IF(入力欄!C206=\"\",\"\",入力欄!C206)","v":""},1,{"$f":"IF(入力欄!E206=\"\",\"\",入力欄!E206)","v":""},null,{"$f":"IF(入力欄!F206=\"\",\"\",入力欄!F206)","v":""},null,null,null,{"$f":"IF(入力欄!G206=\"\",\"\",入力欄!G206)","v":""},null,null,{"$f":"IF(入力欄!H206=\"\",\"\",入力欄!H206)","v":""},null,null,{"$f":"IF(入力欄!I206=\"\",\"\",入力欄!I206)","v":""},null,null,{"$f":"IF(入力欄!J206=\"\",\"\",入力欄!J206)","v":""},null,null,{"$f":"IF(入力欄!K206=\"\",\"\",入力欄!K206)","v":""},{"$f":"IF(入力欄!L206=\"\",\"\",入力欄!L206)","v":""},null,null,null,null,null,{"$f":"IF(入力欄!M206=\"\",\"\",入力欄!M206)","v":""},{"$f":"IF(入力欄!N206=\"\",\"\",入力欄!N206)","v":""}]
[null,2,{"$f":"IF(入力欄!E207=\"\",\"\",入力欄!E207)","v":""},null,{"$f":"IF(入力欄!F207=\"\",\"\",入力欄!F207)","v":""},null,null,null,{"$f":"IF(入力欄!G207=\"\",\"\",入力欄!G207)","v":""},null,null,{"$f":"IF(入力欄!H207=\"\",\"\",入力欄!H207)","v":""},null,null,{"$f":"IF(入力欄!I207=\"\",\"\",入力欄!I207)","v":""},null,null,{"$f":"IF(入力欄!J207=\"\",\"\",入力欄!J207)","v":""},null,null,{"$f":"IF(入力欄!K207=\"\",\"\",入力欄!K207)","v":""},{"$f":"IF(入力欄!L207=\"\",\"\",入力欄!L207)","v":""},null,null,null,null,null,{"$f":"IF(入力欄!M207=\"\",\"\",入力欄!M207)","v":""},{"$f":"IF(入力欄!N207=\"\",\"\",入力欄!N207)","v":""}]
[null,3,{"$f":"IF(入力欄!E208=\"\",\"\",入力欄!E208)","v":""},null,{"$f":"IF(入力欄!F208=\"\",\"\",入力欄!F208)","v":""},null,null,null,{"$f":"IF(入力欄!G208=\"\",\"\",入力欄!G208)","v":""},null,null,{"$f":"IF(入力欄!H208=\"\",\"\",入力欄!H208)","v":""},null,null,{"$f":"IF(入力欄!I208=\"\",\"\",入力欄!I208)","v":""},null,null,{"$f":"IF(入力欄!J208=\"\",\"\",入力欄!J208)","v":""},null,null,{"$f":"IF(入力欄!K208=\"\",\"\",入力欄!K208)","v":""},{"$f":"IF(入力欄!L208=\"\",\"\",入力欄!L208)","v":""},null,null,null,null,null,{"$f":"IF(入力欄!M208=\"\",\"\",入力欄!M208)","v":""},{"$f":"IF(入力欄!N208=\"\",\"\",入力欄!N208)","v":""}]
[null,4,{"$f":"IF(入力欄!E209=\"\",\"\",入力欄!E209)","v":""},null,{"$f":"IF(入力欄!F209=\"\",\"\",入力欄!F209)","v":""},null,null,null,{"$f":"IF(入力欄!G209=\"\",\"\",入力欄!G209)","v":""},null,null,{"$f":"IF(入力欄!H209=\"\",\"\",入力欄!H209)","v":""},null,null,{"$f":"IF(入力欄!I209=\"\",\"\",入力欄!I209)","v":""},null,null,{"$f":"IF(入力欄!J209=\"\",\"\",入力欄!J209)","v":""},null,null,{"$f":"IF(入力欄!K209=\"\",\"\",入力欄!K209)","v":""},{"$f":"IF(入力欄!L209=\"\",\"\",入力欄!L209)","v":""},null,null,null,null,null,{"$f":"IF(入力欄!M209=\"\",\"\",入力欄!M209)","v":""},{"$f":"IF(入力欄!N209=\"\",\"\",入力欄!N209)","v":""}]
[null,5,{"$f":"IF(入力欄!E210=\"\",\"\",入力欄!E210)","v":""},null,{"$f":"IF(入力欄!F210=\"\",\"\",入力欄!F210)","v":""},null,null,null,{"$f":"IF(入力欄!G210=\"\",\"\",入力欄!G210)","v":""},null,null,{"$f":"IF(入力欄!H210=\"\",\"\",入力欄!H210)","v":""},null,null,{"$f":"IF(入力欄!I210=\"\",\"\",入力欄!I210)","v":""},null,null,{"$f":"IF(入力欄!J210=\"\",\"\",入力欄!J210)","v":""},null,null,{"$f":"IF(入力欄!K210=\"\",\"\",入力欄!K210)","v":""},{"$f":"IF(入力欄!L210=\"\",\"\",入力欄!L210)","v":""},null,null,null,null,null,{"$f":"IF(入力欄!M210=\"\",\"\",入力欄!M210)","v":""},{"$f":"IF(入力欄!N210=\"\",\"\",入力欄!N210)","v":""}]
[null,6,{"$f":"IF(入力欄!E211=\"\",\"\",入力欄!E211)","v":""},null,{"$f":"IF(入力欄!F211=\"\",\"\",入力欄!F211)","v":""},null,null,null,{"$f":"IF(入力欄!G211=\"\",\"\",入力欄!G211)","v":""},null,null,{"$f":"IF(入力欄!H211=\"\",\"\",入力欄!H211)","v":""},null,null,{"$f":"IF(入力欄!I211=\"\",\"\",入力欄!I211)","v":""},null,null,{"$f":"IF(入力欄!J211=\"\",\"\",入力欄!J211)","v":""},null,null,{"$f":"IF(入力欄!K211=\"\",\"\",入力欄!K211)","v":""},{"$f":"IF(入力欄!L211=\"\",\"\",入力欄!L211)","v":""},null,null,null,null,null,{"$f":"IF(入力欄!M211=\"\",\"\",入力欄!M211)","v":""},{"$f":"IF(入力欄!N211=\"\",\"\",入力欄!N211)","v":""}]
[null,7,{"$f":"IF(入力欄!E212=\"\",\"\",入力欄!E212)","v":""},null,{"$f":"IF(入力欄!F212=\"\",\"\",入力欄!F212)","v":""},null,null,null,{"$f":"IF(入力欄!G212=\"\",\"\",入力欄!G212)","v":""},null,null,{"$f":"IF(入力欄!H212=\"\",\"\",入力欄!H212)","v":""},null,null,{"$f":"IF(入力欄!I212=\"\",\"\",入力欄!I212)","v":""},null,null,{"$f":"IF(入力欄!J212=\"\",\"\",入力欄!J212)","v":""},null,null,{"$f":"IF(入力欄!K212=\"\",\"\",入力欄!K212)","v":""},{"$f":"IF(入力欄!L212=\"\",\"\",入力欄!L212)","v":""},null,null,null,null,null,{"$f":"IF(入力欄!M212=\"\",\"\",入力欄!M212)","v":""},{"$f":"IF(入力欄!N212=\"\",\"\",入力欄!N212)","v":""}]
[null,8,{"$f":"IF(入力欄!E213=\"\",\"\",入力欄!E213)","v":""},null,{"$f":"IF(入力欄!F213=\"\",\"\",入力欄!F213)","v":""},null,null,null,{"$f":"IF(入力欄!G213=\"\",\"\",入力欄!G213)","v":""},null,null,{"$f":"IF(入力欄!H213=\"\",\"\",入力欄!H213)","v":""},null,null,{"$f":"IF(入力欄!I213=\"\",\"\",入力欄!I213)","v":""},null,null,{"$f":"IF(入力欄!J213=\"\",\"\",入力欄!J213)","v":""},null,null,{"$f":"IF(入力欄!K213=\"\",\"\",入力欄!K213)","v":""},{"$f":"IF(入力欄!L213=\"\",\"\",入力欄!L213)","v":""},null,null,null,null,null,{"$f":"IF(入力欄!M213=\"\",\"\",入力欄!M213)","v":""},{"$f":"IF(入力欄!N213=\"\",\"\",入力欄!N213)","v":""}]
[null,9,{"$f":"IF(入力欄!E214=\"\",\"\",入力欄!E214)","v":""},null,{"$f":"IF(入力欄!F214=\"\",\"\",入力欄!F214)","v":""},null,null,null,{"$f":"IF(入力欄!G214=\"\",\"\",入力欄!G214)","v":""},null,null,{"$f":"IF(入力欄!H214=\"\",\"\",入力欄!H214)","v":""},null,null,{"$f":"IF(入力欄!I214=\"\",\"\",入力欄!I214)","v":""},null,null,{"$f":"IF(入力欄!J214=\"\",\"\",入力欄!J214)","v":""},null,null,{"$f":"IF(入力欄!K214=\"\",\"\",入力欄!K214)","v":""},{"$f":"IF(入力欄!L214=\"\",\"\",入力欄!L214)","v":""},null,null,null,null,null,{"$f":"IF(入力欄!M214=\"\",\"\",入力欄!M214)","v":""},{"$f":"IF(入力欄!N214=\"\",\"\",入力欄!N214)","v":""}]
[null,10,{"$f":"IF(入力欄!E215=\"\",\"\",入力欄!E215)","v":""},null,{"$f":"IF(入力欄!F215=\"\",\"\",入力欄!F215)","v":""},null,null,null,{"$f":"IF(入力欄!G215=\"\",\"\",入力欄!G215)","v":""},null,null,{"$f":"IF(入力欄!H215=\"\",\"\",入力欄!H215)","v":""},null,null,{"$f":"IF(入力欄!I215=\"\",\"\",入力欄!I215)","v":""},null,null,{"$f":"IF(入力欄!J215=\"\",\"\",入力欄!J215)","v":""},null,null,{"$f":"IF(入力欄!K215=\"\",\"\",入力欄!K215)","v":""},{"$f":"IF(入力欄!L215=\"\",\"\",入力欄!L215)","v":""},null,null,null,null,null,{"$f":"IF(入力欄!M215=\"\",\"\",入力欄!M215)","v":""},{"$f":"IF(入力欄!N215=\"\",\"\",入力欄!N215)","v":""}]
[{"$f":"IF(入力欄!C216=\"\",\"\",入力欄!C216)","v":""},1,{"$f":"IF(入力欄!E216=\"\",\"\",入力欄!E216)","v":""},null,{"$f":"IF(入力欄!F216=\"\",\"\",入力欄!F216)","v":""},null,null,null,{"$f":"IF(入力欄!G216=\"\",\"\",入力欄!G216)","v":""},null,null,{"$f":"IF(入力欄!H216=\"\",\"\",入力欄!H216)","v":""},null,null,{"$f":"IF(入力欄!I216=\"\",\"\",入力欄!I216)","v":""},null,null,{"$f":"IF(入力欄!J216=\"\",\"\",入力欄!J216)","v":""},null,null,{"$f":"IF(入力欄!K216=\"\",\"\",入力欄!K216)","v":""},{"$f":"IF(入力欄!L216=\"\",\"\",入力欄!L216)","v":""},null,null,null,null,null,{"$f":"IF(入力欄!M216=\"\",\"\",入力欄!M216)","v":""},{"$f":"IF(入力欄!N216=\"\",\"\",入力欄!N216)","v":""}]
[null,2,{"$f":"IF(入力欄!E217=\"\",\"\",入力欄!E217)","v":""},null,{"$f":"IF(入力欄!F217=\"\",\"\",入力欄!F217)","v":""},null,null,null,{"$f":"IF(入力欄!G217=\"\",\"\",入力欄!G217)","v":""},null,null,{"$f":"IF(入力欄!H217=\"\",\"\",入力欄!H217)","v":""},null,null,{"$f":"IF(入力欄!I217=\"\",\"\",入力欄!I217)","v":""},null,null,{"$f":"IF(入力欄!J217=\"\",\"\",入力欄!J217)","v":""},null,null,{"$f":"IF(入力欄!K217=\"\",\"\",入力欄!K217)","v":""},{"$f":"IF(入力欄!L217=\"\",\"\",入力欄!L217)","v":""},null,null,null,null,null,{"$f":"IF(入力欄!M217=\"\",\"\",入力欄!M217)","v":""},{"$f":"IF(入力欄!N217=\"\",\"\",入力欄!N217)","v":""}]
[null,3,{"$f":"IF(入力欄!E218=\"\",\"\",入力欄!E218)","v":""},null,{"$f":"IF(入力欄!F218=\"\",\"\",入力欄!F218)","v":""},null,null,null,{"$f":"IF(入力欄!G218=\"\",\"\",入力欄!G218)","v":""},null,null,{"$f":"IF(入力欄!H218=\"\",\"\",入力欄!H218)","v":""},null,null,{"$f":"IF(入力欄!I218=\"\",\"\",入力欄!I218)","v":""},null,null,{"$f":"IF(入力欄!J218=\"\",\"\",入力欄!J218)","v":""},null,null,{"$f":"IF(入力欄!K218=\"\",\"\",入力欄!K218)","v":""},{"$f":"IF(入力欄!L218=\"\",\"\",入力欄!L218)","v":""},null,null,null,null,null,{"$f":"IF(入力欄!M218=\"\",\"\",入力欄!M218)","v":""},{"$f":"IF(入力欄!N218=\"\",\"\",入力欄!N218)","v":""}]
[null,4,{"$f":"IF(入力欄!E219=\"\",\"\",入力欄!E219)","v":""},null,{"$f":"IF(入力欄!F219=\"\",\"\",入力欄!F219)","v":""},null,null,null,{"$f":"IF(入力欄!G219=\"\",\"\",入力欄!G219)","v":""},null,null,{"$f":"IF(入力欄!H219=\"\",\"\",入力欄!H219)","v":""},null,null,{"$f":"IF(入力欄!I219=\"\",\"\",入力欄!I219)","v":""},null,null,{"$f":"IF(入力欄!J219=\"\",\"\",入力欄!J219)","v":""},null,null,{"$f":"IF(入力欄!K219=\"\",\"\",入力欄!K219)","v":""},{"$f":"IF(入力欄!L219=\"\",\"\",入力欄!L219)","v":""},null,null,null,null,null,{"$f":"IF(入力欄!M219=\"\",\"\",入力欄!M219)","v":""},{"$f":"IF(入力欄!N219=\"\",\"\",入力欄!N219)","v":""}]
[null,5,{"$f":"IF(入力欄!E220=\"\",\"\",入力欄!E220)","v":""},null,{"$f":"IF(入力欄!F220=\"\",\"\",入力欄!F220)","v":""},null,null,null,{"$f":"IF(入力欄!G220=\"\",\"\",入力欄!G220)","v":""},null,null,{"$f":"IF(入力欄!H220=\"\",\"\",入力欄!H220)","v":""},null,null,{"$f":"IF(入力欄!I220=\"\",\"\",入力欄!I220)","v":""},null,null,{"$f":"IF(入力欄!J220=\"\",\"\",入力欄!J220)","v":""},null,null,{"$f":"IF(入力欄!K220=\"\",\"\",入力欄!K220)","v":""},{"$f":"IF(入力欄!L220=\"\",\"\",入力欄!L220)","v":""},null,null,null,null,null,{"$f":"IF(入力欄!M220=\"\",\"\",入力欄!M220)","v":""},{"$f":"IF(入力欄!N220=\"\",\"\",入力欄!N220)","v":""}]
[null,6,{"$f":"IF(入力欄!E221=\"\",\"\",入力欄!E221)","v":""},null,{"$f":"IF(入力欄!F221=\"\",\"\",入力欄!F221)","v":""},null,null,null,{"$f":"IF(入力欄!G221=\"\",\"\",入力欄!G221)","v":""},null,null,{"$f":"IF(入力欄!H221=\"\",\"\",入力欄!H221)","v":""},null,null,{"$f":"IF(入力欄!I221=\"\",\"\",入力欄!I221)","v":""},null,null,{"$f":"IF(入力欄!J221=\"\",\"\",入力欄!J221)","v":""},null,null,{"$f":"IF(入力欄!K221=\"\",\"\",入力欄!K221)","v":""},{"$f":"IF(入力欄!L221=\"\",\"\",入力欄!L221)","v":""},null,null,null,null,null,{"$f":"IF(入力欄!M221=\"\",\"\",入力欄!M221)","v":""},{"$f":"IF(入力欄!N221=\"\",\"\",入力欄!N221)","v":""}]
[null,7,{"$f":"IF(入力欄!E222=\"\",\"\",入力欄!E222)","v":""},null,{"$f":"IF(入力欄!F222=\"\",\"\",入力欄!F222)","v":""},null,null,null,{"$f":"IF(入力欄!G222=\"\",\"\",入力欄!G222)","v":""},null,null,{"$f":"IF(入力欄!H222=\"\",\"\",入力欄!H222)","v":""},null,null,{"$f":"IF(入力欄!I222=\"\",\"\",入力欄!I222)","v":""},null,null,{"$f":"IF(入力欄!J222=\"\",\"\",入力欄!J222)","v":""},null,null,{"$f":"IF(入力欄!K222=\"\",\"\",入力欄!K222)","v":""},{"$f":"IF(入力欄!L222=\"\",\"\",入力欄!L222)","v":""},null,null,null,null,null,{"$f":"IF(入力欄!M222=\"\",\"\",入力欄!M222)","v":""},{"$f":"IF(入力欄!N222=\"\",\"\",入力欄!N222)","v":""}]
[null,8,{"$f":"IF(入力欄!E223=\"\",\"\",入力欄!E223)","v":""},null,{"$f":"IF(入力欄!F223=\"\",\"\",入力欄!F223)","v":""},null,null,null,{"$f":"IF(入力欄!G223=\"\",\"\",入力欄!G223)","v":""},null,null,{"$f":"IF(入力欄!H223=\"\",\"\",入力欄!H223)","v":""},null,null,{"$f":"IF(入力欄!I223=\"\",\"\",入力欄!I223)","v":""},null,null,{"$f":"IF(入力欄!J223=\"\",\"\",入力欄!J223)","v":""},null,null,{"$f":"IF(入力欄!K223=\"\",\"\",入力欄!K223)","v":""},{"$f":"IF(入力欄!L223=\"\",\"\",入力欄!L223)","v":""},null,null,null,null,null,{"$f":"IF(入力欄!M223=\"\",\"\",入力欄!M223)","v":""},{"$f":"IF(入力欄!N223=\"\",\"\",入力欄!N223)","v":""}]
[null,9,{"$f":"IF(入力欄!E224=\"\",\"\",入力欄!E224)","v":""},null,{"$f":"IF(入力欄!F224=\"\",\"\",入力欄!F224)","v":""},null,null,null,{"$f":"IF(入力欄!G224=\"\",\"\",入力欄!G224)","v":""},null,null,{"$f":"IF(入力欄!H224=\"\",\"\",入力欄!H224)","v":""},null,null,{"$f":"IF(入力欄!I224=\"\",\"\",入力欄!I224)","v":""},null,null,{"$f":"IF(入力欄!J224=\"\",\"\",入力欄!J224)","v":""},null,null,{"$f":"IF(入力欄!K224=\"\",\"\",入力欄!K224)","v":""},{"$f":"IF(入力欄!L224=\"\",\"\",入力欄!L224)","v":""},null,null,null,null,null,{"$f":"IF(入力欄!M224=\"\",\"\",入力欄!M224)","v":""},{"$f":"IF(入力欄!N224=\"\",\"\",入力欄!N224)","v":""}]
[null,10,{"$f":"IF(入力欄!E225=\"\",\"\",入力欄!E225)","v":""},null,{"$f":"IF(入力欄!F225=\"\",\"\",入力欄!F225)","v":""},null,null,null,{"$f":"IF(入力欄!G225=\"\",\"\",入力欄!G225)","v":""},null,null,{"$f":"IF(入力欄!H225=\"\",\"\",入力欄!H225)","v":""},null,null,{"$f":"IF(入力欄!I225=\"\",\"\",入力欄!I225)","v":""},null,null,{"$f":"IF(入力欄!J225=\"\",\"\",入力欄!J225)","v":""},null,null,{"$f":"IF(入力欄!K225=\"\",\"\",入力欄!K225)","v":""},{"$f":"IF(入力欄!L225=\"\",\"\",入力欄!L225)","v":""},null,null,null,null,null,{"$f":"IF(入力欄!M225=\"\",\"\",入力欄!M225)","v":""},{"$f":"IF(入力欄!N225=\"\",\"\",入力欄!N225)","v":""}]
[{"$f":"IF(入力欄!C226=\"\",\"\",入力欄!C226)","v":""},1,{"$f":"IF(入力欄!E226=\"\",\"\",入力欄!E226)","v":""},null,{"$f":"IF(入力欄!F226=\"\",\"\",入力欄!F226)","v":""},null,null,null,{"$f":"IF(入力欄!G226=\"\",\"\",入力欄!G226)","v":""},null,null,{"$f":"IF(入力欄!H226=\"\",\"\",入力欄!H226)","v":""},null,null,{"$f":"IF(入力欄!I226=\"\",\"\",入力欄!I226)","v":""},null,null,{"$f":"IF(入力欄!J226=\"\",\"\",入力欄!J226)","v":""},null,null,{"$f":"IF(入力欄!K226=\"\",\"\",入力欄!K226)","v":""},{"$f":"IF(入力欄!L226=\"\",\"\",入力欄!L226)","v":""},null,null,null,null,null,{"$f":"IF(入力欄!M226=\"\",\"\",入力欄!M226)","v":""},{"$f":"IF(入力欄!N226=\"\",\"\",入力欄!N226)","v":""}]
[null,2,{"$f":"IF(入力欄!E227=\"\",\"\",入力欄!E227)","v":""},null,{"$f":"IF(入力欄!F227=\"\",\"\",入力欄!F227)","v":""},null,null,null,{"$f":"IF(入力欄!G227=\"\",\"\",入力欄!G227)","v":""},null,null,{"$f":"IF(入力欄!H227=\"\",\"\",入力欄!H227)","v":""},null,null,{"$f":"IF(入力欄!I227=\"\",\"\",入力欄!I227)","v":""},null,null,{"$f":"IF(入力欄!J227=\"\",\"\",入力欄!J227)","v":""},null,null,{"$f":"IF(入力欄!K227=\"\",\"\",入力欄!K227)","v":""},{"$f":"IF(入力欄!L227=\"\",\"\",入力欄!L227)","v":""},null,null,null,null,null,{"$f":"IF(入力欄!M227=\"\",\"\",入力欄!M227)","v":""},{"$f":"IF(入力欄!N227=\"\",\"\",入力欄!N227)","v":""}]
[null,3,{"$f":"IF(入力欄!E228=\"\",\"\",入力欄!E228)","v":""},null,{"$f":"IF(入力欄!F228=\"\",\"\",入力欄!F228)","v":""},null,null,null,{"$f":"IF(入力欄!G228=\"\",\"\",入力欄!G228)","v":""},null,null,{"$f":"IF(入力欄!H228=\"\",\"\",入力欄!H228)","v":""},null,null,{"$f":"IF(入力欄!I228=\"\",\"\",入力欄!I228)","v":""},null,null,{"$f":"IF(入力欄!J228=\"\",\"\",入力欄!J228)","v":""},null,null,{"$f":"IF(入力欄!K228=\"\",\"\",入力欄!K228)","v":""},{"$f":"IF(入力欄!L228=\"\",\"\",入力欄!L228)","v":""},null,null,null,null,null,{"$f":"IF(入力欄!M228=\"\",\"\",入力欄!M228)","v":""},{"$f":"IF(入力欄!N228=\"\",\"\",入力欄!N228)","v":""}]
[null,4,{"$f":"IF(入力欄!E229=\"\",\"\",入力欄!E229)","v":""},null,{"$f":"IF(入力欄!F229=\"\",\"\",入力欄!F229)","v":""},null,null,null,{"$f":"IF(入力欄!G229=\"\",\"\",入力欄!G229)","v":""},null,null,{"$f":"IF(入力欄!H229=\"\",\"\",入力欄!H229)","v":""},null,null,{"$f":"IF(入力欄!I229=\"\",\"\",入力欄!I229)","v":""},null,null,{"$f":"IF(入力欄!J229=\"\",\"\",入力欄!J229)","v":""},null,null,{"$f":"IF(入力欄!K229=\"\",\"\",入力欄!K229)","v":""},{"$f":"IF(入力欄!L229=\"\",\"\",入力欄!L229)","v":""},null,null,null,null,null,{"$f":"IF(入力欄!M229=\"\",\"\",入力欄!M229)","v":""},{"$f":"IF(入力欄!N229=\"\",\"\",入力欄!N229)","v":""}]
[null,5,{"$f":"IF(入力欄!E230=\"\",\"\",入力欄!E230)","v":""},null,{"$f":"IF(入力欄!F230=\"\",\"\",入力欄!F230)","v":""},null,null,null,{"$f":"IF(入力欄!G230=\"\",\"\",入力欄!G230)","v":""},null,null,{"$f":"IF(入力欄!H230=\"\",\"\",入力欄!H230)","v":""},null,null,{"$f":"IF(入力欄!I230=\"\",\"\",入力欄!I230)","v":""},null,null,{"$f":"IF(入力欄!J230=\"\",\"\",入力欄!J230)","v":""},null,null,{"$f":"IF(入力欄!K230=\"\",\"\",入力欄!K230)","v":""},{"$f":"IF(入力欄!L230=\"\",\"\",入力欄!L230)","v":""},null,null,null,null,null,{"$f":"IF(入力欄!M230=\"\",\"\",入力欄!M230)","v":""},{"$f":"IF(入力欄!N230=\"\",\"\",入力欄!N230)","v":""}]
[null,6,{"$f":"IF(入力欄!E231=\"\",\"\",入力欄!E231)","v":""},null,{"$f":"IF(入力欄!F231=\"\",\"\",入力欄!F231)","v":""},null,null,null,{"$f":"IF(入力欄!G231=\"\",\"\",入力欄!G231)","v":""},null,null,{"$f":"IF(入力欄!H231=\"\",\"\",入力欄!H231)","v":""},null,null,{"$f":"IF(入力欄!I231=\"\",\"\",入力欄!I231)","v":""},null,null,{"$f":"IF(入力欄!J231=\"\",\"\",入力欄!J231)","v":""},null,null,{"$f":"IF(入力欄!K231=\"\",\"\",入力欄!K231)","v":""},{"$f":"IF(入力欄!L231=\"\",\"\",入力欄!L231)","v":""},null,null,null,null,null,{"$f":"IF(入力欄!M231=\"\",\"\",入力欄!M231)","v":""},{"$f":"IF(入力欄!N231=\"\",\"\",入力欄!N231)","v":""}]
[null,7,{"$f":"IF(入力欄!E232=\"\",\"\",入力欄!E232)","v":""},null,{"$f":"IF(入力欄!F232=\"\",\"\",入力欄!F232)","v":""},null,null,null,{"$f":"IF(入力欄!G232=\"\",\"\",入力欄!G232)","v":""},null,null,{"$f":"IF(入力欄!H232=\"\",\"\",入力欄!H232)","v":""},null,null,{"$f":"IF(入力欄!I232=\"\",\"\",入力欄!I232)","v":""},null,null,{"$f":"IF(入力欄!J232=\"\",\"\",入力欄!J232)","v":""},null,null,{"$f":"IF(入力欄!K232=\"\",\"\",入力欄!K232)","v":""},{"$f":"IF(入力欄!L232=\"\",\"\",入力欄!L232)","v":""},null,null,null,null,null,{"$f":"IF(入力欄!M232=\"\",\"\",入力欄!M232)","v":""},{"$f":"IF(入力欄!N232=\"\",\"\",入力欄!N232)","v":""}]
[null,8,{"$f":"IF(入力欄!E233=\"\",\"\",入力欄!E233)","v":""},null,{"$f":"IF(入力欄!F233=\"\",\"\",入力欄!F233)","v":""},null,null,null,{"$f":"IF(入力欄!G233=\"\",\"\",入力欄!G233)","v":""},null,null,{"$f":"IF(入力欄!H233=\"\",\"\",入力欄!H233)","v":""},null,null,{"$f":"IF(入力欄!I233=\"\",\"\",入力欄!I233)","v":""},null,null,{"$f":"IF(入力欄!J233=\"\",\"\",入力欄!J233)","v":""},null,null,{"$f":"IF(入力欄!K233=\"\",\"\",入力欄!K233)","v":""},{"$f":"IF(入力欄!L233=\"\",\"\",入力欄!L233)","v":""},null,null,null,null,null,{"$f":"IF(入力欄!M233=\"\",\"\",入力欄!M233)","v":""},{"$f":"IF(入力欄!N233=\"\",\"\",入力欄!N233)","v":""}]
[null,9,{"$f":"IF(入力欄!E234=\"\",\"\",入力欄!E234)","v":""},null,{"$f":"IF(入力欄!F234=\"\",\"\",入力欄!F234)","v":""},null,null,null,{"$f":"IF(入力欄!G234=\"\",\"\",入力欄!G234)","v":""},null,null,{"$f":"IF(入力欄!H234=\"\",\"\",入力欄!H234)","v":""},null,null,{"$f":"IF(入力欄!I234=\"\",\"\",入力欄!I234)","v":""},null,null,{"$f":"IF(入力欄!J234=\"\",\"\",入力欄!J234)","v":""},null,null,{"$f":"IF(入力欄!K234=\"\",\"\",入力欄!K234)","v":""},{"$f":"IF(入力欄!L234=\"\",\"\",入力欄!L234)","v":""},null,null,null,null,null,{"$f":"IF(入力欄!M234=\"\",\"\",入力欄!M234)","v":""},{"$f":"IF(入力欄!N234=\"\",\"\",入力欄!N234)","v":""}]
[null,10,{"$f":"IF(入力欄!E235=\"\",\"\",入力欄!E235)","v":""},null,{"$f":"IF(入力欄!F235=\"\",\"\",入力欄!F235)","v":""},null,null,null,{"$f":"IF(入力欄!G235=\"\",\"\",入力欄!G235)","v":""},null,null,{"$f":"IF(入力欄!H235=\"\",\"\",入力欄!H235)","v":""},null,null,{"$f":"IF(入力欄!I235=\"\",\"\",入力欄!I235)","v":""},null,null,{"$f":"IF(入力欄!J235=\"\",\"\",入力欄!J235)","v":""},null,null,{"$f":"IF(入力欄!K235=\"\",\"\",入力欄!K235)","v":""},{"$f":"IF(入力欄!L235=\"\",\"\",入力欄!L235)","v":""},null,null,null,null,null,{"$f":"IF(入力欄!M235=\"\",\"\",入力欄!M235)","v":""},{"$f":"IF(入力欄!N235=\"\",\"\",入力欄!N235)","v":""}]
[{"$f":"IF(入力欄!C236=\"\",\"\",入力欄!C236)","v":""},1,{"$f":"IF(入力欄!E236=\"\",\"\",入力欄!E236)","v":""},null,{"$f":"IF(入力欄!F236=\"\",\"\",入力欄!F236)","v":""},null,null,null,{"$f":"IF(入力欄!G236=\"\",\"\",入力欄!G236)","v":""},null,null,{"$f":"IF(入力欄!H236=\"\",\"\",入力欄!H236)","v":""},null,null,{"$f":"IF(入力欄!I236=\"\",\"\",入力欄!I236)","v":""},null,null,{"$f":"IF(入力欄!J236=\"\",\"\",入力欄!J236)","v":""},null,null,{"$f":"IF(入力欄!K236=\"\",\"\",入力欄!K236)","v":""},{"$f":"IF(入力欄!L236=\"\",\"\",入力欄!L236)","v":""},null,null,null,null,null,{"$f":"IF(入力欄!M236=\"\",\"\",入力欄!M236)","v":""},{"$f":"IF(入力欄!N236=\"\",\"\",入力欄!N236)","v":""}]
[null,2,{"$f":"IF(入力欄!E237=\"\",\"\",入力欄!E237)","v":""},null,{"$f":"IF(入力欄!F237=\"\",\"\",入力欄!F237)","v":""},null,null,null,{"$f":"IF(入力欄!G237=\"\",\"\",入力欄!G237)","v":""},null,null,{"$f":"IF(入力欄!H237=\"\",\"\",入力欄!H237)","v":""},null,null,{"$f":"IF(入力欄!I237=\"\",\"\",入力欄!I237)","v":""},null,null,{"$f":"IF(入力欄!J237=\"\",\"\",入力欄!J237)","v":""},null,null,{"$f":"IF(入力欄!K237=\"\",\"\",入力欄!K237)","v":""},{"$f":"IF(入力欄!L237=\"\",\"\",入力欄!L237)","v":""},null,null,null,null,null,{"$f":"IF(入力欄!M237=\"\",\"\",入力欄!M237)","v":""},{"$f":"IF(入力欄!N237=\"\",\"\",入力欄!N237)","v":""}]
[null,3,{"$f":"IF(入力欄!E238=\"\",\"\",入力欄!E238)","v":""},null,{"$f":"IF(入力欄!F238=\"\",\"\",入力欄!F238)","v":""},null,null,null,{"$f":"IF(入力欄!G238=\"\",\"\",入力欄!G238)","v":""},null,null,{"$f":"IF(入力欄!H238=\"\",\"\",入力欄!H238)","v":""},null,null,{"$f":"IF(入力欄!I238=\"\",\"\",入力欄!I238)","v":""},null,null,{"$f":"IF(入力欄!J238=\"\",\"\",入力欄!J238)","v":""},null,null,{"$f":"IF(入力欄!K238=\"\",\"\",入力欄!K238)","v":""},{"$f":"IF(入力欄!L238=\"\",\"\",入力欄!L238)","v":""},null,null,null,null,null,{"$f":"IF(入力欄!M238=\"\",\"\",入力欄!M238)","v":""},{"$f":"IF(入力欄!N238=\"\",\"\",入力欄!N238)","v":""}]
[null,4,{"$f":"IF(入力欄!E239=\"\",\"\",入力欄!E239)","v":""},null,{"$f":"IF(入力欄!F239=\"\",\"\",入力欄!F239)","v":""},null,null,null,{"$f":"IF(入力欄!G239=\"\",\"\",入力欄!G239)","v":""},null,null,{"$f":"IF(入力欄!H239=\"\",\"\",入力欄!H239)","v":""},null,null,{"$f":"IF(入力欄!I239=\"\",\"\",入力欄!I239)","v":""},null,null,{"$f":"IF(入力欄!J239=\"\",\"\",入力欄!J239)","v":""},null,null,{"$f":"IF(入力欄!K239=\"\",\"\",入力欄!K239)","v":""},{"$f":"IF(入力欄!L239=\"\",\"\",入力欄!L239)","v":""},null,null,null,null,null,{"$f":"IF(入力欄!M239=\"\",\"\",入力欄!M239)","v":""},{"$f":"IF(入力欄!N239=\"\",\"\",入力欄!N239)","v":""}]
[null,5,{"$f":"IF(入力欄!E240=\"\",\"\",入力欄!E240)","v":""},null,{"$f":"IF(入力欄!F240=\"\",\"\",入力欄!F240)","v":""},null,null,null,{"$f":"IF(入力欄!G240=\"\",\"\",入力欄!G240)","v":""},null,null,{"$f":"IF(入力欄!H240=\"\",\"\",入力欄!H240)","v":""},null,null,{"$f":"IF(入力欄!I240=\"\",\"\",入力欄!I240)","v":""},null,null,{"$f":"IF(入力欄!J240=\"\",\"\",入力欄!J240)","v":""},null,null,{"$f":"IF(入力欄!K240=\"\",\"\",入力欄!K240)","v":""},{"$f":"IF(入力欄!L240=\"\",\"\",入力欄!L240)","v":""},null,null,null,null,null,{"$f":"IF(入力欄!M240=\"\",\"\",入力欄!M240)","v":""},{"$f":"IF(入力欄!N240=\"\",\"\",入力欄!N240)","v":""}]
[null,6,{"$f":"IF(入力欄!E241=\"\",\"\",入力欄!E241)","v":""},null,{"$f":"IF(入力欄!F241=\"\",\"\",入力欄!F241)","v":""},null,null,null,{"$f":"IF(入力欄!G241=\"\",\"\",入力欄!G241)","v":""},null,null,{"$f":"IF(入力欄!H241=\"\",\"\",入力欄!H241)","v":""},null,null,{"$f":"IF(入力欄!I241=\"\",\"\",入力欄!I241)","v":""},null,null,{"$f":"IF(入力欄!J241=\"\",\"\",入力欄!J241)","v":""},null,null,{"$f":"IF(入力欄!K241=\"\",\"\",入力欄!K241)","v":""},{"$f":"IF(入力欄!L241=\"\",\"\",入力欄!L241)","v":""},null,null,null,null,null,{"$f":"IF(入力欄!M241=\"\",\"\",入力欄!M241)","v":""},{"$f":"IF(入力欄!N241=\"\",\"\",入力欄!N241)","v":""}]
[null,7,{"$f":"IF(入力欄!E242=\"\",\"\",入力欄!E242)","v":""},null,{"$f":"IF(入力欄!F242=\"\",\"\",入力欄!F242)","v":""},null,null,null,{"$f":"IF(入力欄!G242=\"\",\"\",入力欄!G242)","v":""},null,null,{"$f":"IF(入力欄!H242=\"\",\"\",入力欄!H242)","v":""},null,null,{"$f":"IF(入力欄!I242=\"\",\"\",入力欄!I242)","v":""},null,null,{"$f":"IF(入力欄!J242=\"\",\"\",入力欄!J242)","v":""},null,null,{"$f":"IF(入力欄!K242=\"\",\"\",入力欄!K242)","v":""},{"$f":"IF(入力欄!L242=\"\",\"\",入力欄!L242)","v":""},null,null,null,null,null,{"$f":"IF(入力欄!M242=\"\",\"\",入力欄!M242)","v":""},{"$f":"IF(入力欄!N242=\"\",\"\",入力欄!N242)","v":""}]
[null,8,{"$f":"IF(入力欄!E243=\"\",\"\",入力欄!E243)","v":""},null,{"$f":"IF(入力欄!F243=\"\",\"\",入力欄!F243)","v":""},null,null,null,{"$f":"IF(入力欄!G243=\"\",\"\",入力欄!G243)","v":""},null,null,{"$f":"IF(入力欄!H243=\"\",\"\",入力欄!H243)","v":""},null,null,{"$f":"IF(入力欄!I243=\"\",\"\",入力欄!I243)","v":""},null,null,{"$f":"IF(入力欄!J243=\"\",\"\",入力欄!J243)","v":""},null,null,{"$f":"IF(入力欄!K243=\"\",\"\",入力欄!K243)","v":""},{"$f":"IF(入力欄!L243=\"\",\"\",入力欄!L243)","v":""},null,null,null,null,null,{"$f":"IF(入力欄!M243=\"\",\"\",入力欄!M243)","v":""},{"$f":"IF(入力欄!N243=\"\",\"\",入力欄!N243)","v":""}]
[null,9,{"$f":"IF(入力欄!E244=\"\",\"\",入力欄!E244)","v":""},null,{"$f":"IF(入力欄!F244=\"\",\"\",入力欄!F244)","v":""},null,null,null,{"$f":"IF(入力欄!G244=\"\",\"\",入力欄!G244)","v":""},null,null,{"$f":"IF(入力欄!H244=\"\",\"\",入力欄!H244)","v":""},null,null,{"$f":"IF(入力欄!I244=\"\",\"\",入力欄!I244)","v":""},null,null,{"$f":"IF(入力欄!J244=\"\",\"\",入力欄!J244)","v":""},null,null,{"$f":"IF(入力欄!K244=\"\",\"\",入力欄!K244)","v":""},{"$f":"IF(入力欄!L244=\"\",\"\",入力欄!L244)","v":""},null,null,null,null,null,{"$f":"IF(入力欄!M244=\"\",\"\",入力欄!M244)","v":""},{"$f":"IF(入力欄!N244=\"\",\"\",入力欄!N244)","v":""}]
[null,10,{"$f":"IF(入力欄!E245=\"\",\"\",入力欄!E245)","v":""},null,{"$f":"IF(入力欄!F245=\"\",\"\",入力欄!F245)","v":""},null,null,null,{"$f":"IF(入力欄!G245=\"\",\"\",入力欄!G245)","v":""},null,null,{"$f":"IF(入力欄!H245=\"\",\"\",入力欄!H245)","v":""},null,null,{"$f":"IF(入力欄!I245=\"\",\"\",入力欄!I245)","v":""},null,null,{"$f":"IF(入力欄!J245=\"\",\"\",入力欄!J245)","v":""},null,null,{"$f":"IF(入力欄!K245=\"\",\"\",入力欄!K245)","v":""},{"$f":"IF(入力欄!L245=\"\",\"\",入力欄!L245)","v":""},null,null,null,null,null,{"$f":"IF(入力欄!M245=\"\",\"\",入力欄!M245)","v":""},{"$f":"IF(入力欄!N245=\"\",\"\",入力欄!N245)","v":""}]
[{"$f":"IF(入力欄!C246=\"\",\"\",入力欄!C246)","v":""},1,{"$f":"IF(入力欄!E246=\"\",\"\",入力欄!E246)","v":""},null,{"$f":"IF(入力欄!F246=\"\",\"\",入力欄!F246)","v":""},null,null,null,{"$f":"IF(入力欄!G246=\"\",\"\",入力欄!G246)","v":""},null,null,{"$f":"IF(入力欄!H246=\"\",\"\",入力欄!H246)","v":""},null,null,{"$f":"IF(入力欄!I246=\"\",\"\",入力欄!I246)","v":""},null,null,{"$f":"IF(入力欄!J246=\"\",\"\",入力欄!J246)","v":""},null,null,{"$f":"IF(入力欄!K246=\"\",\"\",入力欄!K246)","v":""},{"$f":"IF(入力欄!L246=\"\",\"\",入力欄!L246)","v":""},null,null,null,null,null,{"$f":"IF(入力欄!M246=\"\",\"\",入力欄!M246)","v":""},{"$f":"IF(入力欄!N246=\"\",\"\",入力欄!N246)","v":""}]
[null,2,{"$f":"IF(入力欄!E247=\"\",\"\",入力欄!E247)","v":""},null,{"$f":"IF(入力欄!F247=\"\",\"\",入力欄!F247)","v":""},null,null,null,{"$f":"IF(入力欄!G247=\"\",\"\",入力欄!G247)","v":""},null,null,{"$f":"IF(入力欄!H247=\"\",\"\",入力欄!H247)","v":""},null,null,{"$f":"IF(入力欄!I247=\"\",\"\",入力欄!I247)","v":""},null,null,{"$f":"IF(入力欄!J247=\"\",\"\",入力欄!J247)","v":""},null,null,{"$f":"IF(入力欄!K247=\"\",\"\",入力欄!K247)","v":""},{"$f":"IF(入力欄!L247=\"\",\"\",入力欄!L247)","v":""},null,null,null,null,null,{"$f":"IF(入力欄!M247=\"\",\"\",入力欄!M247)","v":""},{"$f":"IF(入力欄!N247=\"\",\"\",入力欄!N247)","v":""}]
[null,3,{"$f":"IF(入力欄!E248=\"\",\"\",入力欄!E248)","v":""},null,{"$f":"IF(入力欄!F248=\"\",\"\",入力欄!F248)","v":""},null,null,null,{"$f":"IF(入力欄!G248=\"\",\"\",入力欄!G248)","v":""},null,null,{"$f":"IF(入力欄!H248=\"\",\"\",入力欄!H248)","v":""},null,null,{"$f":"IF(入力欄!I248=\"\",\"\",入力欄!I248)","v":""},null,null,{"$f":"IF(入力欄!J248=\"\",\"\",入力欄!J248)","v":""},null,null,{"$f":"IF(入力欄!K248=\"\",\"\",入力欄!K248)","v":""},{"$f":"IF(入力欄!L248=\"\",\"\",入力欄!L248)","v":""},null,null,null,null,null,{"$f":"IF(入力欄!M248=\"\",\"\",入力欄!M248)","v":""},{"$f":"IF(入力欄!N248=\"\",\"\",入力欄!N248)","v":""}]
[null,4,{"$f":"IF(入力欄!E249=\"\",\"\",入力欄!E249)","v":""},null,{"$f":"IF(入力欄!F249=\"\",\"\",入力欄!F249)","v":""},null,null,null,{"$f":"IF(入力欄!G249=\"\",\"\",入力欄!G249)","v":""},null,null,{"$f":"IF(入力欄!H249=\"\",\"\",入力欄!H249)","v":""},null,null,{"$f":"IF(入力欄!I249=\"\",\"\",入力欄!I249)","v":""},null,null,{"$f":"IF(入力欄!J249=\"\",\"\",入力欄!J249)","v":""},null,null,{"$f":"IF(入力欄!K249=\"\",\"\",入力欄!K249)","v":""},{"$f":"IF(入力欄!L249=\"\",\"\",入力欄!L249)","v":""},null,null,null,null,null,{"$f":"IF(入力欄!M249=\"\",\"\",入力欄!M249)","v":""},{"$f":"IF(入力欄!N249=\"\",\"\",入力欄!N249)","v":""}]
[null,5,{"$f":"IF(入力欄!E250=\"\",\"\",入力欄!E250)","v":""},null,{"$f":"IF(入力欄!F250=\"\",\"\",入力欄!F250)","v":""},null,null,null,{"$f":"IF(入力欄!G250=\"\",\"\",入力欄!G250)","v":""},null,null,{"$f":"IF(入力欄!H250=\"\",\"\",入力欄!H250)","v":""},null,null,{"$f":"IF(入力欄!I250=\"\",\"\",入力欄!I250)","v":""},null,null,{"$f":"IF(入力欄!J250=\"\",\"\",入力欄!J250)","v":""},null,null,{"$f":"IF(入力欄!K250=\"\",\"\",入力欄!K250)","v":""},{"$f":"IF(入力欄!L250=\"\",\"\",入力欄!L250)","v":""},null,null,null,null,null,{"$f":"IF(入力欄!M250=\"\",\"\",入力欄!M250)","v":""},{"$f":"IF(入力欄!N250=\"\",\"\",入力欄!N250)","v":""}]
[null,6,{"$f":"IF(入力欄!E251=\"\",\"\",入力欄!E251)","v":""},null,{"$f":"IF(入力欄!F251=\"\",\"\",入力欄!F251)","v":""},null,null,null,{"$f":"IF(入力欄!G251=\"\",\"\",入力欄!G251)","v":""},null,null,{"$f":"IF(入力欄!H251=\"\",\"\",入力欄!H251)","v":""},null,null,{"$f":"IF(入力欄!I251=\"\",\"\",入力欄!I251)","v":""},null,null,{"$f":"IF(入力欄!J251=\"\",\"\",入力欄!J251)","v":""},null,null,{"$f":"IF(入力欄!K251=\"\",\"\",入力欄!K251)","v":""},{"$f":"IF(入力欄!L251=\"\",\"\",入力欄!L251)","v":""},null,null,null,null,null,{"$f":"IF(入力欄!M251=\"\",\"\",入力欄!M251)","v":""},{"$f":"IF(入力欄!N251=\"\",\"\",入力欄!N251)","v":""}]
[null,7,{"$f":"IF(入力欄!E252=\"\",\"\",入力欄!E252)","v":""},null,{"$f":"IF(入力欄!F252=\"\",\"\",入力欄!F252)","v":""},null,null,null,{"$f":"IF(入力欄!G252=\"\",\"\",入力欄!G252)","v":""},null,null,{"$f":"IF(入力欄!H252=\"\",\"\",入力欄!H252)","v":""},null,null,{"$f":"IF(入力欄!I252=\"\",\"\",入力欄!I252)","v":""},null,null,{"$f":"IF(入力欄!J252=\"\",\"\",入力欄!J252)","v":""},null,null,{"$f":"IF(入力欄!K252=\"\",\"\",入力欄!K252)","v":""},{"$f":"IF(入力欄!L252=\"\",\"\",入力欄!L252)","v":""},null,null,null,null,null,{"$f":"IF(入力欄!M252=\"\",\"\",入力欄!M252)","v":""},{"$f":"IF(入力欄!N252=\"\",\"\",入力欄!N252)","v":""}]
[null,8,{"$f":"IF(入力欄!E253=\"\",\"\",入力欄!E253)","v":""},null,{"$f":"IF(入力欄!F253=\"\",\"\",入力欄!F253)","v":""},null,null,null,{"$f":"IF(入力欄!G253=\"\",\"\",入力欄!G253)","v":""},null,null,{"$f":"IF(入力欄!H253=\"\",\"\",入力欄!H253)","v":""},null,null,{"$f":"IF(入力欄!I253=\"\",\"\",入力欄!I253)","v":""},null,null,{"$f":"IF(入力欄!J253=\"\",\"\",入力欄!J253)","v":""},null,null,{"$f":"IF(入力欄!K253=\"\",\"\",入力欄!K253)","v":""},{"$f":"IF(入力欄!L253=\"\",\"\",入力欄!L253)","v":""},null,null,null,null,null,{"$f":"IF(入力欄!M253=\"\",\"\",入力欄!M253)","v":""},{"$f":"IF(入力欄!N253=\"\",\"\",入力欄!N253)","v":""}]
[null,9,{"$f":"IF(入力欄!E254=\"\",\"\",入力欄!E254)","v":""},null,{"$f":"IF(入力欄!F254=\"\",\"\",入力欄!F254)","v":""},null,null,null,{"$f":"IF(入力欄!G254=\"\",\"\",入力欄!G254)","v":""},null,null,{"$f":"IF(入力欄!H254=\"\",\"\",入力欄!H254)","v":""},null,null,{"$f":"IF(入力欄!I254=\"\",\"\",入力欄!I254)","v":""},null,null,{"$f":"IF(入力欄!J254=\"\",\"\",入力欄!J254)","v":""},null,null,{"$f":"IF(入力欄!K254=\"\",\"\",入力欄!K254)","v":""},{"$f":"IF(入力欄!L254=\"\",\"\",入力欄!L254)","v":""},null,null,null,null,null,{"$f":"IF(入力欄!M254=\"\",\"\",入力欄!M254)","v":""},{"$f":"IF(入力欄!N254=\"\",\"\",入力欄!N254)","v":""}]
[null,10,{"$f":"IF(入力欄!E255=\"\",\"\",入力欄!E255)","v":""},null,{"$f":"IF(入力欄!F255=\"\",\"\",入力欄!F255)","v":""},null,null,null,{"$f":"IF(入力欄!G255=\"\",\"\",入力欄!G255)","v":""},null,null,{"$f":"IF(入力欄!H255=\"\",\"\",入力欄!H255)","v":""},null,null,{"$f":"IF(入力欄!I255=\"\",\"\",入力欄!I255)","v":""},null,null,{"$f":"IF(入力欄!J255=\"\",\"\",入力欄!J255)","v":""},null,null,{"$f":"IF(入力欄!K255=\"\",\"\",入力欄!K255)","v":""},{"$f":"IF(入力欄!L255=\"\",\"\",入力欄!L255)","v":""},null,null,null,null,null,{"$f":"IF(入力欄!M255=\"\",\"\",入力欄!M255)","v":""},{"$f":"IF(入力欄!N255=\"\",\"\",入力欄!N255)","v":""}]
[{"$f":"IF(入力欄!C256=\"\",\"\",入力欄!C256)","v":""},1,{"$f":"IF(入力欄!E256=\"\",\"\",入力欄!E256)","v":""},null,{"$f":"IF(入力欄!F256=\"\",\"\",入力欄!F256)","v":""},null,null,null,{"$f":"IF(入力欄!G256=\"\",\"\",入力欄!G256)","v":""},null,null,{"$f":"IF(入力欄!H256=\"\",\"\",入力欄!H256)","v":""},null,null,{"$f":"IF(入力欄!I256=\"\",\"\",入力欄!I256)","v":""},null,null,{"$f":"IF(入力欄!J256=\"\",\"\",入力欄!J256)","v":""},null,null,{"$f":"IF(入力欄!K256=\"\",\"\",入力欄!K256)","v":""},{"$f":"IF(入力欄!L256=\"\",\"\",入力欄!L256)","v":""},null,null,null,null,null,{"$f":"IF(入力欄!M256=\"\",\"\",入力欄!M256)","v":""},{"$f":"IF(入力欄!N256=\"\",\"\",入力欄!N256)","v":""}]
[null,2,{"$f":"IF(入力欄!E257=\"\",\"\",入力欄!E257)","v":""},null,{"$f":"IF(入力欄!F257=\"\",\"\",入力欄!F257)","v":""},null,null,null,{"$f":"IF(入力欄!G257=\"\",\"\",入力欄!G257)","v":""},null,null,{"$f":"IF(入力欄!H257=\"\",\"\",入力欄!H257)","v":""},null,null,{"$f":"IF(入力欄!I257=\"\",\"\",入力欄!I257)","v":""},null,null,{"$f":"IF(入力欄!J257=\"\",\"\",入力欄!J257)","v":""},null,null,{"$f":"IF(入力欄!K257=\"\",\"\",入力欄!K257)","v":""},{"$f":"IF(入力欄!L257=\"\",\"\",入力欄!L257)","v":""},null,null,null,null,null,{"$f":"IF(入力欄!M257=\"\",\"\",入力欄!M257)","v":""},{"$f":"IF(入力欄!N257=\"\",\"\",入力欄!N257)","v":""}]
[null,3,{"$f":"IF(入力欄!E258=\"\",\"\",入力欄!E258)","v":""},null,{"$f":"IF(入力欄!F258=\"\",\"\",入力欄!F258)","v":""},null,null,null,{"$f":"IF(入力欄!G258=\"\",\"\",入力欄!G258)","v":""},null,null,{"$f":"IF(入力欄!H258=\"\",\"\",入力欄!H258)","v":""},null,null,{"$f":"IF(入力欄!I258=\"\",\"\",入力欄!I258)","v":""},null,null,{"$f":"IF(入力欄!J258=\"\",\"\",入力欄!J258)","v":""},null,null,{"$f":"IF(入力欄!K258=\"\",\"\",入力欄!K258)","v":""},{"$f":"IF(入力欄!L258=\"\",\"\",入力欄!L258)","v":""},null,null,null,null,null,{"$f":"IF(入力欄!M258=\"\",\"\",入力欄!M258)","v":""},{"$f":"IF(入力欄!N258=\"\",\"\",入力欄!N258)","v":""}]
[null,4,{"$f":"IF(入力欄!E259=\"\",\"\",入力欄!E259)","v":""},null,{"$f":"IF(入力欄!F259=\"\",\"\",入力欄!F259)","v":""},null,null,null,{"$f":"IF(入力欄!G259=\"\",\"\",入力欄!G259)","v":""},null,null,{"$f":"IF(入力欄!H259=\"\",\"\",入力欄!H259)","v":""},null,null,{"$f":"IF(入力欄!I259=\"\",\"\",入力欄!I259)","v":""},null,null,{"$f":"IF(入力欄!J259=\"\",\"\",入力欄!J259)","v":""},null,null,{"$f":"IF(入力欄!K259=\"\",\"\",入力欄!K259)","v":""},{"$f":"IF(入力欄!L259=\"\",\"\",入力欄!L259)","v":""},null,null,null,null,null,{"$f":"IF(入力欄!M259=\"\",\"\",入力欄!M259)","v":""},{"$f":"IF(入力欄!N259=\"\",\"\",入力欄!N259)","v":""}]
[null,5,{"$f":"IF(入力欄!E260=\"\",\"\",入力欄!E260)","v":""},null,{"$f":"IF(入力欄!F260=\"\",\"\",入力欄!F260)","v":""},null,null,null,{"$f":"IF(入力欄!G260=\"\",\"\",入力欄!G260)","v":""},null,null,{"$f":"IF(入力欄!H260=\"\",\"\",入力欄!H260)","v":""},null,null,{"$f":"IF(入力欄!I260=\"\",\"\",入力欄!I260)","v":""},null,null,{"$f":"IF(入力欄!J260=\"\",\"\",入力欄!J260)","v":""},null,null,{"$f":"IF(入力欄!K260=\"\",\"\",入力欄!K260)","v":""},{"$f":"IF(入力欄!L260=\"\",\"\",入力欄!L260)","v":""},null,null,null,null,null,{"$f":"IF(入力欄!M260=\"\",\"\",入力欄!M260)","v":""},{"$f":"IF(入力欄!N260=\"\",\"\",入力欄!N260)","v":""}]
[null,6,{"$f":"IF(入力欄!E261=\"\",\"\",入力欄!E261)","v":""},null,{"$f":"IF(入力欄!F261=\"\",\"\",入力欄!F261)","v":""},null,null,null,{"$f":"IF(入力欄!G261=\"\",\"\",入力欄!G261)","v":""},null,null,{"$f":"IF(入力欄!H261=\"\",\"\",入力欄!H261)","v":""},null,null,{"$f":"IF(入力欄!I261=\"\",\"\",入力欄!I261)","v":""},null,null,{"$f":"IF(入力欄!J261=\"\",\"\",入力欄!J261)","v":""},null,null,{"$f":"IF(入力欄!K261=\"\",\"\",入力欄!K261)","v":""},{"$f":"IF(入力欄!L261=\"\",\"\",入力欄!L261)","v":""},null,null,null,null,null,{"$f":"IF(入力欄!M261=\"\",\"\",入力欄!M261)","v":""},{"$f":"IF(入力欄!N261=\"\",\"\",入力欄!N261)","v":""}]
[null,7,{"$f":"IF(入力欄!E262=\"\",\"\",入力欄!E262)","v":""},null,{"$f":"IF(入力欄!F262=\"\",\"\",入力欄!F262)","v":""},null,null,null,{"$f":"IF(入力欄!G262=\"\",\"\",入力欄!G262)","v":""},null,null,{"$f":"IF(入力欄!H262=\"\",\"\",入力欄!H262)","v":""},null,null,{"$f":"IF(入力欄!I262=\"\",\"\",入力欄!I262)","v":""},null,null,{"$f":"IF(入力欄!J262=\"\",\"\",入力欄!J262)","v":""},null,null,{"$f":"IF(入力欄!K262=\"\",\"\",入力欄!K262)","v":""},{"$f":"IF(入力欄!L262=\"\",\"\",入力欄!L262)","v":""},null,null,null,null,null,{"$f":"IF(入力欄!M262=\"\",\"\",入力欄!M262)","v":""},{"$f":"IF(入力欄!N262=\"\",\"\",入力欄!N262)","v":""}]
[null,8,{"$f":"IF(入力欄!E263=\"\",\"\",入力欄!E263)","v":""},null,{"$f":"IF(入力欄!F263=\"\",\"\",入力欄!F263)","v":""},null,null,null,{"$f":"IF(入力欄!G263=\"\",\"\",入力欄!G263)","v":""},null,null,{"$f":"IF(入力欄!H263=\"\",\"\",入力欄!H263)","v":""},null,null,{"$f":"IF(入力欄!I263=\"\",\"\",入力欄!I263)","v":""},null,null,{"$f":"IF(入力欄!J263=\"\",\"\",入力欄!J263)","v":""},null,null,{"$f":"IF(入力欄!K263=\"\",\"\",入力欄!K263)","v":""},{"$f":"IF(入力欄!L263=\"\",\"\",入力欄!L263)","v":""},null,null,null,null,null,{"$f":"IF(入力欄!M263=\"\",\"\",入力欄!M263)","v":""},{"$f":"IF(入力欄!N263=\"\",\"\",入力欄!N263)","v":""}]
[null,9,{"$f":"IF(入力欄!E264=\"\",\"\",入力欄!E264)","v":""},null,{"$f":"IF(入力欄!F264=\"\",\"\",入力欄!F264)","v":""},null,null,null,{"$f":"IF(入力欄!G264=\"\",\"\",入力欄!G264)","v":""},null,null,{"$f":"IF(入力欄!H264=\"\",\"\",入力欄!H264)","v":""},null,null,{"$f":"IF(入力欄!I264=\"\",\"\",入力欄!I264)","v":""},null,null,{"$f":"IF(入力欄!J264=\"\",\"\",入力欄!J264)","v":""},null,null,{"$f":"IF(入力欄!K264=\"\",\"\",入力欄!K264)","v":""},{"$f":"IF(入力欄!L264=\"\",\"\",入力欄!L264)","v":""},null,null,null,null,null,{"$f":"IF(入力欄!M264=\"\",\"\",入力欄!M264)","v":""},{"$f":"IF(入力欄!N264=\"\",\"\",入力欄!N264)","v":""}]
[null,10,{"$f":"IF(入力欄!E265=\"\",\"\",入力欄!E265)","v":""},null,{"$f":"IF(入力欄!F265=\"\",\"\",入力欄!F265)","v":""},null,null,null,{"$f":"IF(入力欄!G265=\"\",\"\",入力欄!G265)","v":""},null,null,{"$f":"IF(入力欄!H265=\"\",\"\",入力欄!H265)","v":""},null,null,{"$f":"IF(入力欄!I265=\"\",\"\",入力欄!I265)","v":""},null,null,{"$f":"IF(入力欄!J265=\"\",\"\",入力欄!J265)","v":""},null,null,{"$f":"IF(入力欄!K265=\"\",\"\",入力欄!K265)","v":""},{"$f":"IF(入力欄!L265=\"\",\"\",入力欄!L265)","v":""},null,null,null,null,null,{"$f":"IF(入力欄!M265=\"\",\"\",入力欄!M265)","v":""},{"$f":"IF(入力欄!N265=\"\",\"\",入力欄!N265)","v":""}]
[{"$f":"IF(入力欄!C266=\"\",\"\",入力欄!C266)","v":""},1,{"$f":"IF(入力欄!E266=\"\",\"\",入力欄!E266)","v":""},null,{"$f":"IF(入力欄!F266=\"\",\"\",入力欄!F266)","v":""},null,null,null,{"$f":"IF(入力欄!G266=\"\",\"\",入力欄!G266)","v":""},null,null,{"$f":"IF(入力欄!H266=\"\",\"\",入力欄!H266)","v":""},null,null,{"$f":"IF(入力欄!I266=\"\",\"\",入力欄!I266)","v":""},null,null,{"$f":"IF(入力欄!J266=\"\",\"\",入力欄!J266)","v":""},null,null,{"$f":"IF(入力欄!K266=\"\",\"\",入力欄!K266)","v":""},{"$f":"IF(入力欄!L266=\"\",\"\",入力欄!L266)","v":""},null,null,null,null,null,{"$f":"IF(入力欄!M266=\"\",\"\",入力欄!M266)","v":""},{"$f":"IF(入力欄!N266=\"\",\"\",入力欄!N266)","v":""}]
[null,2,{"$f":"IF(入力欄!E267=\"\",\"\",入力欄!E267)","v":""},null,{"$f":"IF(入力欄!F267=\"\",\"\",入力欄!F267)","v":""},null,null,null,{"$f":"IF(入力欄!G267=\"\",\"\",入力欄!G267)","v":""},null,null,{"$f":"IF(入力欄!H267=\"\",\"\",入力欄!H267)","v":""},null,null,{"$f":"IF(入力欄!I267=\"\",\"\",入力欄!I267)","v":""},null,null,{"$f":"IF(入力欄!J267=\"\",\"\",入力欄!J267)","v":""},null,null,{"$f":"IF(入力欄!K267=\"\",\"\",入力欄!K267)","v":""},{"$f":"IF(入力欄!L267=\"\",\"\",入力欄!L267)","v":""},null,null,null,null,null,{"$f":"IF(入力欄!M267=\"\",\"\",入力欄!M267)","v":""},{"$f":"IF(入力欄!N267=\"\",\"\",入力欄!N267)","v":""}]
[null,3,{"$f":"IF(入力欄!E268=\"\",\"\",入力欄!E268)","v":""},null,{"$f":"IF(入力欄!F268=\"\",\"\",入力欄!F268)","v":""},null,null,null,{"$f":"IF(入力欄!G268=\"\",\"\",入力欄!G268)","v":""},null,null,{"$f":"IF(入力欄!H268=\"\",\"\",入力欄!H268)","v":""},null,null,{"$f":"IF(入力欄!I268=\"\",\"\",入力欄!I268)","v":""},null,null,{"$f":"IF(入力欄!J268=\"\",\"\",入力欄!J268)","v":""},null,null,{"$f":"IF(入力欄!K268=\"\",\"\",入力欄!K268)","v":""},{"$f":"IF(入力欄!L268=\"\",\"\",入力欄!L268)","v":""},null,null,null,null,null,{"$f":"IF(入力欄!M268=\"\",\"\",入力欄!M268)","v":""},{"$f":"IF(入力欄!N268=\"\",\"\",入力欄!N268)","v":""}]
[null,4,{"$f":"IF(入力欄!E269=\"\",\"\",入力欄!E269)","v":""},null,{"$f":"IF(入力欄!F269=\"\",\"\",入力欄!F269)","v":""},null,null,null,{"$f":"IF(入力欄!G269=\"\",\"\",入力欄!G269)","v":""},null,null,{"$f":"IF(入力欄!H269=\"\",\"\",入力欄!H269)","v":""},null,null,{"$f":"IF(入力欄!I269=\"\",\"\",入力欄!I269)","v":""},null,null,{"$f":"IF(入力欄!J269=\"\",\"\",入力欄!J269)","v":""},null,null,{"$f":"IF(入力欄!K269=\"\",\"\",入力欄!K269)","v":""},{"$f":"IF(入力欄!L269=\"\",\"\",入力欄!L269)","v":""},null,null,null,null,null,{"$f":"IF(入力欄!M269=\"\",\"\",入力欄!M269)","v":""},{"$f":"IF(入力欄!N269=\"\",\"\",入力欄!N269)","v":""}]
[null,5,{"$f":"IF(入力欄!E270=\"\",\"\",入力欄!E270)","v":""},null,{"$f":"IF(入力欄!F270=\"\",\"\",入力欄!F270)","v":""},null,null,null,{"$f":"IF(入力欄!G270=\"\",\"\",入力欄!G270)","v":""},null,null,{"$f":"IF(入力欄!H270=\"\",\"\",入力欄!H270)","v":""},null,null,{"$f":"IF(入力欄!I270=\"\",\"\",入力欄!I270)","v":""},null,null,{"$f":"IF(入力欄!J270=\"\",\"\",入力欄!J270)","v":""},null,null,{"$f":"IF(入力欄!K270=\"\",\"\",入力欄!K270)","v":""},{"$f":"IF(入力欄!L270=\"\",\"\",入力欄!L270)","v":""},null,null,null,null,null,{"$f":"IF(入力欄!M270=\"\",\"\",入力欄!M270)","v":""},{"$f":"IF(入力欄!N270=\"\",\"\",入力欄!N270)","v":""}]
[null,6,{"$f":"IF(入力欄!E271=\"\",\"\",入力欄!E271)","v":""},null,{"$f":"IF(入力欄!F271=\"\",\"\",入力欄!F271)","v":""},null,null,null,{"$f":"IF(入力欄!G271=\"\",\"\",入力欄!G271)","v":""},null,null,{"$f":"IF(入力欄!H271=\"\",\"\",入力欄!H271)","v":""},null,null,{"$f":"IF(入力欄!I271=\"\",\"\",入力欄!I271)","v":""},null,null,{"$f":"IF(入力欄!J271=\"\",\"\",入力欄!J271)","v":""},null,null,{"$f":"IF(入力欄!K271=\"\",\"\",入力欄!K271)","v":""},{"$f":"IF(入力欄!L271=\"\",\"\",入力欄!L271)","v":""},null,null,null,null,null,{"$f":"IF(入力欄!M271=\"\",\"\",入力欄!M271)","v":""},{"$f":"IF(入力欄!N271=\"\",\"\",入力欄!N271)","v":""}]
[null,7,{"$f":"IF(入力欄!E272=\"\",\"\",入力欄!E272)","v":""},null,{"$f":"IF(入力欄!F272=\"\",\"\",入力欄!F272)","v":""},null,null,null,{"$f":"IF(入力欄!G272=\"\",\"\",入力欄!G272)","v":""},null,null,{"$f":"IF(入力欄!H272=\"\",\"\",入力欄!H272)","v":""},null,null,{"$f":"IF(入力欄!I272=\"\",\"\",入力欄!I272)","v":""},null,null,{"$f":"IF(入力欄!J272=\"\",\"\",入力欄!J272)","v":""},null,null,{"$f":"IF(入力欄!K272=\"\",\"\",入力欄!K272)","v":""},{"$f":"IF(入力欄!L272=\"\",\"\",入力欄!L272)","v":""},null,null,null,null,null,{"$f":"IF(入力欄!M272=\"\",\"\",入力欄!M272)","v":""},{"$f":"IF(入力欄!N272=\"\",\"\",入力欄!N272)","v":""}]
[null,8,{"$f":"IF(入力欄!E273=\"\",\"\",入力欄!E273)","v":""},null,{"$f":"IF(入力欄!F273=\"\",\"\",入力欄!F273)","v":""},null,null,null,{"$f":"IF(入力欄!G273=\"\",\"\",入力欄!G273)","v":""},null,null,{"$f":"IF(入力欄!H273=\"\",\"\",入力欄!H273)","v":""},null,null,{"$f":"IF(入力欄!I273=\"\",\"\",入力欄!I273)","v":""},null,null,{"$f":"IF(入力欄!J273=\"\",\"\",入力欄!J273)","v":""},null,null,{"$f":"IF(入力欄!K273=\"\",\"\",入力欄!K273)","v":""},{"$f":"IF(入力欄!L273=\"\",\"\",入力欄!L273)","v":""},null,null,null,null,null,{"$f":"IF(入力欄!M273=\"\",\"\",入力欄!M273)","v":""},{"$f":"IF(入力欄!N273=\"\",\"\",入力欄!N273)","v":""}]
[null,9,{"$f":"IF(入力欄!E274=\"\",\"\",入力欄!E274)","v":""},null,{"$f":"IF(入力欄!F274=\"\",\"\",入力欄!F274)","v":""},null,null,null,{"$f":"IF(入力欄!G274=\"\",\"\",入力欄!G274)","v":""},null,null,{"$f":"IF(入力欄!H274=\"\",\"\",入力欄!H274)","v":""},null,null,{"$f":"IF(入力欄!I274=\"\",\"\",入力欄!I274)","v":""},null,null,{"$f":"IF(入力欄!J274=\"\",\"\",入力欄!J274)","v":""},null,null,{"$f":"IF(入力欄!K274=\"\",\"\",入力欄!K274)","v":""},{"$f":"IF(入力欄!L274=\"\",\"\",入力欄!L274)","v":""},null,null,null,null,null,{"$f":"IF(入力欄!M274=\"\",\"\",入力欄!M274)","v":""},{"$f":"IF(入力欄!N274=\"\",\"\",入力欄!N274)","v":""}]
[null,10,{"$f":"IF(入力欄!E275=\"\",\"\",入力欄!E275)","v":""},null,{"$f":"IF(入力欄!F275=\"\",\"\",入力欄!F275)","v":""},null,null,null,{"$f":"IF(入力欄!G275=\"\",\"\",入力欄!G275)","v":""},null,null,{"$f":"IF(入力欄!H275=\"\",\"\",入力欄!H275)","v":""},null,null,{"$f":"IF(入力欄!I275=\"\",\"\",入力欄!I275)","v":""},null,null,{"$f":"IF(入力欄!J275=\"\",\"\",入力欄!J275)","v":""},null,null,{"$f":"IF(入力欄!K275=\"\",\"\",入力欄!K275)","v":""},{"$f":"IF(入力欄!L275=\"\",\"\",入力欄!L275)","v":""},null,null,null,null,null,{"$f":"IF(入力欄!M275=\"\",\"\",入力欄!M275)","v":""},{"$f":"IF(入力欄!N275=\"\",\"\",入力欄!N275)","v":""}]
[{"$f":"IF(入力欄!C276=\"\",\"\",入力欄!C276)","v":""},1,{"$f":"IF(入力欄!E276=\"\",\"\",入力欄!E276)","v":""},null,{"$f":"IF(入力欄!F276=\"\",\"\",入力欄!F276)","v":""},null,null,null,{"$f":"IF(入力欄!G276=\"\",\"\",入力欄!G276)","v":""},null,null,{"$f":"IF(入力欄!H276=\"\",\"\",入力欄!H276)","v":""},null,null,{"$f":"IF(入力欄!I276=\"\",\"\",入力欄!I276)","v":""},null,null,{"$f":"IF(入力欄!J276=\"\",\"\",入力欄!J276)","v":""},null,null,{"$f":"IF(入力欄!K276=\"\",\"\",入力欄!K276)","v":""},{"$f":"IF(入力欄!L276=\"\",\"\",入力欄!L276)","v":""},null,null,null,null,null,{"$f":"IF(入力欄!M276=\"\",\"\",入力欄!M276)","v":""},{"$f":"IF(入力欄!N276=\"\",\"\",入力欄!N276)","v":""}]
[null,2,{"$f":"IF(入力欄!E277=\"\",\"\",入力欄!E277)","v":""},null,{"$f":"IF(入力欄!F277=\"\",\"\",入力欄!F277)","v":""},null,null,null,{"$f":"IF(入力欄!G277=\"\",\"\",入力欄!G277)","v":""},null,null,{"$f":"IF(入力欄!H277=\"\",\"\",入力欄!H277)","v":""},null,null,{"$f":"IF(入力欄!I277=\"\",\"\",入力欄!I277)","v":""},null,null,{"$f":"IF(入力欄!J277=\"\",\"\",入力欄!J277)","v":""},null,null,{"$f":"IF(入力欄!K277=\"\",\"\",入力欄!K277)","v":""},{"$f":"IF(入力欄!L277=\"\",\"\",入力欄!L277)","v":""},null,null,null,null,null,{"$f":"IF(入力欄!M277=\"\",\"\",入力欄!M277)","v":""},{"$f":"IF(入力欄!N277=\"\",\"\",入力欄!N277)","v":""}]
[null,3,{"$f":"IF(入力欄!E278=\"\",\"\",入力欄!E278)","v":""},null,{"$f":"IF(入力欄!F278=\"\",\"\",入力欄!F278)","v":""},null,null,null,{"$f":"IF(入力欄!G278=\"\",\"\",入力欄!G278)","v":""},null,null,{"$f":"IF(入力欄!H278=\"\",\"\",入力欄!H278)","v":""},null,null,{"$f":"IF(入力欄!I278=\"\",\"\",入力欄!I278)","v":""},null,null,{"$f":"IF(入力欄!J278=\"\",\"\",入力欄!J278)","v":""},null,null,{"$f":"IF(入力欄!K278=\"\",\"\",入力欄!K278)","v":""},{"$f":"IF(入力欄!L278=\"\",\"\",入力欄!L278)","v":""},null,null,null,null,null,{"$f":"IF(入力欄!M278=\"\",\"\",入力欄!M278)","v":""},{"$f":"IF(入力欄!N278=\"\",\"\",入力欄!N278)","v":""}]
[null,4,{"$f":"IF(入力欄!E279=\"\",\"\",入力欄!E279)","v":""},null,{"$f":"IF(入力欄!F279=\"\",\"\",入力欄!F279)","v":""},null,null,null,{"$f":"IF(入力欄!G279=\"\",\"\",入力欄!G279)","v":""},null,null,{"$f":"IF(入力欄!H279=\"\",\"\",入力欄!H279)","v":""},null,null,{"$f":"IF(入力欄!I279=\"\",\"\",入力欄!I279)","v":""},null,null,{"$f":"IF(入力欄!J279=\"\",\"\",入力欄!J279)","v":""},null,null,{"$f":"IF(入力欄!K279=\"\",\"\",入力欄!K279)","v":""},{"$f":"IF(入力欄!L279=\"\",\"\",入力欄!L279)","v":""},null,null,null,null,null,{"$f":"IF(入力欄!M279=\"\",\"\",入力欄!M279)","v":""},{"$f":"IF(入力欄!N279=\"\",\"\",入力欄!N279)","v":""}]
[null,5,{"$f":"IF(入力欄!E280=\"\",\"\",入力欄!E280)","v":""},null,{"$f":"IF(入力欄!F280=\"\",\"\",入力欄!F280)","v":""},null,null,null,{"$f":"IF(入力欄!G280=\"\",\"\",入力欄!G280)","v":""},null,null,{"$f":"IF(入力欄!H280=\"\",\"\",入力欄!H280)","v":""},null,null,{"$f":"IF(入力欄!I280=\"\",\"\",入力欄!I280)","v":""},null,null,{"$f":"IF(入力欄!J280=\"\",\"\",入力欄!J280)","v":""},null,null,{"$f":"IF(入力欄!K280=\"\",\"\",入力欄!K280)","v":""},{"$f":"IF(入力欄!L280=\"\",\"\",入力欄!L280)","v":""},null,null,null,null,null,{"$f":"IF(入力欄!M280=\"\",\"\",入力欄!M280)","v":""},{"$f":"IF(入力欄!N280=\"\",\"\",入力欄!N280)","v":""}]
[null,6,{"$f":"IF(入力欄!E281=\"\",\"\",入力欄!E281)","v":""},null,{"$f":"IF(入力欄!F281=\"\",\"\",入力欄!F281)","v":""},null,null,null,{"$f":"IF(入力欄!G281=\"\",\"\",入力欄!G281)","v":""},null,null,{"$f":"IF(入力欄!H281=\"\",\"\",入力欄!H281)","v":""},null,null,{"$f":"IF(入力欄!I281=\"\",\"\",入力欄!I281)","v":""},null,null,{"$f":"IF(入力欄!J281=\"\",\"\",入力欄!J281)","v":""},null,null,{"$f":"IF(入力欄!K281=\"\",\"\",入力欄!K281)","v":""},{"$f":"IF(入力欄!L281=\"\",\"\",入力欄!L281)","v":""},null,null,null,null,null,{"$f":"IF(入力欄!M281=\"\",\"\",入力欄!M281)","v":""},{"$f":"IF(入力欄!N281=\"\",\"\",入力欄!N281)","v":""}]
[null,7,{"$f":"IF(入力欄!E282=\"\",\"\",入力欄!E282)","v":""},null,{"$f":"IF(入力欄!F282=\"\",\"\",入力欄!F282)","v":""},null,null,null,{"$f":"IF(入力欄!G282=\"\",\"\",入力欄!G282)","v":""},null,null,{"$f":"IF(入力欄!H282=\"\",\"\",入力欄!H282)","v":""},null,null,{"$f":"IF(入力欄!I282=\"\",\"\",入力欄!I282)","v":""},null,null,{"$f":"IF(入力欄!J282=\"\",\"\",入力欄!J282)","v":""},null,null,{"$f":"IF(入力欄!K282=\"\",\"\",入力欄!K282)","v":""},{"$f":"IF(入力欄!L282=\"\",\"\",入力欄!L282)","v":""},null,null,null,null,null,{"$f":"IF(入力欄!M282=\"\",\"\",入力欄!M282)","v":""},{"$f":"IF(入力欄!N282=\"\",\"\",入力欄!N282)","v":""}]
[null,8,{"$f":"IF(入力欄!E283=\"\",\"\",入力欄!E283)","v":""},null,{"$f":"IF(入力欄!F283=\"\",\"\",入力欄!F283)","v":""},null,null,null,{"$f":"IF(入力欄!G283=\"\",\"\",入力欄!G283)","v":""},null,null,{"$f":"IF(入力欄!H283=\"\",\"\",入力欄!H283)","v":""},null,null,{"$f":"IF(入力欄!I283=\"\",\"\",入力欄!I283)","v":""},null,null,{"$f":"IF(入力欄!J283=\"\",\"\",入力欄!J283)","v":""},null,null,{"$f":"IF(入力欄!K283=\"\",\"\",入力欄!K283)","v":""},{"$f":"IF(入力欄!L283=\"\",\"\",入力欄!L283)","v":""},null,null,null,null,null,{"$f":"IF(入力欄!M283=\"\",\"\",入力欄!M283)","v":""},{"$f":"IF(入力欄!N283=\"\",\"\",入力欄!N283)","v":""}]
[null,9,{"$f":"IF(入力欄!E284=\"\",\"\",入力欄!E284)","v":""},null,{"$f":"IF(入力欄!F284=\"\",\"\",入力欄!F284)","v":""},null,null,null,{"$f":"IF(入力欄!G284=\"\",\"\",入力欄!G284)","v":""},null,null,{"$f":"IF(入力欄!H284=\"\",\"\",入力欄!H284)","v":""},null,null,{"$f":"IF(入力欄!I284=\"\",\"\",入力欄!I284)","v":""},null,null,{"$f":"IF(入力欄!J284=\"\",\"\",入力欄!J284)","v":""},null,null,{"$f":"IF(入力欄!K284=\"\",\"\",入力欄!K284)","v":""},{"$f":"IF(入力欄!L284=\"\",\"\",入力欄!L284)","v":""},null,null,null,null,null,{"$f":"IF(入力欄!M284=\"\",\"\",入力欄!M284)","v":""},{"$f":"IF(入力欄!N284=\"\",\"\",入力欄!N284)","v":""}]
[null,10,{"$f":"IF(入力欄!E285=\"\",\"\",入力欄!E285)","v":""},null,{"$f":"IF(入力欄!F285=\"\",\"\",入力欄!F285)","v":""},null,null,null,{"$f":"IF(入力欄!G285=\"\",\"\",入力欄!G285)","v":""},null,null,{"$f":"IF(入力欄!H285=\"\",\"\",入力欄!H285)","v":""},null,null,{"$f":"IF(入力欄!I285=\"\",\"\",入力欄!I285)","v":""},null,null,{"$f":"IF(入力欄!J285=\"\",\"\",入力欄!J285)","v":""},null,null,{"$f":"IF(入力欄!K285=\"\",\"\",入力欄!K285)","v":""},{"$f":"IF(入力欄!L285=\"\",\"\",入力欄!L285)","v":""},null,null,null,null,null,{"$f":"IF(入力欄!M285=\"\",\"\",入力欄!M285)","v":""},{"$f":"IF(入力欄!N285=\"\",\"\",入力欄!N285)","v":""}]
[{"$f":"IF(入力欄!C286=\"\",\"\",入力欄!C286)","v":""},1,{"$f":"IF(入力欄!E286=\"\",\"\",入力欄!E286)","v":""},null,{"$f":"IF(入力欄!F286=\"\",\"\",入力欄!F286)","v":""},null,null,null,{"$f":"IF(入力欄!G286=\"\",\"\",入力欄!G286)","v":""},null,null,{"$f":"IF(入力欄!H286=\"\",\"\",入力欄!H286)","v":""},null,null,{"$f":"IF(入力欄!I286=\"\",\"\",入力欄!I286)","v":""},null,null,{"$f":"IF(入力欄!J286=\"\",\"\",入力欄!J286)","v":""},null,null,{"$f":"IF(入力欄!K286=\"\",\"\",入力欄!K286)","v":""},{"$f":"IF(入力欄!L286=\"\",\"\",入力欄!L286)","v":""},null,null,null,null,null,{"$f":"IF(入力欄!M286=\"\",\"\",入力欄!M286)","v":""},{"$f":"IF(入力欄!N286=\"\",\"\",入力欄!N286)","v":""}]
[null,2,{"$f":"IF(入力欄!E287=\"\",\"\",入力欄!E287)","v":""},null,{"$f":"IF(入力欄!F287=\"\",\"\",入力欄!F287)","v":""},null,null,null,{"$f":"IF(入力欄!G287=\"\",\"\",入力欄!G287)","v":""},null,null,{"$f":"IF(入力欄!H287=\"\",\"\",入力欄!H287)","v":""},null,null,{"$f":"IF(入力欄!I287=\"\",\"\",入力欄!I287)","v":""},null,null,{"$f":"IF(入力欄!J287=\"\",\"\",入力欄!J287)","v":""},null,null,{"$f":"IF(入力欄!K287=\"\",\"\",入力欄!K287)","v":""},{"$f":"IF(入力欄!L287=\"\",\"\",入力欄!L287)","v":""},null,null,null,null,null,{"$f":"IF(入力欄!M287=\"\",\"\",入力欄!M287)","v":""},{"$f":"IF(入力欄!N287=\"\",\"\",入力欄!N287)","v":""}]
[null,3,{"$f":"IF(入力欄!E288=\"\",\"\",入力欄!E288)","v":""},null,{"$f":"IF(入力欄!F288=\"\",\"\",入力欄!F288)","v":""},null,null,null,{"$f":"IF(入力欄!G288=\"\",\"\",入力欄!G288)","v":""},null,null,{"$f":"IF(入力欄!H288=\"\",\"\",入力欄!H288)","v":""},null,null,{"$f":"IF(入力欄!I288=\"\",\"\",入力欄!I288)","v":""},null,null,{"$f":"IF(入力欄!J288=\"\",\"\",入力欄!J288)","v":""},null,null,{"$f":"IF(入力欄!K288=\"\",\"\",入力欄!K288)","v":""},{"$f":"IF(入力欄!L288=\"\",\"\",入力欄!L288)","v":""},null,null,null,null,null,{"$f":"IF(入力欄!M288=\"\",\"\",入力欄!M288)","v":""},{"$f":"IF(入力欄!N288=\"\",\"\",入力欄!N288)","v":""}]
[null,4,{"$f":"IF(入力欄!E289=\"\",\"\",入力欄!E289)","v":""},null,{"$f":"IF(入力欄!F289=\"\",\"\",入力欄!F289)","v":""},null,null,null,{"$f":"IF(入力欄!G289=\"\",\"\",入力欄!G289)","v":""},null,null,{"$f":"IF(入力欄!H289=\"\",\"\",入力欄!H289)","v":""},null,null,{"$f":"IF(入力欄!I289=\"\",\"\",入力欄!I289)","v":""},null,null,{"$f":"IF(入力欄!J289=\"\",\"\",入力欄!J289)","v":""},null,null,{"$f":"IF(入力欄!K289=\"\",\"\",入力欄!K289)","v":""},{"$f":"IF(入力欄!L289=\"\",\"\",入力欄!L289)","v":""},null,null,null,null,null,{"$f":"IF(入力欄!M289=\"\",\"\",入力欄!M289)","v":""},{"$f":"IF(入力欄!N289=\"\",\"\",入力欄!N289)","v":""}]
[null,5,{"$f":"IF(入力欄!E290=\"\",\"\",入力欄!E290)","v":""},null,{"$f":"IF(入力欄!F290=\"\",\"\",入力欄!F290)","v":""},null,null,null,{"$f":"IF(入力欄!G290=\"\",\"\",入力欄!G290)","v":""},null,null,{"$f":"IF(入力欄!H290=\"\",\"\",入力欄!H290)","v":""},null,null,{"$f":"IF(入力欄!I290=\"\",\"\",入力欄!I290)","v":""},null,null,{"$f":"IF(入力欄!J290=\"\",\"\",入力欄!J290)","v":""},null,null,{"$f":"IF(入力欄!K290=\"\",\"\",入力欄!K290)","v":""},{"$f":"IF(入力欄!L290=\"\",\"\",入力欄!L290)","v":""},null,null,null,null,null,{"$f":"IF(入力欄!M290=\"\",\"\",入力欄!M290)","v":""},{"$f":"IF(入力欄!N290=\"\",\"\",入力欄!N290)","v":""}]
[null,6,{"$f":"IF(入力欄!E291=\"\",\"\",入力欄!E291)","v":""},null,{"$f":"IF(入力欄!F291=\"\",\"\",入力欄!F291)","v":""},null,null,null,{"$f":"IF(入力欄!G291=\"\",\"\",入力欄!G291)","v":""},null,null,{"$f":"IF(入力欄!H291=\"\",\"\",入力欄!H291)","v":""},null,null,{"$f":"IF(入力欄!I291=\"\",\"\",入力欄!I291)","v":""},null,null,{"$f":"IF(入力欄!J291=\"\",\"\",入力欄!J291)","v":""},null,null,{"$f":"IF(入力欄!K291=\"\",\"\",入力欄!K291)","v":""},{"$f":"IF(入力欄!L291=\"\",\"\",入力欄!L291)","v":""},null,null,null,null,null,{"$f":"IF(入力欄!M291=\"\",\"\",入力欄!M291)","v":""},{"$f":"IF(入力欄!N291=\"\",\"\",入力欄!N291)","v":""}]
[null,7,{"$f":"IF(入力欄!E292=\"\",\"\",入力欄!E292)","v":""},null,{"$f":"IF(入力欄!F292=\"\",\"\",入力欄!F292)","v":""},null,null,null,{"$f":"IF(入力欄!G292=\"\",\"\",入力欄!G292)","v":""},null,null,{"$f":"IF(入力欄!H292=\"\",\"\",入力欄!H292)","v":""},null,null,{"$f":"IF(入力欄!I292=\"\",\"\",入力欄!I292)","v":""},null,null,{"$f":"IF(入力欄!J292=\"\",\"\",入力欄!J292)","v":""},null,null,{"$f":"IF(入力欄!K292=\"\",\"\",入力欄!K292)","v":""},{"$f":"IF(入力欄!L292=\"\",\"\",入力欄!L292)","v":""},null,null,null,null,null,{"$f":"IF(入力欄!M292=\"\",\"\",入力欄!M292)","v":""},{"$f":"IF(入力欄!N292=\"\",\"\",入力欄!N292)","v":""}]
[null,8,{"$f":"IF(入力欄!E293=\"\",\"\",入力欄!E293)","v":""},null,{"$f":"IF(入力欄!F293=\"\",\"\",入力欄!F293)","v":""},null,null,null,{"$f":"IF(入力欄!G293=\"\",\"\",入力欄!G293)","v":""},null,null,{"$f":"IF(入力欄!H293=\"\",\"\",入力欄!H293)","v":""},null,null,{"$f":"IF(入力欄!I293=\"\",\"\",入力欄!I293)","v":""},null,null,{"$f":"IF(入力欄!J293=\"\",\"\",入力欄!J293)","v":""},null,null,{"$f":"IF(入力欄!K293=\"\",\"\",入力欄!K293)","v":""},{"$f":"IF(入力欄!L293=\"\",\"\",入力欄!L293)","v":""},null,null,null,null,null,{"$f":"IF(入力欄!M293=\"\",\"\",入力欄!M293)","v":""},{"$f":"IF(入力欄!N293=\"\",\"\",入力欄!N293)","v":""}]
[null,9,{"$f":"IF(入力欄!E294=\"\",\"\",入力欄!E294)","v":""},null,{"$f":"IF(入力欄!F294=\"\",\"\",入力欄!F294)","v":""},null,null,null,{"$f":"IF(入力欄!G294=\"\",\"\",入力欄!G294)","v":""},null,null,{"$f":"IF(入力欄!H294=\"\",\"\",入力欄!H294)","v":""},null,null,{"$f":"IF(入力欄!I294=\"\",\"\",入力欄!I294)","v":""},null,null,{"$f":"IF(入力欄!J294=\"\",\"\",入力欄!J294)","v":""},null,null,{"$f":"IF(入力欄!K294=\"\",\"\",入力欄!K294)","v":""},{"$f":"IF(入力欄!L294=\"\",\"\",入力欄!L294)","v":""},null,null,null,null,null,{"$f":"IF(入力欄!M294=\"\",\"\",入力欄!M294)","v":""},{"$f":"IF(入力欄!N294=\"\",\"\",入力欄!N294)","v":""}]
[null,10,{"$f":"IF(入力欄!E295=\"\",\"\",入力欄!E295)","v":""},null,{"$f":"IF(入力欄!F295=\"\",\"\",入力欄!F295)","v":""},null,null,null,{"$f":"IF(入力欄!G295=\"\",\"\",入力欄!G295)","v":""},null,null,{"$f":"IF(入力欄!H295=\"\",\"\",入力欄!H295)","v":""},null,null,{"$f":"IF(入力欄!I295=\"\",\"\",入力欄!I295)","v":""},null,null,{"$f":"IF(入力欄!J295=\"\",\"\",入力欄!J295)","v":""},null,null,{"$f":"IF(入力欄!K295=\"\",\"\",入力欄!K295)","v":""},{"$f":"IF(入力欄!L295=\"\",\"\",入力欄!L295)","v":""},null,null,null,null,null,{"$f":"IF(入力欄!M295=\"\",\"\",入力欄!M295)","v":""},{"$f":"IF(入力欄!N295=\"\",\"\",入力欄!N295)","v":""}]
[{"$f":"IF(入力欄!C296=\"\",\"\",入力欄!C296)","v":""},1,{"$f":"IF(入力欄!E296=\"\",\"\",入力欄!E296)","v":""},null,{"$f":"IF(入力欄!F296=\"\",\"\",入力欄!F296)","v":""},null,null,null,{"$f":"IF(入力欄!G296=\"\",\"\",入力欄!G296)","v":""},null,null,{"$f":"IF(入力欄!H296=\"\",\"\",入力欄!H296)","v":""},null,null,{"$f":"IF(入力欄!I296=\"\",\"\",入力欄!I296)","v":""},null,null,{"$f":"IF(入力欄!J296=\"\",\"\",入力欄!J296)","v":""},null,null,{"$f":"IF(入力欄!K296=\"\",\"\",入力欄!K296)","v":""},{"$f":"IF(入力欄!L296=\"\",\"\",入力欄!L296)","v":""},null,null,null,null,null,{"$f":"IF(入力欄!M296=\"\",\"\",入力欄!M296)","v":""},{"$f":"IF(入力欄!N296=\"\",\"\",入力欄!N296)","v":""}]
[null,2,{"$f":"IF(入力欄!E297=\"\",\"\",入力欄!E297)","v":""},null,{"$f":"IF(入力欄!F297=\"\",\"\",入力欄!F297)","v":""},null,null,null,{"$f":"IF(入力欄!G297=\"\",\"\",入力欄!G297)","v":""},null,null,{"$f":"IF(入力欄!H297=\"\",\"\",入力欄!H297)","v":""},null,null,{"$f":"IF(入力欄!I297=\"\",\"\",入力欄!I297)","v":""},null,null,{"$f":"IF(入力欄!J297=\"\",\"\",入力欄!J297)","v":""},null,null,{"$f":"IF(入力欄!K297=\"\",\"\",入力欄!K297)","v":""},{"$f":"IF(入力欄!L297=\"\",\"\",入力欄!L297)","v":""},null,null,null,null,null,{"$f":"IF(入力欄!M297=\"\",\"\",入力欄!M297)","v":""},{"$f":"IF(入力欄!N297=\"\",\"\",入力欄!N297)","v":""}]
[null,3,{"$f":"IF(入力欄!E298=\"\",\"\",入力欄!E298)","v":""},null,{"$f":"IF(入力欄!F298=\"\",\"\",入力欄!F298)","v":""},null,null,null,{"$f":"IF(入力欄!G298=\"\",\"\",入力欄!G298)","v":""},null,null,{"$f":"IF(入力欄!H298=\"\",\"\",入力欄!H298)","v":""},null,null,{"$f":"IF(入力欄!I298=\"\",\"\",入力欄!I298)","v":""},null,null,{"$f":"IF(入力欄!J298=\"\",\"\",入力欄!J298)","v":""},null,null,{"$f":"IF(入力欄!K298=\"\",\"\",入力欄!K298)","v":""},{"$f":"IF(入力欄!L298=\"\",\"\",入力欄!L298)","v":""},null,null,null,null,null,{"$f":"IF(入力欄!M298=\"\",\"\",入力欄!M298)","v":""},{"$f":"IF(入力欄!N298=\"\",\"\",入力欄!N298)","v":""}]
[null,4,{"$f":"IF(入力欄!E299=\"\",\"\",入力欄!E299)","v":""},null,{"$f":"IF(入力欄!F299=\"\",\"\",入力欄!F299)","v":""},null,null,null,{"$f":"IF(入力欄!G299=\"\",\"\",入力欄!G299)","v":""},null,null,{"$f":"IF(入力欄!H299=\"\",\"\",入力欄!H299)","v":""},null,null,{"$f":"IF(入力欄!I299=\"\",\"\",入力欄!I299)","v":""},null,null,{"$f":"IF(入力欄!J299=\"\",\"\",入力欄!J299)","v":""},null,null,{"$f":"IF(入力欄!K299=\"\",\"\",入力欄!K299)","v":""},{"$f":"IF(入力欄!L299=\"\",\"\",入力欄!L299)","v":""},null,null,null,null,null,{"$f":"IF(入力欄!M299=\"\",\"\",入力欄!M299)","v":""},{"$f":"IF(入力欄!N299=\"\",\"\",入力欄!N299)","v":""}]
[null,5,{"$f":"IF(入力欄!E300=\"\",\"\",入力欄!E300)","v":""},null,{"$f":"IF(入力欄!F300=\"\",\"\",入力欄!F300)","v":""},null,null,null,{"$f":"IF(入力欄!G300=\"\",\"\",入力欄!G300)","v":""},null,null,{"$f":"IF(入力欄!H300=\"\",\"\",入力欄!H300)","v":""},null,null,{"$f":"IF(入力欄!I300=\"\",\"\",入力欄!I300)","v":""},null,null,{"$f":"IF(入力欄!J300=\"\",\"\",入力欄!J300)","v":""},null,null,{"$f":"IF(入力欄!K300=\"\",\"\",入力欄!K300)","v":""},{"$f":"IF(入力欄!L300=\"\",\"\",入力欄!L300)","v":""},null,null,null,null,null,{"$f":"IF(入力欄!M300=\"\",\"\",入力欄!M300)","v":""},{"$f":"IF(入力欄!N300=\"\",\"\",入力欄!N300)","v":""}]
[null,6,{"$f":"IF(入力欄!E301=\"\",\"\",入力欄!E301)","v":""},null,{"$f":"IF(入力欄!F301=\"\",\"\",入力欄!F301)","v":""},null,null,null,{"$f":"IF(入力欄!G301=\"\",\"\",入力欄!G301)","v":""},null,null,{"$f":"IF(入力欄!H301=\"\",\"\",入力欄!H301)","v":""},null,null,{"$f":"IF(入力欄!I301=\"\",\"\",入力欄!I301)","v":""},null,null,{"$f":"IF(入力欄!J301=\"\",\"\",入力欄!J301)","v":""},null,null,{"$f":"IF(入力欄!K301=\"\",\"\",入力欄!K301)","v":""},{"$f":"IF(入力欄!L301=\"\",\"\",入力欄!L301)","v":""},null,null,null,null,null,{"$f":"IF(入力欄!M301=\"\",\"\",入力欄!M301)","v":""},{"$f":"IF(入力欄!N301=\"\",\"\",入力欄!N301)","v":""}]
[null,7,{"$f":"IF(入力欄!E302=\"\",\"\",入力欄!E302)","v":""},null,{"$f":"IF(入力欄!F302=\"\",\"\",入力欄!F302)","v":""},null,null,null,{"$f":"IF(入力欄!G302=\"\",\"\",入力欄!G302)","v":""},null,null,{"$f":"IF(入力欄!H302=\"\",\"\",入力欄!H302)","v":""},null,null,{"$f":"IF(入力欄!I302=\"\",\"\",入力欄!I302)","v":""},null,null,{"$f":"IF(入力欄!J302=\"\",\"\",入力欄!J302)","v":""},null,null,{"$f":"IF(入力欄!K302=\"\",\"\",入力欄!K302)","v":""},{"$f":"IF(入力欄!L302=\"\",\"\",入力欄!L302)","v":""},null,null,null,null,null,{"$f":"IF(入力欄!M302=\"\",\"\",入力欄!M302)","v":""},{"$f":"IF(入力欄!N302=\"\",\"\",入力欄!N302)","v":""}]
[null,8,{"$f":"IF(入力欄!E303=\"\",\"\",入力欄!E303)","v":""},null,{"$f":"IF(入力欄!F303=\"\",\"\",入力欄!F303)","v":""},null,null,null,{"$f":"IF(入力欄!G303=\"\",\"\",入力欄!G303)","v":""},null,null,{"$f":"IF(入力欄!H303=\"\",\"\",入力欄!H303)","v":""},null,null,{"$f":"IF(入力欄!I303=\"\",\"\",入力欄!I303)","v":""},null,null,{"$f":"IF(入力欄!J303=\"\",\"\",入力欄!J303)","v":""},null,null,{"$f":"IF(入力欄!K303=\"\",\"\",入力欄!K303)","v":""},{"$f":"IF(入力欄!L303=\"\",\"\",入力欄!L303)","v":""},null,null,null,null,null,{"$f":"IF(入力欄!M303=\"\",\"\",入力欄!M303)","v":""},{"$f":"IF(入力欄!N303=\"\",\"\",入力欄!N303)","v":""}]
[null,9,{"$f":"IF(入力欄!E304=\"\",\"\",入力欄!E304)","v":""},null,{"$f":"IF(入力欄!F304=\"\",\"\",入力欄!F304)","v":""},null,null,null,{"$f":"IF(入力欄!G304=\"\",\"\",入力欄!G304)","v":""},null,null,{"$f":"IF(入力欄!H304=\"\",\"\",入力欄!H304)","v":""},null,null,{"$f":"IF(入力欄!I304=\"\",\"\",入力欄!I304)","v":""},null,null,{"$f":"IF(入力欄!J304=\"\",\"\",入力欄!J304)","v":""},null,null,{"$f":"IF(入力欄!K304=\"\",\"\",入力欄!K304)","v":""},{"$f":"IF(入力欄!L304=\"\",\"\",入力欄!L304)","v":""},null,null,null,null,null,{"$f":"IF(入力欄!M304=\"\",\"\",入力欄!M304)","v":""},{"$f":"IF(入力欄!N304=\"\",\"\",入力欄!N304)","v":""}]
[null,10,{"$f":"IF(入力欄!E305=\"\",\"\",入力欄!E305)","v":""},null,{"$f":"IF(入力欄!F305=\"\",\"\",入力欄!F305)","v":""},null,null,null,{"$f":"IF(入力欄!G305=\"\",\"\",入力欄!G305)","v":""},null,null,{"$f":"IF(入力欄!H305=\"\",\"\",入力欄!H305)","v":""},null,null,{"$f":"IF(入力欄!I305=\"\",\"\",入力欄!I305)","v":""},null,null,{"$f":"IF(入力欄!J305=\"\",\"\",入力欄!J305)","v":""},null,null,{"$f":"IF(入力欄!K305=\"\",\"\",入力欄!K305)","v":""},{"$f":"IF(入力欄!L305=\"\",\"\",入力欄!L305)","v":""},null,null,null,null,null,{"$f":"IF(入力欄!M305=\"\",\"\",入力欄!M305)","v":""},{"$f":"IF(入力欄!N305=\"\",\"\",入力欄!N305)","v":""}]
[{"$f":"IF(入力欄!C306=\"\",\"\",入力欄!C306)","v":""},1,{"$f":"IF(入力欄!E306=\"\",\"\",入力欄!E306)","v":""},null,{"$f":"IF(入力欄!F306=\"\",\"\",入力欄!F306)","v":""},null,null,null,{"$f":"IF(入力欄!G306=\"\",\"\",入力欄!G306)","v":""},null,null,{"$f":"IF(入力欄!H306=\"\",\"\",入力欄!H306)","v":""},null,null,{"$f":"IF(入力欄!I306=\"\",\"\",入力欄!I306)","v":""},null,null,{"$f":"IF(入力欄!J306=\"\",\"\",入力欄!J306)","v":""},null,null,{"$f":"IF(入力欄!K306=\"\",\"\",入力欄!K306)","v":""},{"$f":"IF(入力欄!L306=\"\",\"\",入力欄!L306)","v":""},null,null,null,null,null,{"$f":"IF(入力欄!M306=\"\",\"\",入力欄!M306)","v":""},{"$f":"IF(入力欄!N306=\"\",\"\",入力欄!N306)","v":""}]
[null,2,{"$f":"IF(入力欄!E307=\"\",\"\",入力欄!E307)","v":""},null,{"$f":"IF(入力欄!F307=\"\",\"\",入力欄!F307)","v":""},null,null,null,{"$f":"IF(入力欄!G307=\"\",\"\",入力欄!G307)","v":""},null,null,{"$f":"IF(入力欄!H307=\"\",\"\",入力欄!H307)","v":""},null,null,{"$f":"IF(入力欄!I307=\"\",\"\",入力欄!I307)","v":""},null,null,{"$f":"IF(入力欄!J307=\"\",\"\",入力欄!J307)","v":""},null,null,{"$f":"IF(入力欄!K307=\"\",\"\",入力欄!K307)","v":""},{"$f":"IF(入力欄!L307=\"\",\"\",入力欄!L307)","v":""},null,null,null,null,null,{"$f":"IF(入力欄!M307=\"\",\"\",入力欄!M307)","v":""},{"$f":"IF(入力欄!N307=\"\",\"\",入力欄!N307)","v":""}]
[null,3,{"$f":"IF(入力欄!E308=\"\",\"\",入力欄!E308)","v":""},null,{"$f":"IF(入力欄!F308=\"\",\"\",入力欄!F308)","v":""},null,null,null,{"$f":"IF(入力欄!G308=\"\",\"\",入力欄!G308)","v":""},null,null,{"$f":"IF(入力欄!H308=\"\",\"\",入力欄!H308)","v":""},null,null,{"$f":"IF(入力欄!I308=\"\",\"\",入力欄!I308)","v":""},null,null,{"$f":"IF(入力欄!J308=\"\",\"\",入力欄!J308)","v":""},null,null,{"$f":"IF(入力欄!K308=\"\",\"\",入力欄!K308)","v":""},{"$f":"IF(入力欄!L308=\"\",\"\",入力欄!L308)","v":""},null,null,null,null,null,{"$f":"IF(入力欄!M308=\"\",\"\",入力欄!M308)","v":""},{"$f":"IF(入力欄!N308=\"\",\"\",入力欄!N308)","v":""}]
[null,4,{"$f":"IF(入力欄!E309=\"\",\"\",入力欄!E309)","v":""},null,{"$f":"IF(入力欄!F309=\"\",\"\",入力欄!F309)","v":""},null,null,null,{"$f":"IF(入力欄!G309=\"\",\"\",入力欄!G309)","v":""},null,null,{"$f":"IF(入力欄!H309=\"\",\"\",入力欄!H309)","v":""},null,null,{"$f":"IF(入力欄!I309=\"\",\"\",入力欄!I309)","v":""},null,null,{"$f":"IF(入力欄!J309=\"\",\"\",入力欄!J309)","v":""},null,null,{"$f":"IF(入力欄!K309=\"\",\"\",入力欄!K309)","v":""},{"$f":"IF(入力欄!L309=\"\",\"\",入力欄!L309)","v":""},null,null,null,null,null,{"$f":"IF(入力欄!M309=\"\",\"\",入力欄!M309)","v":""},{"$f":"IF(入力欄!N309=\"\",\"\",入力欄!N309)","v":""}]
[null,5,{"$f":"IF(入力欄!E310=\"\",\"\",入力欄!E310)","v":""},null,{"$f":"IF(入力欄!F310=\"\",\"\",入力欄!F310)","v":""},null,null,null,{"$f":"IF(入力欄!G310=\"\",\"\",入力欄!G310)","v":""},null,null,{"$f":"IF(入力欄!H310=\"\",\"\",入力欄!H310)","v":""},null,null,{"$f":"IF(入力欄!I310=\"\",\"\",入力欄!I310)","v":""},null,null,{"$f":"IF(入力欄!J310=\"\",\"\",入力欄!J310)","v":""},null,null,{"$f":"IF(入力欄!K310=\"\",\"\",入力欄!K310)","v":""},{"$f":"IF(入力欄!L310=\"\",\"\",入力欄!L310)","v":""},null,null,null,null,null,{"$f":"IF(入力欄!M310=\"\",\"\",入力欄!M310)","v":""},{"$f":"IF(入力欄!N310=\"\",\"\",入力欄!N310)","v":""}]
[null,6,{"$f":"IF(入力欄!E311=\"\",\"\",入力欄!E311)","v":""},null,{"$f":"IF(入力欄!F311=\"\",\"\",入力欄!F311)","v":""},null,null,null,{"$f":"IF(入力欄!G311=\"\",\"\",入力欄!G311)","v":""},null,null,{"$f":"IF(入力欄!H311=\"\",\"\",入力欄!H311)","v":""},null,null,{"$f":"IF(入力欄!I311=\"\",\"\",入力欄!I311)","v":""},null,null,{"$f":"IF(入力欄!J311=\"\",\"\",入力欄!J311)","v":""},null,null,{"$f":"IF(入力欄!K311=\"\",\"\",入力欄!K311)","v":""},{"$f":"IF(入力欄!L311=\"\",\"\",入力欄!L311)","v":""},null,null,null,null,null,{"$f":"IF(入力欄!M311=\"\",\"\",入力欄!M311)","v":""},{"$f":"IF(入力欄!N311=\"\",\"\",入力欄!N311)","v":""}]
[null,7,{"$f":"IF(入力欄!E312=\"\",\"\",入力欄!E312)","v":""},null,{"$f":"IF(入力欄!F312=\"\",\"\",入力欄!F312)","v":""},null,null,null,{"$f":"IF(入力欄!G312=\"\",\"\",入力欄!G312)","v":""},null,null,{"$f":"IF(入力欄!H312=\"\",\"\",入力欄!H312)","v":""},null,null,{"$f":"IF(入力欄!I312=\"\",\"\",入力欄!I312)","v":""},null,null,{"$f":"IF(入力欄!J312=\"\",\"\",入力欄!J312)","v":""},null,null,{"$f":"IF(入力欄!K312=\"\",\"\",入力欄!K312)","v":""},{"$f":"IF(入力欄!L312=\"\",\"\",入力欄!L312)","v":""},null,null,null,null,null,{"$f":"IF(入力欄!M312=\"\",\"\",入力欄!M312)","v":""},{"$f":"IF(入力欄!N312=\"\",\"\",入力欄!N312)","v":""}]
[null,8,{"$f":"IF(入力欄!E313=\"\",\"\",入力欄!E313)","v":""},null,{"$f":"IF(入力欄!F313=\"\",\"\",入力欄!F313)","v":""},null,null,null,{"$f":"IF(入力欄!G313=\"\",\"\",入力欄!G313)","v":""},null,null,{"$f":"IF(入力欄!H313=\"\",\"\",入力欄!H313)","v":""},null,null,{"$f":"IF(入力欄!I313=\"\",\"\",入力欄!I313)","v":""},null,null,{"$f":"IF(入力欄!J313=\"\",\"\",入力欄!J313)","v":""},null,null,{"$f":"IF(入力欄!K313=\"\",\"\",入力欄!K313)","v":""},{"$f":"IF(入力欄!L313=\"\",\"\",入力欄!L313)","v":""},null,null,null,null,null,{"$f":"IF(入力欄!M313=\"\",\"\",入力欄!M313)","v":""},{"$f":"IF(入力欄!N313=\"\",\"\",入力欄!N313)","v":""}]
[null,9,{"$f":"IF(入力欄!E314=\"\",\"\",入力欄!E314)","v":""},null,{"$f":"IF(入力欄!F314=\"\",\"\",入力欄!F314)","v":""},null,null,null,{"$f":"IF(入力欄!G314=\"\",\"\",入力欄!G314)","v":""},null,null,{"$f":"IF(入力欄!H314=\"\",\"\",入力欄!H314)","v":""},null,null,{"$f":"IF(入力欄!I314=\"\",\"\",入力欄!I314)","v":""},null,null,{"$f":"IF(入力欄!J314=\"\",\"\",入力欄!J314)","v":""},null,null,{"$f":"IF(入力欄!K314=\"\",\"\",入力欄!K314)","v":""},{"$f":"IF(入力欄!L314=\"\",\"\",入力欄!L314)","v":""},null,null,null,null,null,{"$f":"IF(入力欄!M314=\"\",\"\",入力欄!M314)","v":""},{"$f":"IF(入力欄!N314=\"\",\"\",入力欄!N314)","v":""}]
[null,10,{"$f":"IF(入力欄!E315=\"\",\"\",入力欄!E315)","v":""},null,{"$f":"IF(入力欄!F315=\"\",\"\",入力欄!F315)","v":""},null,null,null,{"$f":"IF(入力欄!G315=\"\",\"\",入力欄!G315)","v":""},null,null,{"$f":"IF(入力欄!H315=\"\",\"\",入力欄!H315)","v":""},null,null,{"$f":"IF(入力欄!I315=\"\",\"\",入力欄!I315)","v":""},null,null,{"$f":"IF(入力欄!J315=\"\",\"\",入力欄!J315)","v":""},null,null,{"$f":"IF(入力欄!K315=\"\",\"\",入力欄!K315)","v":""},{"$f":"IF(入力欄!L315=\"\",\"\",入力欄!L315)","v":""},null,null,null,null,null,{"$f":"IF(入力欄!M315=\"\",\"\",入力欄!M315)","v":""},{"$f":"IF(入力欄!N315=\"\",\"\",入力欄!N315)","v":""}]
[{"$f":"IF(入力欄!C316=\"\",\"\",入力欄!C316)","v":""},1,{"$f":"IF(入力欄!E316=\"\",\"\",入力欄!E316)","v":""},null,{"$f":"IF(入力欄!F316=\"\",\"\",入力欄!F316)","v":""},null,null,null,{"$f":"IF(入力欄!G316=\"\",\"\",入力欄!G316)","v":""},null,null,{"$f":"IF(入力欄!H316=\"\",\"\",入力欄!H316)","v":""},null,null,{"$f":"IF(入力欄!I316=\"\",\"\",入力欄!I316)","v":""},null,null,{"$f":"IF(入力欄!J316=\"\",\"\",入力欄!J316)","v":""},null,null,{"$f":"IF(入力欄!K316=\"\",\"\",入力欄!K316)","v":""},{"$f":"IF(入力欄!L316=\"\",\"\",入力欄!L316)","v":""},null,null,null,null,null,{"$f":"IF(入力欄!M316=\"\",\"\",入力欄!M316)","v":""},{"$f":"IF(入力欄!N316=\"\",\"\",入力欄!N316)","v":""}]
[null,2,{"$f":"IF(入力欄!E317=\"\",\"\",入力欄!E317)","v":""},null,{"$f":"IF(入力欄!F317=\"\",\"\",入力欄!F317)","v":""},null,null,null,{"$f":"IF(入力欄!G317=\"\",\"\",入力欄!G317)","v":""},null,null,{"$f":"IF(入力欄!H317=\"\",\"\",入力欄!H317)","v":""},null,null,{"$f":"IF(入力欄!I317=\"\",\"\",入力欄!I317)","v":""},null,null,{"$f":"IF(入力欄!J317=\"\",\"\",入力欄!J317)","v":""},null,null,{"$f":"IF(入力欄!K317=\"\",\"\",入力欄!K317)","v":""},{"$f":"IF(入力欄!L317=\"\",\"\",入力欄!L317)","v":""},null,null,null,null,null,{"$f":"IF(入力欄!M317=\"\",\"\",入力欄!M317)","v":""},{"$f":"IF(入力欄!N317=\"\",\"\",入力欄!N317)","v":""}]
[null,3,{"$f":"IF(入力欄!E318=\"\",\"\",入力欄!E318)","v":""},null,{"$f":"IF(入力欄!F318=\"\",\"\",入力欄!F318)","v":""},null,null,null,{"$f":"IF(入力欄!G318=\"\",\"\",入力欄!G318)","v":""},null,null,{"$f":"IF(入力欄!H318=\"\",\"\",入力欄!H318)","v":""},null,null,{"$f":"IF(入力欄!I318=\"\",\"\",入力欄!I318)","v":""},null,null,{"$f":"IF(入力欄!J318=\"\",\"\",入力欄!J318)","v":""},null,null,{"$f":"IF(入力欄!K318=\"\",\"\",入力欄!K318)","v":""},{"$f":"IF(入力欄!L318=\"\",\"\",入力欄!L318)","v":""},null,null,null,null,null,{"$f":"IF(入力欄!M318=\"\",\"\",入力欄!M318)","v":""},{"$f":"IF(入力欄!N318=\"\",\"\",入力欄!N318)","v":""}]
[null,4,{"$f":"IF(入力欄!E319=\"\",\"\",入力欄!E319)","v":""},null,{"$f":"IF(入力欄!F319=\"\",\"\",入力欄!F319)","v":""},null,null,null,{"$f":"IF(入力欄!G319=\"\",\"\",入力欄!G319)","v":""},null,null,{"$f":"IF(入力欄!H319=\"\",\"\",入力欄!H319)","v":""},null,null,{"$f":"IF(入力欄!I319=\"\",\"\",入力欄!I319)","v":""},null,null,{"$f":"IF(入力欄!J319=\"\",\"\",入力欄!J319)","v":""},null,null,{"$f":"IF(入力欄!K319=\"\",\"\",入力欄!K319)","v":""},{"$f":"IF(入力欄!L319=\"\",\"\",入力欄!L319)","v":""},null,null,null,null,null,{"$f":"IF(入力欄!M319=\"\",\"\",入力欄!M319)","v":""},{"$f":"IF(入力欄!N319=\"\",\"\",入力欄!N319)","v":""}]
[null,5,{"$f":"IF(入力欄!E320=\"\",\"\",入力欄!E320)","v":""},null,{"$f":"IF(入力欄!F320=\"\",\"\",入力欄!F320)","v":""},null,null,null,{"$f":"IF(入力欄!G320=\"\",\"\",入力欄!G320)","v":""},null,null,{"$f":"IF(入力欄!H320=\"\",\"\",入力欄!H320)","v":""},null,null,{"$f":"IF(入力欄!I320=\"\",\"\",入力欄!I320)","v":""},null,null,{"$f":"IF(入力欄!J320=\"\",\"\",入力欄!J320)","v":""},null,null,{"$f":"IF(入力欄!K320=\"\",\"\",入力欄!K320)","v":""},{"$f":"IF(入力欄!L320=\"\",\"\",入力欄!L320)","v":""},null,null,null,null,null,{"$f":"IF(入力欄!M320=\"\",\"\",入力欄!M320)","v":""},{"$f":"IF(入力欄!N320=\"\",\"\",入力欄!N320)","v":""}]
[null,6,{"$f":"IF(入力欄!E321=\"\",\"\",入力欄!E321)","v":""},null,{"$f":"IF(入力欄!F321=\"\",\"\",入力欄!F321)","v":""},null,null,null,{"$f":"IF(入力欄!G321=\"\",\"\",入力欄!G321)","v":""},null,null,{"$f":"IF(入力欄!H321=\"\",\"\",入力欄!H321)","v":""},null,null,{"$f":"IF(入力欄!I321=\"\",\"\",入力欄!I321)","v":""},null,null,{"$f":"IF(入力欄!J321=\"\",\"\",入力欄!J321)","v":""},null,null,{"$f":"IF(入力欄!K321=\"\",\"\",入力欄!K321)","v":""},{"$f":"IF(入力欄!L321=\"\",\"\",入力欄!L321)","v":""},null,null,null,null,null,{"$f":"IF(入力欄!M321=\"\",\"\",入力欄!M321)","v":""},{"$f":"IF(入力欄!N321=\"\",\"\",入力欄!N321)","v":""}]
[null,7,{"$f":"IF(入力欄!E322=\"\",\"\",入力欄!E322)","v":""},null,{"$f":"IF(入力欄!F322=\"\",\"\",入力欄!F322)","v":""},null,null,null,{"$f":"IF(入力欄!G322=\"\",\"\",入力欄!G322)","v":""},null,null,{"$f":"IF(入力欄!H322=\"\",\"\",入力欄!H322)","v":""},null,null,{"$f":"IF(入力欄!I322=\"\",\"\",入力欄!I322)","v":""},null,null,{"$f":"IF(入力欄!J322=\"\",\"\",入力欄!J322)","v":""},null,null,{"$f":"IF(入力欄!K322=\"\",\"\",入力欄!K322)","v":""},{"$f":"IF(入力欄!L322=\"\",\"\",入力欄!L322)","v":""},null,null,null,null,null,{"$f":"IF(入力欄!M322=\"\",\"\",入力欄!M322)","v":""},{"$f":"IF(入力欄!N322=\"\",\"\",入力欄!N322)","v":""}]
[null,8,{"$f":"IF(入力欄!E323=\"\",\"\",入力欄!E323)","v":""},null,{"$f":"IF(入力欄!F323=\"\",\"\",入力欄!F323)","v":""},null,null,null,{"$f":"IF(入力欄!G323=\"\",\"\",入力欄!G323)","v":""},null,null,{"$f":"IF(入力欄!H323=\"\",\"\",入力欄!H323)","v":""},null,null,{"$f":"IF(入力欄!I323=\"\",\"\",入力欄!I323)","v":""},null,null,{"$f":"IF(入力欄!J323=\"\",\"\",入力欄!J323)","v":""},null,null,{"$f":"IF(入力欄!K323=\"\",\"\",入力欄!K323)","v":""},{"$f":"IF(入力欄!L323=\"\",\"\",入力欄!L323)","v":""},null,null,null,null,null,{"$f":"IF(入力欄!M323=\"\",\"\",入力欄!M323)","v":""},{"$f":"IF(入力欄!N323=\"\",\"\",入力欄!N323)","v":""}]
[null,9,{"$f":"IF(入力欄!E324=\"\",\"\",入力欄!E324)","v":""},null,{"$f":"IF(入力欄!F324=\"\",\"\",入力欄!F324)","v":""},null,null,null,{"$f":"IF(入力欄!G324=\"\",\"\",入力欄!G324)","v":""},null,null,{"$f":"IF(入力欄!H324=\"\",\"\",入力欄!H324)","v":""},null,null,{"$f":"IF(入力欄!I324=\"\",\"\",入力欄!I324)","v":""},null,null,{"$f":"IF(入力欄!J324=\"\",\"\",入力欄!J324)","v":""},null,null,{"$f":"IF(入力欄!K324=\"\",\"\",入力欄!K324)","v":""},{"$f":"IF(入力欄!L324=\"\",\"\",入力欄!L324)","v":""},null,null,null,null,null,{"$f":"IF(入力欄!M324=\"\",\"\",入力欄!M324)","v":""},{"$f":"IF(入力欄!N324=\"\",\"\",入力欄!N324)","v":""}]
[null,10,{"$f":"IF(入力欄!E325=\"\",\"\",入力欄!E325)","v":""},null,{"$f":"IF(入力欄!F325=\"\",\"\",入力欄!F325)","v":""},null,null,null,{"$f":"IF(入力欄!G325=\"\",\"\",入力欄!G325)","v":""},null,null,{"$f":"IF(入力欄!H325=\"\",\"\",入力欄!H325)","v":""},null,null,{"$f":"IF(入力欄!I325=\"\",\"\",入力欄!I325)","v":""},null,null,{"$f":"IF(入力欄!J325=\"\",\"\",入力欄!J325)","v":""},null,null,{"$f":"IF(入力欄!K325=\"\",\"\",入力欄!K325)","v":""},{"$f":"IF(入力欄!L325=\"\",\"\",入力欄!L325)","v":""},null,null,null,null,null,{"$f":"IF(入力欄!M325=\"\",\"\",入力欄!M325)","v":""},{"$f":"IF(入力欄!N325=\"\",\"\",入力欄!N325)","v":""}]
[{"$f":"IF(入力欄!C326=\"\",\"\",入力欄!C326)","v":""},1,{"$f":"IF(入力欄!E326=\"\",\"\",入力欄!E326)","v":""},null,{"$f":"IF(入力欄!F326=\"\",\"\",入力欄!F326)","v":""},null,null,null,{"$f":"IF(入力欄!G326=\"\",\"\",入力欄!G326)","v":""},null,null,{"$f":"IF(入力欄!H326=\"\",\"\",入力欄!H326)","v":""},null,null,{"$f":"IF(入力欄!I326=\"\",\"\",入力欄!I326)","v":""},null,null,{"$f":"IF(入力欄!J326=\"\",\"\",入力欄!J326)","v":""},null,null,{"$f":"IF(入力欄!K326=\"\",\"\",入力欄!K326)","v":""},{"$f":"IF(入力欄!L326=\"\",\"\",入力欄!L326)","v":""},null,null,null,null,null,{"$f":"IF(入力欄!M326=\"\",\"\",入力欄!M326)","v":""},{"$f":"IF(入力欄!N326=\"\",\"\",入力欄!N326)","v":""}]
[null,2,{"$f":"IF(入力欄!E327=\"\",\"\",入力欄!E327)","v":""},null,{"$f":"IF(入力欄!F327=\"\",\"\",入力欄!F327)","v":""},null,null,null,{"$f":"IF(入力欄!G327=\"\",\"\",入力欄!G327)","v":""},null,null,{"$f":"IF(入力欄!H327=\"\",\"\",入力欄!H327)","v":""},null,null,{"$f":"IF(入力欄!I327=\"\",\"\",入力欄!I327)","v":""},null,null,{"$f":"IF(入力欄!J327=\"\",\"\",入力欄!J327)","v":""},null,null,{"$f":"IF(入力欄!K327=\"\",\"\",入力欄!K327)","v":""},{"$f":"IF(入力欄!L327=\"\",\"\",入力欄!L327)","v":""},null,null,null,null,null,{"$f":"IF(入力欄!M327=\"\",\"\",入力欄!M327)","v":""},{"$f":"IF(入力欄!N327=\"\",\"\",入力欄!N327)","v":""}]
[null,3,{"$f":"IF(入力欄!E328=\"\",\"\",入力欄!E328)","v":""},null,{"$f":"IF(入力欄!F328=\"\",\"\",入力欄!F328)","v":""},null,null,null,{"$f":"IF(入力欄!G328=\"\",\"\",入力欄!G328)","v":""},null,null,{"$f":"IF(入力欄!H328=\"\",\"\",入力欄!H328)","v":""},null,null,{"$f":"IF(入力欄!I328=\"\",\"\",入力欄!I328)","v":""},null,null,{"$f":"IF(入力欄!J328=\"\",\"\",入力欄!J328)","v":""},null,null,{"$f":"IF(入力欄!K328=\"\",\"\",入力欄!K328)","v":""},{"$f":"IF(入力欄!L328=\"\",\"\",入力欄!L328)","v":""},null,null,null,null,null,{"$f":"IF(入力欄!M328=\"\",\"\",入力欄!M328)","v":""},{"$f":"IF(入力欄!N328=\"\",\"\",入力欄!N328)","v":""}]
[null,4,{"$f":"IF(入力欄!E329=\"\",\"\",入力欄!E329)","v":""},null,{"$f":"IF(入力欄!F329=\"\",\"\",入力欄!F329)","v":""},null,null,null,{"$f":"IF(入力欄!G329=\"\",\"\",入力欄!G329)","v":""},null,null,{"$f":"IF(入力欄!H329=\"\",\"\",入力欄!H329)","v":""},null,null,{"$f":"IF(入力欄!I329=\"\",\"\",入力欄!I329)","v":""},null,null,{"$f":"IF(入力欄!J329=\"\",\"\",入力欄!J329)","v":""},null,null,{"$f":"IF(入力欄!K329=\"\",\"\",入力欄!K329)","v":""},{"$f":"IF(入力欄!L329=\"\",\"\",入力欄!L329)","v":""},null,null,null,null,null,{"$f":"IF(入力欄!M329=\"\",\"\",入力欄!M329)","v":""},{"$f":"IF(入力欄!N329=\"\",\"\",入力欄!N329)","v":""}]
[null,5,{"$f":"IF(入力欄!E330=\"\",\"\",入力欄!E330)","v":""},null,{"$f":"IF(入力欄!F330=\"\",\"\",入力欄!F330)","v":""},null,null,null,{"$f":"IF(入力欄!G330=\"\",\"\",入力欄!G330)","v":""},null,null,{"$f":"IF(入力欄!H330=\"\",\"\",入力欄!H330)","v":""},null,null,{"$f":"IF(入力欄!I330=\"\",\"\",入力欄!I330)","v":""},null,null,{"$f":"IF(入力欄!J330=\"\",\"\",入力欄!J330)","v":""},null,null,{"$f":"IF(入力欄!K330=\"\",\"\",入力欄!K330)","v":""},{"$f":"IF(入力欄!L330=\"\",\"\",入力欄!L330)","v":""},null,null,null,null,null,{"$f":"IF(入力欄!M330=\"\",\"\",入力欄!M330)","v":""},{"$f":"IF(入力欄!N330=\"\",\"\",入力欄!N330)","v":""}]
[null,6,{"$f":"IF(入力欄!E331=\"\",\"\",入力欄!E331)","v":""},null,{"$f":"IF(入力欄!F331=\"\",\"\",入力欄!F331)","v":""},null,null,null,{"$f":"IF(入力欄!G331=\"\",\"\",入力欄!G331)","v":""},null,null,{"$f":"IF(入力欄!H331=\"\",\"\",入力欄!H331)","v":""},null,null,{"$f":"IF(入力欄!I331=\"\",\"\",入力欄!I331)","v":""},null,null,{"$f":"IF(入力欄!J331=\"\",\"\",入力欄!J331)","v":""},null,null,{"$f":"IF(入力欄!K331=\"\",\"\",入力欄!K331)","v":""},{"$f":"IF(入力欄!L331=\"\",\"\",入力欄!L331)","v":""},null,null,null,null,null,{"$f":"IF(入力欄!M331=\"\",\"\",入力欄!M331)","v":""},{"$f":"IF(入力欄!N331=\"\",\"\",入力欄!N331)","v":""}]
[null,7,{"$f":"IF(入力欄!E332=\"\",\"\",入力欄!E332)","v":""},null,{"$f":"IF(入力欄!F332=\"\",\"\",入力欄!F332)","v":""},null,null,null,{"$f":"IF(入力欄!G332=\"\",\"\",入力欄!G332)","v":""},null,null,{"$f":"IF(入力欄!H332=\"\",\"\",入力欄!H332)","v":""},null,null,{"$f":"IF(入力欄!I332=\"\",\"\",入力欄!I332)","v":""},null,null,{"$f":"IF(入力欄!J332=\"\",\"\",入力欄!J332)","v":""},null,null,{"$f":"IF(入力欄!K332=\"\",\"\",入力欄!K332)","v":""},{"$f":"IF(入力欄!L332=\"\",\"\",入力欄!L332)","v":""},null,null,null,null,null,{"$f":"IF(入力欄!M332=\"\",\"\",入力欄!M332)","v":""},{"$f":"IF(入力欄!N332=\"\",\"\",入力欄!N332)","v":""}]
[null,8,{"$f":"IF(入力欄!E333=\"\",\"\",入力欄!E333)","v":""},null,{"$f":"IF(入力欄!F333=\"\",\"\",入力欄!F333)","v":""},null,null,null,{"$f":"IF(入力欄!G333=\"\",\"\",入力欄!G333)","v":""},null,null,{"$f":"IF(入力欄!H333=\"\",\"\",入力欄!H333)","v":""},null,null,{"$f":"IF(入力欄!I333=\"\",\"\",入力欄!I333)","v":""},null,null,{"$f":"IF(入力欄!J333=\"\",\"\",入力欄!J333)","v":""},null,null,{"$f":"IF(入力欄!K333=\"\",\"\",入力欄!K333)","v":""},{"$f":"IF(入力欄!L333=\"\",\"\",入力欄!L333)","v":""},null,null,null,null,null,{"$f":"IF(入力欄!M333=\"\",\"\",入力欄!M333)","v":""},{"$f":"IF(入力欄!N333=\"\",\"\",入力欄!N333)","v":""}]
[null,9,{"$f":"IF(入力欄!E334=\"\",\"\",入力欄!E334)","v":""},null,{"$f":"IF(入力欄!F334=\"\",\"\",入力欄!F334)","v":""},null,null,null,{"$f":"IF(入力欄!G334=\"\",\"\",入力欄!G334)","v":""},null,null,{"$f":"IF(入力欄!H334=\"\",\"\",入力欄!H334)","v":""},null,null,{"$f":"IF(入力欄!I334=\"\",\"\",入力欄!I334)","v":""},null,null,{"$f":"IF(入力欄!J334=\"\",\"\",入力欄!J334)","v":""},null,null,{"$f":"IF(入力欄!K334=\"\",\"\",入力欄!K334)","v":""},{"$f":"IF(入力欄!L334=\"\",\"\",入力欄!L334)","v":""},null,null,null,null,null,{"$f":"IF(入力欄!M334=\"\",\"\",入力欄!M334)","v":""},{"$f":"IF(入力欄!N334=\"\",\"\",入力欄!N334)","v":""}]
[null,10,{"$f":"IF(入力欄!E335=\"\",\"\",入力欄!E335)","v":""},null,{"$f":"IF(入力欄!F335=\"\",\"\",入力欄!F335)","v":""},null,null,null,{"$f":"IF(入力欄!G335=\"\",\"\",入力欄!G335)","v":""},null,null,{"$f":"IF(入力欄!H335=\"\",\"\",入力欄!H335)","v":""},null,null,{"$f":"IF(入力欄!I335=\"\",\"\",入力欄!I335)","v":""},null,null,{"$f":"IF(入力欄!J335=\"\",\"\",入力欄!J335)","v":""},null,null,{"$f":"IF(入力欄!K335=\"\",\"\",入力欄!K335)","v":""},{"$f":"IF(入力欄!L335=\"\",\"\",入力欄!L335)","v":""},null,null,null,null,null,{"$f":"IF(入力欄!M335=\"\",\"\",入力欄!M335)","v":""},{"$f":"IF(入力欄!N335=\"\",\"\",入力欄!N335)","v":""}]
[{"$f":"IF(入力欄!C336=\"\",\"\",入力欄!C336)","v":""},1,{"$f":"IF(入力欄!E336=\"\",\"\",入力欄!E336)","v":""},null,{"$f":"IF(入力欄!F336=\"\",\"\",入力欄!F336)","v":""},null,null,null,{"$f":"IF(入力欄!G336=\"\",\"\",入力欄!G336)","v":""},null,null,{"$f":"IF(入力欄!H336=\"\",\"\",入力欄!H336)","v":""},null,null,{"$f":"IF(入力欄!I336=\"\",\"\",入力欄!I336)","v":""},null,null,{"$f":"IF(入力欄!J336=\"\",\"\",入力欄!J336)","v":""},null,null,{"$f":"IF(入力欄!K336=\"\",\"\",入力欄!K336)","v":""},{"$f":"IF(入力欄!L336=\"\",\"\",入力欄!L336)","v":""},null,null,null,null,null,{"$f":"IF(入力欄!M336=\"\",\"\",入力欄!M336)","v":""},{"$f":"IF(入力欄!N336=\"\",\"\",入力欄!N336)","v":""}]
[null,2,{"$f":"IF(入力欄!E337=\"\",\"\",入力欄!E337)","v":""},null,{"$f":"IF(入力欄!F337=\"\",\"\",入力欄!F337)","v":""},null,null,null,{"$f":"IF(入力欄!G337=\"\",\"\",入力欄!G337)","v":""},null,null,{"$f":"IF(入力欄!H337=\"\",\"\",入力欄!H337)","v":""},null,null,{"$f":"IF(入力欄!I337=\"\",\"\",入力欄!I337)","v":""},null,null,{"$f":"IF(入力欄!J337=\"\",\"\",入力欄!J337)","v":""},null,null,{"$f":"IF(入力欄!K337=\"\",\"\",入力欄!K337)","v":""},{"$f":"IF(入力欄!L337=\"\",\"\",入力欄!L337)","v":""},null,null,null,null,null,{"$f":"IF(入力欄!M337=\"\",\"\",入力欄!M337)","v":""},{"$f":"IF(入力欄!N337=\"\",\"\",入力欄!N337)","v":""}]
[null,3,{"$f":"IF(入力欄!E338=\"\",\"\",入力欄!E338)","v":""},null,{"$f":"IF(入力欄!F338=\"\",\"\",入力欄!F338)","v":""},null,null,null,{"$f":"IF(入力欄!G338=\"\",\"\",入力欄!G338)","v":""},null,null,{"$f":"IF(入力欄!H338=\"\",\"\",入力欄!H338)","v":""},null,null,{"$f":"IF(入力欄!I338=\"\",\"\",入力欄!I338)","v":""},null,null,{"$f":"IF(入力欄!J338=\"\",\"\",入力欄!J338)","v":""},null,null,{"$f":"IF(入力欄!K338=\"\",\"\",入力欄!K338)","v":""},{"$f":"IF(入力欄!L338=\"\",\"\",入力欄!L338)","v":""},null,null,null,null,null,{"$f":"IF(入力欄!M338=\"\",\"\",入力欄!M338)","v":""},{"$f":"IF(入力欄!N338=\"\",\"\",入力欄!N338)","v":""}]
[null,4,{"$f":"IF(入力欄!E339=\"\",\"\",入力欄!E339)","v":""},null,{"$f":"IF(入力欄!F339=\"\",\"\",入力欄!F339)","v":""},null,null,null,{"$f":"IF(入力欄!G339=\"\",\"\",入力欄!G339)","v":""},null,null,{"$f":"IF(入力欄!H339=\"\",\"\",入力欄!H339)","v":""},null,null,{"$f":"IF(入力欄!I339=\"\",\"\",入力欄!I339)","v":""},null,null,{"$f":"IF(入力欄!J339=\"\",\"\",入力欄!J339)","v":""},null,null,{"$f":"IF(入力欄!K339=\"\",\"\",入力欄!K339)","v":""},{"$f":"IF(入力欄!L339=\"\",\"\",入力欄!L339)","v":""},null,null,null,null,null,{"$f":"IF(入力欄!M339=\"\",\"\",入力欄!M339)","v":""},{"$f":"IF(入力欄!N339=\"\",\"\",入力欄!N339)","v":""}]
[null,5,{"$f":"IF(入力欄!E340=\"\",\"\",入力欄!E340)","v":""},null,{"$f":"IF(入力欄!F340=\"\",\"\",入力欄!F340)","v":""},null,null,null,{"$f":"IF(入力欄!G340=\"\",\"\",入力欄!G340)","v":""},null,null,{"$f":"IF(入力欄!H340=\"\",\"\",入力欄!H340)","v":""},null,null,{"$f":"IF(入力欄!I340=\"\",\"\",入力欄!I340)","v":""},null,null,{"$f":"IF(入力欄!J340=\"\",\"\",入力欄!J340)","v":""},null,null,{"$f":"IF(入力欄!K340=\"\",\"\",入力欄!K340)","v":""},{"$f":"IF(入力欄!L340=\"\",\"\",入力欄!L340)","v":""},null,null,null,null,null,{"$f":"IF(入力欄!M340=\"\",\"\",入力欄!M340)","v":""},{"$f":"IF(入力欄!N340=\"\",\"\",入力欄!N340)","v":""}]
[null,6,{"$f":"IF(入力欄!E341=\"\",\"\",入力欄!E341)","v":""},null,{"$f":"IF(入力欄!F341=\"\",\"\",入力欄!F341)","v":""},null,null,null,{"$f":"IF(入力欄!G341=\"\",\"\",入力欄!G341)","v":""},null,null,{"$f":"IF(入力欄!H341=\"\",\"\",入力欄!H341)","v":""},null,null,{"$f":"IF(入力欄!I341=\"\",\"\",入力欄!I341)","v":""},null,null,{"$f":"IF(入力欄!J341=\"\",\"\",入力欄!J341)","v":""},null,null,{"$f":"IF(入力欄!K341=\"\",\"\",入力欄!K341)","v":""},{"$f":"IF(入力欄!L341=\"\",\"\",入力欄!L341)","v":""},null,null,null,null,null,{"$f":"IF(入力欄!M341=\"\",\"\",入力欄!M341)","v":""},{"$f":"IF(入力欄!N341=\"\",\"\",入力欄!N341)","v":""}]
[null,7,{"$f":"IF(入力欄!E342=\"\",\"\",入力欄!E342)","v":""},null,{"$f":"IF(入力欄!F342=\"\",\"\",入力欄!F342)","v":""},null,null,null,{"$f":"IF(入力欄!G342=\"\",\"\",入力欄!G342)","v":""},null,null,{"$f":"IF(入力欄!H342=\"\",\"\",入力欄!H342)","v":""},null,null,{"$f":"IF(入力欄!I342=\"\",\"\",入力欄!I342)","v":""},null,null,{"$f":"IF(入力欄!J342=\"\",\"\",入力欄!J342)","v":""},null,null,{"$f":"IF(入力欄!K342=\"\",\"\",入力欄!K342)","v":""},{"$f":"IF(入力欄!L342=\"\",\"\",入力欄!L342)","v":""},null,null,null,null,null,{"$f":"IF(入力欄!M342=\"\",\"\",入力欄!M342)","v":""},{"$f":"IF(入力欄!N342=\"\",\"\",入力欄!N342)","v":""}]
[null,8,{"$f":"IF(入力欄!E343=\"\",\"\",入力欄!E343)","v":""},null,{"$f":"IF(入力欄!F343=\"\",\"\",入力欄!F343)","v":""},null,null,null,{"$f":"IF(入力欄!G343=\"\",\"\",入力欄!G343)","v":""},null,null,{"$f":"IF(入力欄!H343=\"\",\"\",入力欄!H343)","v":""},null,null,{"$f":"IF(入力欄!I343=\"\",\"\",入力欄!I343)","v":""},null,null,{"$f":"IF(入力欄!J343=\"\",\"\",入力欄!J343)","v":""},null,null,{"$f":"IF(入力欄!K343=\"\",\"\",入力欄!K343)","v":""},{"$f":"IF(入力欄!L343=\"\",\"\",入力欄!L343)","v":""},null,null,null,null,null,{"$f":"IF(入力欄!M343=\"\",\"\",入力欄!M343)","v":""},{"$f":"IF(入力欄!N343=\"\",\"\",入力欄!N343)","v":""}]
[null,9,{"$f":"IF(入力欄!E344=\"\",\"\",入力欄!E344)","v":""},null,{"$f":"IF(入力欄!F344=\"\",\"\",入力欄!F344)","v":""},null,null,null,{"$f":"IF(入力欄!G344=\"\",\"\",入力欄!G344)","v":""},null,null,{"$f":"IF(入力欄!H344=\"\",\"\",入力欄!H344)","v":""},null,null,{"$f":"IF(入力欄!I344=\"\",\"\",入力欄!I344)","v":""},null,null,{"$f":"IF(入力欄!J344=\"\",\"\",入力欄!J344)","v":""},null,null,{"$f":"IF(入力欄!K344=\"\",\"\",入力欄!K344)","v":""},{"$f":"IF(入力欄!L344=\"\",\"\",入力欄!L344)","v":""},null,null,null,null,null,{"$f":"IF(入力欄!M344=\"\",\"\",入力欄!M344)","v":""},{"$f":"IF(入力欄!N344=\"\",\"\",入力欄!N344)","v":""}]
[null,10,{"$f":"IF(入力欄!E345=\"\",\"\",入力欄!E345)","v":""},null,{"$f":"IF(入力欄!F345=\"\",\"\",入力欄!F345)","v":""},null,null,null,{"$f":"IF(入力欄!G345=\"\",\"\",入力欄!G345)","v":""},null,null,{"$f":"IF(入力欄!H345=\"\",\"\",入力欄!H345)","v":""},null,null,{"$f":"IF(入力欄!I345=\"\",\"\",入力欄!I345)","v":""},null,null,{"$f":"IF(入力欄!J345=\"\",\"\",入力欄!J345)","v":""},null,null,{"$f":"IF(入力欄!K345=\"\",\"\",入力欄!K345)","v":""},{"$f":"IF(入力欄!L345=\"\",\"\",入力欄!L345)","v":""},null,null,null,null,null,{"$f":"IF(入力欄!M345=\"\",\"\",入力欄!M345)","v":""},{"$f":"IF(入力欄!N345=\"\",\"\",入力欄!N345)","v":""}]
[{"$f":"IF(入力欄!C346=\"\",\"\",入力欄!C346)","v":""},1,{"$f":"IF(入力欄!E346=\"\",\"\",入力欄!E346)","v":""},null,{"$f":"IF(入力欄!F346=\"\",\"\",入力欄!F346)","v":""},null,null,null,{"$f":"IF(入力欄!G346=\"\",\"\",入力欄!G346)","v":""},null,null,{"$f":"IF(入力欄!H346=\"\",\"\",入力欄!H346)","v":""},null,null,{"$f":"IF(入力欄!I346=\"\",\"\",入力欄!I346)","v":""},null,null,{"$f":"IF(入力欄!J346=\"\",\"\",入力欄!J346)","v":""},null,null,{"$f":"IF(入力欄!K346=\"\",\"\",入力欄!K346)","v":""},{"$f":"IF(入力欄!L346=\"\",\"\",入力欄!L346)","v":""},null,null,null,null,null,{"$f":"IF(入力欄!M346=\"\",\"\",入力欄!M346)","v":""},{"$f":"IF(入力欄!N346=\"\",\"\",入力欄!N346)","v":""}]
[null,2,{"$f":"IF(入力欄!E347=\"\",\"\",入力欄!E347)","v":""},null,{"$f":"IF(入力欄!F347=\"\",\"\",入力欄!F347)","v":""},null,null,null,{"$f":"IF(入力欄!G347=\"\",\"\",入力欄!G347)","v":""},null,null,{"$f":"IF(入力欄!H347=\"\",\"\",入力欄!H347)","v":""},null,null,{"$f":"IF(入力欄!I347=\"\",\"\",入力欄!I347)","v":""},null,null,{"$f":"IF(入力欄!J347=\"\",\"\",入力欄!J347)","v":""},null,null,{"$f":"IF(入力欄!K347=\"\",\"\",入力欄!K347)","v":""},{"$f":"IF(入力欄!L347=\"\",\"\",入力欄!L347)","v":""},null,null,null,null,null,{"$f":"IF(入力欄!M347=\"\",\"\",入力欄!M347)","v":""},{"$f":"IF(入力欄!N347=\"\",\"\",入力欄!N347)","v":""}]
[null,3,{"$f":"IF(入力欄!E348=\"\",\"\",入力欄!E348)","v":""},null,{"$f":"IF(入力欄!F348=\"\",\"\",入力欄!F348)","v":""},null,null,null,{"$f":"IF(入力欄!G348=\"\",\"\",入力欄!G348)","v":""},null,null,{"$f":"IF(入力欄!H348=\"\",\"\",入力欄!H348)","v":""},null,null,{"$f":"IF(入力欄!I348=\"\",\"\",入力欄!I348)","v":""},null,null,{"$f":"IF(入力欄!J348=\"\",\"\",入力欄!J348)","v":""},null,null,{"$f":"IF(入力欄!K348=\"\",\"\",入力欄!K348)","v":""},{"$f":"IF(入力欄!L348=\"\",\"\",入力欄!L348)","v":""},null,null,null,null,null,{"$f":"IF(入力欄!M348=\"\",\"\",入力欄!M348)","v":""},{"$f":"IF(入力欄!N348=\"\",\"\",入力欄!N348)","v":""}]
[null,4,{"$f":"IF(入力欄!E349=\"\",\"\",入力欄!E349)","v":""},null,{"$f":"IF(入力欄!F349=\"\",\"\",入力欄!F349)","v":""},null,null,null,{"$f":"IF(入力欄!G349=\"\",\"\",入力欄!G349)","v":""},null,null,{"$f":"IF(入力欄!H349=\"\",\"\",入力欄!H349)","v":""},null,null,{"$f":"IF(入力欄!I349=\"\",\"\",入力欄!I349)","v":""},null,null,{"$f":"IF(入力欄!J349=\"\",\"\",入力欄!J349)","v":""},null,null,{"$f":"IF(入力欄!K349=\"\",\"\",入力欄!K349)","v":""},{"$f":"IF(入力欄!L349=\"\",\"\",入力欄!L349)","v":""},null,null,null,null,null,{"$f":"IF(入力欄!M349=\"\",\"\",入力欄!M349)","v":""},{"$f":"IF(入力欄!N349=\"\",\"\",入力欄!N349)","v":""}]
[null,5,{"$f":"IF(入力欄!E350=\"\",\"\",入力欄!E350)","v":""},null,{"$f":"IF(入力欄!F350=\"\",\"\",入力欄!F350)","v":""},null,null,null,{"$f":"IF(入力欄!G350=\"\",\"\",入力欄!G350)","v":""},null,null,{"$f":"IF(入力欄!H350=\"\",\"\",入力欄!H350)","v":""},null,null,{"$f":"IF(入力欄!I350=\"\",\"\",入力欄!I350)","v":""},null,null,{"$f":"IF(入力欄!J350=\"\",\"\",入力欄!J350)","v":""},null,null,{"$f":"IF(入力欄!K350=\"\",\"\",入力欄!K350)","v":""},{"$f":"IF(入力欄!L350=\"\",\"\",入力欄!L350)","v":""},null,null,null,null,null,{"$f":"IF(入力欄!M350=\"\",\"\",入力欄!M350)","v":""},{"$f":"IF(入力欄!N350=\"\",\"\",入力欄!N350)","v":""}]
[null,6,{"$f":"IF(入力欄!E351=\"\",\"\",入力欄!E351)","v":""},null,{"$f":"IF(入力欄!F351=\"\",\"\",入力欄!F351)","v":""},null,null,null,{"$f":"IF(入力欄!G351=\"\",\"\",入力欄!G351)","v":""},null,null,{"$f":"IF(入力欄!H351=\"\",\"\",入力欄!H351)","v":""},null,null,{"$f":"IF(入力欄!I351=\"\",\"\",入力欄!I351)","v":""},null,null,{"$f":"IF(入力欄!J351=\"\",\"\",入力欄!J351)","v":""},null,null,{"$f":"IF(入力欄!K351=\"\",\"\",入力欄!K351)","v":""},{"$f":"IF(入力欄!L351=\"\",\"\",入力欄!L351)","v":""},null,null,null,null,null,{"$f":"IF(入力欄!M351=\"\",\"\",入力欄!M351)","v":""},{"$f":"IF(入力欄!N351=\"\",\"\",入力欄!N351)","v":""}]
[null,7,{"$f":"IF(入力欄!E352=\"\",\"\",入力欄!E352)","v":""},null,{"$f":"IF(入力欄!F352=\"\",\"\",入力欄!F352)","v":""},null,null,null,{"$f":"IF(入力欄!G352=\"\",\"\",入力欄!G352)","v":""},null,null,{"$f":"IF(入力欄!H352=\"\",\"\",入力欄!H352)","v":""},null,null,{"$f":"IF(入力欄!I352=\"\",\"\",入力欄!I352)","v":""},null,null,{"$f":"IF(入力欄!J352=\"\",\"\",入力欄!J352)","v":""},null,null,{"$f":"IF(入力欄!K352=\"\",\"\",入力欄!K352)","v":""},{"$f":"IF(入力欄!L352=\"\",\"\",入力欄!L352)","v":""},null,null,null,null,null,{"$f":"IF(入力欄!M352=\"\",\"\",入力欄!M352)","v":""},{"$f":"IF(入力欄!N352=\"\",\"\",入力欄!N352)","v":""}]
[null,8,{"$f":"IF(入力欄!E353=\"\",\"\",入力欄!E353)","v":""},null,{"$f":"IF(入力欄!F353=\"\",\"\",入力欄!F353)","v":""},null,null,null,{"$f":"IF(入力欄!G353=\"\",\"\",入力欄!G353)","v":""},null,null,{"$f":"IF(入力欄!H353=\"\",\"\",入力欄!H353)","v":""},null,null,{"$f":"IF(入力欄!I353=\"\",\"\",入力欄!I353)","v":""},null,null,{"$f":"IF(入力欄!J353=\"\",\"\",入力欄!J353)","v":""},null,null,{"$f":"IF(入力欄!K353=\"\",\"\",入力欄!K353)","v":""},{"$f":"IF(入力欄!L353=\"\",\"\",入力欄!L353)","v":""},null,null,null,null,null,{"$f":"IF(入力欄!M353=\"\",\"\",入力欄!M353)","v":""},{"$f":"IF(入力欄!N353=\"\",\"\",入力欄!N353)","v":""}]
[null,9,{"$f":"IF(入力欄!E354=\"\",\"\",入力欄!E354)","v":""},null,{"$f":"IF(入力欄!F354=\"\",\"\",入力欄!F354)","v":""},null,null,null,{"$f":"IF(入力欄!G354=\"\",\"\",入力欄!G354)","v":""},null,null,{"$f":"IF(入力欄!H354=\"\",\"\",入力欄!H354)","v":""},null,null,{"$f":"IF(入力欄!I354=\"\",\"\",入力欄!I354)","v":""},null,null,{"$f":"IF(入力欄!J354=\"\",\"\",入力欄!J354)","v":""},null,null,{"$f":"IF(入力欄!K354=\"\",\"\",入力欄!K354)","v":""},{"$f":"IF(入力欄!L354=\"\",\"\",入力欄!L354)","v":""},null,null,null,null,null,{"$f":"IF(入力欄!M354=\"\",\"\",入力欄!M354)","v":""},{"$f":"IF(入力欄!N354=\"\",\"\",入力欄!N354)","v":""}]
[null,10,{"$f":"IF(入力欄!E355=\"\",\"\",入力欄!E355)","v":""},null,{"$f":"IF(入力欄!F355=\"\",\"\",入力欄!F355)","v":""},null,null,null,{"$f":"IF(入力欄!G355=\"\",\"\",入力欄!G355)","v":""},null,null,{"$f":"IF(入力欄!H355=\"\",\"\",入力欄!H355)","v":""},null,null,{"$f":"IF(入力欄!I355=\"\",\"\",入力欄!I355)","v":""},null,null,{"$f":"IF(入力欄!J355=\"\",\"\",入力欄!J355)","v":""},null,null,{"$f":"IF(入力欄!K355=\"\",\"\",入力欄!K355)","v":""},{"$f":"IF(入力欄!L355=\"\",\"\",入力欄!L355)","v":""},null,null,null,null,null,{"$f":"IF(入力欄!M355=\"\",\"\",入力欄!M355)","v":""},{"$f":"IF(入力欄!N355=\"\",\"\",入力欄!N355)","v":""}]
[{"$f":"IF(入力欄!C356=\"\",\"\",入力欄!C356)","v":""},1,{"$f":"IF(入力欄!E356=\"\",\"\",入力欄!E356)","v":""},null,{"$f":"IF(入力欄!F356=\"\",\"\",入力欄!F356)","v":""},null,null,null,{"$f":"IF(入力欄!G356=\"\",\"\",入力欄!G356)","v":""},null,null,{"$f":"IF(入力欄!H356=\"\",\"\",入力欄!H356)","v":""},null,null,{"$f":"IF(入力欄!I356=\"\",\"\",入力欄!I356)","v":""},null,null,{"$f":"IF(入力欄!J356=\"\",\"\",入力欄!J356)","v":""},null,null,{"$f":"IF(入力欄!K356=\"\",\"\",入力欄!K356)","v":""},{"$f":"IF(入力欄!L356=\"\",\"\",入力欄!L356)","v":""},null,null,null,null,null,{"$f":"IF(入力欄!M356=\"\",\"\",入力欄!M356)","v":""},{"$f":"IF(入力欄!N356=\"\",\"\",入力欄!N356)","v":""}]
[null,2,{"$f":"IF(入力欄!E357=\"\",\"\",入力欄!E357)","v":""},null,{"$f":"IF(入力欄!F357=\"\",\"\",入力欄!F357)","v":""},null,null,null,{"$f":"IF(入力欄!G357=\"\",\"\",入力欄!G357)","v":""},null,null,{"$f":"IF(入力欄!H357=\"\",\"\",入力欄!H357)","v":""},null,null,{"$f":"IF(入力欄!I357=\"\",\"\",入力欄!I357)","v":""},null,null,{"$f":"IF(入力欄!J357=\"\",\"\",入力欄!J357)","v":""},null,null,{"$f":"IF(入力欄!K357=\"\",\"\",入力欄!K357)","v":""},{"$f":"IF(入力欄!L357=\"\",\"\",入力欄!L357)","v":""},null,null,null,null,null,{"$f":"IF(入力欄!M357=\"\",\"\",入力欄!M357)","v":""},{"$f":"IF(入力欄!N357=\"\",\"\",入力欄!N357)","v":""}]
[null,3,{"$f":"IF(入力欄!E358=\"\",\"\",入力欄!E358)","v":""},null,{"$f":"IF(入力欄!F358=\"\",\"\",入力欄!F358)","v":""},null,null,null,{"$f":"IF(入力欄!G358=\"\",\"\",入力欄!G358)","v":""},null,null,{"$f":"IF(入力欄!H358=\"\",\"\",入力欄!H358)","v":""},null,null,{"$f":"IF(入力欄!I358=\"\",\"\",入力欄!I358)","v":""},null,null,{"$f":"IF(入力欄!J358=\"\",\"\",入力欄!J358)","v":""},null,null,{"$f":"IF(入力欄!K358=\"\",\"\",入力欄!K358)","v":""},{"$f":"IF(入力欄!L358=\"\",\"\",入力欄!L358)","v":""},null,null,null,null,null,{"$f":"IF(入力欄!M358=\"\",\"\",入力欄!M358)","v":""},{"$f":"IF(入力欄!N358=\"\",\"\",入力欄!N358)","v":""}]
[null,4,{"$f":"IF(入力欄!E359=\"\",\"\",入力欄!E359)","v":""},null,{"$f":"IF(入力欄!F359=\"\",\"\",入力欄!F359)","v":""},null,null,null,{"$f":"IF(入力欄!G359=\"\",\"\",入力欄!G359)","v":""},null,null,{"$f":"IF(入力欄!H359=\"\",\"\",入力欄!H359)","v":""},null,null,{"$f":"IF(入力欄!I359=\"\",\"\",入力欄!I359)","v":""},null,null,{"$f":"IF(入力欄!J359=\"\",\"\",入力欄!J359)","v":""},null,null,{"$f":"IF(入力欄!K359=\"\",\"\",入力欄!K359)","v":""},{"$f":"IF(入力欄!L359=\"\",\"\",入力欄!L359)","v":""},null,null,null,null,null,{"$f":"IF(入力欄!M359=\"\",\"\",入力欄!M359)","v":""},{"$f":"IF(入力欄!N359=\"\",\"\",入力欄!N359)","v":""}]
[null,5,{"$f":"IF(入力欄!E360=\"\",\"\",入力欄!E360)","v":""},null,{"$f":"IF(入力欄!F360=\"\",\"\",入力欄!F360)","v":""},null,null,null,{"$f":"IF(入力欄!G360=\"\",\"\",入力欄!G360)","v":""},null,null,{"$f":"IF(入力欄!H360=\"\",\"\",入力欄!H360)","v":""},null,null,{"$f":"IF(入力欄!I360=\"\",\"\",入力欄!I360)","v":""},null,null,{"$f":"IF(入力欄!J360=\"\",\"\",入力欄!J360)","v":""},null,null,{"$f":"IF(入力欄!K360=\"\",\"\",入力欄!K360)","v":""},{"$f":"IF(入力欄!L360=\"\",\"\",入力欄!L360)","v":""},null,null,null,null,null,{"$f":"IF(入力欄!M360=\"\",\"\",入力欄!M360)","v":""},{"$f":"IF(入力欄!N360=\"\",\"\",入力欄!N360)","v":""}]
[null,6,{"$f":"IF(入力欄!E361=\"\",\"\",入力欄!E361)","v":""},null,{"$f":"IF(入力欄!F361=\"\",\"\",入力欄!F361)","v":""},null,null,null,{"$f":"IF(入力欄!G361=\"\",\"\",入力欄!G361)","v":""},null,null,{"$f":"IF(入力欄!H361=\"\",\"\",入力欄!H361)","v":""},null,null,{"$f":"IF(入力欄!I361=\"\",\"\",入力欄!I361)","v":""},null,null,{"$f":"IF(入力欄!J361=\"\",\"\",入力欄!J361)","v":""},null,null,{"$f":"IF(入力欄!K361=\"\",\"\",入力欄!K361)","v":""},{"$f":"IF(入力欄!L361=\"\",\"\",入力欄!L361)","v":""},null,null,null,null,null,{"$f":"IF(入力欄!M361=\"\",\"\",入力欄!M361)","v":""},{"$f":"IF(入力欄!N361=\"\",\"\",入力欄!N361)","v":""}]
[null,7,{"$f":"IF(入力欄!E362=\"\",\"\",入力欄!E362)","v":""},null,{"$f":"IF(入力欄!F362=\"\",\"\",入力欄!F362)","v":""},null,null,null,{"$f":"IF(入力欄!G362=\"\",\"\",入力欄!G362)","v":""},null,null,{"$f":"IF(入力欄!H362=\"\",\"\",入力欄!H362)","v":""},null,null,{"$f":"IF(入力欄!I362=\"\",\"\",入力欄!I362)","v":""},null,null,{"$f":"IF(入力欄!J362=\"\",\"\",入力欄!J362)","v":""},null,null,{"$f":"IF(入力欄!K362=\"\",\"\",入力欄!K362)","v":""},{"$f":"IF(入力欄!L362=\"\",\"\",入力欄!L362)","v":""},null,null,null,null,null,{"$f":"IF(入力欄!M362=\"\",\"\",入力欄!M362)","v":""},{"$f":"IF(入力欄!N362=\"\",\"\",入力欄!N362)","v":""}]
[null,8,{"$f":"IF(入力欄!E363=\"\",\"\",入力欄!E363)","v":""},null,{"$f":"IF(入力欄!F363=\"\",\"\",入力欄!F363)","v":""},null,null,null,{"$f":"IF(入力欄!G363=\"\",\"\",入力欄!G363)","v":""},null,null,{"$f":"IF(入力欄!H363=\"\",\"\",入力欄!H363)","v":""},null,null,{"$f":"IF(入力欄!I363=\"\",\"\",入力欄!I363)","v":""},null,null,{"$f":"IF(入力欄!J363=\"\",\"\",入力欄!J363)","v":""},null,null,{"$f":"IF(入力欄!K363=\"\",\"\",入力欄!K363)","v":""},{"$f":"IF(入力欄!L363=\"\",\"\",入力欄!L363)","v":""},null,null,null,null,null,{"$f":"IF(入力欄!M363=\"\",\"\",入力欄!M363)","v":""},{"$f":"IF(入力欄!N363=\"\",\"\",入力欄!N363)","v":""}]
[null,9,{"$f":"IF(入力欄!E364=\"\",\"\",入力欄!E364)","v":""},null,{"$f":"IF(入力欄!F364=\"\",\"\",入力欄!F364)","v":""},null,null,null,{"$f":"IF(入力欄!G364=\"\",\"\",入力欄!G364)","v":""},null,null,{"$f":"IF(入力欄!H364=\"\",\"\",入力欄!H364)","v":""},null,null,{"$f":"IF(入力欄!I364=\"\",\"\",入力欄!I364)","v":""},null,null,{"$f":"IF(入力欄!J364=\"\",\"\",入力欄!J364)","v":""},null,null,{"$f":"IF(入力欄!K364=\"\",\"\",入力欄!K364)","v":""},{"$f":"IF(入力欄!L364=\"\",\"\",入力欄!L364)","v":""},null,null,null,null,null,{"$f":"IF(入力欄!M364=\"\",\"\",入力欄!M364)","v":""},{"$f":"IF(入力欄!N364=\"\",\"\",入力欄!N364)","v":""}]
[null,10,{"$f":"IF(入力欄!E365=\"\",\"\",入力欄!E365)","v":""},null,{"$f":"IF(入力欄!F365=\"\",\"\",入力欄!F365)","v":""},null,null,null,{"$f":"IF(入力欄!G365=\"\",\"\",入力欄!G365)","v":""},null,null,{"$f":"IF(入力欄!H365=\"\",\"\",入力欄!H365)","v":""},null,null,{"$f":"IF(入力欄!I365=\"\",\"\",入力欄!I365)","v":""},null,null,{"$f":"IF(入力欄!J365=\"\",\"\",入力欄!J365)","v":""},null,null,{"$f":"IF(入力欄!K365=\"\",\"\",入力欄!K365)","v":""},{"$f":"IF(入力欄!L365=\"\",\"\",入力欄!L365)","v":""},null,null,null,null,null,{"$f":"IF(入力欄!M365=\"\",\"\",入力欄!M365)","v":""},{"$f":"IF(入力欄!N365=\"\",\"\",入力欄!N365)","v":""}]
[{"$f":"IF(入力欄!C366=\"\",\"\",入力欄!C366)","v":""},1,{"$f":"IF(入力欄!E366=\"\",\"\",入力欄!E366)","v":""},null,{"$f":"IF(入力欄!F366=\"\",\"\",入力欄!F366)","v":""},null,null,null,{"$f":"IF(入力欄!G366=\"\",\"\",入力欄!G366)","v":""},null,null,{"$f":"IF(入力欄!H366=\"\",\"\",入力欄!H366)","v":""},null,null,{"$f":"IF(入力欄!I366=\"\",\"\",入力欄!I366)","v":""},null,null,{"$f":"IF(入力欄!J366=\"\",\"\",入力欄!J366)","v":""},null,null,{"$f":"IF(入力欄!K366=\"\",\"\",入力欄!K366)","v":""},{"$f":"IF(入力欄!L366=\"\",\"\",入力欄!L366)","v":""},null,null,null,null,null,{"$f":"IF(入力欄!M366=\"\",\"\",入力欄!M366)","v":""},{"$f":"IF(入力欄!N366=\"\",\"\",入力欄!N366)","v":""}]
[null,2,{"$f":"IF(入力欄!E367=\"\",\"\",入力欄!E367)","v":""},null,{"$f":"IF(入力欄!F367=\"\",\"\",入力欄!F367)","v":""},null,null,null,{"$f":"IF(入力欄!G367=\"\",\"\",入力欄!G367)","v":""},null,null,{"$f":"IF(入力欄!H367=\"\",\"\",入力欄!H367)","v":""},null,null,{"$f":"IF(入力欄!I367=\"\",\"\",入力欄!I367)","v":""},null,null,{"$f":"IF(入力欄!J367=\"\",\"\",入力欄!J367)","v":""},null,null,{"$f":"IF(入力欄!K367=\"\",\"\",入力欄!K367)","v":""},{"$f":"IF(入力欄!L367=\"\",\"\",入力欄!L367)","v":""},null,null,null,null,null,{"$f":"IF(入力欄!M367=\"\",\"\",入力欄!M367)","v":""},{"$f":"IF(入力欄!N367=\"\",\"\",入力欄!N367)","v":""}]
[null,3,{"$f":"IF(入力欄!E368=\"\",\"\",入力欄!E368)","v":""},null,{"$f":"IF(入力欄!F368=\"\",\"\",入力欄!F368)","v":""},null,null,null,{"$f":"IF(入力欄!G368=\"\",\"\",入力欄!G368)","v":""},null,null,{"$f":"IF(入力欄!H368=\"\",\"\",入力欄!H368)","v":""},null,null,{"$f":"IF(入力欄!I368=\"\",\"\",入力欄!I368)","v":""},null,null,{"$f":"IF(入力欄!J368=\"\",\"\",入力欄!J368)","v":""},null,null,{"$f":"IF(入力欄!K368=\"\",\"\",入力欄!K368)","v":""},{"$f":"IF(入力欄!L368=\"\",\"\",入力欄!L368)","v":""},null,null,null,null,null,{"$f":"IF(入力欄!M368=\"\",\"\",入力欄!M368)","v":""},{"$f":"IF(入力欄!N368=\"\",\"\",入力欄!N368)","v":""}]
[null,4,{"$f":"IF(入力欄!E369=\"\",\"\",入力欄!E369)","v":""},null,{"$f":"IF(入力欄!F369=\"\",\"\",入力欄!F369)","v":""},null,null,null,{"$f":"IF(入力欄!G369=\"\",\"\",入力欄!G369)","v":""},null,null,{"$f":"IF(入力欄!H369=\"\",\"\",入力欄!H369)","v":""},null,null,{"$f":"IF(入力欄!I369=\"\",\"\",入力欄!I369)","v":""},null,null,{"$f":"IF(入力欄!J369=\"\",\"\",入力欄!J369)","v":""},null,null,{"$f":"IF(入力欄!K369=\"\",\"\",入力欄!K369)","v":""},{"$f":"IF(入力欄!L369=\"\",\"\",入力欄!L369)","v":""},null,null,null,null,null,{"$f":"IF(入力欄!M369=\"\",\"\",入力欄!M369)","v":""},{"$f":"IF(入力欄!N369=\"\",\"\",入力欄!N369)","v":""}]
[null,5,{"$f":"IF(入力欄!E370=\"\",\"\",入力欄!E370)","v":""},null,{"$f":"IF(入力欄!F370=\"\",\"\",入力欄!F370)","v":""},null,null,null,{"$f":"IF(入力欄!G370=\"\",\"\",入力欄!G370)","v":""},null,null,{"$f":"IF(入力欄!H370=\"\",\"\",入力欄!H370)","v":""},null,null,{"$f":"IF(入力欄!I370=\"\",\"\",入力欄!I370)","v":""},null,null,{"$f":"IF(入力欄!J370=\"\",\"\",入力欄!J370)","v":""},null,null,{"$f":"IF(入力欄!K370=\"\",\"\",入力欄!K370)","v":""},{"$f":"IF(入力欄!L370=\"\",\"\",入力欄!L370)","v":""},null,null,null,null,null,{"$f":"IF(入力欄!M370=\"\",\"\",入力欄!M370)","v":""},{"$f":"IF(入力欄!N370=\"\",\"\",入力欄!N370)","v":""}]
[null,6,{"$f":"IF(入力欄!E371=\"\",\"\",入力欄!E371)","v":""},null,{"$f":"IF(入力欄!F371=\"\",\"\",入力欄!F371)","v":""},null,null,null,{"$f":"IF(入力欄!G371=\"\",\"\",入力欄!G371)","v":""},null,null,{"$f":"IF(入力欄!H371=\"\",\"\",入力欄!H371)","v":""},null,null,{"$f":"IF(入力欄!I371=\"\",\"\",入力欄!I371)","v":""},null,null,{"$f":"IF(入力欄!J371=\"\",\"\",入力欄!J371)","v":""},null,null,{"$f":"IF(入力欄!K371=\"\",\"\",入力欄!K371)","v":""},{"$f":"IF(入力欄!L371=\"\",\"\",入力欄!L371)","v":""},null,null,null,null,null,{"$f":"IF(入力欄!M371=\"\",\"\",入力欄!M371)","v":""},{"$f":"IF(入力欄!N371=\"\",\"\",入力欄!N371)","v":""}]
[null,7,{"$f":"IF(入力欄!E372=\"\",\"\",入力欄!E372)","v":""},null,{"$f":"IF(入力欄!F372=\"\",\"\",入力欄!F372)","v":""},null,null,null,{"$f":"IF(入力欄!G372=\"\",\"\",入力欄!G372)","v":""},null,null,{"$f":"IF(入力欄!H372=\"\",\"\",入力欄!H372)","v":""},null,null,{"$f":"IF(入力欄!I372=\"\",\"\",入力欄!I372)","v":""},null,null,{"$f":"IF(入力欄!J372=\"\",\"\",入力欄!J372)","v":""},null,null,{"$f":"IF(入力欄!K372=\"\",\"\",入力欄!K372)","v":""},{"$f":"IF(入力欄!L372=\"\",\"\",入力欄!L372)","v":""},null,null,null,null,null,{"$f":"IF(入力欄!M372=\"\",\"\",入力欄!M372)","v":""},{"$f":"IF(入力欄!N372=\"\",\"\",入力欄!N372)","v":""}]
[null,8,{"$f":"IF(入力欄!E373=\"\",\"\",入力欄!E373)","v":""},null,{"$f":"IF(入力欄!F373=\"\",\"\",入力欄!F373)","v":""},null,null,null,{"$f":"IF(入力欄!G373=\"\",\"\",入力欄!G373)","v":""},null,null,{"$f":"IF(入力欄!H373=\"\",\"\",入力欄!H373)","v":""},null,null,{"$f":"IF(入力欄!I373=\"\",\"\",入力欄!I373)","v":""},null,null,{"$f":"IF(入力欄!J373=\"\",\"\",入力欄!J373)","v":""},null,null,{"$f":"IF(入力欄!K373=\"\",\"\",入力欄!K373)","v":""},{"$f":"IF(入力欄!L373=\"\",\"\",入力欄!L373)","v":""},null,null,null,null,null,{"$f":"IF(入力欄!M373=\"\",\"\",入力欄!M373)","v":""},{"$f":"IF(入力欄!N373=\"\",\"\",入力欄!N373)","v":""}]
[null,9,{"$f":"IF(入力欄!E374=\"\",\"\",入力欄!E374)","v":""},null,{"$f":"IF(入力欄!F374=\"\",\"\",入力欄!F374)","v":""},null,null,null,{"$f":"IF(入力欄!G374=\"\",\"\",入力欄!G374)","v":""},null,null,{"$f":"IF(入力欄!H374=\"\",\"\",入力欄!H374)","v":""},null,null,{"$f":"IF(入力欄!I374=\"\",\"\",入力欄!I374)","v":""},null,null,{"$f":"IF(入力欄!J374=\"\",\"\",入力欄!J374)","v":""},null,null,{"$f":"IF(入力欄!K374=\"\",\"\",入力欄!K374)","v":""},{"$f":"IF(入力欄!L374=\"\",\"\",入力欄!L374)","v":""},null,null,null,null,null,{"$f":"IF(入力欄!M374=\"\",\"\",入力欄!M374)","v":""},{"$f":"IF(入力欄!N374=\"\",\"\",入力欄!N374)","v":""}]
[null,10,{"$f":"IF(入力欄!E375=\"\",\"\",入力欄!E375)","v":""},null,{"$f":"IF(入力欄!F375=\"\",\"\",入力欄!F375)","v":""},null,null,null,{"$f":"IF(入力欄!G375=\"\",\"\",入力欄!G375)","v":""},null,null,{"$f":"IF(入力欄!H375=\"\",\"\",入力欄!H375)","v":""},null,null,{"$f":"IF(入力欄!I375=\"\",\"\",入力欄!I375)","v":""},null,null,{"$f":"IF(入力欄!J375=\"\",\"\",入力欄!J375)","v":""},null,null,{"$f":"IF(入力欄!K375=\"\",\"\",入力欄!K375)","v":""},{"$f":"IF(入力欄!L375=\"\",\"\",入力欄!L375)","v":""},null,null,null,null,null,{"$f":"IF(入力欄!M375=\"\",\"\",入力欄!M375)","v":""},{"$f":"IF(入力欄!N375=\"\",\"\",入力欄!N375)","v":""}]
[{"$f":"IF(入力欄!C376=\"\",\"\",入力欄!C376)","v":""},1,{"$f":"IF(入力欄!E376=\"\",\"\",入力欄!E376)","v":""},null,{"$f":"IF(入力欄!F376=\"\",\"\",入力欄!F376)","v":""},null,null,null,{"$f":"IF(入力欄!G376=\"\",\"\",入力欄!G376)","v":""},null,null,{"$f":"IF(入力欄!H376=\"\",\"\",入力欄!H376)","v":""},null,null,{"$f":"IF(入力欄!I376=\"\",\"\",入力欄!I376)","v":""},null,null,{"$f":"IF(入力欄!J376=\"\",\"\",入力欄!J376)","v":""},null,null,{"$f":"IF(入力欄!K376=\"\",\"\",入力欄!K376)","v":""},{"$f":"IF(入力欄!L376=\"\",\"\",入力欄!L376)","v":""},null,null,null,null,null,{"$f":"IF(入力欄!M376=\"\",\"\",入力欄!M376)","v":""},{"$f":"IF(入力欄!N376=\"\",\"\",入力欄!N376)","v":""}]
[null,2,{"$f":"IF(入力欄!E377=\"\",\"\",入力欄!E377)","v":""},null,{"$f":"IF(入力欄!F377=\"\",\"\",入力欄!F377)","v":""},null,null,null,{"$f":"IF(入力欄!G377=\"\",\"\",入力欄!G377)","v":""},null,null,{"$f":"IF(入力欄!H377=\"\",\"\",入力欄!H377)","v":""},null,null,{"$f":"IF(入力欄!I377=\"\",\"\",入力欄!I377)","v":""},null,null,{"$f":"IF(入力欄!J377=\"\",\"\",入力欄!J377)","v":""},null,null,{"$f":"IF(入力欄!K377=\"\",\"\",入力欄!K377)","v":""},{"$f":"IF(入力欄!L377=\"\",\"\",入力欄!L377)","v":""},null,null,null,null,null,{"$f":"IF(入力欄!M377=\"\",\"\",入力欄!M377)","v":""},{"$f":"IF(入力欄!N377=\"\",\"\",入力欄!N377)","v":""}]
[null,3,{"$f":"IF(入力欄!E378=\"\",\"\",入力欄!E378)","v":""},null,{"$f":"IF(入力欄!F378=\"\",\"\",入力欄!F378)","v":""},null,null,null,{"$f":"IF(入力欄!G378=\"\",\"\",入力欄!G378)","v":""},null,null,{"$f":"IF(入力欄!H378=\"\",\"\",入力欄!H378)","v":""},null,null,{"$f":"IF(入力欄!I378=\"\",\"\",入力欄!I378)","v":""},null,null,{"$f":"IF(入力欄!J378=\"\",\"\",入力欄!J378)","v":""},null,null,{"$f":"IF(入力欄!K378=\"\",\"\",入力欄!K378)","v":""},{"$f":"IF(入力欄!L378=\"\",\"\",入力欄!L378)","v":""},null,null,null,null,null,{"$f":"IF(入力欄!M378=\"\",\"\",入力欄!M378)","v":""},{"$f":"IF(入力欄!N378=\"\",\"\",入力欄!N378)","v":""}]
[null,4,{"$f":"IF(入力欄!E379=\"\",\"\",入力欄!E379)","v":""},null,{"$f":"IF(入力欄!F379=\"\",\"\",入力欄!F379)","v":""},null,null,null,{"$f":"IF(入力欄!G379=\"\",\"\",入力欄!G379)","v":""},null,null,{"$f":"IF(入力欄!H379=\"\",\"\",入力欄!H379)","v":""},null,null,{"$f":"IF(入力欄!I379=\"\",\"\",入力欄!I379)","v":""},null,null,{"$f":"IF(入力欄!J379=\"\",\"\",入力欄!J379)","v":""},null,null,{"$f":"IF(入力欄!K379=\"\",\"\",入力欄!K379)","v":""},{"$f":"IF(入力欄!L379=\"\",\"\",入力欄!L379)","v":""},null,null,null,null,null,{"$f":"IF(入力欄!M379=\"\",\"\",入力欄!M379)","v":""},{"$f":"IF(入力欄!N379=\"\",\"\",入力欄!N379)","v":""}]
[null,5,{"$f":"IF(入力欄!E380=\"\",\"\",入力欄!E380)","v":""},null,{"$f":"IF(入力欄!F380=\"\",\"\",入力欄!F380)","v":""},null,null,null,{"$f":"IF(入力欄!G380=\"\",\"\",入力欄!G380)","v":""},null,null,{"$f":"IF(入力欄!H380=\"\",\"\",入力欄!H380)","v":""},null,null,{"$f":"IF(入力欄!I380=\"\",\"\",入力欄!I380)","v":""},null,null,{"$f":"IF(入力欄!J380=\"\",\"\",入力欄!J380)","v":""},null,null,{"$f":"IF(入力欄!K380=\"\",\"\",入力欄!K380)","v":""},{"$f":"IF(入力欄!L380=\"\",\"\",入力欄!L380)","v":""},null,null,null,null,null,{"$f":"IF(入力欄!M380=\"\",\"\",入力欄!M380)","v":""},{"$f":"IF(入力欄!N380=\"\",\"\",入力欄!N380)","v":""}]
[null,6,{"$f":"IF(入力欄!E381=\"\",\"\",入力欄!E381)","v":""},null,{"$f":"IF(入力欄!F381=\"\",\"\",入力欄!F381)","v":""},null,null,null,{"$f":"IF(入力欄!G381=\"\",\"\",入力欄!G381)","v":""},null,null,{"$f":"IF(入力欄!H381=\"\",\"\",入力欄!H381)","v":""},null,null,{"$f":"IF(入力欄!I381=\"\",\"\",入力欄!I381)","v":""},null,null,{"$f":"IF(入力欄!J381=\"\",\"\",入力欄!J381)","v":""},null,null,{"$f":"IF(入力欄!K381=\"\",\"\",入力欄!K381)","v":""},{"$f":"IF(入力欄!L381=\"\",\"\",入力欄!L381)","v":""},null,null,null,null,null,{"$f":"IF(入力欄!M381=\"\",\"\",入力欄!M381)","v":""},{"$f":"IF(入力欄!N381=\"\",\"\",入力欄!N381)","v":""}]
[null,7,{"$f":"IF(入力欄!E382=\"\",\"\",入力欄!E382)","v":""},null,{"$f":"IF(入力欄!F382=\"\",\"\",入力欄!F382)","v":""},null,null,null,{"$f":"IF(入力欄!G382=\"\",\"\",入力欄!G382)","v":""},null,null,{"$f":"IF(入力欄!H382=\"\",\"\",入力欄!H382)","v":""},null,null,{"$f":"IF(入力欄!I382=\"\",\"\",入力欄!I382)","v":""},null,null,{"$f":"IF(入力欄!J382=\"\",\"\",入力欄!J382)","v":""},null,null,{"$f":"IF(入力欄!K382=\"\",\"\",入力欄!K382)","v":""},{"$f":"IF(入力欄!L382=\"\",\"\",入力欄!L382)","v":""},null,null,null,null,null,{"$f":"IF(入力欄!M382=\"\",\"\",入力欄!M382)","v":""},{"$f":"IF(入力欄!N382=\"\",\"\",入力欄!N382)","v":""}]
[null,8,{"$f":"IF(入力欄!E383=\"\",\"\",入力欄!E383)","v":""},null,{"$f":"IF(入力欄!F383=\"\",\"\",入力欄!F383)","v":""},null,null,null,{"$f":"IF(入力欄!G383=\"\",\"\",入力欄!G383)","v":""},null,null,{"$f":"IF(入力欄!H383=\"\",\"\",入力欄!H383)","v":""},null,null,{"$f":"IF(入力欄!I383=\"\",\"\",入力欄!I383)","v":""},null,null,{"$f":"IF(入力欄!J383=\"\",\"\",入力欄!J383)","v":""},null,null,{"$f":"IF(入力欄!K383=\"\",\"\",入力欄!K383)","v":""},{"$f":"IF(入力欄!L383=\"\",\"\",入力欄!L383)","v":""},null,null,null,null,null,{"$f":"IF(入力欄!M383=\"\",\"\",入力欄!M383)","v":""},{"$f":"IF(入力欄!N383=\"\",\"\",入力欄!N383)","v":""}]
[null,9,{"$f":"IF(入力欄!E384=\"\",\"\",入力欄!E384)","v":""},null,{"$f":"IF(入力欄!F384=\"\",\"\",入力欄!F384)","v":""},null,null,null,{"$f":"IF(入力欄!G384=\"\",\"\",入力欄!G384)","v":""},null,null,{"$f":"IF(入力欄!H384=\"\",\"\",入力欄!H384)","v":""},null,null,{"$f":"IF(入力欄!I384=\"\",\"\",入力欄!I384)","v":""},null,null,{"$f":"IF(入力欄!J384=\"\",\"\",入力欄!J384)","v":""},null,null,{"$f":"IF(入力欄!K384=\"\",\"\",入力欄!K384)","v":""},{"$f":"IF(入力欄!L384=\"\",\"\",入力欄!L384)","v":""},null,null,null,null,null,{"$f":"IF(入力欄!M384=\"\",\"\",入力欄!M384)","v":""},{"$f":"IF(入力欄!N384=\"\",\"\",入力欄!N384)","v":""}]
[null,10,{"$f":"IF(入力欄!E385=\"\",\"\",入力欄!E385)","v":""},null,{"$f":"IF(入力欄!F385=\"\",\"\",入力欄!F385)","v":""},null,null,null,{"$f":"IF(入力欄!G385=\"\",\"\",入力欄!G385)","v":""},null,null,{"$f":"IF(入力欄!H385=\"\",\"\",入力欄!H385)","v":""},null,null,{"$f":"IF(入力欄!I385=\"\",\"\",入力欄!I385)","v":""},null,null,{"$f":"IF(入力欄!J385=\"\",\"\",入力欄!J385)","v":""},null,null,{"$f":"IF(入力欄!K385=\"\",\"\",入力欄!K385)","v":""},{"$f":"IF(入力欄!L385=\"\",\"\",入力欄!L385)","v":""},null,null,null,null,null,{"$f":"IF(入力欄!M385=\"\",\"\",入力欄!M385)","v":""},{"$f":"IF(入力欄!N385=\"\",\"\",入力欄!N385)","v":""}]
[{"$f":"IF(入力欄!C386=\"\",\"\",入力欄!C386)","v":""},1,{"$f":"IF(入力欄!E386=\"\",\"\",入力欄!E386)","v":""},null,{"$f":"IF(入力欄!F386=\"\",\"\",入力欄!F386)","v":""},null,null,null,{"$f":"IF(入力欄!G386=\"\",\"\",入力欄!G386)","v":""},null,null,{"$f":"IF(入力欄!H386=\"\",\"\",入力欄!H386)","v":""},null,null,{"$f":"IF(入力欄!I386=\"\",\"\",入力欄!I386)","v":""},null,null,{"$f":"IF(入力欄!J386=\"\",\"\",入力欄!J386)","v":""},null,null,{"$f":"IF(入力欄!K386=\"\",\"\",入力欄!K386)","v":""},{"$f":"IF(入力欄!L386=\"\",\"\",入力欄!L386)","v":""},null,null,null,null,null,{"$f":"IF(入力欄!M386=\"\",\"\",入力欄!M386)","v":""},{"$f":"IF(入力欄!N386=\"\",\"\",入力欄!N386)","v":""}]
[null,2,{"$f":"IF(入力欄!E387=\"\",\"\",入力欄!E387)","v":""},null,{"$f":"IF(入力欄!F387=\"\",\"\",入力欄!F387)","v":""},null,null,null,{"$f":"IF(入力欄!G387=\"\",\"\",入力欄!G387)","v":""},null,null,{"$f":"IF(入力欄!H387=\"\",\"\",入力欄!H387)","v":""},null,null,{"$f":"IF(入力欄!I387=\"\",\"\",入力欄!I387)","v":""},null,null,{"$f":"IF(入力欄!J387=\"\",\"\",入力欄!J387)","v":""},null,null,{"$f":"IF(入力欄!K387=\"\",\"\",入力欄!K387)","v":""},{"$f":"IF(入力欄!L387=\"\",\"\",入力欄!L387)","v":""},null,null,null,null,null,{"$f":"IF(入力欄!M387=\"\",\"\",入力欄!M387)","v":""},{"$f":"IF(入力欄!N387=\"\",\"\",入力欄!N387)","v":""}]
[null,3,{"$f":"IF(入力欄!E388=\"\",\"\",入力欄!E388)","v":""},null,{"$f":"IF(入力欄!F388=\"\",\"\",入力欄!F388)","v":""},null,null,null,{"$f":"IF(入力欄!G388=\"\",\"\",入力欄!G388)","v":""},null,null,{"$f":"IF(入力欄!H388=\"\",\"\",入力欄!H388)","v":""},null,null,{"$f":"IF(入力欄!I388=\"\",\"\",入力欄!I388)","v":""},null,null,{"$f":"IF(入力欄!J388=\"\",\"\",入力欄!J388)","v":""},null,null,{"$f":"IF(入力欄!K388=\"\",\"\",入力欄!K388)","v":""},{"$f":"IF(入力欄!L388=\"\",\"\",入力欄!L388)","v":""},null,null,null,null,null,{"$f":"IF(入力欄!M388=\"\",\"\",入力欄!M388)","v":""},{"$f":"IF(入力欄!N388=\"\",\"\",入力欄!N388)","v":""}]
[null,4,{"$f":"IF(入力欄!E389=\"\",\"\",入力欄!E389)","v":""},null,{"$f":"IF(入力欄!F389=\"\",\"\",入力欄!F389)","v":""},null,null,null,{"$f":"IF(入力欄!G389=\"\",\"\",入力欄!G389)","v":""},null,null,{"$f":"IF(入力欄!H389=\"\",\"\",入力欄!H389)","v":""},null,null,{"$f":"IF(入力欄!I389=\"\",\"\",入力欄!I389)","v":""},null,null,{"$f":"IF(入力欄!J389=\"\",\"\",入力欄!J389)","v":""},null,null,{"$f":"IF(入力欄!K389=\"\",\"\",入力欄!K389)","v":""},{"$f":"IF(入力欄!L389=\"\",\"\",入力欄!L389)","v":""},null,null,null,null,null,{"$f":"IF(入力欄!M389=\"\",\"\",入力欄!M389)","v":""},{"$f":"IF(入力欄!N389=\"\",\"\",入力欄!N389)","v":""}]
[null,5,{"$f":"IF(入力欄!E390=\"\",\"\",入力欄!E390)","v":""},null,{"$f":"IF(入力欄!F390=\"\",\"\",入力欄!F390)","v":""},null,null,null,{"$f":"IF(入力欄!G390=\"\",\"\",入力欄!G390)","v":""},null,null,{"$f":"IF(入力欄!H390=\"\",\"\",入力欄!H390)","v":""},null,null,{"$f":"IF(入力欄!I390=\"\",\"\",入力欄!I390)","v":""},null,null,{"$f":"IF(入力欄!J390=\"\",\"\",入力欄!J390)","v":""},null,null,{"$f":"IF(入力欄!K390=\"\",\"\",入力欄!K390)","v":""},{"$f":"IF(入力欄!L390=\"\",\"\",入力欄!L390)","v":""},null,null,null,null,null,{"$f":"IF(入力欄!M390=\"\",\"\",入力欄!M390)","v":""},{"$f":"IF(入力欄!N390=\"\",\"\",入力欄!N390)","v":""}]
[null,6,{"$f":"IF(入力欄!E391=\"\",\"\",入力欄!E391)","v":""},null,{"$f":"IF(入力欄!F391=\"\",\"\",入力欄!F391)","v":""},null,null,null,{"$f":"IF(入力欄!G391=\"\",\"\",入力欄!G391)","v":""},null,null,{"$f":"IF(入力欄!H391=\"\",\"\",入力欄!H391)","v":""},null,null,{"$f":"IF(入力欄!I391=\"\",\"\",入力欄!I391)","v":""},null,null,{"$f":"IF(入力欄!J391=\"\",\"\",入力欄!J391)","v":""},null,null,{"$f":"IF(入力欄!K391=\"\",\"\",入力欄!K391)","v":""},{"$f":"IF(入力欄!L391=\"\",\"\",入力欄!L391)","v":""},null,null,null,null,null,{"$f":"IF(入力欄!M391=\"\",\"\",入力欄!M391)","v":""},{"$f":"IF(入力欄!N391=\"\",\"\",入力欄!N391)","v":""}]
[null,7,{"$f":"IF(入力欄!E392=\"\",\"\",入力欄!E392)","v":""},null,{"$f":"IF(入力欄!F392=\"\",\"\",入力欄!F392)","v":""},null,null,null,{"$f":"IF(入力欄!G392=\"\",\"\",入力欄!G392)","v":""},null,null,{"$f":"IF(入力欄!H392=\"\",\"\",入力欄!H392)","v":""},null,null,{"$f":"IF(入力欄!I392=\"\",\"\",入力欄!I392)","v":""},null,null,{"$f":"IF(入力欄!J392=\"\",\"\",入力欄!J392)","v":""},null,null,{"$f":"IF(入力欄!K392=\"\",\"\",入力欄!K392)","v":""},{"$f":"IF(入力欄!L392=\"\",\"\",入力欄!L392)","v":""},null,null,null,null,null,{"$f":"IF(入力欄!M392=\"\",\"\",入力欄!M392)","v":""},{"$f":"IF(入力欄!N392=\"\",\"\",入力欄!N392)","v":""}]
[null,8,{"$f":"IF(入力欄!E393=\"\",\"\",入力欄!E393)","v":""},null,{"$f":"IF(入力欄!F393=\"\",\"\",入力欄!F393)","v":""},null,null,null,{"$f":"IF(入力欄!G393=\"\",\"\",入力欄!G393)","v":""},null,null,{"$f":"IF(入力欄!H393=\"\",\"\",入力欄!H393)","v":""},null,null,{"$f":"IF(入力欄!I393=\"\",\"\",入力欄!I393)","v":""},null,null,{"$f":"IF(入力欄!J393=\"\",\"\",入力欄!J393)","v":""},null,null,{"$f":"IF(入力欄!K393=\"\",\"\",入力欄!K393)","v":""},{"$f":"IF(入力欄!L393=\"\",\"\",入力欄!L393)","v":""},null,null,null,null,null,{"$f":"IF(入力欄!M393=\"\",\"\",入力欄!M393)","v":""},{"$f":"IF(入力欄!N393=\"\",\"\",入力欄!N393)","v":""}]
[null,9,{"$f":"IF(入力欄!E394=\"\",\"\",入力欄!E394)","v":""},null,{"$f":"IF(入力欄!F394=\"\",\"\",入力欄!F394)","v":""},null,null,null,{"$f":"IF(入力欄!G394=\"\",\"\",入力欄!G394)","v":""},null,null,{"$f":"IF(入力欄!H394=\"\",\"\",入力欄!H394)","v":""},null,null,{"$f":"IF(入力欄!I394=\"\",\"\",入力欄!I394)","v":""},null,null,{"$f":"IF(入力欄!J394=\"\",\"\",入力欄!J394)","v":""},null,null,{"$f":"IF(入力欄!K394=\"\",\"\",入力欄!K394)","v":""},{"$f":"IF(入力欄!L394=\"\",\"\",入力欄!L394)","v":""},null,null,null,null,null,{"$f":"IF(入力欄!M394=\"\",\"\",入力欄!M394)","v":""},{"$f":"IF(入力欄!N394=\"\",\"\",入力欄!N394)","v":""}]
[null,10,{"$f":"IF(入力欄!E395=\"\",\"\",入力欄!E395)","v":""},null,{"$f":"IF(入力欄!F395=\"\",\"\",入力欄!F395)","v":""},null,null,null,{"$f":"IF(入力欄!G395=\"\",\"\",入力欄!G395)","v":""},null,null,{"$f":"IF(入力欄!H395=\"\",\"\",入力欄!H395)","v":""},null,null,{"$f":"IF(入力欄!I395=\"\",\"\",入力欄!I395)","v":""},null,null,{"$f":"IF(入力欄!J395=\"\",\"\",入力欄!J395)","v":""},null,null,{"$f":"IF(入力欄!K395=\"\",\"\",入力欄!K395)","v":""},{"$f":"IF(入力欄!L395=\"\",\"\",入力欄!L395)","v":""},null,null,null,null,null,{"$f":"IF(入力欄!M395=\"\",\"\",入力欄!M395)","v":""},{"$f":"IF(入力欄!N395=\"\",\"\",入力欄!N395)","v":""}]
[{"$f":"IF(入力欄!C396=\"\",\"\",入力欄!C396)","v":""},1,{"$f":"IF(入力欄!E396=\"\",\"\",入力欄!E396)","v":""},null,{"$f":"IF(入力欄!F396=\"\",\"\",入力欄!F396)","v":""},null,null,null,{"$f":"IF(入力欄!G396=\"\",\"\",入力欄!G396)","v":""},null,null,{"$f":"IF(入力欄!H396=\"\",\"\",入力欄!H396)","v":""},null,null,{"$f":"IF(入力欄!I396=\"\",\"\",入力欄!I396)","v":""},null,null,{"$f":"IF(入力欄!J396=\"\",\"\",入力欄!J396)","v":""},null,null,{"$f":"IF(入力欄!K396=\"\",\"\",入力欄!K396)","v":""},{"$f":"IF(入力欄!L396=\"\",\"\",入力欄!L396)","v":""},null,null,null,null,null,{"$f":"IF(入力欄!M396=\"\",\"\",入力欄!M396)","v":""},{"$f":"IF(入力欄!N396=\"\",\"\",入力欄!N396)","v":""}]
[null,2,{"$f":"IF(入力欄!E397=\"\",\"\",入力欄!E397)","v":""},null,{"$f":"IF(入力欄!F397=\"\",\"\",入力欄!F397)","v":""},null,null,null,{"$f":"IF(入力欄!G397=\"\",\"\",入力欄!G397)","v":""},null,null,{"$f":"IF(入力欄!H397=\"\",\"\",入力欄!H397)","v":""},null,null,{"$f":"IF(入力欄!I397=\"\",\"\",入力欄!I397)","v":""},null,null,{"$f":"IF(入力欄!J397=\"\",\"\",入力欄!J397)","v":""},null,null,{"$f":"IF(入力欄!K397=\"\",\"\",入力欄!K397)","v":""},{"$f":"IF(入力欄!L397=\"\",\"\",入力欄!L397)","v":""},null,null,null,null,null,{"$f":"IF(入力欄!M397=\"\",\"\",入力欄!M397)","v":""},{"$f":"IF(入力欄!N397=\"\",\"\",入力欄!N397)","v":""}]
[null,3,{"$f":"IF(入力欄!E398=\"\",\"\",入力欄!E398)","v":""},null,{"$f":"IF(入力欄!F398=\"\",\"\",入力欄!F398)","v":""},null,null,null,{"$f":"IF(入力欄!G398=\"\",\"\",入力欄!G398)","v":""},null,null,{"$f":"IF(入力欄!H398=\"\",\"\",入力欄!H398)","v":""},null,null,{"$f":"IF(入力欄!I398=\"\",\"\",入力欄!I398)","v":""},null,null,{"$f":"IF(入力欄!J398=\"\",\"\",入力欄!J398)","v":""},null,null,{"$f":"IF(入力欄!K398=\"\",\"\",入力欄!K398)","v":""},{"$f":"IF(入力欄!L398=\"\",\"\",入力欄!L398)","v":""},null,null,null,null,null,{"$f":"IF(入力欄!M398=\"\",\"\",入力欄!M398)","v":""},{"$f":"IF(入力欄!N398=\"\",\"\",入力欄!N398)","v":""}]
[null,4,{"$f":"IF(入力欄!E399=\"\",\"\",入力欄!E399)","v":""},null,{"$f":"IF(入力欄!F399=\"\",\"\",入力欄!F399)","v":""},null,null,null,{"$f":"IF(入力欄!G399=\"\",\"\",入力欄!G399)","v":""},null,null,{"$f":"IF(入力欄!H399=\"\",\"\",入力欄!H399)","v":""},null,null,{"$f":"IF(入力欄!I399=\"\",\"\",入力欄!I399)","v":""},null,null,{"$f":"IF(入力欄!J399=\"\",\"\",入力欄!J399)","v":""},null,null,{"$f":"IF(入力欄!K399=\"\",\"\",入力欄!K399)","v":""},{"$f":"IF(入力欄!L399=\"\",\"\",入力欄!L399)","v":""},null,null,null,null,null,{"$f":"IF(入力欄!M399=\"\",\"\",入力欄!M399)","v":""},{"$f":"IF(入力欄!N399=\"\",\"\",入力欄!N399)","v":""}]
[null,5,{"$f":"IF(入力欄!E400=\"\",\"\",入力欄!E400)","v":""},null,{"$f":"IF(入力欄!F400=\"\",\"\",入力欄!F400)","v":""},null,null,null,{"$f":"IF(入力欄!G400=\"\",\"\",入力欄!G400)","v":""},null,null,{"$f":"IF(入力欄!H400=\"\",\"\",入力欄!H400)","v":""},null,null,{"$f":"IF(入力欄!I400=\"\",\"\",入力欄!I400)","v":""},null,null,{"$f":"IF(入力欄!J400=\"\",\"\",入力欄!J400)","v":""},null,null,{"$f":"IF(入力欄!K400=\"\",\"\",入力欄!K400)","v":""},{"$f":"IF(入力欄!L400=\"\",\"\",入力欄!L400)","v":""},null,null,null,null,null,{"$f":"IF(入力欄!M400=\"\",\"\",入力欄!M400)","v":""},{"$f":"IF(入力欄!N400=\"\",\"\",入力欄!N400)","v":""}]
[null,6,{"$f":"IF(入力欄!E401=\"\",\"\",入力欄!E401)","v":""},null,{"$f":"IF(入力欄!F401=\"\",\"\",入力欄!F401)","v":""},null,null,null,{"$f":"IF(入力欄!G401=\"\",\"\",入力欄!G401)","v":""},null,null,{"$f":"IF(入力欄!H401=\"\",\"\",入力欄!H401)","v":""},null,null,{"$f":"IF(入力欄!I401=\"\",\"\",入力欄!I401)","v":""},null,null,{"$f":"IF(入力欄!J401=\"\",\"\",入力欄!J401)","v":""},null,null,{"$f":"IF(入力欄!K401=\"\",\"\",入力欄!K401)","v":""},{"$f":"IF(入力欄!L401=\"\",\"\",入力欄!L401)","v":""},null,null,null,null,null,{"$f":"IF(入力欄!M401=\"\",\"\",入力欄!M401)","v":""},{"$f":"IF(入力欄!N401=\"\",\"\",入力欄!N401)","v":""}]
[null,7,{"$f":"IF(入力欄!E402=\"\",\"\",入力欄!E402)","v":""},null,{"$f":"IF(入力欄!F402=\"\",\"\",入力欄!F402)","v":""},null,null,null,{"$f":"IF(入力欄!G402=\"\",\"\",入力欄!G402)","v":""},null,null,{"$f":"IF(入力欄!H402=\"\",\"\",入力欄!H402)","v":""},null,null,{"$f":"IF(入力欄!I402=\"\",\"\",入力欄!I402)","v":""},null,null,{"$f":"IF(入力欄!J402=\"\",\"\",入力欄!J402)","v":""},null,null,{"$f":"IF(入力欄!K402=\"\",\"\",入力欄!K402)","v":""},{"$f":"IF(入力欄!L402=\"\",\"\",入力欄!L402)","v":""},null,null,null,null,null,{"$f":"IF(入力欄!M402=\"\",\"\",入力欄!M402)","v":""},{"$f":"IF(入力欄!N402=\"\",\"\",入力欄!N402)","v":""}]
[null,8,{"$f":"IF(入力欄!E403=\"\",\"\",入力欄!E403)","v":""},null,{"$f":"IF(入力欄!F403=\"\",\"\",入力欄!F403)","v":""},null,null,null,{"$f":"IF(入力欄!G403=\"\",\"\",入力欄!G403)","v":""},null,null,{"$f":"IF(入力欄!H403=\"\",\"\",入力欄!H403)","v":""},null,null,{"$f":"IF(入力欄!I403=\"\",\"\",入力欄!I403)","v":""},null,null,{"$f":"IF(入力欄!J403=\"\",\"\",入力欄!J403)","v":""},null,null,{"$f":"IF(入力欄!K403=\"\",\"\",入力欄!K403)","v":""},{"$f":"IF(入力欄!L403=\"\",\"\",入力欄!L403)","v":""},null,null,null,null,null,{"$f":"IF(入力欄!M403=\"\",\"\",入力欄!M403)","v":""},{"$f":"IF(入力欄!N403=\"\",\"\",入力欄!N403)","v":""}]
[null,9,{"$f":"IF(入力欄!E404=\"\",\"\",入力欄!E404)","v":""},null,{"$f":"IF(入力欄!F404=\"\",\"\",入力欄!F404)","v":""},null,null,null,{"$f":"IF(入力欄!G404=\"\",\"\",入力欄!G404)","v":""},null,null,{"$f":"IF(入力欄!H404=\"\",\"\",入力欄!H404)","v":""},null,null,{"$f":"IF(入力欄!I404=\"\",\"\",入力欄!I404)","v":""},null,null,{"$f":"IF(入力欄!J404=\"\",\"\",入力欄!J404)","v":""},null,null,{"$f":"IF(入力欄!K404=\"\",\"\",入力欄!K404)","v":""},{"$f":"IF(入力欄!L404=\"\",\"\",入力欄!L404)","v":""},null,null,null,null,null,{"$f":"IF(入力欄!M404=\"\",\"\",入力欄!M404)","v":""},{"$f":"IF(入力欄!N404=\"\",\"\",入力欄!N404)","v":""}]
[null,10,{"$f":"IF(入力欄!E405=\"\",\"\",入力欄!E405)","v":""},null,{"$f":"IF(入力欄!F405=\"\",\"\",入力欄!F405)","v":""},null,null,null,{"$f":"IF(入力欄!G405=\"\",\"\",入力欄!G405)","v":""},null,null,{"$f":"IF(入力欄!H405=\"\",\"\",入力欄!H405)","v":""},null,null,{"$f":"IF(入力欄!I405=\"\",\"\",入力欄!I405)","v":""},null,null,{"$f":"IF(入力欄!J405=\"\",\"\",入力欄!J405)","v":""},null,null,{"$f":"IF(入力欄!K405=\"\",\"\",入力欄!K405)","v":""},{"$f":"IF(入力欄!L405=\"\",\"\",入力欄!L405)","v":""},null,null,null,null,null,{"$f":"IF(入力欄!M405=\"\",\"\",入力欄!M405)","v":""},{"$f":"IF(入力欄!N405=\"\",\"\",入力欄!N405)","v":""}]
[{"$f":"IF(入力欄!C406=\"\",\"\",入力欄!C406)","v":""},1,{"$f":"IF(入力欄!E406=\"\",\"\",入力欄!E406)","v":""},null,{"$f":"IF(入力欄!F406=\"\",\"\",入力欄!F406)","v":""},null,null,null,{"$f":"IF(入力欄!G406=\"\",\"\",入力欄!G406)","v":""},null,null,{"$f":"IF(入力欄!H406=\"\",\"\",入力欄!H406)","v":""},null,null,{"$f":"IF(入力欄!I406=\"\",\"\",入力欄!I406)","v":""},null,null,{"$f":"IF(入力欄!J406=\"\",\"\",入力欄!J406)","v":""},null,null,{"$f":"IF(入力欄!K406=\"\",\"\",入力欄!K406)","v":""},{"$f":"IF(入力欄!L406=\"\",\"\",入力欄!L406)","v":""},null,null,null,null,null,{"$f":"IF(入力欄!M406=\"\",\"\",入力欄!M406)","v":""},{"$f":"IF(入力欄!N406=\"\",\"\",入力欄!N406)","v":""}]
[null,2,{"$f":"IF(入力欄!E407=\"\",\"\",入力欄!E407)","v":""},null,{"$f":"IF(入力欄!F407=\"\",\"\",入力欄!F407)","v":""},null,null,null,{"$f":"IF(入力欄!G407=\"\",\"\",入力欄!G407)","v":""},null,null,{"$f":"IF(入力欄!H407=\"\",\"\",入力欄!H407)","v":""},null,null,{"$f":"IF(入力欄!I407=\"\",\"\",入力欄!I407)","v":""},null,null,{"$f":"IF(入力欄!J407=\"\",\"\",入力欄!J407)","v":""},null,null,{"$f":"IF(入力欄!K407=\"\",\"\",入力欄!K407)","v":""},{"$f":"IF(入力欄!L407=\"\",\"\",入力欄!L407)","v":""},null,null,null,null,null,{"$f":"IF(入力欄!M407=\"\",\"\",入力欄!M407)","v":""},{"$f":"IF(入力欄!N407=\"\",\"\",入力欄!N407)","v":""}]
[null,3,{"$f":"IF(入力欄!E408=\"\",\"\",入力欄!E408)","v":""},null,{"$f":"IF(入力欄!F408=\"\",\"\",入力欄!F408)","v":""},null,null,null,{"$f":"IF(入力欄!G408=\"\",\"\",入力欄!G408)","v":""},null,null,{"$f":"IF(入力欄!H408=\"\",\"\",入力欄!H408)","v":""},null,null,{"$f":"IF(入力欄!I408=\"\",\"\",入力欄!I408)","v":""},null,null,{"$f":"IF(入力欄!J408=\"\",\"\",入力欄!J408)","v":""},null,null,{"$f":"IF(入力欄!K408=\"\",\"\",入力欄!K408)","v":""},{"$f":"IF(入力欄!L408=\"\",\"\",入力欄!L408)","v":""},null,null,null,null,null,{"$f":"IF(入力欄!M408=\"\",\"\",入力欄!M408)","v":""},{"$f":"IF(入力欄!N408=\"\",\"\",入力欄!N408)","v":""}]
[null,4,{"$f":"IF(入力欄!E409=\"\",\"\",入力欄!E409)","v":""},null,{"$f":"IF(入力欄!F409=\"\",\"\",入力欄!F409)","v":""},null,null,null,{"$f":"IF(入力欄!G409=\"\",\"\",入力欄!G409)","v":""},null,null,{"$f":"IF(入力欄!H409=\"\",\"\",入力欄!H409)","v":""},null,null,{"$f":"IF(入力欄!I409=\"\",\"\",入力欄!I409)","v":""},null,null,{"$f":"IF(入力欄!J409=\"\",\"\",入力欄!J409)","v":""},null,null,{"$f":"IF(入力欄!K409=\"\",\"\",入力欄!K409)","v":""},{"$f":"IF(入力欄!L409=\"\",\"\",入力欄!L409)","v":""},null,null,null,null,null,{"$f":"IF(入力欄!M409=\"\",\"\",入力欄!M409)","v":""},{"$f":"IF(入力欄!N409=\"\",\"\",入力欄!N409)","v":""}]
[null,5,{"$f":"IF(入力欄!E410=\"\",\"\",入力欄!E410)","v":""},null,{"$f":"IF(入力欄!F410=\"\",\"\",入力欄!F410)","v":""},null,null,null,{"$f":"IF(入力欄!G410=\"\",\"\",入力欄!G410)","v":""},null,null,{"$f":"IF(入力欄!H410=\"\",\"\",入力欄!H410)","v":""},null,null,{"$f":"IF(入力欄!I410=\"\",\"\",入力欄!I410)","v":""},null,null,{"$f":"IF(入力欄!J410=\"\",\"\",入力欄!J410)","v":""},null,null,{"$f":"IF(入力欄!K410=\"\",\"\",入力欄!K410)","v":""},{"$f":"IF(入力欄!L410=\"\",\"\",入力欄!L410)","v":""},null,null,null,null,null,{"$f":"IF(入力欄!M410=\"\",\"\",入力欄!M410)","v":""},{"$f":"IF(入力欄!N410=\"\",\"\",入力欄!N410)","v":""}]
[null,6,{"$f":"IF(入力欄!E411=\"\",\"\",入力欄!E411)","v":""},null,{"$f":"IF(入力欄!F411=\"\",\"\",入力欄!F411)","v":""},null,null,null,{"$f":"IF(入力欄!G411=\"\",\"\",入力欄!G411)","v":""},null,null,{"$f":"IF(入力欄!H411=\"\",\"\",入力欄!H411)","v":""},null,null,{"$f":"IF(入力欄!I411=\"\",\"\",入力欄!I411)","v":""},null,null,{"$f":"IF(入力欄!J411=\"\",\"\",入力欄!J411)","v":""},null,null,{"$f":"IF(入力欄!K411=\"\",\"\",入力欄!K411)","v":""},{"$f":"IF(入力欄!L411=\"\",\"\",入力欄!L411)","v":""},null,null,null,null,null,{"$f":"IF(入力欄!M411=\"\",\"\",入力欄!M411)","v":""},{"$f":"IF(入力欄!N411=\"\",\"\",入力欄!N411)","v":""}]
[null,7,{"$f":"IF(入力欄!E412=\"\",\"\",入力欄!E412)","v":""},null,{"$f":"IF(入力欄!F412=\"\",\"\",入力欄!F412)","v":""},null,null,null,{"$f":"IF(入力欄!G412=\"\",\"\",入力欄!G412)","v":""},null,null,{"$f":"IF(入力欄!H412=\"\",\"\",入力欄!H412)","v":""},null,null,{"$f":"IF(入力欄!I412=\"\",\"\",入力欄!I412)","v":""},null,null,{"$f":"IF(入力欄!J412=\"\",\"\",入力欄!J412)","v":""},null,null,{"$f":"IF(入力欄!K412=\"\",\"\",入力欄!K412)","v":""},{"$f":"IF(入力欄!L412=\"\",\"\",入力欄!L412)","v":""},null,null,null,null,null,{"$f":"IF(入力欄!M412=\"\",\"\",入力欄!M412)","v":""},{"$f":"IF(入力欄!N412=\"\",\"\",入力欄!N412)","v":""}]
[null,8,{"$f":"IF(入力欄!E413=\"\",\"\",入力欄!E413)","v":""},null,{"$f":"IF(入力欄!F413=\"\",\"\",入力欄!F413)","v":""},null,null,null,{"$f":"IF(入力欄!G413=\"\",\"\",入力欄!G413)","v":""},null,null,{"$f":"IF(入力欄!H413=\"\",\"\",入力欄!H413)","v":""},null,null,{"$f":"IF(入力欄!I413=\"\",\"\",入力欄!I413)","v":""},null,null,{"$f":"IF(入力欄!J413=\"\",\"\",入力欄!J413)","v":""},null,null,{"$f":"IF(入力欄!K413=\"\",\"\",入力欄!K413)","v":""},{"$f":"IF(入力欄!L413=\"\",\"\",入力欄!L413)","v":""},null,null,null,null,null,{"$f":"IF(入力欄!M413=\"\",\"\",入力欄!M413)","v":""},{"$f":"IF(入力欄!N413=\"\",\"\",入力欄!N413)","v":""}]
[null,9,{"$f":"IF(入力欄!E414=\"\",\"\",入力欄!E414)","v":""},null,{"$f":"IF(入力欄!F414=\"\",\"\",入力欄!F414)","v":""},null,null,null,{"$f":"IF(入力欄!G414=\"\",\"\",入力欄!G414)","v":""},null,null,{"$f":"IF(入力欄!H414=\"\",\"\",入力欄!H414)","v":""},null,null,{"$f":"IF(入力欄!I414=\"\",\"\",入力欄!I414)","v":""},null,null,{"$f":"IF(入力欄!J414=\"\",\"\",入力欄!J414)","v":""},null,null,{"$f":"IF(入力欄!K414=\"\",\"\",入力欄!K414)","v":""},{"$f":"IF(入力欄!L414=\"\",\"\",入力欄!L414)","v":""},null,null,null,null,null,{"$f":"IF(入力欄!M414=\"\",\"\",入力欄!M414)","v":""},{"$f":"IF(入力欄!N414=\"\",\"\",入力欄!N414)","v":""}]
[null,10,{"$f":"IF(入力欄!E415=\"\",\"\",入力欄!E415)","v":""},null,{"$f":"IF(入力欄!F415=\"\",\"\",入力欄!F415)","v":""},null,null,null,{"$f":"IF(入力欄!G415=\"\",\"\",入力欄!G415)","v":""},null,null,{"$f":"IF(入力欄!H415=\"\",\"\",入力欄!H415)","v":""},null,null,{"$f":"IF(入力欄!I415=\"\",\"\",入力欄!I415)","v":""},null,null,{"$f":"IF(入力欄!J415=\"\",\"\",入力欄!J415)","v":""},null,null,{"$f":"IF(入力欄!K415=\"\",\"\",入力欄!K415)","v":""},{"$f":"IF(入力欄!L415=\"\",\"\",入力欄!L415)","v":""},null,null,null,null,null,{"$f":"IF(入力欄!M415=\"\",\"\",入力欄!M415)","v":""},{"$f":"IF(入力欄!N415=\"\",\"\",入力欄!N415)","v":""}]
[{"$f":"IF(入力欄!C416=\"\",\"\",入力欄!C416)","v":""},1,{"$f":"IF(入力欄!E416=\"\",\"\",入力欄!E416)","v":""},null,{"$f":"IF(入力欄!F416=\"\",\"\",入力欄!F416)","v":""},null,null,null,{"$f":"IF(入力欄!G416=\"\",\"\",入力欄!G416)","v":""},null,null,{"$f":"IF(入力欄!H416=\"\",\"\",入力欄!H416)","v":""},null,null,{"$f":"IF(入力欄!I416=\"\",\"\",入力欄!I416)","v":""},null,null,{"$f":"IF(入力欄!J416=\"\",\"\",入力欄!J416)","v":""},null,null,{"$f":"IF(入力欄!K416=\"\",\"\",入力欄!K416)","v":""},{"$f":"IF(入力欄!L416=\"\",\"\",入力欄!L416)","v":""},null,null,null,null,null,{"$f":"IF(入力欄!M416=\"\",\"\",入力欄!M416)","v":""},{"$f":"IF(入力欄!N416=\"\",\"\",入力欄!N416)","v":""}]
[null,2,{"$f":"IF(入力欄!E417=\"\",\"\",入力欄!E417)","v":""},null,{"$f":"IF(入力欄!F417=\"\",\"\",入力欄!F417)","v":""},null,null,null,{"$f":"IF(入力欄!G417=\"\",\"\",入力欄!G417)","v":""},null,null,{"$f":"IF(入力欄!H417=\"\",\"\",入力欄!H417)","v":""},null,null,{"$f":"IF(入力欄!I417=\"\",\"\",入力欄!I417)","v":""},null,null,{"$f":"IF(入力欄!J417=\"\",\"\",入力欄!J417)","v":""},null,null,{"$f":"IF(入力欄!K417=\"\",\"\",入力欄!K417)","v":""},{"$f":"IF(入力欄!L417=\"\",\"\",入力欄!L417)","v":""},null,null,null,null,null,{"$f":"IF(入力欄!M417=\"\",\"\",入力欄!M417)","v":""},{"$f":"IF(入力欄!N417=\"\",\"\",入力欄!N417)","v":""}]
[null,3,{"$f":"IF(入力欄!E418=\"\",\"\",入力欄!E418)","v":""},null,{"$f":"IF(入力欄!F418=\"\",\"\",入力欄!F418)","v":""},null,null,null,{"$f":"IF(入力欄!G418=\"\",\"\",入力欄!G418)","v":""},null,null,{"$f":"IF(入力欄!H418=\"\",\"\",入力欄!H418)","v":""},null,null,{"$f":"IF(入力欄!I418=\"\",\"\",入力欄!I418)","v":""},null,null,{"$f":"IF(入力欄!J418=\"\",\"\",入力欄!J418)","v":""},null,null,{"$f":"IF(入力欄!K418=\"\",\"\",入力欄!K418)","v":""},{"$f":"IF(入力欄!L418=\"\",\"\",入力欄!L418)","v":""},null,null,null,null,null,{"$f":"IF(入力欄!M418=\"\",\"\",入力欄!M418)","v":""},{"$f":"IF(入力欄!N418=\"\",\"\",入力欄!N418)","v":""}]
[null,4,{"$f":"IF(入力欄!E419=\"\",\"\",入力欄!E419)","v":""},null,{"$f":"IF(入力欄!F419=\"\",\"\",入力欄!F419)","v":""},null,null,null,{"$f":"IF(入力欄!G419=\"\",\"\",入力欄!G419)","v":""},null,null,{"$f":"IF(入力欄!H419=\"\",\"\",入力欄!H419)","v":""},null,null,{"$f":"IF(入力欄!I419=\"\",\"\",入力欄!I419)","v":""},null,null,{"$f":"IF(入力欄!J419=\"\",\"\",入力欄!J419)","v":""},null,null,{"$f":"IF(入力欄!K419=\"\",\"\",入力欄!K419)","v":""},{"$f":"IF(入力欄!L419=\"\",\"\",入力欄!L419)","v":""},null,null,null,null,null,{"$f":"IF(入力欄!M419=\"\",\"\",入力欄!M419)","v":""},{"$f":"IF(入力欄!N419=\"\",\"\",入力欄!N419)","v":""}]
[null,5,{"$f":"IF(入力欄!E420=\"\",\"\",入力欄!E420)","v":""},null,{"$f":"IF(入力欄!F420=\"\",\"\",入力欄!F420)","v":""},null,null,null,{"$f":"IF(入力欄!G420=\"\",\"\",入力欄!G420)","v":""},null,null,{"$f":"IF(入力欄!H420=\"\",\"\",入力欄!H420)","v":""},null,null,{"$f":"IF(入力欄!I420=\"\",\"\",入力欄!I420)","v":""},null,null,{"$f":"IF(入力欄!J420=\"\",\"\",入力欄!J420)","v":""},null,null,{"$f":"IF(入力欄!K420=\"\",\"\",入力欄!K420)","v":""},{"$f":"IF(入力欄!L420=\"\",\"\",入力欄!L420)","v":""},null,null,null,null,null,{"$f":"IF(入力欄!M420=\"\",\"\",入力欄!M420)","v":""},{"$f":"IF(入力欄!N420=\"\",\"\",入力欄!N420)","v":""}]
[null,6,{"$f":"IF(入力欄!E421=\"\",\"\",入力欄!E421)","v":""},null,{"$f":"IF(入力欄!F421=\"\",\"\",入力欄!F421)","v":""},null,null,null,{"$f":"IF(入力欄!G421=\"\",\"\",入力欄!G421)","v":""},null,null,{"$f":"IF(入力欄!H421=\"\",\"\",入力欄!H421)","v":""},null,null,{"$f":"IF(入力欄!I421=\"\",\"\",入力欄!I421)","v":""},null,null,{"$f":"IF(入力欄!J421=\"\",\"\",入力欄!J421)","v":""},null,null,{"$f":"IF(入力欄!K421=\"\",\"\",入力欄!K421)","v":""},{"$f":"IF(入力欄!L421=\"\",\"\",入力欄!L421)","v":""},null,null,null,null,null,{"$f":"IF(入力欄!M421=\"\",\"\",入力欄!M421)","v":""},{"$f":"IF(入力欄!N421=\"\",\"\",入力欄!N421)","v":""}]
[null,7,{"$f":"IF(入力欄!E422=\"\",\"\",入力欄!E422)","v":""},null,{"$f":"IF(入力欄!F422=\"\",\"\",入力欄!F422)","v":""},null,null,null,{"$f":"IF(入力欄!G422=\"\",\"\",入力欄!G422)","v":""},null,null,{"$f":"IF(入力欄!H422=\"\",\"\",入力欄!H422)","v":""},null,null,{"$f":"IF(入力欄!I422=\"\",\"\",入力欄!I422)","v":""},null,null,{"$f":"IF(入力欄!J422=\"\",\"\",入力欄!J422)","v":""},null,null,{"$f":"IF(入力欄!K422=\"\",\"\",入力欄!K422)","v":""},{"$f":"IF(入力欄!L422=\"\",\"\",入力欄!L422)","v":""},null,null,null,null,null,{"$f":"IF(入力欄!M422=\"\",\"\",入力欄!M422)","v":""},{"$f":"IF(入力欄!N422=\"\",\"\",入力欄!N422)","v":""}]
[null,8,{"$f":"IF(入力欄!E423=\"\",\"\",入力欄!E423)","v":""},null,{"$f":"IF(入力欄!F423=\"\",\"\",入力欄!F423)","v":""},null,null,null,{"$f":"IF(入力欄!G423=\"\",\"\",入力欄!G423)","v":""},null,null,{"$f":"IF(入力欄!H423=\"\",\"\",入力欄!H423)","v":""},null,null,{"$f":"IF(入力欄!I423=\"\",\"\",入力欄!I423)","v":""},null,null,{"$f":"IF(入力欄!J423=\"\",\"\",入力欄!J423)","v":""},null,null,{"$f":"IF(入力欄!K423=\"\",\"\",入力欄!K423)","v":""},{"$f":"IF(入力欄!L423=\"\",\"\",入力欄!L423)","v":""},null,null,null,null,null,{"$f":"IF(入力欄!M423=\"\",\"\",入力欄!M423)","v":""},{"$f":"IF(入力欄!N423=\"\",\"\",入力欄!N423)","v":""}]
[null,9,{"$f":"IF(入力欄!E424=\"\",\"\",入力欄!E424)","v":""},null,{"$f":"IF(入力欄!F424=\"\",\"\",入力欄!F424)","v":""},null,null,null,{"$f":"IF(入力欄!G424=\"\",\"\",入力欄!G424)","v":""},null,null,{"$f":"IF(入力欄!H424=\"\",\"\",入力欄!H424)","v":""},null,null,{"$f":"IF(入力欄!I424=\"\",\"\",入力欄!I424)","v":""},null,null,{"$f":"IF(入力欄!J424=\"\",\"\",入力欄!J424)","v":""},null,null,{"$f":"IF(入力欄!K424=\"\",\"\",入力欄!K424)","v":""},{"$f":"IF(入力欄!L424=\"\",\"\",入力欄!L424)","v":""},null,null,null,null,null,{"$f":"IF(入力欄!M424=\"\",\"\",入力欄!M424)","v":""},{"$f":"IF(入力欄!N424=\"\",\"\",入力欄!N424)","v":""}]
[null,10,{"$f":"IF(入力欄!E425=\"\",\"\",入力欄!E425)","v":""},null,{"$f":"IF(入力欄!F425=\"\",\"\",入力欄!F425)","v":""},null,null,null,{"$f":"IF(入力欄!G425=\"\",\"\",入力欄!G425)","v":""},null,null,{"$f":"IF(入力欄!H425=\"\",\"\",入力欄!H425)","v":""},null,null,{"$f":"IF(入力欄!I425=\"\",\"\",入力欄!I425)","v":""},null,null,{"$f":"IF(入力欄!J425=\"\",\"\",入力欄!J425)","v":""},null,null,{"$f":"IF(入力欄!K425=\"\",\"\",入力欄!K425)","v":""},{"$f":"IF(入力欄!L425=\"\",\"\",入力欄!L425)","v":""},null,null,null,null,null,{"$f":"IF(入力欄!M425=\"\",\"\",入力欄!M425)","v":""},{"$f":"IF(入力欄!N425=\"\",\"\",入力欄!N425)","v":""}]
[{"$f":"IF(入力欄!C426=\"\",\"\",入力欄!C426)","v":""},1,{"$f":"IF(入力欄!E426=\"\",\"\",入力欄!E426)","v":""},null,{"$f":"IF(入力欄!F426=\"\",\"\",入力欄!F426)","v":""},null,null,null,{"$f":"IF(入力欄!G426=\"\",\"\",入力欄!G426)","v":""},null,null,{"$f":"IF(入力欄!H426=\"\",\"\",入力欄!H426)","v":""},null,null,{"$f":"IF(入力欄!I426=\"\",\"\",入力欄!I426)","v":""},null,null,{"$f":"IF(入力欄!J426=\"\",\"\",入力欄!J426)","v":""},null,null,{"$f":"IF(入力欄!K426=\"\",\"\",入力欄!K426)","v":""},{"$f":"IF(入力欄!L426=\"\",\"\",入力欄!L426)","v":""},null,null,null,null,null,{"$f":"IF(入力欄!M426=\"\",\"\",入力欄!M426)","v":""},{"$f":"IF(入力欄!N426=\"\",\"\",入力欄!N426)","v":""}]
[null,2,{"$f":"IF(入力欄!E427=\"\",\"\",入力欄!E427)","v":""},null,{"$f":"IF(入力欄!F427=\"\",\"\",入力欄!F427)","v":""},null,null,null,{"$f":"IF(入力欄!G427=\"\",\"\",入力欄!G427)","v":""},null,null,{"$f":"IF(入力欄!H427=\"\",\"\",入力欄!H427)","v":""},null,null,{"$f":"IF(入力欄!I427=\"\",\"\",入力欄!I427)","v":""},null,null,{"$f":"IF(入力欄!J427=\"\",\"\",入力欄!J427)","v":""},null,null,{"$f":"IF(入力欄!K427=\"\",\"\",入力欄!K427)","v":""},{"$f":"IF(入力欄!L427=\"\",\"\",入力欄!L427)","v":""},null,null,null,null,null,{"$f":"IF(入力欄!M427=\"\",\"\",入力欄!M427)","v":""},{"$f":"IF(入力欄!N427=\"\",\"\",入力欄!N427)","v":""}]
[null,3,{"$f":"IF(入力欄!E428=\"\",\"\",入力欄!E428)","v":""},null,{"$f":"IF(入力欄!F428=\"\",\"\",入力欄!F428)","v":""},null,null,null,{"$f":"IF(入力欄!G428=\"\",\"\",入力欄!G428)","v":""},null,null,{"$f":"IF(入力欄!H428=\"\",\"\",入力欄!H428)","v":""},null,null,{"$f":"IF(入力欄!I428=\"\",\"\",入力欄!I428)","v":""},null,null,{"$f":"IF(入力欄!J428=\"\",\"\",入力欄!J428)","v":""},null,null,{"$f":"IF(入力欄!K428=\"\",\"\",入力欄!K428)","v":""},{"$f":"IF(入力欄!L428=\"\",\"\",入力欄!L428)","v":""},null,null,null,null,null,{"$f":"IF(入力欄!M428=\"\",\"\",入力欄!M428)","v":""},{"$f":"IF(入力欄!N428=\"\",\"\",入力欄!N428)","v":""}]
[null,4,{"$f":"IF(入力欄!E429=\"\",\"\",入力欄!E429)","v":""},null,{"$f":"IF(入力欄!F429=\"\",\"\",入力欄!F429)","v":""},null,null,null,{"$f":"IF(入力欄!G429=\"\",\"\",入力欄!G429)","v":""},null,null,{"$f":"IF(入力欄!H429=\"\",\"\",入力欄!H429)","v":""},null,null,{"$f":"IF(入力欄!I429=\"\",\"\",入力欄!I429)","v":""},null,null,{"$f":"IF(入力欄!J429=\"\",\"\",入力欄!J429)","v":""},null,null,{"$f":"IF(入力欄!K429=\"\",\"\",入力欄!K429)","v":""},{"$f":"IF(入力欄!L429=\"\",\"\",入力欄!L429)","v":""},null,null,null,null,null,{"$f":"IF(入力欄!M429=\"\",\"\",入力欄!M429)","v":""},{"$f":"IF(入力欄!N429=\"\",\"\",入力欄!N429)","v":""}]
[null,5,{"$f":"IF(入力欄!E430=\"\",\"\",入力欄!E430)","v":""},null,{"$f":"IF(入力欄!F430=\"\",\"\",入力欄!F430)","v":""},null,null,null,{"$f":"IF(入力欄!G430=\"\",\"\",入力欄!G430)","v":""},null,null,{"$f":"IF(入力欄!H430=\"\",\"\",入力欄!H430)","v":""},null,null,{"$f":"IF(入力欄!I430=\"\",\"\",入力欄!I430)","v":""},null,null,{"$f":"IF(入力欄!J430=\"\",\"\",入力欄!J430)","v":""},null,null,{"$f":"IF(入力欄!K430=\"\",\"\",入力欄!K430)","v":""},{"$f":"IF(入力欄!L430=\"\",\"\",入力欄!L430)","v":""},null,null,null,null,null,{"$f":"IF(入力欄!M430=\"\",\"\",入力欄!M430)","v":""},{"$f":"IF(入力欄!N430=\"\",\"\",入力欄!N430)","v":""}]
[null,6,{"$f":"IF(入力欄!E431=\"\",\"\",入力欄!E431)","v":""},null,{"$f":"IF(入力欄!F431=\"\",\"\",入力欄!F431)","v":""},null,null,null,{"$f":"IF(入力欄!G431=\"\",\"\",入力欄!G431)","v":""},null,null,{"$f":"IF(入力欄!H431=\"\",\"\",入力欄!H431)","v":""},null,null,{"$f":"IF(入力欄!I431=\"\",\"\",入力欄!I431)","v":""},null,null,{"$f":"IF(入力欄!J431=\"\",\"\",入力欄!J431)","v":""},null,null,{"$f":"IF(入力欄!K431=\"\",\"\",入力欄!K431)","v":""},{"$f":"IF(入力欄!L431=\"\",\"\",入力欄!L431)","v":""},null,null,null,null,null,{"$f":"IF(入力欄!M431=\"\",\"\",入力欄!M431)","v":""},{"$f":"IF(入力欄!N431=\"\",\"\",入力欄!N431)","v":""}]
[null,7,{"$f":"IF(入力欄!E432=\"\",\"\",入力欄!E432)","v":""},null,{"$f":"IF(入力欄!F432=\"\",\"\",入力欄!F432)","v":""},null,null,null,{"$f":"IF(入力欄!G432=\"\",\"\",入力欄!G432)","v":""},null,null,{"$f":"IF(入力欄!H432=\"\",\"\",入力欄!H432)","v":""},null,null,{"$f":"IF(入力欄!I432=\"\",\"\",入力欄!I432)","v":""},null,null,{"$f":"IF(入力欄!J432=\"\",\"\",入力欄!J432)","v":""},null,null,{"$f":"IF(入力欄!K432=\"\",\"\",入力欄!K432)","v":""},{"$f":"IF(入力欄!L432=\"\",\"\",入力欄!L432)","v":""},null,null,null,null,null,{"$f":"IF(入力欄!M432=\"\",\"\",入力欄!M432)","v":""},{"$f":"IF(入力欄!N432=\"\",\"\",入力欄!N432)","v":""}]
[null,8,{"$f":"IF(入力欄!E433=\"\",\"\",入力欄!E433)","v":""},null,{"$f":"IF(入力欄!F433=\"\",\"\",入力欄!F433)","v":""},null,null,null,{"$f":"IF(入力欄!G433=\"\",\"\",入力欄!G433)","v":""},null,null,{"$f":"IF(入力欄!H433=\"\",\"\",入力欄!H433)","v":""},null,null,{"$f":"IF(入力欄!I433=\"\",\"\",入力欄!I433)","v":""},null,null,{"$f":"IF(入力欄!J433=\"\",\"\",入力欄!J433)","v":""},null,null,{"$f":"IF(入力欄!K433=\"\",\"\",入力欄!K433)","v":""},{"$f":"IF(入力欄!L433=\"\",\"\",入力欄!L433)","v":""},null,null,null,null,null,{"$f":"IF(入力欄!M433=\"\",\"\",入力欄!M433)","v":""},{"$f":"IF(入力欄!N433=\"\",\"\",入力欄!N433)","v":""}]
[null,9,{"$f":"IF(入力欄!E434=\"\",\"\",入力欄!E434)","v":""},null,{"$f":"IF(入力欄!F434=\"\",\"\",入力欄!F434)","v":""},null,null,null,{"$f":"IF(入力欄!G434=\"\",\"\",入力欄!G434)","v":""},null,null,{"$f":"IF(入力欄!H434=\"\",\"\",入力欄!H434)","v":""},null,null,{"$f":"IF(入力欄!I434=\"\",\"\",入力欄!I434)","v":""},null,null,{"$f":"IF(入力欄!J434=\"\",\"\",入力欄!J434)","v":""},null,null,{"$f":"IF(入力欄!K434=\"\",\"\",入力欄!K434)","v":""},{"$f":"IF(入力欄!L434=\"\",\"\",入力欄!L434)","v":""},null,null,null,null,null,{"$f":"IF(入力欄!M434=\"\",\"\",入力欄!M434)","v":""},{"$f":"IF(入力欄!N434=\"\",\"\",入力欄!N434)","v":""}]
[null,10,{"$f":"IF(入力欄!E435=\"\",\"\",入力欄!E435)","v":""},null,{"$f":"IF(入力欄!F435=\"\",\"\",入力欄!F435)","v":""},null,null,null,{"$f":"IF(入力欄!G435=\"\",\"\",入力欄!G435)","v":""},null,null,{"$f":"IF(入力欄!H435=\"\",\"\",入力欄!H435)","v":""},null,null,{"$f":"IF(入力欄!I435=\"\",\"\",入力欄!I435)","v":""},null,null,{"$f":"IF(入力欄!J435=\"\",\"\",入力欄!J435)","v":""},null,null,{"$f":"IF(入力欄!K435=\"\",\"\",入力欄!K435)","v":""},{"$f":"IF(入力欄!L435=\"\",\"\",入力欄!L435)","v":""},null,null,null,null,null,{"$f":"IF(入力欄!M435=\"\",\"\",入力欄!M435)","v":""},{"$f":"IF(入力欄!N435=\"\",\"\",入力欄!N435)","v":""}]
[{"$f":"IF(入力欄!C436=\"\",\"\",入力欄!C436)","v":""},1,{"$f":"IF(入力欄!E436=\"\",\"\",入力欄!E436)","v":""},null,{"$f":"IF(入力欄!F436=\"\",\"\",入力欄!F436)","v":""},null,null,null,{"$f":"IF(入力欄!G436=\"\",\"\",入力欄!G436)","v":""},null,null,{"$f":"IF(入力欄!H436=\"\",\"\",入力欄!H436)","v":""},null,null,{"$f":"IF(入力欄!I436=\"\",\"\",入力欄!I436)","v":""},null,null,{"$f":"IF(入力欄!J436=\"\",\"\",入力欄!J436)","v":""},null,null,{"$f":"IF(入力欄!K436=\"\",\"\",入力欄!K436)","v":""},{"$f":"IF(入力欄!L436=\"\",\"\",入力欄!L436)","v":""},null,null,null,null,null,{"$f":"IF(入力欄!M436=\"\",\"\",入力欄!M436)","v":""},{"$f":"IF(入力欄!N436=\"\",\"\",入力欄!N436)","v":""}]
[null,2,{"$f":"IF(入力欄!E437=\"\",\"\",入力欄!E437)","v":""},null,{"$f":"IF(入力欄!F437=\"\",\"\",入力欄!F437)","v":""},null,null,null,{"$f":"IF(入力欄!G437=\"\",\"\",入力欄!G437)","v":""},null,null,{"$f":"IF(入力欄!H437=\"\",\"\",入力欄!H437)","v":""},null,null,{"$f":"IF(入力欄!I437=\"\",\"\",入力欄!I437)","v":""},null,null,{"$f":"IF(入力欄!J437=\"\",\"\",入力欄!J437)","v":""},null,null,{"$f":"IF(入力欄!K437=\"\",\"\",入力欄!K437)","v":""},{"$f":"IF(入力欄!L437=\"\",\"\",入力欄!L437)","v":""},null,null,null,null,null,{"$f":"IF(入力欄!M437=\"\",\"\",入力欄!M437)","v":""},{"$f":"IF(入力欄!N437=\"\",\"\",入力欄!N437)","v":""}]
[null,3,{"$f":"IF(入力欄!E438=\"\",\"\",入力欄!E438)","v":""},null,{"$f":"IF(入力欄!F438=\"\",\"\",入力欄!F438)","v":""},null,null,null,{"$f":"IF(入力欄!G438=\"\",\"\",入力欄!G438)","v":""},null,null,{"$f":"IF(入力欄!H438=\"\",\"\",入力欄!H438)","v":""},null,null,{"$f":"IF(入力欄!I438=\"\",\"\",入力欄!I438)","v":""},null,null,{"$f":"IF(入力欄!J438=\"\",\"\",入力欄!J438)","v":""},null,null,{"$f":"IF(入力欄!K438=\"\",\"\",入力欄!K438)","v":""},{"$f":"IF(入力欄!L438=\"\",\"\",入力欄!L438)","v":""},null,null,null,null,null,{"$f":"IF(入力欄!M438=\"\",\"\",入力欄!M438)","v":""},{"$f":"IF(入力欄!N438=\"\",\"\",入力欄!N438)","v":""}]
[null,4,{"$f":"IF(入力欄!E439=\"\",\"\",入力欄!E439)","v":""},null,{"$f":"IF(入力欄!F439=\"\",\"\",入力欄!F439)","v":""},null,null,null,{"$f":"IF(入力欄!G439=\"\",\"\",入力欄!G439)","v":""},null,null,{"$f":"IF(入力欄!H439=\"\",\"\",入力欄!H439)","v":""},null,null,{"$f":"IF(入力欄!I439=\"\",\"\",入力欄!I439)","v":""},null,null,{"$f":"IF(入力欄!J439=\"\",\"\",入力欄!J439)","v":""},null,null,{"$f":"IF(入力欄!K439=\"\",\"\",入力欄!K439)","v":""},{"$f":"IF(入力欄!L439=\"\",\"\",入力欄!L439)","v":""},null,null,null,null,null,{"$f":"IF(入力欄!M439=\"\",\"\",入力欄!M439)","v":""},{"$f":"IF(入力欄!N439=\"\",\"\",入力欄!N439)","v":""}]
[null,5,{"$f":"IF(入力欄!E440=\"\",\"\",入力欄!E440)","v":""},null,{"$f":"IF(入力欄!F440=\"\",\"\",入力欄!F440)","v":""},null,null,null,{"$f":"IF(入力欄!G440=\"\",\"\",入力欄!G440)","v":""},null,null,{"$f":"IF(入力欄!H440=\"\",\"\",入力欄!H440)","v":""},null,null,{"$f":"IF(入力欄!I440=\"\",\"\",入力欄!I440)","v":""},null,null,{"$f":"IF(入力欄!J440=\"\",\"\",入力欄!J440)","v":""},null,null,{"$f":"IF(入力欄!K440=\"\",\"\",入力欄!K440)","v":""},{"$f":"IF(入力欄!L440=\"\",\"\",入力欄!L440)","v":""},null,null,null,null,null,{"$f":"IF(入力欄!M440=\"\",\"\",入力欄!M440)","v":""},{"$f":"IF(入力欄!N440=\"\",\"\",入力欄!N440)","v":""}]
[null,6,{"$f":"IF(入力欄!E441=\"\",\"\",入力欄!E441)","v":""},null,{"$f":"IF(入力欄!F441=\"\",\"\",入力欄!F441)","v":""},null,null,null,{"$f":"IF(入力欄!G441=\"\",\"\",入力欄!G441)","v":""},null,null,{"$f":"IF(入力欄!H441=\"\",\"\",入力欄!H441)","v":""},null,null,{"$f":"IF(入力欄!I441=\"\",\"\",入力欄!I441)","v":""},null,null,{"$f":"IF(入力欄!J441=\"\",\"\",入力欄!J441)","v":""},null,null,{"$f":"IF(入力欄!K441=\"\",\"\",入力欄!K441)","v":""},{"$f":"IF(入力欄!L441=\"\",\"\",入力欄!L441)","v":""},null,null,null,null,null,{"$f":"IF(入力欄!M441=\"\",\"\",入力欄!M441)","v":""},{"$f":"IF(入力欄!N441=\"\",\"\",入力欄!N441)","v":""}]
[null,7,{"$f":"IF(入力欄!E442=\"\",\"\",入力欄!E442)","v":""},null,{"$f":"IF(入力欄!F442=\"\",\"\",入力欄!F442)","v":""},null,null,null,{"$f":"IF(入力欄!G442=\"\",\"\",入力欄!G442)","v":""},null,null,{"$f":"IF(入力欄!H442=\"\",\"\",入力欄!H442)","v":""},null,null,{"$f":"IF(入力欄!I442=\"\",\"\",入力欄!I442)","v":""},null,null,{"$f":"IF(入力欄!J442=\"\",\"\",入力欄!J442)","v":""},null,null,{"$f":"IF(入力欄!K442=\"\",\"\",入力欄!K442)","v":""},{"$f":"IF(入力欄!L442=\"\",\"\",入力欄!L442)","v":""},null,null,null,null,null,{"$f":"IF(入力欄!M442=\"\",\"\",入力欄!M442)","v":""},{"$f":"IF(入力欄!N442=\"\",\"\",入力欄!N442)","v":""}]
[null,8,{"$f":"IF(入力欄!E443=\"\",\"\",入力欄!E443)","v":""},null,{"$f":"IF(入力欄!F443=\"\",\"\",入力欄!F443)","v":""},null,null,null,{"$f":"IF(入力欄!G443=\"\",\"\",入力欄!G443)","v":""},null,null,{"$f":"IF(入力欄!H443=\"\",\"\",入力欄!H443)","v":""},null,null,{"$f":"IF(入力欄!I443=\"\",\"\",入力欄!I443)","v":""},null,null,{"$f":"IF(入力欄!J443=\"\",\"\",入力欄!J443)","v":""},null,null,{"$f":"IF(入力欄!K443=\"\",\"\",入力欄!K443)","v":""},{"$f":"IF(入力欄!L443=\"\",\"\",入力欄!L443)","v":""},null,null,null,null,null,{"$f":"IF(入力欄!M443=\"\",\"\",入力欄!M443)","v":""},{"$f":"IF(入力欄!N443=\"\",\"\",入力欄!N443)","v":""}]
[null,9,{"$f":"IF(入力欄!E444=\"\",\"\",入力欄!E444)","v":""},null,{"$f":"IF(入力欄!F444=\"\",\"\",入力欄!F444)","v":""},null,null,null,{"$f":"IF(入力欄!G444=\"\",\"\",入力欄!G444)","v":""},null,null,{"$f":"IF(入力欄!H444=\"\",\"\",入力欄!H444)","v":""},null,null,{"$f":"IF(入力欄!I444=\"\",\"\",入力欄!I444)","v":""},null,null,{"$f":"IF(入力欄!J444=\"\",\"\",入力欄!J444)","v":""},null,null,{"$f":"IF(入力欄!K444=\"\",\"\",入力欄!K444)","v":""},{"$f":"IF(入力欄!L444=\"\",\"\",入力欄!L444)","v":""},null,null,null,null,null,{"$f":"IF(入力欄!M444=\"\",\"\",入力欄!M444)","v":""},{"$f":"IF(入力欄!N444=\"\",\"\",入力欄!N444)","v":""}]
[null,10,{"$f":"IF(入力欄!E445=\"\",\"\",入力欄!E445)","v":""},null,{"$f":"IF(入力欄!F445=\"\",\"\",入力欄!F445)","v":""},null,null,null,{"$f":"IF(入力欄!G445=\"\",\"\",入力欄!G445)","v":""},null,null,{"$f":"IF(入力欄!H445=\"\",\"\",入力欄!H445)","v":""},null,null,{"$f":"IF(入力欄!I445=\"\",\"\",入力欄!I445)","v":""},null,null,{"$f":"IF(入力欄!J445=\"\",\"\",入力欄!J445)","v":""},null,null,{"$f":"IF(入力欄!K445=\"\",\"\",入力欄!K445)","v":""},{"$f":"IF(入力欄!L445=\"\",\"\",入力欄!L445)","v":""},null,null,null,null,null,{"$f":"IF(入力欄!M445=\"\",\"\",入力欄!M445)","v":""},{"$f":"IF(入力欄!N445=\"\",\"\",入力欄!N445)","v":""}]
[{"$f":"IF(入力欄!C446=\"\",\"\",入力欄!C446)","v":""},1,{"$f":"IF(入力欄!E446=\"\",\"\",入力欄!E446)","v":""},null,{"$f":"IF(入力欄!F446=\"\",\"\",入力欄!F446)","v":""},null,null,null,{"$f":"IF(入力欄!G446=\"\",\"\",入力欄!G446)","v":""},null,null,{"$f":"IF(入力欄!H446=\"\",\"\",入力欄!H446)","v":""},null,null,{"$f":"IF(入力欄!I446=\"\",\"\",入力欄!I446)","v":""},null,null,{"$f":"IF(入力欄!J446=\"\",\"\",入力欄!J446)","v":""},null,null,{"$f":"IF(入力欄!K446=\"\",\"\",入力欄!K446)","v":""},{"$f":"IF(入力欄!L446=\"\",\"\",入力欄!L446)","v":""},null,null,null,null,null,{"$f":"IF(入力欄!M446=\"\",\"\",入力欄!M446)","v":""},{"$f":"IF(入力欄!N446=\"\",\"\",入力欄!N446)","v":""}]
[null,2,{"$f":"IF(入力欄!E447=\"\",\"\",入力欄!E447)","v":""},null,{"$f":"IF(入力欄!F447=\"\",\"\",入力欄!F447)","v":""},null,null,null,{"$f":"IF(入力欄!G447=\"\",\"\",入力欄!G447)","v":""},null,null,{"$f":"IF(入力欄!H447=\"\",\"\",入力欄!H447)","v":""},null,null,{"$f":"IF(入力欄!I447=\"\",\"\",入力欄!I447)","v":""},null,null,{"$f":"IF(入力欄!J447=\"\",\"\",入力欄!J447)","v":""},null,null,{"$f":"IF(入力欄!K447=\"\",\"\",入力欄!K447)","v":""},{"$f":"IF(入力欄!L447=\"\",\"\",入力欄!L447)","v":""},null,null,null,null,null,{"$f":"IF(入力欄!M447=\"\",\"\",入力欄!M447)","v":""},{"$f":"IF(入力欄!N447=\"\",\"\",入力欄!N447)","v":""}]
[null,3,{"$f":"IF(入力欄!E448=\"\",\"\",入力欄!E448)","v":""},null,{"$f":"IF(入力欄!F448=\"\",\"\",入力欄!F448)","v":""},null,null,null,{"$f":"IF(入力欄!G448=\"\",\"\",入力欄!G448)","v":""},null,null,{"$f":"IF(入力欄!H448=\"\",\"\",入力欄!H448)","v":""},null,null,{"$f":"IF(入力欄!I448=\"\",\"\",入力欄!I448)","v":""},null,null,{"$f":"IF(入力欄!J448=\"\",\"\",入力欄!J448)","v":""},null,null,{"$f":"IF(入力欄!K448=\"\",\"\",入力欄!K448)","v":""},{"$f":"IF(入力欄!L448=\"\",\"\",入力欄!L448)","v":""},null,null,null,null,null,{"$f":"IF(入力欄!M448=\"\",\"\",入力欄!M448)","v":""},{"$f":"IF(入力欄!N448=\"\",\"\",入力欄!N448)","v":""}]
[null,4,{"$f":"IF(入力欄!E449=\"\",\"\",入力欄!E449)","v":""},null,{"$f":"IF(入力欄!F449=\"\",\"\",入力欄!F449)","v":""},null,null,null,{"$f":"IF(入力欄!G449=\"\",\"\",入力欄!G449)","v":""},null,null,{"$f":"IF(入力欄!H449=\"\",\"\",入力欄!H449)","v":""},null,null,{"$f":"IF(入力欄!I449=\"\",\"\",入力欄!I449)","v":""},null,null,{"$f":"IF(入力欄!J449=\"\",\"\",入力欄!J449)","v":""},null,null,{"$f":"IF(入力欄!K449=\"\",\"\",入力欄!K449)","v":""},{"$f":"IF(入力欄!L449=\"\",\"\",入力欄!L449)","v":""},null,null,null,null,null,{"$f":"IF(入力欄!M449=\"\",\"\",入力欄!M449)","v":""},{"$f":"IF(入力欄!N449=\"\",\"\",入力欄!N449)","v":""}]
[null,5,{"$f":"IF(入力欄!E450=\"\",\"\",入力欄!E450)","v":""},null,{"$f":"IF(入力欄!F450=\"\",\"\",入力欄!F450)","v":""},null,null,null,{"$f":"IF(入力欄!G450=\"\",\"\",入力欄!G450)","v":""},null,null,{"$f":"IF(入力欄!H450=\"\",\"\",入力欄!H450)","v":""},null,null,{"$f":"IF(入力欄!I450=\"\",\"\",入力欄!I450)","v":""},null,null,{"$f":"IF(入力欄!J450=\"\",\"\",入力欄!J450)","v":""},null,null,{"$f":"IF(入力欄!K450=\"\",\"\",入力欄!K450)","v":""},{"$f":"IF(入力欄!L450=\"\",\"\",入力欄!L450)","v":""},null,null,null,null,null,{"$f":"IF(入力欄!M450=\"\",\"\",入力欄!M450)","v":""},{"$f":"IF(入力欄!N450=\"\",\"\",入力欄!N450)","v":""}]
[null,6,{"$f":"IF(入力欄!E451=\"\",\"\",入力欄!E451)","v":""},null,{"$f":"IF(入力欄!F451=\"\",\"\",入力欄!F451)","v":""},null,null,null,{"$f":"IF(入力欄!G451=\"\",\"\",入力欄!G451)","v":""},null,null,{"$f":"IF(入力欄!H451=\"\",\"\",入力欄!H451)","v":""},null,null,{"$f":"IF(入力欄!I451=\"\",\"\",入力欄!I451)","v":""},null,null,{"$f":"IF(入力欄!J451=\"\",\"\",入力欄!J451)","v":""},null,null,{"$f":"IF(入力欄!K451=\"\",\"\",入力欄!K451)","v":""},{"$f":"IF(入力欄!L451=\"\",\"\",入力欄!L451)","v":""},null,null,null,null,null,{"$f":"IF(入力欄!M451=\"\",\"\",入力欄!M451)","v":""},{"$f":"IF(入力欄!N451=\"\",\"\",入力欄!N451)","v":""}]
[null,7,{"$f":"IF(入力欄!E452=\"\",\"\",入力欄!E452)","v":""},null,{"$f":"IF(入力欄!F452=\"\",\"\",入力欄!F452)","v":""},null,null,null,{"$f":"IF(入力欄!G452=\"\",\"\",入力欄!G452)","v":""},null,null,{"$f":"IF(入力欄!H452=\"\",\"\",入力欄!H452)","v":""},null,null,{"$f":"IF(入力欄!I452=\"\",\"\",入力欄!I452)","v":""},null,null,{"$f":"IF(入力欄!J452=\"\",\"\",入力欄!J452)","v":""},null,null,{"$f":"IF(入力欄!K452=\"\",\"\",入力欄!K452)","v":""},{"$f":"IF(入力欄!L452=\"\",\"\",入力欄!L452)","v":""},null,null,null,null,null,{"$f":"IF(入力欄!M452=\"\",\"\",入力欄!M452)","v":""},{"$f":"IF(入力欄!N452=\"\",\"\",入力欄!N452)","v":""}]
[null,8,{"$f":"IF(入力欄!E453=\"\",\"\",入力欄!E453)","v":""},null,{"$f":"IF(入力欄!F453=\"\",\"\",入力欄!F453)","v":""},null,null,null,{"$f":"IF(入力欄!G453=\"\",\"\",入力欄!G453)","v":""},null,null,{"$f":"IF(入力欄!H453=\"\",\"\",入力欄!H453)","v":""},null,null,{"$f":"IF(入力欄!I453=\"\",\"\",入力欄!I453)","v":""},null,null,{"$f":"IF(入力欄!J453=\"\",\"\",入力欄!J453)","v":""},null,null,{"$f":"IF(入力欄!K453=\"\",\"\",入力欄!K453)","v":""},{"$f":"IF(入力欄!L453=\"\",\"\",入力欄!L453)","v":""},null,null,null,null,null,{"$f":"IF(入力欄!M453=\"\",\"\",入力欄!M453)","v":""},{"$f":"IF(入力欄!N453=\"\",\"\",入力欄!N453)","v":""}]
[null,9,{"$f":"IF(入力欄!E454=\"\",\"\",入力欄!E454)","v":""},null,{"$f":"IF(入力欄!F454=\"\",\"\",入力欄!F454)","v":""},null,null,null,{"$f":"IF(入力欄!G454=\"\",\"\",入力欄!G454)","v":""},null,null,{"$f":"IF(入力欄!H454=\"\",\"\",入力欄!H454)","v":""},null,null,{"$f":"IF(入力欄!I454=\"\",\"\",入力欄!I454)","v":""},null,null,{"$f":"IF(入力欄!J454=\"\",\"\",入力欄!J454)","v":""},null,null,{"$f":"IF(入力欄!K454=\"\",\"\",入力欄!K454)","v":""},{"$f":"IF(入力欄!L454=\"\",\"\",入力欄!L454)","v":""},null,null,null,null,null,{"$f":"IF(入力欄!M454=\"\",\"\",入力欄!M454)","v":""},{"$f":"IF(入力欄!N454=\"\",\"\",入力欄!N454)","v":""}]
[null,10,{"$f":"IF(入力欄!E455=\"\",\"\",入力欄!E455)","v":""},null,{"$f":"IF(入力欄!F455=\"\",\"\",入力欄!F455)","v":""},null,null,null,{"$f":"IF(入力欄!G455=\"\",\"\",入力欄!G455)","v":""},null,null,{"$f":"IF(入力欄!H455=\"\",\"\",入力欄!H455)","v":""},null,null,{"$f":"IF(入力欄!I455=\"\",\"\",入力欄!I455)","v":""},null,null,{"$f":"IF(入力欄!J455=\"\",\"\",入力欄!J455)","v":""},null,null,{"$f":"IF(入力欄!K455=\"\",\"\",入力欄!K455)","v":""},{"$f":"IF(入力欄!L455=\"\",\"\",入力欄!L455)","v":""},null,null,null,null,null,{"$f":"IF(入力欄!M455=\"\",\"\",入力欄!M455)","v":""},{"$f":"IF(入力欄!N455=\"\",\"\",入力欄!N455)","v":""}]
[{"$f":"IF(入力欄!C456=\"\",\"\",入力欄!C456)","v":""},1,{"$f":"IF(入力欄!E456=\"\",\"\",入力欄!E456)","v":""},null,{"$f":"IF(入力欄!F456=\"\",\"\",入力欄!F456)","v":""},null,null,null,{"$f":"IF(入力欄!G456=\"\",\"\",入力欄!G456)","v":""},null,null,{"$f":"IF(入力欄!H456=\"\",\"\",入力欄!H456)","v":""},null,null,{"$f":"IF(入力欄!I456=\"\",\"\",入力欄!I456)","v":""},null,null,{"$f":"IF(入力欄!J456=\"\",\"\",入力欄!J456)","v":""},null,null,{"$f":"IF(入力欄!K456=\"\",\"\",入力欄!K456)","v":""},{"$f":"IF(入力欄!L456=\"\",\"\",入力欄!L456)","v":""},null,null,null,null,null,{"$f":"IF(入力欄!M456=\"\",\"\",入力欄!M456)","v":""},{"$f":"IF(入力欄!N456=\"\",\"\",入力欄!N456)","v":""}]
[null,2,{"$f":"IF(入力欄!E457=\"\",\"\",入力欄!E457)","v":""},null,{"$f":"IF(入力欄!F457=\"\",\"\",入力欄!F457)","v":""},null,null,null,{"$f":"IF(入力欄!G457=\"\",\"\",入力欄!G457)","v":""},null,null,{"$f":"IF(入力欄!H457=\"\",\"\",入力欄!H457)","v":""},null,null,{"$f":"IF(入力欄!I457=\"\",\"\",入力欄!I457)","v":""},null,null,{"$f":"IF(入力欄!J457=\"\",\"\",入力欄!J457)","v":""},null,null,{"$f":"IF(入力欄!K457=\"\",\"\",入力欄!K457)","v":""},{"$f":"IF(入力欄!L457=\"\",\"\",入力欄!L457)","v":""},null,null,null,null,null,{"$f":"IF(入力欄!M457=\"\",\"\",入力欄!M457)","v":""},{"$f":"IF(入力欄!N457=\"\",\"\",入力欄!N457)","v":""}]
[null,3,{"$f":"IF(入力欄!E458=\"\",\"\",入力欄!E458)","v":""},null,{"$f":"IF(入力欄!F458=\"\",\"\",入力欄!F458)","v":""},null,null,null,{"$f":"IF(入力欄!G458=\"\",\"\",入力欄!G458)","v":""},null,null,{"$f":"IF(入力欄!H458=\"\",\"\",入力欄!H458)","v":""},null,null,{"$f":"IF(入力欄!I458=\"\",\"\",入力欄!I458)","v":""},null,null,{"$f":"IF(入力欄!J458=\"\",\"\",入力欄!J458)","v":""},null,null,{"$f":"IF(入力欄!K458=\"\",\"\",入力欄!K458)","v":""},{"$f":"IF(入力欄!L458=\"\",\"\",入力欄!L458)","v":""},null,null,null,null,null,{"$f":"IF(入力欄!M458=\"\",\"\",入力欄!M458)","v":""},{"$f":"IF(入力欄!N458=\"\",\"\",入力欄!N458)","v":""}]
[null,4,{"$f":"IF(入力欄!E459=\"\",\"\",入力欄!E459)","v":""},null,{"$f":"IF(入力欄!F459=\"\",\"\",入力欄!F459)","v":""},null,null,null,{"$f":"IF(入力欄!G459=\"\",\"\",入力欄!G459)","v":""},null,null,{"$f":"IF(入力欄!H459=\"\",\"\",入力欄!H459)","v":""},null,null,{"$f":"IF(入力欄!I459=\"\",\"\",入力欄!I459)","v":""},null,null,{"$f":"IF(入力欄!J459=\"\",\"\",入力欄!J459)","v":""},null,null,{"$f":"IF(入力欄!K459=\"\",\"\",入力欄!K459)","v":""},{"$f":"IF(入力欄!L459=\"\",\"\",入力欄!L459)","v":""},null,null,null,null,null,{"$f":"IF(入力欄!M459=\"\",\"\",入力欄!M459)","v":""},{"$f":"IF(入力欄!N459=\"\",\"\",入力欄!N459)","v":""}]
[null,5,{"$f":"IF(入力欄!E460=\"\",\"\",入力欄!E460)","v":""},null,{"$f":"IF(入力欄!F460=\"\",\"\",入力欄!F460)","v":""},null,null,null,{"$f":"IF(入力欄!G460=\"\",\"\",入力欄!G460)","v":""},null,null,{"$f":"IF(入力欄!H460=\"\",\"\",入力欄!H460)","v":""},null,null,{"$f":"IF(入力欄!I460=\"\",\"\",入力欄!I460)","v":""},null,null,{"$f":"IF(入力欄!J460=\"\",\"\",入力欄!J460)","v":""},null,null,{"$f":"IF(入力欄!K460=\"\",\"\",入力欄!K460)","v":""},{"$f":"IF(入力欄!L460=\"\",\"\",入力欄!L460)","v":""},null,null,null,null,null,{"$f":"IF(入力欄!M460=\"\",\"\",入力欄!M460)","v":""},{"$f":"IF(入力欄!N460=\"\",\"\",入力欄!N460)","v":""}]
[null,6,{"$f":"IF(入力欄!E461=\"\",\"\",入力欄!E461)","v":""},null,{"$f":"IF(入力欄!F461=\"\",\"\",入力欄!F461)","v":""},null,null,null,{"$f":"IF(入力欄!G461=\"\",\"\",入力欄!G461)","v":""},null,null,{"$f":"IF(入力欄!H461=\"\",\"\",入力欄!H461)","v":""},null,null,{"$f":"IF(入力欄!I461=\"\",\"\",入力欄!I461)","v":""},null,null,{"$f":"IF(入力欄!J461=\"\",\"\",入力欄!J461)","v":""},null,null,{"$f":"IF(入力欄!K461=\"\",\"\",入力欄!K461)","v":""},{"$f":"IF(入力欄!L461=\"\",\"\",入力欄!L461)","v":""},null,null,null,null,null,{"$f":"IF(入力欄!M461=\"\",\"\",入力欄!M461)","v":""},{"$f":"IF(入力欄!N461=\"\",\"\",入力欄!N461)","v":""}]
[null,7,{"$f":"IF(入力欄!E462=\"\",\"\",入力欄!E462)","v":""},null,{"$f":"IF(入力欄!F462=\"\",\"\",入力欄!F462)","v":""},null,null,null,{"$f":"IF(入力欄!G462=\"\",\"\",入力欄!G462)","v":""},null,null,{"$f":"IF(入力欄!H462=\"\",\"\",入力欄!H462)","v":""},null,null,{"$f":"IF(入力欄!I462=\"\",\"\",入力欄!I462)","v":""},null,null,{"$f":"IF(入力欄!J462=\"\",\"\",入力欄!J462)","v":""},null,null,{"$f":"IF(入力欄!K462=\"\",\"\",入力欄!K462)","v":""},{"$f":"IF(入力欄!L462=\"\",\"\",入力欄!L462)","v":""},null,null,null,null,null,{"$f":"IF(入力欄!M462=\"\",\"\",入力欄!M462)","v":""},{"$f":"IF(入力欄!N462=\"\",\"\",入力欄!N462)","v":""}]
[null,8,{"$f":"IF(入力欄!E463=\"\",\"\",入力欄!E463)","v":""},null,{"$f":"IF(入力欄!F463=\"\",\"\",入力欄!F463)","v":""},null,null,null,{"$f":"IF(入力欄!G463=\"\",\"\",入力欄!G463)","v":""},null,null,{"$f":"IF(入力欄!H463=\"\",\"\",入力欄!H463)","v":""},null,null,{"$f":"IF(入力欄!I463=\"\",\"\",入力欄!I463)","v":""},null,null,{"$f":"IF(入力欄!J463=\"\",\"\",入力欄!J463)","v":""},null,null,{"$f":"IF(入力欄!K463=\"\",\"\",入力欄!K463)","v":""},{"$f":"IF(入力欄!L463=\"\",\"\",入力欄!L463)","v":""},null,null,null,null,null,{"$f":"IF(入力欄!M463=\"\",\"\",入力欄!M463)","v":""},{"$f":"IF(入力欄!N463=\"\",\"\",入力欄!N463)","v":""}]
[null,9,{"$f":"IF(入力欄!E464=\"\",\"\",入力欄!E464)","v":""},null,{"$f":"IF(入力欄!F464=\"\",\"\",入力欄!F464)","v":""},null,null,null,{"$f":"IF(入力欄!G464=\"\",\"\",入力欄!G464)","v":""},null,null,{"$f":"IF(入力欄!H464=\"\",\"\",入力欄!H464)","v":""},null,null,{"$f":"IF(入力欄!I464=\"\",\"\",入力欄!I464)","v":""},null,null,{"$f":"IF(入力欄!J464=\"\",\"\",入力欄!J464)","v":""},null,null,{"$f":"IF(入力欄!K464=\"\",\"\",入力欄!K464)","v":""},{"$f":"IF(入力欄!L464=\"\",\"\",入力欄!L464)","v":""},null,null,null,null,null,{"$f":"IF(入力欄!M464=\"\",\"\",入力欄!M464)","v":""},{"$f":"IF(入力欄!N464=\"\",\"\",入力欄!N464)","v":""}]
[null,10,{"$f":"IF(入力欄!E465=\"\",\"\",入力欄!E465)","v":""},null,{"$f":"IF(入力欄!F465=\"\",\"\",入力欄!F465)","v":""},null,null,null,{"$f":"IF(入力欄!G465=\"\",\"\",入力欄!G465)","v":""},null,null,{"$f":"IF(入力欄!H465=\"\",\"\",入力欄!H465)","v":""},null,null,{"$f":"IF(入力欄!I465=\"\",\"\",入力欄!I465)","v":""},null,null,{"$f":"IF(入力欄!J465=\"\",\"\",入力欄!J465)","v":""},null,null,{"$f":"IF(入力欄!K465=\"\",\"\",入力欄!K465)","v":""},{"$f":"IF(入力欄!L465=\"\",\"\",入力欄!L465)","v":""},null,null,null,null,null,{"$f":"IF(入力欄!M465=\"\",\"\",入力欄!M465)","v":""},{"$f":"IF(入力欄!N465=\"\",\"\",入力欄!N465)","v":""}]
[{"$f":"IF(入力欄!C466=\"\",\"\",入力欄!C466)","v":""},1,{"$f":"IF(入力欄!E466=\"\",\"\",入力欄!E466)","v":""},null,{"$f":"IF(入力欄!F466=\"\",\"\",入力欄!F466)","v":""},null,null,null,{"$f":"IF(入力欄!G466=\"\",\"\",入力欄!G466)","v":""},null,null,{"$f":"IF(入力欄!H466=\"\",\"\",入力欄!H466)","v":""},null,null,{"$f":"IF(入力欄!I466=\"\",\"\",入力欄!I466)","v":""},null,null,{"$f":"IF(入力欄!J466=\"\",\"\",入力欄!J466)","v":""},null,null,{"$f":"IF(入力欄!K466=\"\",\"\",入力欄!K466)","v":""},{"$f":"IF(入力欄!L466=\"\",\"\",入力欄!L466)","v":""},null,null,null,null,null,{"$f":"IF(入力欄!M466=\"\",\"\",入力欄!M466)","v":""},{"$f":"IF(入力欄!N466=\"\",\"\",入力欄!N466)","v":""}]
[null,2,{"$f":"IF(入力欄!E467=\"\",\"\",入力欄!E467)","v":""},null,{"$f":"IF(入力欄!F467=\"\",\"\",入力欄!F467)","v":""},null,null,null,{"$f":"IF(入力欄!G467=\"\",\"\",入力欄!G467)","v":""},null,null,{"$f":"IF(入力欄!H467=\"\",\"\",入力欄!H467)","v":""},null,null,{"$f":"IF(入力欄!I467=\"\",\"\",入力欄!I467)","v":""},null,null,{"$f":"IF(入力欄!J467=\"\",\"\",入力欄!J467)","v":""},null,null,{"$f":"IF(入力欄!K467=\"\",\"\",入力欄!K467)","v":""},{"$f":"IF(入力欄!L467=\"\",\"\",入力欄!L467)","v":""},null,null,null,null,null,{"$f":"IF(入力欄!M467=\"\",\"\",入力欄!M467)","v":""},{"$f":"IF(入力欄!N467=\"\",\"\",入力欄!N467)","v":""}]
[null,3,{"$f":"IF(入力欄!E468=\"\",\"\",入力欄!E468)","v":""},null,{"$f":"IF(入力欄!F468=\"\",\"\",入力欄!F468)","v":""},null,null,null,{"$f":"IF(入力欄!G468=\"\",\"\",入力欄!G468)","v":""},null,null,{"$f":"IF(入力欄!H468=\"\",\"\",入力欄!H468)","v":""},null,null,{"$f":"IF(入力欄!I468=\"\",\"\",入力欄!I468)","v":""},null,null,{"$f":"IF(入力欄!J468=\"\",\"\",入力欄!J468)","v":""},null,null,{"$f":"IF(入力欄!K468=\"\",\"\",入力欄!K468)","v":""},{"$f":"IF(入力欄!L468=\"\",\"\",入力欄!L468)","v":""},null,null,null,null,null,{"$f":"IF(入力欄!M468=\"\",\"\",入力欄!M468)","v":""},{"$f":"IF(入力欄!N468=\"\",\"\",入力欄!N468)","v":""}]
[null,4,{"$f":"IF(入力欄!E469=\"\",\"\",入力欄!E469)","v":""},null,{"$f":"IF(入力欄!F469=\"\",\"\",入力欄!F469)","v":""},null,null,null,{"$f":"IF(入力欄!G469=\"\",\"\",入力欄!G469)","v":""},null,null,{"$f":"IF(入力欄!H469=\"\",\"\",入力欄!H469)","v":""},null,null,{"$f":"IF(入力欄!I469=\"\",\"\",入力欄!I469)","v":""},null,null,{"$f":"IF(入力欄!J469=\"\",\"\",入力欄!J469)","v":""},null,null,{"$f":"IF(入力欄!K469=\"\",\"\",入力欄!K469)","v":""},{"$f":"IF(入力欄!L469=\"\",\"\",入力欄!L469)","v":""},null,null,null,null,null,{"$f":"IF(入力欄!M469=\"\",\"\",入力欄!M469)","v":""},{"$f":"IF(入力欄!N469=\"\",\"\",入力欄!N469)","v":""}]
[null,5,{"$f":"IF(入力欄!E470=\"\",\"\",入力欄!E470)","v":""},null,{"$f":"IF(入力欄!F470=\"\",\"\",入力欄!F470)","v":""},null,null,null,{"$f":"IF(入力欄!G470=\"\",\"\",入力欄!G470)","v":""},null,null,{"$f":"IF(入力欄!H470=\"\",\"\",入力欄!H470)","v":""},null,null,{"$f":"IF(入力欄!I470=\"\",\"\",入力欄!I470)","v":""},null,null,{"$f":"IF(入力欄!J470=\"\",\"\",入力欄!J470)","v":""},null,null,{"$f":"IF(入力欄!K470=\"\",\"\",入力欄!K470)","v":""},{"$f":"IF(入力欄!L470=\"\",\"\",入力欄!L470)","v":""},null,null,null,null,null,{"$f":"IF(入力欄!M470=\"\",\"\",入力欄!M470)","v":""},{"$f":"IF(入力欄!N470=\"\",\"\",入力欄!N470)","v":""}]
[null,6,{"$f":"IF(入力欄!E471=\"\",\"\",入力欄!E471)","v":""},null,{"$f":"IF(入力欄!F471=\"\",\"\",入力欄!F471)","v":""},null,null,null,{"$f":"IF(入力欄!G471=\"\",\"\",入力欄!G471)","v":""},null,null,{"$f":"IF(入力欄!H471=\"\",\"\",入力欄!H471)","v":""},null,null,{"$f":"IF(入力欄!I471=\"\",\"\",入力欄!I471)","v":""},null,null,{"$f":"IF(入力欄!J471=\"\",\"\",入力欄!J471)","v":""},null,null,{"$f":"IF(入力欄!K471=\"\",\"\",入力欄!K471)","v":""},{"$f":"IF(入力欄!L471=\"\",\"\",入力欄!L471)","v":""},null,null,null,null,null,{"$f":"IF(入力欄!M471=\"\",\"\",入力欄!M471)","v":""},{"$f":"IF(入力欄!N471=\"\",\"\",入力欄!N471)","v":""}]
[null,7,{"$f":"IF(入力欄!E472=\"\",\"\",入力欄!E472)","v":""},null,{"$f":"IF(入力欄!F472=\"\",\"\",入力欄!F472)","v":""},null,null,null,{"$f":"IF(入力欄!G472=\"\",\"\",入力欄!G472)","v":""},null,null,{"$f":"IF(入力欄!H472=\"\",\"\",入力欄!H472)","v":""},null,null,{"$f":"IF(入力欄!I472=\"\",\"\",入力欄!I472)","v":""},null,null,{"$f":"IF(入力欄!J472=\"\",\"\",入力欄!J472)","v":""},null,null,{"$f":"IF(入力欄!K472=\"\",\"\",入力欄!K472)","v":""},{"$f":"IF(入力欄!L472=\"\",\"\",入力欄!L472)","v":""},null,null,null,null,null,{"$f":"IF(入力欄!M472=\"\",\"\",入力欄!M472)","v":""},{"$f":"IF(入力欄!N472=\"\",\"\",入力欄!N472)","v":""}]
[null,8,{"$f":"IF(入力欄!E473=\"\",\"\",入力欄!E473)","v":""},null,{"$f":"IF(入力欄!F473=\"\",\"\",入力欄!F473)","v":""},null,null,null,{"$f":"IF(入力欄!G473=\"\",\"\",入力欄!G473)","v":""},null,null,{"$f":"IF(入力欄!H473=\"\",\"\",入力欄!H473)","v":""},null,null,{"$f":"IF(入力欄!I473=\"\",\"\",入力欄!I473)","v":""},null,null,{"$f":"IF(入力欄!J473=\"\",\"\",入力欄!J473)","v":""},null,null,{"$f":"IF(入力欄!K473=\"\",\"\",入力欄!K473)","v":""},{"$f":"IF(入力欄!L473=\"\",\"\",入力欄!L473)","v":""},null,null,null,null,null,{"$f":"IF(入力欄!M473=\"\",\"\",入力欄!M473)","v":""},{"$f":"IF(入力欄!N473=\"\",\"\",入力欄!N473)","v":""}]
[null,9,{"$f":"IF(入力欄!E474=\"\",\"\",入力欄!E474)","v":""},null,{"$f":"IF(入力欄!F474=\"\",\"\",入力欄!F474)","v":""},null,null,null,{"$f":"IF(入力欄!G474=\"\",\"\",入力欄!G474)","v":""},null,null,{"$f":"IF(入力欄!H474=\"\",\"\",入力欄!H474)","v":""},null,null,{"$f":"IF(入力欄!I474=\"\",\"\",入力欄!I474)","v":""},null,null,{"$f":"IF(入力欄!J474=\"\",\"\",入力欄!J474)","v":""},null,null,{"$f":"IF(入力欄!K474=\"\",\"\",入力欄!K474)","v":""},{"$f":"IF(入力欄!L474=\"\",\"\",入力欄!L474)","v":""},null,null,null,null,null,{"$f":"IF(入力欄!M474=\"\",\"\",入力欄!M474)","v":""},{"$f":"IF(入力欄!N474=\"\",\"\",入力欄!N474)","v":""}]
[null,10,{"$f":"IF(入力欄!E475=\"\",\"\",入力欄!E475)","v":""},null,{"$f":"IF(入力欄!F475=\"\",\"\",入力欄!F475)","v":""},null,null,null,{"$f":"IF(入力欄!G475=\"\",\"\",入力欄!G475)","v":""},null,null,{"$f":"IF(入力欄!H475=\"\",\"\",入力欄!H475)","v":""},null,null,{"$f":"IF(入力欄!I475=\"\",\"\",入力欄!I475)","v":""},null,null,{"$f":"IF(入力欄!J475=\"\",\"\",入力欄!J475)","v":""},null,null,{"$f":"IF(入力欄!K475=\"\",\"\",入力欄!K475)","v":""},{"$f":"IF(入力欄!L475=\"\",\"\",入力欄!L475)","v":""},null,null,null,null,null,{"$f":"IF(入力欄!M475=\"\",\"\",入力欄!M475)","v":""},{"$f":"IF(入力欄!N475=\"\",\"\",入力欄!N475)","v":""}]
[{"$f":"IF(入力欄!C476=\"\",\"\",入力欄!C476)","v":""},1,{"$f":"IF(入力欄!E476=\"\",\"\",入力欄!E476)","v":""},null,{"$f":"IF(入力欄!F476=\"\",\"\",入力欄!F476)","v":""},null,null,null,{"$f":"IF(入力欄!G476=\"\",\"\",入力欄!G476)","v":""},null,null,{"$f":"IF(入力欄!H476=\"\",\"\",入力欄!H476)","v":""},null,null,{"$f":"IF(入力欄!I476=\"\",\"\",入力欄!I476)","v":""},null,null,{"$f":"IF(入力欄!J476=\"\",\"\",入力欄!J476)","v":""},null,null,{"$f":"IF(入力欄!K476=\"\",\"\",入力欄!K476)","v":""},{"$f":"IF(入力欄!L476=\"\",\"\",入力欄!L476)","v":""},null,null,null,null,null,{"$f":"IF(入力欄!M476=\"\",\"\",入力欄!M476)","v":""},{"$f":"IF(入力欄!N476=\"\",\"\",入力欄!N476)","v":""}]
[null,2,{"$f":"IF(入力欄!E477=\"\",\"\",入力欄!E477)","v":""},null,{"$f":"IF(入力欄!F477=\"\",\"\",入力欄!F477)","v":""},null,null,null,{"$f":"IF(入力欄!G477=\"\",\"\",入力欄!G477)","v":""},null,null,{"$f":"IF(入力欄!H477=\"\",\"\",入力欄!H477)","v":""},null,null,{"$f":"IF(入力欄!I477=\"\",\"\",入力欄!I477)","v":""},null,null,{"$f":"IF(入力欄!J477=\"\",\"\",入力欄!J477)","v":""},null,null,{"$f":"IF(入力欄!K477=\"\",\"\",入力欄!K477)","v":""},{"$f":"IF(入力欄!L477=\"\",\"\",入力欄!L477)","v":""},null,null,null,null,null,{"$f":"IF(入力欄!M477=\"\",\"\",入力欄!M477)","v":""},{"$f":"IF(入力欄!N477=\"\",\"\",入力欄!N477)","v":""}]
[null,3,{"$f":"IF(入力欄!E478=\"\",\"\",入力欄!E478)","v":""},null,{"$f":"IF(入力欄!F478=\"\",\"\",入力欄!F478)","v":""},null,null,null,{"$f":"IF(入力欄!G478=\"\",\"\",入力欄!G478)","v":""},null,null,{"$f":"IF(入力欄!H478=\"\",\"\",入力欄!H478)","v":""},null,null,{"$f":"IF(入力欄!I478=\"\",\"\",入力欄!I478)","v":""},null,null,{"$f":"IF(入力欄!J478=\"\",\"\",入力欄!J478)","v":""},null,null,{"$f":"IF(入力欄!K478=\"\",\"\",入力欄!K478)","v":""},{"$f":"IF(入力欄!L478=\"\",\"\",入力欄!L478)","v":""},null,null,null,null,null,{"$f":"IF(入力欄!M478=\"\",\"\",入力欄!M478)","v":""},{"$f":"IF(入力欄!N478=\"\",\"\",入力欄!N478)","v":""}]
[null,4,{"$f":"IF(入力欄!E479=\"\",\"\",入力欄!E479)","v":""},null,{"$f":"IF(入力欄!F479=\"\",\"\",入力欄!F479)","v":""},null,null,null,{"$f":"IF(入力欄!G479=\"\",\"\",入力欄!G479)","v":""},null,null,{"$f":"IF(入力欄!H479=\"\",\"\",入力欄!H479)","v":""},null,null,{"$f":"IF(入力欄!I479=\"\",\"\",入力欄!I479)","v":""},null,null,{"$f":"IF(入力欄!J479=\"\",\"\",入力欄!J479)","v":""},null,null,{"$f":"IF(入力欄!K479=\"\",\"\",入力欄!K479)","v":""},{"$f":"IF(入力欄!L479=\"\",\"\",入力欄!L479)","v":""},null,null,null,null,null,{"$f":"IF(入力欄!M479=\"\",\"\",入力欄!M479)","v":""},{"$f":"IF(入力欄!N479=\"\",\"\",入力欄!N479)","v":""}]
[null,5,{"$f":"IF(入力欄!E480=\"\",\"\",入力欄!E480)","v":""},null,{"$f":"IF(入力欄!F480=\"\",\"\",入力欄!F480)","v":""},null,null,null,{"$f":"IF(入力欄!G480=\"\",\"\",入力欄!G480)","v":""},null,null,{"$f":"IF(入力欄!H480=\"\",\"\",入力欄!H480)","v":""},null,null,{"$f":"IF(入力欄!I480=\"\",\"\",入力欄!I480)","v":""},null,null,{"$f":"IF(入力欄!J480=\"\",\"\",入力欄!J480)","v":""},null,null,{"$f":"IF(入力欄!K480=\"\",\"\",入力欄!K480)","v":""},{"$f":"IF(入力欄!L480=\"\",\"\",入力欄!L480)","v":""},null,null,null,null,null,{"$f":"IF(入力欄!M480=\"\",\"\",入力欄!M480)","v":""},{"$f":"IF(入力欄!N480=\"\",\"\",入力欄!N480)","v":""}]
[null,6,{"$f":"IF(入力欄!E481=\"\",\"\",入力欄!E481)","v":""},null,{"$f":"IF(入力欄!F481=\"\",\"\",入力欄!F481)","v":""},null,null,null,{"$f":"IF(入力欄!G481=\"\",\"\",入力欄!G481)","v":""},null,null,{"$f":"IF(入力欄!H481=\"\",\"\",入力欄!H481)","v":""},null,null,{"$f":"IF(入力欄!I481=\"\",\"\",入力欄!I481)","v":""},null,null,{"$f":"IF(入力欄!J481=\"\",\"\",入力欄!J481)","v":""},null,null,{"$f":"IF(入力欄!K481=\"\",\"\",入力欄!K481)","v":""},{"$f":"IF(入力欄!L481=\"\",\"\",入力欄!L481)","v":""},null,null,null,null,null,{"$f":"IF(入力欄!M481=\"\",\"\",入力欄!M481)","v":""},{"$f":"IF(入力欄!N481=\"\",\"\",入力欄!N481)","v":""}]
[null,7,{"$f":"IF(入力欄!E482=\"\",\"\",入力欄!E482)","v":""},null,{"$f":"IF(入力欄!F482=\"\",\"\",入力欄!F482)","v":""},null,null,null,{"$f":"IF(入力欄!G482=\"\",\"\",入力欄!G482)","v":""},null,null,{"$f":"IF(入力欄!H482=\"\",\"\",入力欄!H482)","v":""},null,null,{"$f":"IF(入力欄!I482=\"\",\"\",入力欄!I482)","v":""},null,null,{"$f":"IF(入力欄!J482=\"\",\"\",入力欄!J482)","v":""},null,null,{"$f":"IF(入力欄!K482=\"\",\"\",入力欄!K482)","v":""},{"$f":"IF(入力欄!L482=\"\",\"\",入力欄!L482)","v":""},null,null,null,null,null,{"$f":"IF(入力欄!M482=\"\",\"\",入力欄!M482)","v":""},{"$f":"IF(入力欄!N482=\"\",\"\",入力欄!N482)","v":""}]
[null,8,{"$f":"IF(入力欄!E483=\"\",\"\",入力欄!E483)","v":""},null,{"$f":"IF(入力欄!F483=\"\",\"\",入力欄!F483)","v":""},null,null,null,{"$f":"IF(入力欄!G483=\"\",\"\",入力欄!G483)","v":""},null,null,{"$f":"IF(入力欄!H483=\"\",\"\",入力欄!H483)","v":""},null,null,{"$f":"IF(入力欄!I483=\"\",\"\",入力欄!I483)","v":""},null,null,{"$f":"IF(入力欄!J483=\"\",\"\",入力欄!J483)","v":""},null,null,{"$f":"IF(入力欄!K483=\"\",\"\",入力欄!K483)","v":""},{"$f":"IF(入力欄!L483=\"\",\"\",入力欄!L483)","v":""},null,null,null,null,null,{"$f":"IF(入力欄!M483=\"\",\"\",入力欄!M483)","v":""},{"$f":"IF(入力欄!N483=\"\",\"\",入力欄!N483)","v":""}]
[null,9,{"$f":"IF(入力欄!E484=\"\",\"\",入力欄!E484)","v":""},null,{"$f":"IF(入力欄!F484=\"\",\"\",入力欄!F484)","v":""},null,null,null,{"$f":"IF(入力欄!G484=\"\",\"\",入力欄!G484)","v":""},null,null,{"$f":"IF(入力欄!H484=\"\",\"\",入力欄!H484)","v":""},null,null,{"$f":"IF(入力欄!I484=\"\",\"\",入力欄!I484)","v":""},null,null,{"$f":"IF(入力欄!J484=\"\",\"\",入力欄!J484)","v":""},null,null,{"$f":"IF(入力欄!K484=\"\",\"\",入力欄!K484)","v":""},{"$f":"IF(入力欄!L484=\"\",\"\",入力欄!L484)","v":""},null,null,null,null,null,{"$f":"IF(入力欄!M484=\"\",\"\",入力欄!M484)","v":""},{"$f":"IF(入力欄!N484=\"\",\"\",入力欄!N484)","v":""}]
[null,10,{"$f":"IF(入力欄!E485=\"\",\"\",入力欄!E485)","v":""},null,{"$f":"IF(入力欄!F485=\"\",\"\",入力欄!F485)","v":""},null,null,null,{"$f":"IF(入力欄!G485=\"\",\"\",入力欄!G485)","v":""},null,null,{"$f":"IF(入力欄!H485=\"\",\"\",入力欄!H485)","v":""},null,null,{"$f":"IF(入力欄!I485=\"\",\"\",入力欄!I485)","v":""},null,null,{"$f":"IF(入力欄!J485=\"\",\"\",入力欄!J485)","v":""},null,null,{"$f":"IF(入力欄!K485=\"\",\"\",入力欄!K485)","v":""},{"$f":"IF(入力欄!L485=\"\",\"\",入力欄!L485)","v":""},null,null,null,null,null,{"$f":"IF(入力欄!M485=\"\",\"\",入力欄!M485)","v":""},{"$f":"IF(入力欄!N485=\"\",\"\",入力欄!N485)","v":""}]
[{"$f":"IF(入力欄!C486=\"\",\"\",入力欄!C486)","v":""},1,{"$f":"IF(入力欄!E486=\"\",\"\",入力欄!E486)","v":""},null,{"$f":"IF(入力欄!F486=\"\",\"\",入力欄!F486)","v":""},null,null,null,{"$f":"IF(入力欄!G486=\"\",\"\",入力欄!G486)","v":""},null,null,{"$f":"IF(入力欄!H486=\"\",\"\",入力欄!H486)","v":""},null,null,{"$f":"IF(入力欄!I486=\"\",\"\",入力欄!I486)","v":""},null,null,{"$f":"IF(入力欄!J486=\"\",\"\",入力欄!J486)","v":""},null,null,{"$f":"IF(入力欄!K486=\"\",\"\",入力欄!K486)","v":""},{"$f":"IF(入力欄!L486=\"\",\"\",入力欄!L486)","v":""},null,null,null,null,null,{"$f":"IF(入力欄!M486=\"\",\"\",入力欄!M486)","v":""},{"$f":"IF(入力欄!N486=\"\",\"\",入力欄!N486)","v":""}]
[null,2,{"$f":"IF(入力欄!E487=\"\",\"\",入力欄!E487)","v":""},null,{"$f":"IF(入力欄!F487=\"\",\"\",入力欄!F487)","v":""},null,null,null,{"$f":"IF(入力欄!G487=\"\",\"\",入力欄!G487)","v":""},null,null,{"$f":"IF(入力欄!H487=\"\",\"\",入力欄!H487)","v":""},null,null,{"$f":"IF(入力欄!I487=\"\",\"\",入力欄!I487)","v":""},null,null,{"$f":"IF(入力欄!J487=\"\",\"\",入力欄!J487)","v":""},null,null,{"$f":"IF(入力欄!K487=\"\",\"\",入力欄!K487)","v":""},{"$f":"IF(入力欄!L487=\"\",\"\",入力欄!L487)","v":""},null,null,null,null,null,{"$f":"IF(入力欄!M487=\"\",\"\",入力欄!M487)","v":""},{"$f":"IF(入力欄!N487=\"\",\"\",入力欄!N487)","v":""}]
[null,3,{"$f":"IF(入力欄!E488=\"\",\"\",入力欄!E488)","v":""},null,{"$f":"IF(入力欄!F488=\"\",\"\",入力欄!F488)","v":""},null,null,null,{"$f":"IF(入力欄!G488=\"\",\"\",入力欄!G488)","v":""},null,null,{"$f":"IF(入力欄!H488=\"\",\"\",入力欄!H488)","v":""},null,null,{"$f":"IF(入力欄!I488=\"\",\"\",入力欄!I488)","v":""},null,null,{"$f":"IF(入力欄!J488=\"\",\"\",入力欄!J488)","v":""},null,null,{"$f":"IF(入力欄!K488=\"\",\"\",入力欄!K488)","v":""},{"$f":"IF(入力欄!L488=\"\",\"\",入力欄!L488)","v":""},null,null,null,null,null,{"$f":"IF(入力欄!M488=\"\",\"\",入力欄!M488)","v":""},{"$f":"IF(入力欄!N488=\"\",\"\",入力欄!N488)","v":""}]
[null,4,{"$f":"IF(入力欄!E489=\"\",\"\",入力欄!E489)","v":""},null,{"$f":"IF(入力欄!F489=\"\",\"\",入力欄!F489)","v":""},null,null,null,{"$f":"IF(入力欄!G489=\"\",\"\",入力欄!G489)","v":""},null,null,{"$f":"IF(入力欄!H489=\"\",\"\",入力欄!H489)","v":""},null,null,{"$f":"IF(入力欄!I489=\"\",\"\",入力欄!I489)","v":""},null,null,{"$f":"IF(入力欄!J489=\"\",\"\",入力欄!J489)","v":""},null,null,{"$f":"IF(入力欄!K489=\"\",\"\",入力欄!K489)","v":""},{"$f":"IF(入力欄!L489=\"\",\"\",入力欄!L489)","v":""},null,null,null,null,null,{"$f":"IF(入力欄!M489=\"\",\"\",入力欄!M489)","v":""},{"$f":"IF(入力欄!N489=\"\",\"\",入力欄!N489)","v":""}]
[null,5,{"$f":"IF(入力欄!E490=\"\",\"\",入力欄!E490)","v":""},null,{"$f":"IF(入力欄!F490=\"\",\"\",入力欄!F490)","v":""},null,null,null,{"$f":"IF(入力欄!G490=\"\",\"\",入力欄!G490)","v":""},null,null,{"$f":"IF(入力欄!H490=\"\",\"\",入力欄!H490)","v":""},null,null,{"$f":"IF(入力欄!I490=\"\",\"\",入力欄!I490)","v":""},null,null,{"$f":"IF(入力欄!J490=\"\",\"\",入力欄!J490)","v":""},null,null,{"$f":"IF(入力欄!K490=\"\",\"\",入力欄!K490)","v":""},{"$f":"IF(入力欄!L490=\"\",\"\",入力欄!L490)","v":""},null,null,null,null,null,{"$f":"IF(入力欄!M490=\"\",\"\",入力欄!M490)","v":""},{"$f":"IF(入力欄!N490=\"\",\"\",入力欄!N490)","v":""}]
[null,6,{"$f":"IF(入力欄!E491=\"\",\"\",入力欄!E491)","v":""},null,{"$f":"IF(入力欄!F491=\"\",\"\",入力欄!F491)","v":""},null,null,null,{"$f":"IF(入力欄!G491=\"\",\"\",入力欄!G491)","v":""},null,null,{"$f":"IF(入力欄!H491=\"\",\"\",入力欄!H491)","v":""},null,null,{"$f":"IF(入力欄!I491=\"\",\"\",入力欄!I491)","v":""},null,null,{"$f":"IF(入力欄!J491=\"\",\"\",入力欄!J491)","v":""},null,null,{"$f":"IF(入力欄!K491=\"\",\"\",入力欄!K491)","v":""},{"$f":"IF(入力欄!L491=\"\",\"\",入力欄!L491)","v":""},null,null,null,null,null,{"$f":"IF(入力欄!M491=\"\",\"\",入力欄!M491)","v":""},{"$f":"IF(入力欄!N491=\"\",\"\",入力欄!N491)","v":""}]
[null,7,{"$f":"IF(入力欄!E492=\"\",\"\",入力欄!E492)","v":""},null,{"$f":"IF(入力欄!F492=\"\",\"\",入力欄!F492)","v":""},null,null,null,{"$f":"IF(入力欄!G492=\"\",\"\",入力欄!G492)","v":""},null,null,{"$f":"IF(入力欄!H492=\"\",\"\",入力欄!H492)","v":""},null,null,{"$f":"IF(入力欄!I492=\"\",\"\",入力欄!I492)","v":""},null,null,{"$f":"IF(入力欄!J492=\"\",\"\",入力欄!J492)","v":""},null,null,{"$f":"IF(入力欄!K492=\"\",\"\",入力欄!K492)","v":""},{"$f":"IF(入力欄!L492=\"\",\"\",入力欄!L492)","v":""},null,null,null,null,null,{"$f":"IF(入力欄!M492=\"\",\"\",入力欄!M492)","v":""},{"$f":"IF(入力欄!N492=\"\",\"\",入力欄!N492)","v":""}]
[null,8,{"$f":"IF(入力欄!E493=\"\",\"\",入力欄!E493)","v":""},null,{"$f":"IF(入力欄!F493=\"\",\"\",入力欄!F493)","v":""},null,null,null,{"$f":"IF(入力欄!G493=\"\",\"\",入力欄!G493)","v":""},null,null,{"$f":"IF(入力欄!H493=\"\",\"\",入力欄!H493)","v":""},null,null,{"$f":"IF(入力欄!I493=\"\",\"\",入力欄!I493)","v":""},null,null,{"$f":"IF(入力欄!J493=\"\",\"\",入力欄!J493)","v":""},null,null,{"$f":"IF(入力欄!K493=\"\",\"\",入力欄!K493)","v":""},{"$f":"IF(入力欄!L493=\"\",\"\",入力欄!L493)","v":""},null,null,null,null,null,{"$f":"IF(入力欄!M493=\"\",\"\",入力欄!M493)","v":""},{"$f":"IF(入力欄!N493=\"\",\"\",入力欄!N493)","v":""}]
[null,9,{"$f":"IF(入力欄!E494=\"\",\"\",入力欄!E494)","v":""},null,{"$f":"IF(入力欄!F494=\"\",\"\",入力欄!F494)","v":""},null,null,null,{"$f":"IF(入力欄!G494=\"\",\"\",入力欄!G494)","v":""},null,null,{"$f":"IF(入力欄!H494=\"\",\"\",入力欄!H494)","v":""},null,null,{"$f":"IF(入力欄!I494=\"\",\"\",入力欄!I494)","v":""},null,null,{"$f":"IF(入力欄!J494=\"\",\"\",入力欄!J494)","v":""},null,null,{"$f":"IF(入力欄!K494=\"\",\"\",入力欄!K494)","v":""},{"$f":"IF(入力欄!L494=\"\",\"\",入力欄!L494)","v":""},null,null,null,null,null,{"$f":"IF(入力欄!M494=\"\",\"\",入力欄!M494)","v":""},{"$f":"IF(入力欄!N494=\"\",\"\",入力欄!N494)","v":""}]
[null,10,{"$f":"IF(入力欄!E495=\"\",\"\",入力欄!E495)","v":""},null,{"$f":"IF(入力欄!F495=\"\",\"\",入力欄!F495)","v":""},null,null,null,{"$f":"IF(入力欄!G495=\"\",\"\",入力欄!G495)","v":""},null,null,{"$f":"IF(入力欄!H495=\"\",\"\",入力欄!H495)","v":""},null,null,{"$f":"IF(入力欄!I495=\"\",\"\",入力欄!I495)","v":""},null,null,{"$f":"IF(入力欄!J495=\"\",\"\",入力欄!J495)","v":""},null,null,{"$f":"IF(入力欄!K495=\"\",\"\",入力欄!K495)","v":""},{"$f":"IF(入力欄!L495=\"\",\"\",入力欄!L495)","v":""},null,null,null,null,null,{"$f":"IF(入力欄!M495=\"\",\"\",入力欄!M495)","v":""},{"$f":"IF(入力欄!N495=\"\",\"\",入力欄!N495)","v":""}]
[{"$f":"IF(入力欄!C496=\"\",\"\",入力欄!C496)","v":""},1,{"$f":"IF(入力欄!E496=\"\",\"\",入力欄!E496)","v":""},null,{"$f":"IF(入力欄!F496=\"\",\"\",入力欄!F496)","v":""},null,null,null,{"$f":"IF(入力欄!G496=\"\",\"\",入力欄!G496)","v":""},null,null,{"$f":"IF(入力欄!H496=\"\",\"\",入力欄!H496)","v":""},null,null,{"$f":"IF(入力欄!I496=\"\",\"\",入力欄!I496)","v":""},null,null,{"$f":"IF(入力欄!J496=\"\",\"\",入力欄!J496)","v":""},null,null,{"$f":"IF(入力欄!K496=\"\",\"\",入力欄!K496)","v":""},{"$f":"IF(入力欄!L496=\"\",\"\",入力欄!L496)","v":""},null,null,null,null,null,{"$f":"IF(入力欄!M496=\"\",\"\",入力欄!M496)","v":""},{"$f":"IF(入力欄!N496=\"\",\"\",入力欄!N496)","v":""}]
[null,2,{"$f":"IF(入力欄!E497=\"\",\"\",入力欄!E497)","v":""},null,{"$f":"IF(入力欄!F497=\"\",\"\",入力欄!F497)","v":""},null,null,null,{"$f":"IF(入力欄!G497=\"\",\"\",入力欄!G497)","v":""},null,null,{"$f":"IF(入力欄!H497=\"\",\"\",入力欄!H497)","v":""},null,null,{"$f":"IF(入力欄!I497=\"\",\"\",入力欄!I497)","v":""},null,null,{"$f":"IF(入力欄!J497=\"\",\"\",入力欄!J497)","v":""},null,null,{"$f":"IF(入力欄!K497=\"\",\"\",入力欄!K497)","v":""},{"$f":"IF(入力欄!L497=\"\",\"\",入力欄!L497)","v":""},null,null,null,null,null,{"$f":"IF(入力欄!M497=\"\",\"\",入力欄!M497)","v":""},{"$f":"IF(入力欄!N497=\"\",\"\",入力欄!N497)","v":""}]
[null,3,{"$f":"IF(入力欄!E498=\"\",\"\",入力欄!E498)","v":""},null,{"$f":"IF(入力欄!F498=\"\",\"\",入力欄!F498)","v":""},null,null,null,{"$f":"IF(入力欄!G498=\"\",\"\",入力欄!G498)","v":""},null,null,{"$f":"IF(入力欄!H498=\"\",\"\",入力欄!H498)","v":""},null,null,{"$f":"IF(入力欄!I498=\"\",\"\",入力欄!I498)","v":""},null,null,{"$f":"IF(入力欄!J498=\"\",\"\",入力欄!J498)","v":""},null,null,{"$f":"IF(入力欄!K498=\"\",\"\",入力欄!K498)","v":""},{"$f":"IF(入力欄!L498=\"\",\"\",入力欄!L498)","v":""},null,null,null,null,null,{"$f":"IF(入力欄!M498=\"\",\"\",入力欄!M498)","v":""},{"$f":"IF(入力欄!N498=\"\",\"\",入力欄!N498)","v":""}]
[null,4,{"$f":"IF(入力欄!E499=\"\",\"\",入力欄!E499)","v":""},null,{"$f":"IF(入力欄!F499=\"\",\"\",入力欄!F499)","v":""},null,null,null,{"$f":"IF(入力欄!G499=\"\",\"\",入力欄!G499)","v":""},null,null,{"$f":"IF(入力欄!H499=\"\",\"\",入力欄!H499)","v":""},null,null,{"$f":"IF(入力欄!I499=\"\",\"\",入力欄!I499)","v":""},null,null,{"$f":"IF(入力欄!J499=\"\",\"\",入力欄!J499)","v":""},null,null,{"$f":"IF(入力欄!K499=\"\",\"\",入力欄!K499)","v":""},{"$f":"IF(入力欄!L499=\"\",\"\",入力欄!L499)","v":""},null,null,null,null,null,{"$f":"IF(入力欄!M499=\"\",\"\",入力欄!M499)","v":""},{"$f":"IF(入力欄!N499=\"\",\"\",入力欄!N499)","v":""}]
[null,5,{"$f":"IF(入力欄!E500=\"\",\"\",入力欄!E500)","v":""},null,{"$f":"IF(入力欄!F500=\"\",\"\",入力欄!F500)","v":""},null,null,null,{"$f":"IF(入力欄!G500=\"\",\"\",入力欄!G500)","v":""},null,null,{"$f":"IF(入力欄!H500=\"\",\"\",入力欄!H500)","v":""},null,null,{"$f":"IF(入力欄!I500=\"\",\"\",入力欄!I500)","v":""},null,null,{"$f":"IF(入力欄!J500=\"\",\"\",入力欄!J500)","v":""},null,null,{"$f":"IF(入力欄!K500=\"\",\"\",入力欄!K500)","v":""},{"$f":"IF(入力欄!L500=\"\",\"\",入力欄!L500)","v":""},null,null,null,null,null,{"$f":"IF(入力欄!M500=\"\",\"\",入力欄!M500)","v":""},{"$f":"IF(入力欄!N500=\"\",\"\",入力欄!N500)","v":""}]
[null,6,{"$f":"IF(入力欄!E501=\"\",\"\",入力欄!E501)","v":""},null,{"$f":"IF(入力欄!F501=\"\",\"\",入力欄!F501)","v":""},null,null,null,{"$f":"IF(入力欄!G501=\"\",\"\",入力欄!G501)","v":""},null,null,{"$f":"IF(入力欄!H501=\"\",\"\",入力欄!H501)","v":""},null,null,{"$f":"IF(入力欄!I501=\"\",\"\",入力欄!I501)","v":""},null,null,{"$f":"IF(入力欄!J501=\"\",\"\",入力欄!J501)","v":""},null,null,{"$f":"IF(入力欄!K501=\"\",\"\",入力欄!K501)","v":""},{"$f":"IF(入力欄!L501=\"\",\"\",入力欄!L501)","v":""},null,null,null,null,null,{"$f":"IF(入力欄!M501=\"\",\"\",入力欄!M501)","v":""},{"$f":"IF(入力欄!N501=\"\",\"\",入力欄!N501)","v":""}]
[null,7,{"$f":"IF(入力欄!E502=\"\",\"\",入力欄!E502)","v":""},null,{"$f":"IF(入力欄!F502=\"\",\"\",入力欄!F502)","v":""},null,null,null,{"$f":"IF(入力欄!G502=\"\",\"\",入力欄!G502)","v":""},null,null,{"$f":"IF(入力欄!H502=\"\",\"\",入力欄!H502)","v":""},null,null,{"$f":"IF(入力欄!I502=\"\",\"\",入力欄!I502)","v":""},null,null,{"$f":"IF(入力欄!J502=\"\",\"\",入力欄!J502)","v":""},null,null,{"$f":"IF(入力欄!K502=\"\",\"\",入力欄!K502)","v":""},{"$f":"IF(入力欄!L502=\"\",\"\",入力欄!L502)","v":""},null,null,null,null,null,{"$f":"IF(入力欄!M502=\"\",\"\",入力欄!M502)","v":""},{"$f":"IF(入力欄!N502=\"\",\"\",入力欄!N502)","v":""}]
[null,8,{"$f":"IF(入力欄!E503=\"\",\"\",入力欄!E503)","v":""},null,{"$f":"IF(入力欄!F503=\"\",\"\",入力欄!F503)","v":""},null,null,null,{"$f":"IF(入力欄!G503=\"\",\"\",入力欄!G503)","v":""},null,null,{"$f":"IF(入力欄!H503=\"\",\"\",入力欄!H503)","v":""},null,null,{"$f":"IF(入力欄!I503=\"\",\"\",入力欄!I503)","v":""},null,null,{"$f":"IF(入力欄!J503=\"\",\"\",入力欄!J503)","v":""},null,null,{"$f":"IF(入力欄!K503=\"\",\"\",入力欄!K503)","v":""},{"$f":"IF(入力欄!L503=\"\",\"\",入力欄!L503)","v":""},null,null,null,null,null,{"$f":"IF(入力欄!M503=\"\",\"\",入力欄!M503)","v":""},{"$f":"IF(入力欄!N503=\"\",\"\",入力欄!N503)","v":""}]
[null,9,{"$f":"IF(入力欄!E504=\"\",\"\",入力欄!E504)","v":""},null,{"$f":"IF(入力欄!F504=\"\",\"\",入力欄!F504)","v":""},null,null,null,{"$f":"IF(入力欄!G504=\"\",\"\",入力欄!G504)","v":""},null,null,{"$f":"IF(入力欄!H504=\"\",\"\",入力欄!H504)","v":""},null,null,{"$f":"IF(入力欄!I504=\"\",\"\",入力欄!I504)","v":""},null,null,{"$f":"IF(入力欄!J504=\"\",\"\",入力欄!J504)","v":""},null,null,{"$f":"IF(入力欄!K504=\"\",\"\",入力欄!K504)","v":""},{"$f":"IF(入力欄!L504=\"\",\"\",入力欄!L504)","v":""},null,null,null,null,null,{"$f":"IF(入力欄!M504=\"\",\"\",入力欄!M504)","v":""},{"$f":"IF(入力欄!N504=\"\",\"\",入力欄!N504)","v":""}]
[null,10,{"$f":"IF(入力欄!E505=\"\",\"\",入力欄!E505)","v":""},null,{"$f":"IF(入力欄!F505=\"\",\"\",入力欄!F505)","v":""},null,null,null,{"$f":"IF(入力欄!G505=\"\",\"\",入力欄!G505)","v":""},null,null,{"$f":"IF(入力欄!H505=\"\",\"\",入力欄!H505)","v":""},null,null,{"$f":"IF(入力欄!I505=\"\",\"\",入力欄!I505)","v":""},null,null,{"$f":"IF(入力欄!J505=\"\",\"\",入力欄!J505)","v":""},null,null,{"$f":"IF(入力欄!K505=\"\",\"\",入力欄!K505)","v":""},{"$f":"IF(入力欄!L505=\"\",\"\",入力欄!L505)","v":""},null,null,null,null,null,{"$f":"IF(入力欄!M505=\"\",\"\",入力欄!M505)","v":""},{"$f":"IF(入力欄!N505=\"\",\"\",入力欄!N505)","v":""}]

{"sheet":"DB","index":2,"n_rows":9,"n_cols":2,"rows_kept":9,"cut":false,"hidden":true,"merged":[]}
["ランク","保留交渉可否"]
["S","可"]
["SA","否"]
["A"]
["AB"]
["B"]
["BC"]
["C"]
["ジャンク品"]