{"text_format":"1","workbook":"xlsx","n_sheets":13,"sheets":["【ジュエリー】記入例","【ジュエリー】入力欄","【ジュエリー】印刷用","【ルース】記入例","【ルース】入力欄","【ルース】印刷用","【時計】記入例","【時計】入力欄","【時計】印刷用","出品表61～120","出品表121～180","出品表181～240","出品表241～300"],"not_rendered":{"charts":0,"images":0,"macros":1,"external_links":0,"defined_names":6,"comments":0,"pivot_tables":0},"unopened":[],"bounds":{"document_bytes":16777216,"sheet_cells":100000,"rows_first":2000,"rows_last":500,"rows_between":2000,"halvings":0,"cell_chars":16384,"cell_head_chars":4096},"cells_cut":0,"cells_raw":0,"read":"whole","date_system":"1900"}

{"sheet":"【ジュエリー】記入例","index":0,"n_rows":505,"n_cols":19,"rows_kept":505,"cut":false,"hidden":false,"merged":[[475,2,484,2],[485,2,494,2],[495,2,504,2],[415,2,424,2],[425,2,434,2],[435,2,444,2],[445,2,454,2],[455,2,464,2],[465,2,474,2],[405,2,414,2],[295,2,304,2],[305,2,314,2],[315,2,324,2],[325,2,334,2],[335,2,344,2],[345,2,354,2],[355,2,364,2],[365,2,374,2],[375,2,384,2],[385,2,394,2],[395,2,404,2],[285,2,294,2],[175,2,184,2],[185,2,194,2],[195,2,204,2],[205,2,214,2],[215,2,224,2],[225,2,234,2],[235,2,244,2],[245,2,254,2],[255,2,264,2],[265,2,274,2],[275,2,284,2],[165,2,174,2],[55,2,64,2],[65,2,74,2],[75,2,84,2],[85,2,94,2],[95,2,104,2],[105,2,114,2],[115,2,124,2],[125,2,134,2],[135,2,144,2],[145,2,154,2],[155,2,164,2],[2,14,3,14],[45,2,54,2],[2,2,2,5],[5,2,14,2],[15,2,24,2],[25,2,34,2],[35,2,44,2]]}
["■大吉オークション　出品リスト_入力画面（ジュエリー）"]
[]
[null,"会社名","株式会社エンパワー",null,null,null,null,"出品月","5月",null,null,null,null,null,"3万円以上"]
[]
[null,"通し番号","箱番","行番","金性","ブランド名","主石","主石重量(ct)","脇石","脇石重量(ct)","品目","重量(g)","付属品","保留交渉\n可否","指値（税抜）","区分","ブランド名","可否","出品月"]
[null,1,5,1,"K18","ノーブランド","エメラルド","1.5","ダイヤ",0.5,"ネックレス",5.2,"鑑別書",null,null,"J","ノーブランド","可","1月"]
[null,2,null,2,"Pt900","カルティエ","ダイヤ","0.52",null,null,"リング",3.5,"鑑定書・箱",null,200000,"D","カルティエ","否","2月"]
[null,3,null,3,null,null,null,null,null,null,null,null,null,null,null,"B","ブルガリ",null,"3月"]
[null,4,null,4,null,null,null,null,null,null,null,null,null,null,null,"W","ティファニー",null,"4月"]
[null,5,null,5,null,null,null,null,null,null,null,null,null,null,null,null,"グッチ",null,"5月"]
[null,6,null,6,null,null,null,null,null,null,null,null,null,null,null,null,"シャネル",null,"6月"]
[null,7,null,7,null,null,null,null,null,null,null,null,null,null,null,null,"ルイ・ヴィトン",null,"7月"]
[null,8,null,8,null,null,null,null,null,null,null,null,null,null,null,null,"エルメス",null,"8月"]
[null,9,null,9,null,null,null,null,null,null,null,null,null,null,null,null,"ヴァン　クリーフ&アーペル",null,"9月"]
[null,10,null,10,null,null,null,null,null,null,null,null,null,null,null,null,"ショーメ",null,"10月"]
[null,11,null,1,null,null,null,null,null,null,null,null,null,null,null,null,"ショパール",null,"11月"]
[null,12,null,2,null,null,null,null,null,null,null,null,null,null,null,null,"スタージュエリー",null,"12月"]
[null,13,null,3,null,null,null,null,null,null,null,null,null,null,null,null,"ハリー・ウィンストン"]
[null,14,null,4,null,null,null,null,null,null,null,null,null,null,null,null,"ピアジェ"]
[null,15,null,5,null,null,null,null,null,null,null,null,null,null,null,null,"ブシュロン"]
[null,16,null,6,null,null,null,null,null,null,null,null,null,null,null,null,"ポメラート"]
[null,17,null,7,null,null,null,null,null,null,null,null,null,null,null,null,"ポンテヴェキオ"]
[null,18,null,8,null,null,null,null,null,null,null,null,null,null,null,null,"ミキモト"]
[null,19,null,9,null,null,null,null,null,null,null,null,null,null,null,null,"モーブッサン"]
[null,20,null,10,null,null,null,null,null,null,null,null,null,null,null,null,"アニエスベー"]
[null,21,null,1,null,null,null,null,null,null,null,null,null,null,null,null,"アルマーニ"]
[null,22,null,2,null,null,null,null,null,null,null,null,null,null,null,null,"イヴ・サンローラン"]
[null,23,null,3,null,null,null,null,null,null,null,null,null,null,null,null,"ヴァレンティノ"]
[null,24,null,4,null,null,null,null,null,null,null,null,null,null,null,null,"ヴィヴィアン・ウエストウッド"]
[null,25,null,5,null,null,null,null,null,null,null,null,null,null,null,null,"ヴェルサーチ"]
[null,26,null,6,null,null,null,null,null,null,null,null,null,null,null,null,"ウォルサム"]
[null,27,null,7,null,null,null,null,null,null,null,null,null,null,null,null,"エミリオ・プッチ"]
[null,28,null,8,null,null,null,null,null,null,null,null,null,null,null,null,"オロビアンコ"]
[null,29,null,9,null,null,null,null,null,null,null,null,null,null,null,null,"ガガミラノ"]
[null,30,null,10,null,null,null,null,null,null,null,null,null,null,null,null,"カレラ・イ・カレラ"]
[null,31,null,1,null,null,null,null,null,null,null,null,null,null,null,null,"クリスチャン・ディオール"]
[null,32,null,2,null,null,null,null,null,null,null,null,null,null,null,null,"クレージュ"]
[null,33,null,3,null,null,null,null,null,null,null,null,null,null,null,null,"クロエ"]
[null,34,null,4,null,null,null,null,null,null,null,null,null,null,null,null,"クロス"]
[null,35,null,5,null,null,null,null,null,null,null,null,null,null,null,null,"ケイト・スペード"]
[null,36,null,6,null,null,null,null,null,null,null,null,null,null,null,null,"コーチ"]
[null,37,null,7,null,null,null,null,null,null,null,null,null,null,null,null,"コール・ハーン"]
[null,38,null,8,null,null,null,null,null,null,null,null,null,null,null,null,"サマンサタバサ"]
[null,39,null,9,null,null,null,null,null,null,null,null,null,null,null,null,"シチズン"]
[null,40,null,10,null,null,null,null,null,null,null,null,null,null,null,null,"スワロフスキー"]
[null,41,null,1,null,null,null,null,null,null,null,null,null,null,null,null,"セリーヌ"]
[null,42,null,2,null,null,null,null,null,null,null,null,null,null,null,null,"タサキ"]
[null,43,null,3,null,null,null,null,null,null,null,null,null,null,null,null,"ダミアーニ"]
[null,44,null,4,null,null,null,null,null,null,null,null,null,null,null,null,"ダンヒル"]
[null,45,null,5,null,null,null,null,null,null,null,null,null,null,null,null,"デュポン"]
[null,46,null,6,null,null,null,null,null,null,null,null,null,null,null,null,"トリーバーチ"]
[null,47,null,7,null,null,null,null,null,null,null,null,null,null,null,null,"ドルチェ&ガッバーナ"]
[null,48,null,8,null,null,null,null,null,null,null,null,null,null,null,null,"バーバリー"]
[null,49,null,9,null,null,null,null,null,null,null,null,null,null,null,null,"ハミルトン"]
[null,50,null,10,null,null,null,null,null,null,null,null,null,null,null,null,"ピエール・カルダン"]
[null,51,null,1,null,null,null,null,null,null,null,null,null,null,null,null,"フェラガモ"]
[null,52,null,2,null,null,null,null,null,null,null,null,null,null,null,null,"フェンディ"]
[null,53,null,3,null,null,null,null,null,null,null,null,null,null,null,null,"フォリフォリ"]
[null,54,null,4,null,null,null,null,null,null,null,null,null,null,null,null,"プラダ"]
[null,55,null,5,null,null,null,null,null,null,null,null,null,null,null,null,"フランク・ミュラー"]
[null,56,null,6,null,null,null,null,null,null,null,null,null,null,null,null,"ポール・スミス"]
[null,57,null,7,null,null,null,null,null,null,null,null,null,null,null,null,"ボッテガ・ヴェネタ"]
[null,58,null,8,null,null,null,null,null,null,null,null,null,null,null,null,"ポリス"]
[null,59,null,9,null,null,null,null,null,null,null,null,null,null,null,null,"マークジェイコブス"]
[null,60,null,10,null,null,null,null,null,null,null,null,null,null,null,null,"ミュウミュウ"]
[null,61,null,1,null,null,null,null,null,null,null,null,null,null,null,null,"ミラ・ショーン"]
[null,62,null,2,null,null,null,null,null,null,null,null,null,null,null,null,"モンブラン"]
[null,63,null,3,null,null,null,null,null,null,null,null,null,null,null,null,"4℃"]
[null,64,null,4,null,null,null,null,null,null,null,null,null,null,null,null,"ロエベ"]
[null,65,null,5,null,null,null,null,null,null,null,null,null,null,null,null,"ロベルタディカメリーノ"]
[null,66,null,6,null,null,null,null,null,null,null,null,null,null,null,null,"その他"]
[null,67,null,7]
[null,68,null,8]
[null,69,null,9]
[null,70,null,10]
[null,71,null,1]
[null,72,null,2]
[null,73,null,3]
[null,74,null,4]
[null,75,null,5]
[null,76,null,6]
[null,77,null,7]
[null,78,null,8]
[null,79,null,9]
[null,80,null,10]
[null,81,null,1]
[null,82,null,2]
[null,83,null,3]
[null,84,null,4]
[null,85,null,5]
[null,86,null,6]
[null,87,null,7]
[null,88,null,8]
[null,89,null,9]
[null,90,null,10]
[null,91,null,1]
[null,92,null,2]
[null,93,null,3]
[null,94,null,4]
[null,95,null,5]
[null,96,null,6]
[null,97,null,7]
[null,98,null,8]
[null,99,null,9]
[null,100,null,10]
[null,101,null,1]
[null,102,null,2]
[null,103,null,3]
[null,104,null,4]
[null,105,null,5]
[null,106,null,6]
[null,107,null,7]
[null,108,null,8]
[null,109,null,9]
[null,110,null,10]
[null,111,null,1]
[null,112,null,2]
[null,113,null,3]
[null,114,null,4]
[null,115,null,5]
[null,116,null,6]
[null,117,null,7]
[null,118,null,8]
[null,119,null,9]
[null,120,null,10]
[null,121,null,1]
[null,122,null,2]
[null,123,null,3]
[null,124,null,4]
[null,125,null,5]
[null,126,null,6]
[null,127,null,7]
[null,128,null,8]
[null,129,null,9]
[null,130,null,10]
[null,131,null,1]
[null,132,null,2]
[null,133,null,3]
[null,134,null,4]
[null,135,null,5]
[null,136,null,6]
[null,137,null,7]
[null,138,null,8]
[null,139,null,9]
[null,140,null,10]
[null,141,null,1]
[null,142,null,2]
[null,143,null,3]
[null,144,null,4]
[null,145,null,5]
[null,146,null,6]
[null,147,null,7]
[null,148,null,8]
[null,149,null,9]
[null,150,null,10]
[null,151,null,1]
[null,152,null,2]
[null,153,null,3]
[null,154,null,4]
[null,155,null,5]
[null,156,null,6]
[null,157,null,7]
[null,158,null,8]
[null,159,null,9]
[null,160,null,10]
[null,161,null,1]
[null,162,null,2]
[null,163,null,3]
[null,164,null,4]
[null,165,null,5]
[null,166,null,6]
[null,167,null,7]
[null,168,null,8]
[null,169,null,9]
[null,170,null,10]
[null,171,null,1]
[null,172,null,2]
[null,173,null,3]
[null,174,null,4]
[null,175,null,5]
[null,176,null,6]
[null,177,null,7]
[null,178,null,8]
[null,179,null,9]
[null,180,null,10]
[null,181,null,1]
[null,182,null,2]
[null,183,null,3]
[null,184,null,4]
[null,185,null,5]
[null,186,null,6]
[null,187,null,7]
[null,188,null,8]
[null,189,null,9]
[null,190,null,10]
[null,191,null,1]
[null,192,null,2]
[null,193,null,3]
[null,194,null,4]
[null,195,null,5]
[null,196,null,6]
[null,197,null,7]
[null,198,null,8]
[null,199,null,9]
[null,200,null,10]
[null,201,null,1]
[null,202,null,2]
[null,203,null,3]
[null,204,null,4]
[null,205,null,5]
[null,206,null,6]
[null,207,null,7]
[null,208,null,8]
[null,209,null,9]
[null,210,null,10]
[null,211,null,1]
[null,212,null,2]
[null,213,null,3]
[null,214,null,4]
[null,215,null,5]
[null,216,null,6]
[null,217,null,7]
[null,218,null,8]
[null,219,null,9]
[null,220,null,10]
[null,221,null,1]
[null,222,null,2]
[null,223,null,3]
[null,224,null,4]
[null,225,null,5]
[null,226,null,6]
[null,227,null,7]
[null,228,null,8]
[null,229,null,9]
[null,230,null,10]
[null,231,null,1]
[null,232,null,2]
[null,233,null,3]
[null,234,null,4]
[null,235,null,5]
[null,236,null,6]
[null,237,null,7]
[null,238,null,8]
[null,239,null,9]
[null,240,null,10]
[null,241,null,1]
[null,242,null,2]
[null,243,null,3]
[null,244,null,4]
[null,245,null,5]
[null,246,null,6]
[null,247,null,7]
[null,248,null,8]
[null,249,null,9]
[null,250,null,10]
[null,251,null,1]
[null,252,null,2]
[null,253,null,3]
[null,254,null,4]
[null,255,null,5]
[null,256,null,6]
[null,257,null,7]
[null,258,null,8]
[null,259,null,9]
[null,260,null,10]
[null,261,null,1]
[null,262,null,2]
[null,263,null,3]
[null,264,null,4]
[null,265,null,5]
[null,266,null,6]
[null,267,null,7]
[null,268,null,8]
[null,269,null,9]
[null,270,null,10]
[null,271,null,1]
[null,272,null,2]
[null,273,null,3]
[null,274,null,4]
[null,275,null,5]
[null,276,null,6]
[null,277,null,7]
[null,278,null,8]
[null,279,null,9]
[null,280,null,10]
[null,281,null,1]
[null,282,null,2]
[null,283,null,3]
[null,284,null,4]
[null,285,null,5]
[null,286,null,6]
[null,287,null,7]
[null,288,null,8]
[null,289,null,9]
[null,290,null,10]
[null,291,null,1]
[null,292,null,2]
[null,293,null,3]
[null,294,null,4]
[null,295,null,5]
[null,296,null,6]
[null,297,null,7]
[null,298,null,8]
[null,299,null,9]
[null,300,null,10]
[null,301,null,1]
[null,302,null,2]
[null,303,null,3]
[null,304,null,4]
[null,305,null,5]
[null,306,null,6]
[null,307,null,7]
[null,308,null,8]
[null,309,null,9]
[null,310,null,10]
[null,311,null,1]
[null,312,null,2]
[null,313,null,3]
[null,314,null,4]
[null,315,null,5]
[null,316,null,6]
[null,317,null,7]
[null,318,null,8]
[null,319,null,9]
[null,320,null,10]
[null,321,null,1]
[null,322,null,2]
[null,323,null,3]
[null,324,null,4]
[null,325,null,5]
[null,326,null,6]
[null,327,null,7]
[null,328,null,8]
[null,329,null,9]
[null,330,null,10]
[null,331,null,1]
[null,332,null,2]
[null,333,null,3]
[null,334,null,4]
[null,335,null,5]
[null,336,null,6]
[null,337,null,7]
[null,338,null,8]
[null,339,null,9]
[null,340,null,10]
[null,341,null,1]
[null,342,null,2]
[null,343,null,3]
[null,344,null,4]
[null,345,null,5]
[null,346,null,6]
[null,347,null,7]
[null,348,null,8]
[null,349,null,9]
[null,350,null,10]
[null,351,null,1]
[null,352,null,2]
[null,353,null,3]
[null,354,null,4]
[null,355,null,5]
[null,356,null,6]
[null,357,null,7]
[null,358,null,8]
[null,359,null,9]
[null,360,null,10]
[null,361,null,1]
[null,362,null,2]
[null,363,null,3]
[null,364,null,4]
[null,365,null,5]
[null,366,null,6]
[null,367,null,7]
[null,368,null,8]
[null,369,null,9]
[null,370,null,10]
[null,371,null,1]
[null,372,null,2]
[null,373,null,3]
[null,374,null,4]
[null,375,null,5]
[null,376,null,6]
[null,377,null,7]
[null,378,null,8]
[null,379,null,9]
[null,380,null,10]
[null,381,null,1]
[null,382,null,2]
[null,383,null,3]
[null,384,null,4]
[null,385,null,5]
[null,386,null,6]
[null,387,null,7]
[null,388,null,8]
[null,389,null,9]
[null,390,null,10]
[null,391,null,1]
[null,392,null,2]
[null,393,null,3]
[null,394,null,4]
[null,395,null,5]
[null,396,null,6]
[null,397,null,7]
[null,398,null,8]
[null,399,null,9]
[null,400,null,10]
[null,401,null,1]
[null,402,null,2]
[null,403,null,3]
[null,404,null,4]
[null,405,null,5]
[null,406,null,6]
[null,407,null,7]
[null,408,null,8]
[null,409,null,9]
[null,410,null,10]
[null,411,null,1]
[null,412,null,2]
[null,413,null,3]
[null,414,null,4]
[null,415,null,5]
[null,416,null,6]
[null,417,null,7]
[null,418,null,8]
[null,419,null,9]
[null,420,null,10]
[null,421,null,1]
[null,422,null,2]
[null,423,null,3]
[null,424,null,4]
[null,425,null,5]
[null,426,null,6]
[null,427,null,7]
[null,428,null,8]
[null,429,null,9]
[null,430,null,10]
[null,431,null,1]
[null,432,null,2]
[null,433,null,3]
[null,434,null,4]
[null,435,null,5]
[null,436,null,6]
[null,437,null,7]
[null,438,null,8]
[null,439,null,9]
[null,440,null,10]
[null,441,null,1]
[null,442,null,2]
[null,443,null,3]
[null,444,null,4]
[null,445,null,5]
[null,446,null,6]
[null,447,null,7]
[null,448,null,8]
[null,449,null,9]
[null,450,null,10]
[null,451,null,1]
[null,452,null,2]
[null,453,null,3]
[null,454,null,4]
[null,455,null,5]
[null,456,null,6]
[null,457,null,7]
[null,458,null,8]
[null,459,null,9]
[null,460,null,10]
[null,461,null,1]
[null,462,null,2]
[null,463,null,3]
[null,464,null,4]
[null,465,null,5]
[null,466,null,6]
[null,467,null,7]
[null,468,null,8]
[null,469,null,9]
[null,470,null,10]
[null,471,null,1]
[null,472,null,2]
[null,473,null,3]
[null,474,null,4]
[null,475,null,5]
[null,476,null,6]
[null,477,null,7]
[null,478,null,8]
[null,479,null,9]
[null,480,null,10]
[null,481,null,1]
[null,482,null,2]
[null,483,null,3]
[null,484,null,4]
[null,485,null,5]
[null,486,null,6]
[null,487,null,7]
[null,488,null,8]
[null,489,null,9]
[null,490,null,10]
[null,491,null,1]
[null,492,null,2]
[null,493,null,3]
[null,494,null,4]
[null,495,null,5]
[null,496,null,6]
[null,497,null,7]
[null,498,null,8]
[null,499,null,9]
[null,500,null,10]

{"sheet":"【ジュエリー】入力欄","index":1,"n_rows":505,"n_cols":19,"rows_kept":505,"cut":false,"hidden":false,"merged":[[485,2,494,2],[495,2,504,2],[2,2,2,5],[425,2,434,2],[435,2,444,2],[445,2,454,2],[455,2,464,2],[465,2,474,2],[475,2,484,2],[365,2,374,2],[375,2,384,2],[385,2,394,2],[395,2,404,2],[405,2,414,2],[415,2,424,2],[305,2,314,2],[315,2,324,2],[325,2,334,2],[335,2,344,2],[345,2,354,2],[355,2,364,2],[295,2,304,2],[185,2,194,2],[195,2,204,2],[205,2,214,2],[215,2,224,2],[225,2,234,2],[235,2,244,2],[245,2,254,2],[255,2,264,2],[265,2,274,2],[275,2,284,2],[285,2,294,2],[175,2,184,2],[65,2,74,2],[75,2,84,2],[85,2,94,2],[95,2,104,2],[105,2,114,2],[115,2,124,2],[125,2,134,2],[135,2,144,2],[145,2,154,2],[155,2,164,2],[165,2,174,2],[2,14,3,14],[55,2,64,2],[5,2,14,2],[15,2,24,2],[25,2,34,2],[35,2,44,2],[45,2,54,2]]}
["■大吉オークション　出品リスト_入力画面（ジュエリー）"]
[]
[null,"会社名",null,null,null,null,null,"出品月",null,null,null,null,null,null,"3万円以上"]
[]
[null,"通し番号","箱番","行番","金性","ブランド名","主石","主石重量(ct)","脇石","脇石重量(ct)","品目","重量(g)","付属品","保留交渉\n可否","指値（税抜）","区分","ブランド名","可否","出品月"]
[null,1,null,1,null,null,null,null,null,null,null,null,null,null,null,"J","ノーブランド","可","1月"]
[null,2,null,2,null,null,null,null,null,null,null,null,null,null,null,"D","カルティエ","否","2月"]
[null,3,null,3,null,null,null,null,null,null,null,null,null,null,null,"B","ブルガリ",null,"3月"]
[null,4,null,4,null,null,null,null,null,null,null,null,null,null,null,"W","ティファニー",null,"4月"]
[null,5,null,5,null,null,null,null,null,null,null,null,null,null,null,null,"グッチ",null,"5月"]
[null,6,null,6,null,null,null,null,null,null,null,null,null,null,null,null,"シャネル",null,"6月"]
[null,7,null,7,null,null,null,null,null,null,null,null,null,null,null,null,"ルイ・ヴィトン",null,"7月"]
[null,8,null,8,null,null,null,null,null,null,null,null,null,null,null,null,"エルメス",null,"8月"]
[null,9,null,9,null,null,null,null,null,null,null,null,null,null,null,null,"ヴァン　クリーフ&アーペル",null,"9月"]
[null,10,null,10,null,null,null,null,null,null,null,null,null,null,null,null,"ショーメ",null,"10月"]
[null,11,null,1,null,null,null,null,null,null,null,null,null,null,null,null,"ショパール",null,"11月"]
[null,12,null,2,null,null,null,null,null,null,null,null,null,null,null,null,"スタージュエリー",null,"12月"]
[null,13,null,3,null,null,null,null,null,null,null,null,null,null,null,null,"ハリー・ウィンストン"]
[null,14,null,4,null,null,null,null,null,null,null,null,null,null,null,null,"ピアジェ"]
[null,15,null,5,null,null,null,null,null,null,null,null,null,null,null,null,"ブシュロン"]
[null,16,null,6,null,null,null,null,null,null,null,null,null,null,null,null,"ポメラート"]
[null,17,null,7,null,null,null,null,null,null,null,null,null,null,null,null,"ポンテヴェキオ"]
[null,18,null,8,null,null,null,null,null,null,null,null,null,null,null,null,"ミキモト"]
[null,19,null,9,null,null,null,null,null,null,null,null,null,null,null,null,"モーブッサン"]
[null,20,null,10,null,null,null,null,null,null,null,null,null,null,null,null,"アニエスベー"]
[null,21,null,1,null,null,null,null,null,null,null,null,null,null,null,null,"アルマーニ"]
[null,22,null,2,null,null,null,null,null,null,null,null,null,null,null,null,"イヴ・サンローラン"]
[null,23,null,3,null,null,null,null,null,null,null,null,null,null,null,null,"ヴァレンティノ"]
[null,24,null,4,null,null,null,null,null,null,null,null,null,null,null,null,"ヴィヴィアン・ウエストウッド"]
[null,25,null,5,null,null,null,null,null,null,null,null,null,null,null,null,"ヴェルサーチ"]
[null,26,null,6,null,null,null,null,null,null,null,null,null,null,null,null,"ウォルサム"]
[null,27,null,7,null,null,null,null,null,null,null,null,null,null,null,null,"エミリオ・プッチ"]
[null,28,null,8,null,null,null,null,null,null,null,null,null,null,null,null,"オロビアンコ"]
[null,29,null,9,null,null,null,null,null,null,null,null,null,null,null,null,"ガガミラノ"]
[null,30,null,10,null,null,null,null,null,null,null,null,null,null,null,null,"カレラ・イ・カレラ"]
[null,31,null,1,null,null,null,null,null,null,null,null,null,null,null,null,"クリスチャン・ディオール"]
[null,32,null,2,null,null,null,null,null,null,null,null,null,null,null,null,"クレージュ"]
[null,33,null,3,null,null,null,null,null,null,null,null,null,null,null,null,"クロエ"]
[null,34,null,4,null,null,null,null,null,null,null,null,null,null,null,null,"クロス"]
[null,35,null,5,null,null,null,null,null,null,null,null,null,null,null,null,"ケイト・スペード"]
[null,36,null,6,null,null,null,null,null,null,null,null,null,null,null,null,"コーチ"]
[null,37,null,7,null,null,null,null,null,null,null,null,null,null,null,null,"コール・ハーン"]
[null,38,null,8,null,null,null,null,null,null,null,null,null,null,null,null,"サマンサタバサ"]
[null,39,null,9,null,null,null,null,null,null,null,null,null,null,null,null,"シチズン"]
[null,40,null,10,null,null,null,null,null,null,null,null,null,null,null,null,"スワロフスキー"]
[null,41,null,1,null,null,null,null,null,null,null,null,null,null,null,null,"セリーヌ"]
[null,42,null,2,null,null,null,null,null,null,null,null,null,null,null,null,"タサキ"]
[null,43,null,3,null,null,null,null,null,null,null,null,null,null,null,null,"ダミアーニ"]
[null,44,null,4,null,null,null,null,null,null,null,null,null,null,null,null,"ダンヒル"]
[null,45,null,5,null,null,null,null,null,null,null,null,null,null,null,null,"デュポン"]
[null,46,null,6,null,null,null,null,null,null,null,null,null,null,null,null,"トリーバーチ"]
[null,47,null,7,null,null,null,null,null,null,null,null,null,null,null,null,"ドルチェ&ガッバーナ"]
[null,48,null,8,null,null,null,null,null,null,null,null,null,null,null,null,"バーバリー"]
[null,49,null,9,null,null,null,null,null,null,null,null,null,null,null,null,"ハミルトン"]
[null,50,null,10,null,null,null,null,null,null,null,null,null,null,null,null,"ピエール・カルダン"]
[null,51,null,1,null,null,null,null,null,null,null,null,null,null,null,null,"フェラガモ"]
[null,52,null,2,null,null,null,null,null,null,null,null,null,null,null,null,"フェンディ"]
[null,53,null,3,null,null,null,null,null,null,null,null,null,null,null,null,"フォリフォリ"]
[null,54,null,4,null,null,null,null,null,null,null,null,null,null,null,null,"プラダ"]
[null,55,null,5,null,null,null,null,null,null,null,null,null,null,null,null,"フランク・ミュラー"]
[null,56,null,6,null,null,null,null,null,null,null,null,null,null,null,null,"ポール・スミス"]
[null,57,null,7,null,null,null,null,null,null,null,null,null,null,null,null,"ボッテガ・ヴェネタ"]
[null,58,null,8,null,null,null,null,null,null,null,null,null,null,null,null,"ポリス"]
[null,59,null,9,null,null,null,null,null,null,null,null,null,null,null,null,"マークジェイコブス"]
[null,60,null,10,null,null,null,null,null,null,null,null,null,null,null,null,"ミュウミュウ"]
[null,61,null,1,null,null,null,null,null,null,null,null,null,null,null,null,"ミラ・ショーン"]
[null,62,null,2,null,null,null,null,null,null,null,null,null,null,null,null,"モンブラン"]
[null,63,null,3,null,null,null,null,null,null,null,null,null,null,null,null,"4℃"]
[null,64,null,4,null,null,null,null,null,null,null,null,null,null,null,null,"ロエベ"]
[null,65,null,5,null,null,null,null,null,null,null,null,null,null,null,null,"ロベルタディカメリーノ"]
[null,66,null,6,null,null,null,null,null,null,null,null,null,null,null,null,"その他"]
[null,67,null,7]
[null,68,null,8]
[null,69,null,9]
[null,70,null,10]
[null,71,null,1]
[null,72,null,2]
[null,73,null,3]
[null,74,null,4]
[null,75,null,5]
[null,76,null,6]
[null,77,null,7]
[null,78,null,8]
[null,79,null,9]
[null,80,null,10]
[null,81,null,1]
[null,82,null,2]
[null,83,null,3]
[null,84,null,4]
[null,85,null,5]
[null,86,null,6]
[null,87,null,7]
[null,88,null,8]
[null,89,null,9]
[null,90,null,10]
[null,91,null,1]
[null,92,null,2]
[null,93,null,3]
[null,94,null,4]
[null,95,null,5]
[null,96,null,6]
[null,97,null,7]
[null,98,null,8]
[null,99,null,9]
[null,100,null,10]
[null,101,null,1]
[null,102,null,2]
[null,103,null,3]
[null,104,null,4]
[null,105,null,5]
[null,106,null,6]
[null,107,null,7]
[null,108,null,8]
[null,109,null,9]
[null,110,null,10]
[null,111,null,1]
[null,112,null,2]
[null,113,null,3]
[null,114,null,4]
[null,115,null,5]
[null,116,null,6]
[null,117,null,7]
[null,118,null,8]
[null,119,null,9]
[null,120,null,10]
[null,121,null,1]
[null,122,null,2]
[null,123,null,3]
[null,124,null,4]
[null,125,null,5]
[null,126,null,6]
[null,127,null,7]
[null,128,null,8]
[null,129,null,9]
[null,130,null,10]
[null,131,null,1]
[null,132,null,2]
[null,133,null,3]
[null,134,null,4]
[null,135,null,5]
[null,136,null,6]
[null,137,null,7]
[null,138,null,8]
[null,139,null,9]
[null,140,null,10]
[null,141,null,1]
[null,142,null,2]
[null,143,null,3]
[null,144,null,4]
[null,145,null,5]
[null,146,null,6]
[null,147,null,7]
[null,148,null,8]
[null,149,null,9]
[null,150,null,10]
[null,151,null,1]
[null,152,null,2]
[null,153,null,3]
[null,154,null,4]
[null,155,null,5]
[null,156,null,6]
[null,157,null,7]
[null,158,null,8]
[null,159,null,9]
[null,160,null,10]
[null,161,null,1]
[null,162,null,2]
[null,163,null,3]
[null,164,null,4]
[null,165,null,5]
[null,166,null,6]
[null,167,null,7]
[null,168,null,8]
[null,169,null,9]
[null,170,null,10]
[null,171,null,1]
[null,172,null,2]
[null,173,null,3]
[null,174,null,4]
[null,175,null,5]
[null,176,null,6]
[null,177,null,7]
[null,178,null,8]
[null,179,null,9]
[null,180,null,10]
[null,181,null,1]
[null,182,null,2]
[null,183,null,3]
[null,184,null,4]
[null,185,null,5]
[null,186,null,6]
[null,187,null,7]
[null,188,null,8]
[null,189,null,9]
[null,190,null,10]
[null,191,null,1]
[null,192,null,2]
[null,193,null,3]
[null,194,null,4]
[null,195,null,5]
[null,196,null,6]
[null,197,null,7]
[null,198,null,8]
[null,199,null,9]
[null,200,null,10]
[null,201,null,1]
[null,202,null,2]
[null,203,null,3]
[null,204,null,4]
[null,205,null,5]
[null,206,null,6]
[null,207,null,7]
[null,208,null,8]
[null,209,null,9]
[null,210,null,10]
[null,211,null,1]
[null,212,null,2]
[null,213,null,3]
[null,214,null,4]
[null,215,null,5]
[null,216,null,6]
[null,217,null,7]
[null,218,null,8]
[null,219,null,9]
[null,220,null,10]
[null,221,null,1]
[null,222,null,2]
[null,223,null,3]
[null,224,null,4]
[null,225,null,5]
[null,226,null,6]
[null,227,null,7]
[null,228,null,8]
[null,229,null,9]
[null,230,null,10]
[null,231,null,1]
[null,232,null,2]
[null,233,null,3]
[null,234,null,4]
[null,235,null,5]
[null,236,null,6]
[null,237,null,7]
[null,238,null,8]
[null,239,null,9]
[null,240,null,10]
[null,241,null,1]
[null,242,null,2]
[null,243,null,3]
[null,244,null,4]
[null,245,null,5]
[null,246,null,6]
[null,247,null,7]
[null,248,null,8]
[null,249,null,9]
[null,250,null,10]
[null,251,null,1]
[null,252,null,2]
[null,253,null,3]
[null,254,null,4]
[null,255,null,5]
[null,256,null,6]
[null,257,null,7]
[null,258,null,8]
[null,259,null,9]
[null,260,null,10]
[null,261,null,1]
[null,262,null,2]
[null,263,null,3]
[null,264,null,4]
[null,265,null,5]
[null,266,null,6]
[null,267,null,7]
[null,268,null,8]
[null,269,null,9]
[null,270,null,10]
[null,271,null,1]
[null,272,null,2]
[null,273,null,3]
[null,274,null,4]
[null,275,null,5]
[null,276,null,6]
[null,277,null,7]
[null,278,null,8]
[null,279,null,9]
[null,280,null,10]
[null,281,null,1]
[null,282,null,2]
[null,283,null,3]
[null,284,null,4]
[null,285,null,5]
[null,286,null,6]
[null,287,null,7]
[null,288,null,8]
[null,289,null,9]
[null,290,null,10]
[null,291,null,1]
[null,292,null,2]
[null,293,null,3]
[null,294,null,4]
[null,295,null,5]
[null,296,null,6]
[null,297,null,7]
[null,298,null,8]
[null,299,null,9]
[null,300,null,10]
[null,301,null,1]
[null,302,null,2]
[null,303,null,3]
[null,304,null,4]
[null,305,null,5]
[null,306,null,6]
[null,307,null,7]
[null,308,null,8]
[null,309,null,9]
[null,310,null,10]
[null,311,null,1]
[null,312,null,2]
[null,313,null,3]
[null,314,null,4]
[null,315,null,5]
[null,316,null,6]
[null,317,null,7]
[null,318,null,8]
[null,319,null,9]
[null,320,null,10]
[null,321,null,1]
[null,322,null,2]
[null,323,null,3]
[null,324,null,4]
[null,325,null,5]
[null,326,null,6]
[null,327,null,7]
[null,328,null,8]
[null,329,null,9]
[null,330,null,10]
[null,331,null,1]
[null,332,null,2]
[null,333,null,3]
[null,334,null,4]
[null,335,null,5]
[null,336,null,6]
[null,337,null,7]
[null,338,null,8]
[null,339,null,9]
[null,340,null,10]
[null,341,null,1]
[null,342,null,2]
[null,343,null,3]
[null,344,null,4]
[null,345,null,5]
[null,346,null,6]
[null,347,null,7]
[null,348,null,8]
[null,349,null,9]
[null,350,null,10]
[null,351,null,1]
[null,352,null,2]
[null,353,null,3]
[null,354,null,4]
[null,355,null,5]
[null,356,null,6]
[null,357,null,7]
[null,358,null,8]
[null,359,null,9]
[null,360,null,10]
[null,361,null,1]
[null,362,null,2]
[null,363,null,3]
[null,364,null,4]
[null,365,null,5]
[null,366,null,6]
[null,367,null,7]
[null,368,null,8]
[null,369,null,9]
[null,370,null,10]
[null,371,null,1]
[null,372,null,2]
[null,373,null,3]
[null,374,null,4]
[null,375,null,5]
[null,376,null,6]
[null,377,null,7]
[null,378,null,8]
[null,379,null,9]
[null,380,null,10]
[null,381,null,1]
[null,382,null,2]
[null,383,null,3]
[null,384,null,4]
[null,385,null,5]
[null,386,null,6]
[null,387,null,7]
[null,388,null,8]
[null,389,null,9]
[null,390,null,10]
[null,391,null,1]
[null,392,null,2]
[null,393,null,3]
[null,394,null,4]
[null,395,null,5]
[null,396,null,6]
[null,397,null,7]
[null,398,null,8]
[null,399,null,9]
[null,400,null,10]
[null,401,null,1]
[null,402,null,2]
[null,403,null,3]
[null,404,null,4]
[null,405,null,5]
[null,406,null,6]
[null,407,null,7]
[null,408,null,8]
[null,409,null,9]
[null,410,null,10]
[null,411,null,1]
[null,412,null,2]
[null,413,null,3]
[null,414,null,4]
[null,415,null,5]
[null,416,null,6]
[null,417,null,7]
[null,418,null,8]
[null,419,null,9]
[null,420,null,10]
[null,421,null,1]
[null,422,null,2]
[null,423,null,3]
[null,424,null,4]
[null,425,null,5]
[null,426,null,6]
[null,427,null,7]
[null,428,null,8]
[null,429,null,9]
[null,430,null,10]
[null,431,null,1]
[null,432,null,2]
[null,433,null,3]
[null,434,null,4]
[null,435,null,5]
[null,436,null,6]
[null,437,null,7]
[null,438,null,8]
[null,439,null,9]
[null,440,null,10]
[null,441,null,1]
[null,442,null,2]
[null,443,null,3]
[null,444,null,4]
[null,445,null,5]
[null,446,null,6]
[null,447,null,7]
[null,448,null,8]
[null,449,null,9]
[null,450,null,10]
[null,451,null,1]
[null,452,null,2]
[null,453,null,3]
[null,454,null,4]
[null,455,null,5]
[null,456,null,6]
[null,457,null,7]
[null,458,null,8]
[null,459,null,9]
[null,460,null,10]
[null,461,null,1]
[null,462,null,2]
[null,463,null,3]
[null,464,null,4]
[null,465,null,5]
[null,466,null,6]
[null,467,null,7]
[null,468,null,8]
[null,469,null,9]
[null,470,null,10]
[null,471,null,1]
[null,472,null,2]
[null,473,null,3]
[null,474,null,4]
[null,475,null,5]
[null,476,null,6]
[null,477,null,7]
[null,478,null,8]
[null,479,null,9]
[null,480,null,10]
[null,481,null,1]
[null,482,null,2]
[null,483,null,3]
[null,484,null,4]
[null,485,null,5]
[null,486,null,6]
[null,487,null,7]
[null,488,null,8]
[null,489,null,9]
[null,490,null,10]
[null,491,null,1]
[null,492,null,2]
[null,493,null,3]
[null,494,null,4]
[null,495,null,5]
[null,496,null,6]
[null,497,null,7]
[null,498,null,8]
[null,499,null,9]
[null,500,null,10]

{"sheet":"【ジュエリー】印刷用","index":2,"n_rows":800,"n_cols":8,"rows_kept":800,"cut":false,"hidden":false,"merged":[[1,1,1,3],[3,6,3,8],[17,1,17,3],[19,6,19,8],[33,1,33,3],[35,6,35,8],[49,1,49,3],[51,6,51,8],[65,1,65,3],[67,6,67,8],[81,1,81,3],[83,6,83,8],[97,1,97,3],[99,6,99,8],[113,1,113,3],[115,6,115,8],[129,1,129,3],[131,6,131,8],[145,1,145,3],[147,6,147,8],[161,1,161,3],[163,6,163,8],[177,1,177,3],[179,6,179,8],[193,1,193,3],[195,6,195,8],[209,1,209,3],[211,6,211,8],[225,1,225,3],[227,6,227,8],[241,1,241,3],[243,6,243,8],[257,1,257,3],[259,6,259,8],[273,1,273,3],[275,6,275,8],[289,1,289,3],[291,6,291,8],[305,1,305,3],[307,6,307,8],[321,1,321,3],[323,6,323,8],[337,1,337,3],[339,6,339,8],[353,1,353,3],[355,6,355,8],[369,1,369,3],[371,6,371,8],[385,1,385,3],[387,6,387,8],[401,1,401,3],[403,6,403,8],[417,1,417,3],[419,6,419,8],[433,1,433,3],[435,6,435,8],[449,1,449,3],[451,6,451,8],[465,1,465,3],[467,6,467,8],[481,1,481,3],[483,6,483,8],[497,1,497,3],[499,6,499,8],[513,1,513,3],[515,6,515,8],[529,1,529,3],[531,6,531,8],[545,1,545,3],[547,6,547,8],[561,1,561,3],[563,6,563,8],[577,1,577,3],[579,6,579,8],[593,1,593,3],[595,6,595,8],[609,1,609,3],[611,6,611,8],[625,1,625,3],[627,6,627,8],[641,1,641,3],[643,6,643,8],[657,1,657,3],[659,6,659,8],[673,1,673,3],[675,6,675,8],[689,1,689,3],[691,6,691,8],[705,1,705,3],[707,6,707,8],[721,1,721,3],[723,6,723,8],[737,1,737,3],[739,6,739,8],[753,1,753,3],[755,6,755,8],[769,1,769,3],[771,6,771,8],[785,1,785,3],[787,6,787,8]]}
[]
["   \n",{"$f":"CONCATENATE(\"出品表　（　\",【ジュエリー】入力欄!I$3,\"　大吉オークション　宝石・ジュエリー）\")","v":"出品表　（　　大吉オークション　宝石・ジュエリー）"}]
[]
[null,"箱番：",{"$f":"IF(【ジュエリー】入力欄!C6=\"\",\"\",【ジュエリー】入力欄!C6)","v":""},"※太枠の中をご記入ください",null,"会社名",{"$f":"IF(【ジュエリー】入力欄!C$3=\"\",\"\",【ジュエリー】入力欄!C$3)","v":""}]
[]
["番号","品目","金性","詳細・特徴","重量","付属品","指値\n（3万円以上）","発句"]
["１",{"$f":"IF(【ジュエリー】入力欄!K6=\"\",\"\",【ジュエリー】入力欄!K6)","v":""},{"$f":"IF(【ジュエリー】入力欄!E6=\"\",\"\",【ジュエリー】入力欄!E6)","v":""},{"$f":"CONCATENATE(IF(【ジュエリー】入力欄!F6=\"\",\"\",【ジュエリー】入力欄!F6),IF(【ジュエリー】入力欄!H6=\"\",CONCATENATE(\" \",【ジュエリー】入力欄!G6),CONCATENATE(\" \",【ジュエリー】入力欄!G6,【ジュエリー】入力欄!H6,IF(【ジュエリー】入力欄!G6=\"パール\",\"mm\",\"ct\"))),IF(【ジュエリー】入力欄!J6=\"\",CONCATENATE(\" \",【ジュエリー】入力欄!I6),CONCATENATE(\" \",【ジュエリー】入力欄!I6,【ジュエリー】入力欄!J6,IF(【ジュエリー】入力欄!I6=\"パール\",\"mm\",\"ct\"))))","v":"  "},{"$f":"IF(【ジュエリー】入力欄!L6=\"\",\"\",【ジュエリー】入力欄!L6&\"g\")","v":""},{"$f":"IF(【ジュエリー】入力欄!M6=\"\",\"\",【ジュエリー】入力欄!M6)","v":""},{"$f":"IF(【ジュエリー】入力欄!O6=\"\",\"\",【ジュエリー】入力欄!O6)","v":""}]
["２",{"$f":"IF(【ジュエリー】入力欄!K7=\"\",\"\",【ジュエリー】入力欄!K7)","v":""},{"$f":"IF(【ジュエリー】入力欄!E7=\"\",\"\",【ジュエリー】入力欄!E7)","v":""},{"$f":"CONCATENATE(IF(【ジュエリー】入力欄!F7=\"\",\"\",【ジュエリー】入力欄!F7),IF(【ジュエリー】入力欄!H7=\"\",CONCATENATE(\" \",【ジュエリー】入力欄!G7),CONCATENATE(\" \",【ジュエリー】入力欄!G7,【ジュエリー】入力欄!H7,IF(【ジュエリー】入力欄!G7=\"パール\",\"mm\",\"ct\"))),IF(【ジュエリー】入力欄!J7=\"\",CONCATENATE(\" \",【ジュエリー】入力欄!I7),CONCATENATE(\" \",【ジュエリー】入力欄!I7,【ジュエリー】入力欄!J7,IF(【ジュエリー】入力欄!I7=\"パール\",\"mm\",\"ct\"))))","v":"  "},{"$f":"IF(【ジュエリー】入力欄!L7=\"\",\"\",【ジュエリー】入力欄!L7&\"g\")","v":""},{"$f":"IF(【ジュエリー】入力欄!M7=\"\",\"\",【ジュエリー】入力欄!M7)","v":""},{"$f":"IF(【ジュエリー】入力欄!O7=\"\",\"\",【ジュエリー】入力欄!O7)","v":""}]
["３",{"$f":"IF(【ジュエリー】入力欄!K8=\"\",\"\",【ジュエリー】入力欄!K8)","v":""},{"$f":"IF(【ジュエリー】入力欄!E8=\"\",\"\",【ジュエリー】入力欄!E8)","v":""},{"$f":"CONCATENATE(IF(【ジュエリー】入力欄!F8=\"\",\"\",【ジュエリー】入力欄!F8),IF(【ジュエリー】入力欄!H8=\"\",CONCATENATE(\" \",【ジュエリー】入力欄!G8),CONCATENATE(\" \",【ジュエリー】入力欄!G8,【ジュエリー】入力欄!H8,IF(【ジュエリー】入力欄!G8=\"パール\",\"mm\",\"ct\"))),IF(【ジュエリー】入力欄!J8=\"\",CONCATENATE(\" \",【ジュエリー】入力欄!I8),CONCATENATE(\" \",【ジュエリー】入力欄!I8,【ジュエリー】入力欄!J8,IF(【ジュエリー】入力欄!I8=\"パール\",\"mm\",\"ct\"))))","v":"  "},{"$f":"IF(【ジュエリー】入力欄!L8=\"\",\"\",【ジュエリー】入力欄!L8&\"g\")","v":""},{"$f":"IF(【ジュエリー】入力欄!M8=\"\",\"\",【ジュエリー】入力欄!M8)","v":""},{"$f":"IF(【ジュエリー】入力欄!O8=\"\",\"\",【ジュエリー】入力欄!O8)","v":""}]
["４",{"$f":"IF(【ジュエリー】入力欄!K9=\"\",\"\",【ジュエリー】入力欄!K9)","v":""},{"$f":"IF(【ジュエリー】入力欄!E9=\"\",\"\",【ジュエリー】入力欄!E9)","v":""},{"$f":"CONCATENATE(IF(【ジュエリー】入力欄!F9=\"\",\"\",【ジュエリー】入力欄!F9),IF(【ジュエリー】入力欄!H9=\"\",CONCATENATE(\" \",【ジュエリー】入力欄!G9),CONCATENATE(\" \",【ジュエリー】入力欄!G9,【ジュエリー】入力欄!H9,IF(【ジュエリー】入力欄!G9=\"パール\",\"mm\",\"ct\"))),IF(【ジュエリー】入力欄!J9=\"\",CONCATENATE(\" \",【ジュエリー】入力欄!I9),CONCATENATE(\" \",【ジュエリー】入力欄!I9,【ジュエリー】入力欄!J9,IF(【ジュエリー】入力欄!I9=\"パール\",\"mm\",\"ct\"))))","v":"  "},{"$f":"IF(【ジュエリー】入力欄!L9=\"\",\"\",【ジュエリー】入力欄!L9&\"g\")","v":""},{"$f":"IF(【ジュエリー】入力欄!M9=\"\",\"\",【ジュエリー】入力欄!M9)","v":""},{"$f":"IF(【ジュエリー】入力欄!O9=\"\",\"\",【ジュエリー】入力欄!O9)","v":""}]
["５",{"$f":"IF(【ジュエリー】入力欄!K10=\"\",\"\",【ジュエリー】入力欄!K10)","v":""},{"$f":"IF(【ジュエリー】入力欄!E10=\"\",\"\",【ジュエリー】入力欄!E10)","v":""},{"$f":"CONCATENATE(IF(【ジュエリー】入力欄!F10=\"\",\"\",【ジュエリー】入力欄!F10),IF(【ジュエリー】入力欄!H10=\"\",CONCATENATE(\" \",【ジュエリー】入力欄!G10),CONCATENATE(\" \",【ジュエリー】入力欄!G10,【ジュエリー】入力欄!H10,IF(【ジュエリー】入力欄!G10=\"パール\",\"mm\",\"ct\"))),IF(【ジュエリー】入力欄!J10=\"\",CONCATENATE(\" \",【ジュエリー】入力欄!I10),CONCATENATE(\" \",【ジュエリー】入力欄!I10,【ジュエリー】入力欄!J10,IF(【ジュエリー】入力欄!I10=\"パール\",\"mm\",\"ct\"))))","v":"  "},{"$f":"IF(【ジュエリー】入力欄!L10=\"\",\"\",【ジュエリー】入力欄!L10&\"g\")","v":""},{"$f":"IF(【ジュエリー】入力欄!M10=\"\",\"\",【ジュエリー】入力欄!M10)","v":""},{"$f":"IF(【ジュエリー】入力欄!O10=\"\",\"\",【ジュエリー】入力欄!O10)","v":""}]
["６",{"$f":"IF(【ジュエリー】入力欄!K11=\"\",\"\",【ジュエリー】入力欄!K11)","v":""},{"$f":"IF(【ジュエリー】入力欄!E11=\"\",\"\",【ジュエリー】入力欄!E11)","v":""},{"$f":"CONCATENATE(IF(【ジュエリー】入力欄!F11=\"\",\"\",【ジュエリー】入力欄!F11),IF(【ジュエリー】入力欄!H11=\"\",CONCATENATE(\" \",【ジュエリー】入力欄!G11),CONCATENATE(\" \",【ジュエリー】入力欄!G11,【ジュエリー】入力欄!H11,IF(【ジュエリー】入力欄!G11=\"パール\",\"mm\",\"ct\"))),IF(【ジュエリー】入力欄!J11=\"\",CONCATENATE(\" \",【ジュエリー】入力欄!I11),CONCATENATE(\" \",【ジュエリー】入力欄!I11,【ジュエリー】入力欄!J11,IF(【ジュエリー】入力欄!I11=\"パール\",\"mm\",\"ct\"))))","v":"  "},{"$f":"IF(【ジュエリー】入力欄!L11=\"\",\"\",【ジュエリー】入力欄!L11&\"g\")","v":""},{"$f":"IF(【ジュエリー】入力欄!M11=\"\",\"\",【ジュエリー】入力欄!M11)","v":""},{"$f":"IF(【ジュエリー】入力欄!O11=\"\",\"\",【ジュエリー】入力欄!O11)","v":""}]
["７",{"$f":"IF(【ジュエリー】入力欄!K12=\"\",\"\",【ジュエリー】入力欄!K12)","v":""},{"$f":"IF(【ジュエリー】入力欄!E12=\"\",\"\",【ジュエリー】入力欄!E12)","v":""},{"$f":"CONCATENATE(IF(【ジュエリー】入力欄!F12=\"\",\"\",【ジュエリー】入力欄!F12),IF(【ジュエリー】入力欄!H12=\"\",CONCATENATE(\" \",【ジュエリー】入力欄!G12),CONCATENATE(\" \",【ジュエリー】入力欄!G12,【ジュエリー】入力欄!H12,IF(【ジュエリー】入力欄!G12=\"パール\",\"mm\",\"ct\"))),IF(【ジュエリー】入力欄!J12=\"\",CONCATENATE(\" \",【ジュエリー】入力欄!I12),CONCATENATE(\" \",【ジュエリー】入力欄!I12,【ジュエリー】入力欄!J12,IF(【ジュエリー】入力欄!I12=\"パール\",\"mm\",\"ct\"))))","v":"  "},{"$f":"IF(【ジュエリー】入力欄!L12=\"\",\"\",【ジュエリー】入力欄!L12&\"g\")","v":""},{"$f":"IF(【ジュエリー】入力欄!M12=\"\",\"\",【ジュエリー】入力欄!M12)","v":""},{"$f":"IF(【ジュエリー】入力欄!O12=\"\",\"\",【ジュエリー】入力欄!O12)","v":""}]
["８",{"$f":"IF(【ジュエリー】入力欄!K13=\"\",\"\",【ジュエリー】入力欄!K13)","v":""},{"$f":"IF(【ジュエリー】入力欄!E13=\"\",\"\",【ジュエリー】入力欄!E13)","v":""},{"$f":"CONCATENATE(IF(【ジュエリー】入力欄!F13=\"\",\"\",【ジュエリー】入力欄!F13),IF(【ジュエリー】入力欄!H13=\"\",CONCATENATE(\" \",【ジュエリー】入力欄!G13),CONCATENATE(\" \",【ジュエリー】入力欄!G13,【ジュエリー】入力欄!H13,IF(【ジュエリー】入力欄!G13=\"パール\",\"mm\",\"ct\"))),IF(【ジュエリー】入力欄!J13=\"\",CONCATENATE(\" \",【ジュエリー】入力欄!I13),CONCATENATE(\" \",【ジュエリー】入力欄!I13,【ジュエリー】入力欄!J13,IF(【ジュエリー】入力欄!I13=\"パール\",\"mm\",\"ct\"))))","v":"  "},{"$f":"IF(【ジュエリー】入力欄!L13=\"\",\"\",【ジュエリー】入力欄!L13&\"g\")","v":""},{"$f":"IF(【ジュエリー】入力欄!M13=\"\",\"\",【ジュエリー】入力欄!M13)","v":""},{"$f":"IF(【ジュエリー】入力欄!O13=\"\",\"\",【ジュエリー】入力欄!O13)","v":""}]
["９",{"$f":"IF(【ジュエリー】入力欄!K14=\"\",\"\",【ジュエリー】入力欄!K14)","v":""},{"$f":"IF(【ジュエリー】入力欄!E14=\"\",\"\",【ジュエリー】入力欄!E14)","v":""},{"$f":"CONCATENATE(IF(【ジュエリー】入力欄!F14=\"\",\"\",【ジュエリー】入力欄!F14),IF(【ジュエリー】入力欄!H14=\"\",CONCATENATE(\" \",【ジュエリー】入力欄!G14),CONCATENATE(\" \",【ジュエリー】入力欄!G14,【ジュエリー】入力欄!H14,IF(【ジュエリー】入力欄!G14=\"パール\",\"mm\",\"ct\"))),IF(【ジュエリー】入力欄!J14=\"\",CONCATENATE(\" \",【ジュエリー】入力欄!I14),CONCATENATE(\" \",【ジュエリー】入力欄!I14,【ジュエリー】入力欄!J14,IF(【ジュエリー】入力欄!I14=\"パール\",\"mm\",\"ct\"))))","v":"  "},{"$f":"IF(【ジュエリー】入力欄!L14=\"\",\"\",【ジュエリー】入力欄!L14&\"g\")","v":""},{"$f":"IF(【ジュエリー】入力欄!M14=\"\",\"\",【ジュエリー】入力欄!M14)","v":""},{"$f":"IF(【ジュエリー】入力欄!O14=\"\",\"\",【ジュエリー】入力欄!O14)","v":""}]
["１０",{"$f":"IF(【ジュエリー】入力欄!K15=\"\",\"\",【ジュエリー】入力欄!K15)","v":""},{"$f":"IF(【ジュエリー】入力欄!E15=\"\",\"\",【ジュエリー】入力欄!E15)","v":""},{"$f":"CONCATENATE(IF(【ジュエリー】入力欄!F15=\"\",\"\",【ジュエリー】入力欄!F15),IF(【ジュエリー】入力欄!H15=\"\",CONCATENATE(\" \",【ジュエリー】入力欄!G15),CONCATENATE(\" \",【ジュエリー】入力欄!G15,【ジュエリー】入力欄!H15,IF(【ジュエリー】入力欄!G15=\"パール\",\"mm\",\"ct\"))),IF(【ジュエリー】入力欄!J15=\"\",CONCATENATE(\" \",【ジュエリー】入力欄!I15),CONCATENATE(\" \",【ジュエリー】入力欄!I15,【ジュエリー】入力欄!J15,IF(【ジュエリー】入力欄!I15=\"パール\",\"mm\",\"ct\"))))","v":"  "},{"$f":"IF(【ジュエリー】入力欄!L15=\"\",\"\",【ジュエリー】入力欄!L15&\"g\")","v":""},{"$f":"IF(【ジュエリー】入力欄!M15=\"\",\"\",【ジュエリー】入力欄!M15)","v":""},{"$f":"IF(【ジュエリー】入力欄!O15=\"\",\"\",【ジュエリー】入力欄!O15)","v":""}]
[]
["   \n",{"$f":"CONCATENATE(\"出品表　（　\",【ジュエリー】入力欄!I$3,\"　大吉オークション　宝石・ジュエリー）\")","v":"出品表　（　　大吉オークション　宝石・ジュエリー）"}]
[]
[null,"箱番：",{"$f":"IF(【ジュエリー】入力欄!C16=\"\",\"\",【ジュエリー】入力欄!C16)","v":""},"※太枠の中をご記入ください",null,"会社名",{"$f":"IF(【ジュエリー】入力欄!C$3=\"\",\"\",【ジュエリー】入力欄!C$3)","v":""}]
[]
["番号","品目","金性","詳細・特徴","重量","付属品","指値\n（3万円以上）","発句"]
["１",{"$f":"IF(【ジュエリー】入力欄!K16=\"\",\"\",【ジュエリー】入力欄!K16)","v":""},{"$f":"IF(【ジュエリー】入力欄!E16=\"\",\"\",【ジュエリー】入力欄!E16)","v":""},{"$f":"CONCATENATE(IF(【ジュエリー】入力欄!F16=\"\",\"\",【ジュエリー】入力欄!F16),IF(【ジュエリー】入力欄!H16=\"\",CONCATENATE(\" \",【ジュエリー】入力欄!G16),CONCATENATE(\" \",【ジュエリー】入力欄!G16,【ジュエリー】入力欄!H16,IF(【ジュエリー】入力欄!G16=\"パール\",\"mm\",\"ct\"))),IF(【ジュエリー】入力欄!J16=\"\",CONCATENATE(\" \",【ジュエリー】入力欄!I16),CONCATENATE(\" \",【ジュエリー】入力欄!I16,【ジュエリー】入力欄!J16,IF(【ジュエリー】入力欄!I16=\"パール\",\"mm\",\"ct\"))))","v":"  "},{"$f":"IF(【ジュエリー】入力欄!L16=\"\",\"\",【ジュエリー】入力欄!L16&\"g\")","v":""},{"$f":"IF(【ジュエリー】入力欄!M16=\"\",\"\",【ジュエリー】入力欄!M16)","v":""},{"$f":"IF(【ジュエリー】入力欄!O16=\"\",\"\",【ジュエリー】入力欄!O16)","v":""}]
["２",{"$f":"IF(【ジュエリー】入力欄!K17=\"\",\"\",【ジュエリー】入力欄!K17)","v":""},{"$f":"IF(【ジュエリー】入力欄!E17=\"\",\"\",【ジュエリー】入力欄!E17)","v":""},{"$f":"CONCATENATE(IF(【ジュエリー】入力欄!F17=\"\",\"\",【ジュエリー】入力欄!F17),IF(【ジュエリー】入力欄!H17=\"\",CONCATENATE(\" \",【ジュエリー】入力欄!G17),CONCATENATE(\" \",【ジュエリー】入力欄!G17,【ジュエリー】入力欄!H17,IF(【ジュエリー】入力欄!G17=\"パール\",\"mm\",\"ct\"))),IF(【ジュエリー】入力欄!J17=\"\",CONCATENATE(\" \",【ジュエリー】入力欄!I17),CONCATENATE(\" \",【ジュエリー】入力欄!I17,【ジュエリー】入力欄!J17,IF(【ジュエリー】入力欄!I17=\"パール\",\"mm\",\"ct\"))))","v":"  "},{"$f":"IF(【ジュエリー】入力欄!L17=\"\",\"\",【ジュエリー】入力欄!L17&\"g\")","v":""},{"$f":"IF(【ジュエリー】入力欄!M17=\"\",\"\",【ジュエリー】入力欄!M17)","v":""},{"$f":"IF(【ジュエリー】入力欄!O17=\"\",\"\",【ジュエリー】入力欄!O17)","v":""}]
["３",{"$f":"IF(【ジュエリー】入力欄!K18=\"\",\"\",【ジュエリー】入力欄!K18)","v":""},{"$f":"IF(【ジュエリー】入力欄!E18=\"\",\"\",【ジュエリー】入力欄!E18)","v":""},{"$f":"CONCATENATE(IF(【ジュエリー】入力欄!F18=\"\",\"\",【ジュエリー】入力欄!F18),IF(【ジュエリー】入力欄!H18=\"\",CONCATENATE(\" \",【ジュエリー】入力欄!G18),CONCATENATE(\" \",【ジュエリー】入力欄!G18,【ジュエリー】入力欄!H18,IF(【ジュエリー】入力欄!G18=\"パール\",\"mm\",\"ct\"))),IF(【ジュエリー】入力欄!J18=\"\",CONCATENATE(\" \",【ジュエリー】入力欄!I18),CONCATENATE(\" \",【ジュエリー】入力欄!I18,【ジュエリー】入力欄!J18,IF(【ジュエリー】入力欄!I18=\"パール\",\"mm\",\"ct\"))))","v":"  "},{"$f":"IF(【ジュエリー】入力欄!L18=\"\",\"\",【ジュエリー】入力欄!L18&\"g\")","v":""},{"$f":"IF(【ジュエリー】入力欄!M18=\"\",\"\",【ジュエリー】入力欄!M18)","v":""},{"$f":"IF(【ジュエリー】入力欄!O18=\"\",\"\",【ジュエリー】入力欄!O18)","v":""}]
["４",{"$f":"IF(【ジュエリー】入力欄!K19=\"\",\"\",【ジュエリー】入力欄!K19)","v":""},{"$f":"IF(【ジュエリー】入力欄!E19=\"\",\"\",【ジュエリー】入力欄!E19)","v":""},{"$f":"CONCATENATE(IF(【ジュエリー】入力欄!F19=\"\",\"\",【ジュエリー】入力欄!F19),IF(【ジュエリー】入力欄!H19=\"\",CONCATENATE(\" \",【ジュエリー】入力欄!G19),CONCATENATE(\" \",【ジュエリー】入力欄!G19,【ジュエリー】入力欄!H19,IF(【ジュエリー】入力欄!G19=\"パール\",\"mm\",\"ct\"))),IF(【ジュエリー】入力欄!J19=\"\",CONCATENATE(\" \",【ジュエリー】入力欄!I19),CONCATENATE(\" \",【ジュエリー】入力欄!I19,【ジュエリー】入力欄!J19,IF(【ジュエリー】入力欄!I19=\"パール\",\"mm\",\"ct\"))))","v":"  "},{"$f":"IF(【ジュエリー】入力欄!L19=\"\",\"\",【ジュエリー】入力欄!L19&\"g\")","v":""},{"$f":"IF(【ジュエリー】入力欄!M19=\"\",\"\",【ジュエリー】入力欄!M19)","v":""},{"$f":"IF(【ジュエリー】入力欄!O19=\"\",\"\",【ジュエリー】入力欄!O19)","v":""}]
["５",{"$f":"IF(【ジュエリー】入力欄!K20=\"\",\"\",【ジュエリー】入力欄!K20)","v":""},{"$f":"IF(【ジュエリー】入力欄!E20=\"\",\"\",【ジュエリー】入力欄!E20)","v":""},{"$f":"CONCATENATE(IF(【ジュエリー】入力欄!F20=\"\",\"\",【ジュエリー】入力欄!F20),IF(【ジュエリー】入力欄!H20=\"\",CONCATENATE(\" \",【ジュエリー】入力欄!G20),CONCATENATE(\" \",【ジュエリー】入力欄!G20,【ジュエリー】入力欄!H20,IF(【ジュエリー】入力欄!G20=\"パール\",\"mm\",\"ct\"))),IF(【ジュエリー】入力欄!J20=\"\",CONCATENATE(\" \",【ジュエリー】入力欄!I20),CONCATENATE(\" \",【ジュエリー】入力欄!I20,【ジュエリー】入力欄!J20,IF(【ジュエリー】入力欄!I20=\"パール\",\"mm\",\"ct\"))))","v":"  "},{"$f":"IF(【ジュエリー】入力欄!L20=\"\",\"\",【ジュエリー】入力欄!L20&\"g\")","v":""},{"$f":"IF(【ジュエリー】入力欄!M20=\"\",\"\",【ジュエリー】入力欄!M20)","v":""},{"$f":"IF(【ジュエリー】入力欄!O20=\"\",\"\",【ジュエリー】入力欄!O20)","v":""}]
["６",{"$f":"IF(【ジュエリー】入力欄!K21=\"\",\"\",【ジュエリー】入力欄!K21)","v":""},{"$f":"IF(【ジュエリー】入力欄!E21=\"\",\"\",【ジュエリー】入力欄!E21)","v":""},{"$f":"CONCATENATE(IF(【ジュエリー】入力欄!F21=\"\",\"\",【ジュエリー】入力欄!F21),IF(【ジュエリー】入力欄!H21=\"\",CONCATENATE(\" \",【ジュエリー】入力欄!G21),CONCATENATE(\" \",【ジュエリー】入力欄!G21,【ジュエリー】入力欄!H21,IF(【ジュエリー】入力欄!G21=\"パール\",\"mm\",\"ct\"))),IF(【ジュエリー】入力欄!J21=\"\",CONCATENATE(\" \",【ジュエリー】入力欄!I21),CONCATENATE(\" \",【ジュエリー】入力欄!I21,【ジュエリー】入力欄!J21,IF(【ジュエリー】入力欄!I21=\"パール\",\"mm\",\"ct\"))))","v":"  "},{"$f":"IF(【ジュエリー】入力欄!L21=\"\",\"\",【ジュエリー】入力欄!L21&\"g\")","v":""},{"$f":"IF(【ジュエリー】入力欄!M21=\"\",\"\",【ジュエリー】入力欄!M21)","v":""},{"$f":"IF(【ジュエリー】入力欄!O21=\"\",\"\",【ジュエリー】入力欄!O21)","v":""}]
["７",{"$f":"IF(【ジュエリー】入力欄!K22=\"\",\"\",【ジュエリー】入力欄!K22)","v":""},{"$f":"IF(【ジュエリー】入力欄!E22=\"\",\"\",【ジュエリー】入力欄!E22)","v":""},{"$f":"CONCATENATE(IF(【ジュエリー】入力欄!F22=\"\",\"\",【ジュエリー】入力欄!F22),IF(【ジュエリー】入力欄!H22=\"\",CONCATENATE(\" \",【ジュエリー】入力欄!G22),CONCATENATE(\" \",【ジュエリー】入力欄!G22,【ジュエリー】入力欄!H22,IF(【ジュエリー】入力欄!G22=\"パール\",\"mm\",\"ct\"))),IF(【ジュエリー】入力欄!J22=\"\",CONCATENATE(\" \",【ジュエリー】入力欄!I22),CONCATENATE(\" \",【ジュエリー】入力欄!I22,【ジュエリー】入力欄!J22,IF(【ジュエリー】入力欄!I22=\"パール\",\"mm\",\"ct\"))))","v":"  "},{"$f":"IF(【ジュエリー】入力欄!L22=\"\",\"\",【ジュエリー】入力欄!L22&\"g\")","v":""},{"$f":"IF(【ジュエリー】入力欄!M22=\"\",\"\",【ジュエリー】入力欄!M22)","v":""},{"$f":"IF(【ジュエリー】入力欄!O22=\"\",\"\",【ジュエリー】入力欄!O22)","v":""}]
["８",{"$f":"IF(【ジュエリー】入力欄!K23=\"\",\"\",【ジュエリー】入力欄!K23)","v":""},{"$f":"IF(【ジュエリー】入力欄!E23=\"\",\"\",【ジュエリー】入力欄!E23)","v":""},{"$f":"CONCATENATE(IF(【ジュエリー】入力欄!F23=\"\",\"\",【ジュエリー】入力欄!F23),IF(【ジュエリー】入力欄!H23=\"\",CONCATENATE(\" \",【ジュエリー】入力欄!G23),CONCATENATE(\" \",【ジュエリー】入力欄!G23,【ジュエリー】入力欄!H23,IF(【ジュエリー】入力欄!G23=\"パール\",\"mm\",\"ct\"))),IF(【ジュエリー】入力欄!J23=\"\",CONCATENATE(\" \",【ジュエリー】入力欄!I23),CONCATENATE(\" \",【ジュエリー】入力欄!I23,【ジュエリー】入力欄!J23,IF(【ジュエリー】入力欄!I23=\"パール\",\"mm\",\"ct\"))))","v":"  "},{"$f":"IF(【ジュエリー】入力欄!L23=\"\",\"\",【ジュエリー】入力欄!L23&\"g\")","v":""},{"$f":"IF(【ジュエリー】入力欄!M23=\"\",\"\",【ジュエリー】入力欄!M23)","v":""},{"$f":"IF(【ジュエリー】入力欄!O23=\"\",\"\",【ジュエリー】入力欄!O23)","v":""}]
["９",{"$f":"IF(【ジュエリー】入力欄!K24=\"\",\"\",【ジュエリー】入力欄!K24)","v":""},{"$f":"IF(【ジュエリー】入力欄!E24=\"\",\"\",【ジュエリー】入力欄!E24)","v":""},{"$f":"CONCATENATE(IF(【ジュエリー】入力欄!F24=\"\",\"\",【ジュエリー】入力欄!F24),IF(【ジュエリー】入力欄!H24=\"\",CONCATENATE(\" \",【ジュエリー】入力欄!G24),CONCATENATE(\" \",【ジュエリー】入力欄!G24,【ジュエリー】入力欄!H24,IF(【ジュエリー】入力欄!G24=\"パール\",\"mm\",\"ct\"))),IF(【ジュエリー】入力欄!J24=\"\",CONCATENATE(\" \",【ジュエリー】入力欄!I24),CONCATENATE(\" \",【ジュエリー】入力欄!I24,【ジュエリー】入力欄!J24,IF(【ジュエリー】入力欄!I24=\"パール\",\"mm\",\"ct\"))))","v":"  "},{"$f":"IF(【ジュエリー】入力欄!L24=\"\",\"\",【ジュエリー】入力欄!L24&\"g\")","v":""},{"$f":"IF(【ジュエリー】入力欄!M24=\"\",\"\",【ジュエリー】入力欄!M24)","v":""},{"$f":"IF(【ジュエリー】入力欄!O24=\"\",\"\",【ジュエリー】入力欄!O24)","v":""}]
["１０",{"$f":"IF(【ジュエリー】入力欄!K25=\"\",\"\",【ジュエリー】入力欄!K25)","v":""},{"$f":"IF(【ジュエリー】入力欄!E25=\"\",\"\",【ジュエリー】入力欄!E25)","v":""},{"$f":"CONCATENATE(IF(【ジュエリー】入力欄!F25=\"\",\"\",【ジュエリー】入力欄!F25),IF(【ジュエリー】入力欄!H25=\"\",CONCATENATE(\" \",【ジュエリー】入力欄!G25),CONCATENATE(\" \",【ジュエリー】入力欄!G25,【ジュエリー】入力欄!H25,IF(【ジュエリー】入力欄!G25=\"パール\",\"mm\",\"ct\"))),IF(【ジュエリー】入力欄!J25=\"\",CONCATENATE(\" \",【ジュエリー】入力欄!I25),CONCATENATE(\" \",【ジュエリー】入力欄!I25,【ジュエリー】入力欄!J25,IF(【ジュエリー】入力欄!I25=\"パール\",\"mm\",\"ct\"))))","v":"  "},{"$f":"IF(【ジュエリー】入力欄!L25=\"\",\"\",【ジュエリー】入力欄!L25&\"g\")","v":""},{"$f":"IF(【ジュエリー】入力欄!M25=\"\",\"\",【ジュエリー】入力欄!M25)","v":""},{"$f":"IF(【ジュエリー】入力欄!O25=\"\",\"\",【ジュエリー】入力欄!O25)","v":""}]
[]
["   \n",{"$f":"CONCATENATE(\"出品表　（　\",【ジュエリー】入力欄!I$3,\"　大吉オークション　宝石・ジュエリー）\")","v":"出品表　（　　大吉オークション　宝石・ジュエリー）"}]
[]
[null,"箱番：",{"$f":"IF(【ジュエリー】入力欄!C26=\"\",\"\",【ジュエリー】入力欄!C26)","v":""},"※太枠の中をご記入ください",null,"会社名",{"$f":"IF(【ジュエリー】入力欄!C$3=\"\",\"\",【ジュエリー】入力欄!C$3)","v":""}]
[]
["番号","品目","金性","詳細・特徴","重量","付属品","指値\n（3万円以上）","発句"]
["１",{"$f":"IF(【ジュエリー】入力欄!K26=\"\",\"\",【ジュエリー】入力欄!K26)","v":""},{"$f":"IF(【ジュエリー】入力欄!E26=\"\",\"\",【ジュエリー】入力欄!E26)","v":""},{"$f":"CONCATENATE(IF(【ジュエリー】入力欄!F26=\"\",\"\",【ジュエリー】入力欄!F26),IF(【ジュエリー】入力欄!H26=\"\",CONCATENATE(\" \",【ジュエリー】入力欄!G26),CONCATENATE(\" \",【ジュエリー】入力欄!G26,【ジュエリー】入力欄!H26,IF(【ジュエリー】入力欄!G26=\"パール\",\"mm\",\"ct\"))),IF(【ジュエリー】入力欄!J26=\"\",CONCATENATE(\" \",【ジュエリー】入力欄!I26),CONCATENATE(\" \",【ジュエリー】入力欄!I26,【ジュエリー】入力欄!J26,IF(【ジュエリー】入力欄!I26=\"パール\",\"mm\",\"ct\"))))","v":"  "},{"$f":"IF(【ジュエリー】入力欄!L26=\"\",\"\",【ジュエリー】入力欄!L26&\"g\")","v":""},{"$f":"IF(【ジュエリー】入力欄!M26=\"\",\"\",【ジュエリー】入力欄!M26)","v":""},{"$f":"IF(【ジュエリー】入力欄!O26=\"\",\"\",【ジュエリー】入力欄!O26)","v":""}]
["２",{"$f":"IF(【ジュエリー】入力欄!K27=\"\",\"\",【ジュエリー】入力欄!K27)","v":""},{"$f":"IF(【ジュエリー】入力欄!E27=\"\",\"\",【ジュエリー】入力欄!E27)","v":""},{"$f":"CONCATENATE(IF(【ジュエリー】入力欄!F27=\"\",\"\",【ジュエリー】入力欄!F27),IF(【ジュエリー】入力欄!H27=\"\",CONCATENATE(\" \",【ジュエリー】入力欄!G27),CONCATENATE(\" \",【ジュエリー】入力欄!G27,【ジュエリー】入力欄!H27,IF(【ジュエリー】入力欄!G27=\"パール\",\"mm\",\"ct\"))),IF(【ジュエリー】入力欄!J27=\"\",CONCATENATE(\" \",【ジュエリー】入力欄!I27),CONCATENATE(\" \",【ジュエリー】入力欄!I27,【ジュエリー】入力欄!J27,IF(【ジュエリー】入力欄!I27=\"パール\",\"mm\",\"ct\"))))","v":"  "},{"$f":"IF(【ジュエリー】入力欄!L27=\"\",\"\",【ジュエリー】入力欄!L27&\"g\")","v":""},{"$f":"IF(【ジュエリー】入力欄!M27=\"\",\"\",【ジュエリー】入力欄!M27)","v":""},{"$f":"IF(【ジュエリー】入力欄!O27=\"\",\"\",【ジュエリー】入力欄!O27)","v":""}]
["３",{"$f":"IF(【ジュエリー】入力欄!K28=\"\",\"\",【ジュエリー】入力欄!K28)","v":""},{"$f":"IF(【ジュエリー】入力欄!E28=\"\",\"\",【ジュエリー】入力欄!E28)","v":""},{"$f":"CONCATENATE(IF(【ジュエリー】入力欄!F28=\"\",\"\",【ジュエリー】入力欄!F28),IF(【ジュエリー】入力欄!H28=\"\",CONCATENATE(\" \",【ジュエリー】入力欄!G28),CONCATENATE(\" \",【ジュエリー】入力欄!G28,【ジュエリー】入力欄!H28,IF(【ジュエリー】入力欄!G28=\"パール\",\"mm\",\"ct\"))),IF(【ジュエリー】入力欄!J28=\"\",CONCATENATE(\" \",【ジュエリー】入力欄!I28),CONCATENATE(\" \",【ジュエリー】入力欄!I28,【ジュエリー】入力欄!J28,IF(【ジュエリー】入力欄!I28=\"パール\",\"mm\",\"ct\"))))","v":"  "},{"$f":"IF(【ジュエリー】入力欄!L28=\"\",\"\",【ジュエリー】入力欄!L28&\"g\")","v":""},{"$f":"IF(【ジュエリー】入力欄!M28=\"\",\"\",【ジュエリー】入力欄!M28)","v":""},{"$f":"IF(【ジュエリー】入力欄!O28=\"\",\"\",【ジュエリー】入力欄!O28)","v":""}]
["４",{"$f":"IF(【ジュエリー】入力欄!K29=\"\",\"\",【ジュエリー】入力欄!K29)","v":""},{"$f":"IF(【ジュエリー】入力欄!E29=\"\",\"\",【ジュエリー】入力欄!E29)","v":""},{"$f":"CONCATENATE(IF(【ジュエリー】入力欄!F29=\"\",\"\",【ジュエリー】入力欄!F29),IF(【ジュエリー】入力欄!H29=\"\",CONCATENATE(\" \",【ジュエリー】入力欄!G29),CONCATENATE(\" \",【ジュエリー】入力欄!G29,【ジュエリー】入力欄!H29,IF(【ジュエリー】入力欄!G29=\"パール\",\"mm\",\"ct\"))),IF(【ジュエリー】入力欄!J29=\"\",CONCATENATE(\" \",【ジュエリー】入力欄!I29),CONCATENATE(\" \",【ジュエリー】入力欄!I29,【ジュエリー】入力欄!J29,IF(【ジュエリー】入力欄!I29=\"パール\",\"mm\",\"ct\"))))","v":"  "},{"$f":"IF(【ジュエリー】入力欄!L29=\"\",\"\",【ジュエリー】入力欄!L29&\"g\")","v":""},{"$f":"IF(【ジュエリー】入力欄!M29=\"\",\"\",【ジュエリー】入力欄!M29)","v":""},{"$f":"IF(【ジュエリー】入力欄!O29=\"\",\"\",【ジュエリー】入力欄!O29)","v":""}]
["５",{"$f":"IF(【ジュエリー】入力欄!K30=\"\",\"\",【ジュエリー】入力欄!K30)","v":""},{"$f":"IF(【ジュエリー】入力欄!E30=\"\",\"\",【ジュエリー】入力欄!E30)","v":""},{"$f":"CONCATENATE(IF(【ジュエリー】入力欄!F30=\"\",\"\",【ジュエリー】入力欄!F30),IF(【ジュエリー】入力欄!H30=\"\",CONCATENATE(\" \",【ジュエリー】入力欄!G30),CONCATENATE(\" \",【ジュエリー】入力欄!G30,【ジュエリー】入力欄!H30,IF(【ジュエリー】入力欄!G30=\"パール\",\"mm\",\"ct\"))),IF(【ジュエリー】入力欄!J30=\"\",CONCATENATE(\" \",【ジュエリー】入力欄!I30),CONCATENATE(\" \",【ジュエリー】入力欄!I30,【ジュエリー】入力欄!J30,IF(【ジュエリー】入力欄!I30=\"パール\",\"mm\",\"ct\"))))","v":"  "},{"$f":"IF(【ジュエリー】入力欄!L30=\"\",\"\",【ジュエリー】入力欄!L30&\"g\")","v":""},{"$f":"IF(【ジュエリー】入力欄!M30=\"\",\"\",【ジュエリー】入力欄!M30)","v":""},{"$f":"IF(【ジュエリー】入力欄!O30=\"\",\"\",【ジュエリー】入力欄!O30)","v":""}]
["６",{"$f":"IF(【ジュエリー】入力欄!K31=\"\",\"\",【ジュエリー】入力欄!K31)","v":""},{"$f":"IF(【ジュエリー】入力欄!E31=\"\",\"\",【ジュエリー】入力欄!E31)","v":""},{"$f":"CONCATENATE(IF(【ジュエリー】入力欄!F31=\"\",\"\",【ジュエリー】入力欄!F31),IF(【ジュエリー】入力欄!H31=\"\",CONCATENATE(\" \",【ジュエリー】入力欄!G31),CONCATENATE(\" \",【ジュエリー】入力欄!G31,【ジュエリー】入力欄!H31,IF(【ジュエリー】入力欄!G31=\"パール\",\"mm\",\"ct\"))),IF(【ジュエリー】入力欄!J31=\"\",CONCATENATE(\" \",【ジュエリー】入力欄!I31),CONCATENATE(\" \",【ジュエリー】入力欄!I31,【ジュエリー】入力欄!J31,IF(【ジュエリー】入力欄!I31=\"パール\",\"mm\",\"ct\"))))","v":"  "},{"$f":"IF(【ジュエリー】入力欄!L31=\"\",\"\",【ジュエリー】入力欄!L31&\"g\")","v":""},{"$f":"IF(【ジュエリー】入力欄!M31=\"\",\"\",【ジュエリー】入力欄!M31)","v":""},{"$f":"IF(【ジュエリー】入力欄!O31=\"\",\"\",【ジュエリー】入力欄!O31)","v":""}]
["７",{"$f":"IF(【ジュエリー】入力欄!K32=\"\",\"\",【ジュエリー】入力欄!K32)","v":""},{"$f":"IF(【ジュエリー】入力欄!E32=\"\",\"\",【ジュエリー】入力欄!E32)","v":""},{"$f":"CONCATENATE(IF(【ジュエリー】入力欄!F32=\"\",\"\",【ジュエリー】入力欄!F32),IF(【ジュエリー】入力欄!H32=\"\",CONCATENATE(\" \",【ジュエリー】入力欄!G32),CONCATENATE(\" \",【ジュエリー】入力欄!G32,【ジュエリー】入力欄!H32,IF(【ジュエリー】入力欄!G32=\"パール\",\"mm\",\"ct\"))),IF(【ジュエリー】入力欄!J32=\"\",CONCATENATE(\" \",【ジュエリー】入力欄!I32),CONCATENATE(\" \",【ジュエリー】入力欄!I32,【ジュエリー】入力欄!J32,IF(【ジュエリー】入力欄!I32=\"パール\",\"mm\",\"ct\"))))","v":"  "},{"$f":"IF(【ジュエリー】入力欄!L32=\"\",\"\",【ジュエリー】入力欄!L32&\"g\")","v":""},{"$f":"IF(【ジュエリー】入力欄!M32=\"\",\"\",【ジュエリー】入力欄!M32)","v":""},{"$f":"IF(【ジュエリー】入力欄!O32=\"\",\"\",【ジュエリー】入力欄!O32)","v":""}]
["８",{"$f":"IF(【ジュエリー】入力欄!K33=\"\",\"\",【ジュエリー】入力欄!K33)","v":""},{"$f":"IF(【ジュエリー】入力欄!E33=\"\",\"\",【ジュエリー】入力欄!E33)","v":""},{"$f":"CONCATENATE(IF(【ジュエリー】入力欄!F33=\"\",\"\",【ジュエリー】入力欄!F33),IF(【ジュエリー】入力欄!H33=\"\",CONCATENATE(\" \",【ジュエリー】入力欄!G33),CONCATENATE(\" \",【ジュエリー】入力欄!G33,【ジュエリー】入力欄!H33,IF(【ジュエリー】入力欄!G33=\"パール\",\"mm\",\"ct\"))),IF(【ジュエリー】入力欄!J33=\"\",CONCATENATE(\" \",【ジュエリー】入力欄!I33),CONCATENATE(\" \",【ジュエリー】入力欄!I33,【ジュエリー】入力欄!J33,IF(【ジュエリー】入力欄!I33=\"パール\",\"mm\",\"ct\"))))","v":"  "},{"$f":"IF(【ジュエリー】入力欄!L33=\"\",\"\",【ジュエリー】入力欄!L33&\"g\")","v":""},{"$f":"IF(【ジュエリー】入力欄!M33=\"\",\"\",【ジュエリー】入力欄!M33)","v":""},{"$f":"IF(【ジュエリー】入力欄!O33=\"\",\"\",【ジュエリー】入力欄!O33)","v":""}]
["９",{"$f":"IF(【ジュエリー】入力欄!K34=\"\",\"\",【ジュエリー】入力欄!K34)","v":""},{"$f":"IF(【ジュエリー】入力欄!E34=\"\",\"\",【ジュエリー】入力欄!E34)","v":""},{"$f":"CONCATENATE(IF(【ジュエリー】入力欄!F34=\"\",\"\",【ジュエリー】入力欄!F34),IF(【ジュエリー】入力欄!H34=\"\",CONCATENATE(\" \",【ジュエリー】入力欄!G34),CONCATENATE(\" \",【ジュエリー】入力欄!G34,【ジュエリー】入力欄!H34,IF(【ジュエリー】入力欄!G34=\"パール\",\"mm\",\"ct\"))),IF(【ジュエリー】入力欄!J34=\"\",CONCATENATE(\" \",【ジュエリー】入力欄!I34),CONCATENATE(\" \",【ジュエリー】入力欄!I34,【ジュエリー】入力欄!J34,IF(【ジュエリー】入力欄!I34=\"パール\",\"mm\",\"ct\"))))","v":"  "},{"$f":"IF(【ジュエリー】入力欄!L34=\"\",\"\",【ジュエリー】入力欄!L34&\"g\")","v":""},{"$f":"IF(【ジュエリー】入力欄!M34=\"\",\"\",【ジュエリー】入力欄!M34)","v":""},{"$f":"IF(【ジュエリー】入力欄!O34=\"\",\"\",【ジュエリー】入力欄!O34)","v":""}]
["１０",{"$f":"IF(【ジュエリー】入力欄!K35=\"\",\"\",【ジュエリー】入力欄!K35)","v":""},{"$f":"IF(【ジュエリー】入力欄!E35=\"\",\"\",【ジュエリー】入力欄!E35)","v":""},{"$f":"CONCATENATE(IF(【ジュエリー】入力欄!F35=\"\",\"\",【ジュエリー】入力欄!F35),IF(【ジュエリー】入力欄!H35=\"\",CONCATENATE(\" \",【ジュエリー】入力欄!G35),CONCATENATE(\" \",【ジュエリー】入力欄!G35,【ジュエリー】入力欄!H35,IF(【ジュエリー】入力欄!G35=\"パール\",\"mm\",\"ct\"))),IF(【ジュエリー】入力欄!J35=\"\",CONCATENATE(\" \",【ジュエリー】入力欄!I35),CONCATENATE(\" \",【ジュエリー】入力欄!I35,【ジュエリー】入力欄!J35,IF(【ジュエリー】入力欄!I35=\"パール\",\"mm\",\"ct\"))))","v":"  "},{"$f":"IF(【ジュエリー】入力欄!L35=\"\",\"\",【ジュエリー】入力欄!L35&\"g\")","v":""},{"$f":"IF(【ジュエリー】入力欄!M35=\"\",\"\",【ジュエリー】入力欄!M35)","v":""},{"$f":"IF(【ジュエリー】入力欄!O35=\"\",\"\",【ジュエリー】入力欄!O35)","v":""}]
[]
["   \n",{"$f":"CONCATENATE(\"出品表　（　\",【ジュエリー】入力欄!I$3,\"　大吉オークション　宝石・ジュエリー）\")","v":"出品表　（　　大吉オークション　宝石・ジュエリー）"}]
[]
[null,"箱番：",{"$f":"IF(【ジュエリー】入力欄!C36=\"\",\"\",【ジュエリー】入力欄!C36)","v":""},"※太枠の中をご記入ください",null,"会社名",{"$f":"IF(【ジュエリー】入力欄!C$3=\"\",\"\",【ジュエリー】入力欄!C$3)","v":""}]
[]
["番号","品目","金性","詳細・特徴","重量","付属品","指値\n（3万円以上）","発句"]
["１",{"$f":"IF(【ジュエリー】入力欄!K36=\"\",\"\",【ジュエリー】入力欄!K36)","v":""},{"$f":"IF(【ジュエリー】入力欄!E36=\"\",\"\",【ジュエリー】入力欄!E36)","v":""},{"$f":"CONCATENATE(IF(【ジュエリー】入力欄!F36=\"\",\"\",【ジュエリー】入力欄!F36),IF(【ジュエリー】入力欄!H36=\"\",CONCATENATE(\" \",【ジュエリー】入力欄!G36),CONCATENATE(\" \",【ジュエリー】入力欄!G36,【ジュエリー】入力欄!H36,IF(【ジュエリー】入力欄!G36=\"パール\",\"mm\",\"ct\"))),IF(【ジュエリー】入力欄!J36=\"\",CONCATENATE(\" \",【ジュエリー】入力欄!I36),CONCATENATE(\" \",【ジュエリー】入力欄!I36,【ジュエリー】入力欄!J36,IF(【ジュエリー】入力欄!I36=\"パール\",\"mm\",\"ct\"))))","v":"  "},{"$f":"IF(【ジュエリー】入力欄!L36=\"\",\"\",【ジュエリー】入力欄!L36&\"g\")","v":""},{"$f":"IF(【ジュエリー】入力欄!M36=\"\",\"\",【ジュエリー】入力欄!M36)","v":""},{"$f":"IF(【ジュエリー】入力欄!O36=\"\",\"\",【ジュエリー】入力欄!O36)","v":""}]
["２",{"$f":"IF(【ジュエリー】入力欄!K37=\"\",\"\",【ジュエリー】入力欄!K37)","v":""},{"$f":"IF(【ジュエリー】入力欄!E37=\"\",\"\",【ジュエリー】入力欄!E37)","v":""},{"$f":"CONCATENATE(IF(【ジュエリー】入力欄!F37=\"\",\"\",【ジュエリー】入力欄!F37),IF(【ジュエリー】入力欄!H37=\"\",CONCATENATE(\" \",【ジュエリー】入力欄!G37),CONCATENATE(\" \",【ジュエリー】入力欄!G37,【ジュエリー】入力欄!H37,IF(【ジュエリー】入力欄!G37=\"パール\",\"mm\",\"ct\"))),IF(【ジュエリー】入力欄!J37=\"\",CONCATENATE(\" \",【ジュエリー】入力欄!I37),CONCATENATE(\" \",【ジュエリー】入力欄!I37,【ジュエリー】入力欄!J37,IF(【ジュエリー】入力欄!I37=\"パール\",\"mm\",\"ct\"))))","v":"  "},{"$f":"IF(【ジュエリー】入力欄!L37=\"\",\"\",【ジュエリー】入力欄!L37&\"g\")","v":""},{"$f":"IF(【ジュエリー】入力欄!M37=\"\",\"\",【ジュエリー】入力欄!M37)","v":""},{"$f":"IF(【ジュエリー】入力欄!O37=\"\",\"\",【ジュエリー】入力欄!O37)","v":""}]
["３",{"$f":"IF(【ジュエリー】入力欄!K38=\"\",\"\",【ジュエリー】入力欄!K38)","v":""},{"$f":"IF(【ジュエリー】入力欄!E38=\"\",\"\",【ジュエリー】入力欄!E38)","v":""},{"$f":"CONCATENATE(IF(【ジュエリー】入力欄!F38=\"\",\"\",【ジュエリー】入力欄!F38),IF(【ジュエリー】入力欄!H38=\"\",CONCATENATE(\" \",【ジュエリー】入力欄!G38),CONCATENATE(\" \",【ジュエリー】入力欄!G38,【ジュエリー】入力欄!H38,IF(【ジュエリー】入力欄!G38=\"パール\",\"mm\",\"ct\"))),IF(【ジュエリー】入力欄!J38=\"\",CONCATENATE(\" \",【ジュエリー】入力欄!I38),CONCATENATE(\" \",【ジュエリー】入力欄!I38,【ジュエリー】入力欄!J38,IF(【ジュエリー】入力欄!I38=\"パール\",\"mm\",\"ct\"))))","v":"  "},{"$f":"IF(【ジュエリー】入力欄!L38=\"\",\"\",【ジュエリー】入力欄!L38&\"g\")","v":""},{"$f":"IF(【ジュエリー】入力欄!M38=\"\",\"\",【ジュエリー】入力欄!M38)","v":""},{"$f":"IF(【ジュエリー】入力欄!O38=\"\",\"\",【ジュエリー】入力欄!O38)","v":""}]
["４",{"$f":"IF(【ジュエリー】入力欄!K39=\"\",\"\",【ジュエリー】入力欄!K39)","v":""},{"$f":"IF(【ジュエリー】入力欄!E39=\"\",\"\",【ジュエリー】入力欄!E39)","v":""},{"$f":"CONCATENATE(IF(【ジュエリー】入力欄!F39=\"\",\"\",【ジュエリー】入力欄!F39),IF(【ジュエリー】入力欄!H39=\"\",CONCATENATE(\" \",【ジュエリー】入力欄!G39),CONCATENATE(\" \",【ジュエリー】入力欄!G39,【ジュエリー】入力欄!H39,IF(【ジュエリー】入力欄!G39=\"パール\",\"mm\",\"ct\"))),IF(【ジュエリー】入力欄!J39=\"\",CONCATENATE(\" \",【ジュエリー】入力欄!I39),CONCATENATE(\" \",【ジュエリー】入力欄!I39,【ジュエリー】入力欄!J39,IF(【ジュエリー】入力欄!I39=\"パール\",\"mm\",\"ct\"))))","v":"  "},{"$f":"IF(【ジュエリー】入力欄!L39=\"\",\"\",【ジュエリー】入力欄!L39&\"g\")","v":""},{"$f":"IF(【ジュエリー】入力欄!M39=\"\",\"\",【ジュエリー】入力欄!M39)","v":""},{"$f":"IF(【ジュエリー】入力欄!O39=\"\",\"\",【ジュエリー】入力欄!O39)","v":""}]
["５",{"$f":"IF(【ジュエリー】入力欄!K40=\"\",\"\",【ジュエリー】入力欄!K40)","v":""},{"$f":"IF(【ジュエリー】入力欄!E40=\"\",\"\",【ジュエリー】入力欄!E40)","v":""},{"$f":"CONCATENATE(IF(【ジュエリー】入力欄!F40=\"\",\"\",【ジュエリー】入力欄!F40),IF(【ジュエリー】入力欄!H40=\"\",CONCATENATE(\" \",【ジュエリー】入力欄!G40),CONCATENATE(\" \",【ジュエリー】入力欄!G40,【ジュエリー】入力欄!H40,IF(【ジュエリー】入力欄!G40=\"パール\",\"mm\",\"ct\"))),IF(【ジュエリー】入力欄!J40=\"\",CONCATENATE(\" \",【ジュエリー】入力欄!I40),CONCATENATE(\" \",【ジュエリー】入力欄!I40,【ジュエリー】入力欄!J40,IF(【ジュエリー】入力欄!I40=\"パール\",\"mm\",\"ct\"))))","v":"  "},{"$f":"IF(【ジュエリー】入力欄!L40=\"\",\"\",【ジュエリー】入力欄!L40&\"g\")","v":""},{"$f":"IF(【ジュエリー】入力欄!M40=\"\",\"\",【ジュエリー】入力欄!M40)","v":""},{"$f":"IF(【ジュエリー】入力欄!O40=\"\",\"\",【ジュエリー】入力欄!O40)","v":""}]
["６",{"$f":"IF(【ジュエリー】入力欄!K41=\"\",\"\",【ジュエリー】入力欄!K41)","v":""},{"$f":"IF(【ジュエリー】入力欄!E41=\"\",\"\",【ジュエリー】入力欄!E41)","v":""},{"$f":"CONCATENATE(IF(【ジュエリー】入力欄!F41=\"\",\"\",【ジュエリー】入力欄!F41),IF(【ジュエリー】入力欄!H41=\"\",CONCATENATE(\" \",【ジュエリー】入力欄!G41),CONCATENATE(\" \",【ジュエリー】入力欄!G41,【ジュエリー】入力欄!H41,IF(【ジュエリー】入力欄!G41=\"パール\",\"mm\",\"ct\"))),IF(【ジュエリー】入力欄!J41=\"\",CONCATENATE(\" \",【ジュエリー】入力欄!I41),CONCATENATE(\" \",【ジュエリー】入力欄!I41,【ジュエリー】入力欄!J41,IF(【ジュエリー】入力欄!I41=\"パール\",\"mm\",\"ct\"))))","v":"  "},{"$f":"IF(【ジュエリー】入力欄!L41=\"\",\"\",【ジュエリー】入力欄!L41&\"g\")","v":""},{"$f":"IF(【ジュエリー】入力欄!M41=\"\",\"\",【ジュエリー】入力欄!M41)","v":""},{"$f":"IF(【ジュエリー】入力欄!O41=\"\",\"\",【ジュエリー】入力欄!O41)","v":""}]
["７",{"$f":"IF(【ジュエリー】入力欄!K42=\"\",\"\",【ジュエリー】入力欄!K42)","v":""},{"$f":"IF(【ジュエリー】入力欄!E42=\"\",\"\",【ジュエリー】入力欄!E42)","v":""},{"$f":"CONCATENATE(IF(【ジュエリー】入力欄!F42=\"\",\"\",【ジュエリー】入力欄!F42),IF(【ジュエリー】入力欄!H42=\"\",CONCATENATE(\" \",【ジュエリー】入力欄!G42),CONCATENATE(\" \",【ジュエリー】入力欄!G42,【ジュエリー】入力欄!H42,IF(【ジュエリー】入力欄!G42=\"パール\",\"mm\",\"ct\"))),IF(【ジュエリー】入力欄!J42=\"\",CONCATENATE(\" \",【ジュエリー】入力欄!I42),CONCATENATE(\" \",【ジュエリー】入力欄!I42,【ジュエリー】入力欄!J42,IF(【ジュエリー】入力欄!I42=\"パール\",\"mm\",\"ct\"))))","v":"  "},{"$f":"IF(【ジュエリー】入力欄!L42=\"\",\"\",【ジュエリー】入力欄!L42&\"g\")","v":""},{"$f":"IF(【ジュエリー】入力欄!M42=\"\",\"\",【ジュエリー】入力欄!M42)","v":""},{"$f":"IF(【ジュエリー】入力欄!O42=\"\",\"\",【ジュエリー】入力欄!O42)","v":""}]
["８",{"$f":"IF(【ジュエリー】入力欄!K43=\"\",\"\",【ジュエリー】入力欄!K43)","v":""},{"$f":"IF(【ジュエリー】入力欄!E43=\"\",\"\",【ジュエリー】入力欄!E43)","v":""},{"$f":"CONCATENATE(IF(【ジュエリー】入力欄!F43=\"\",\"\",【ジュエリー】入力欄!F43),IF(【ジュエリー】入力欄!H43=\"\",CONCATENATE(\" \",【ジュエリー】入力欄!G43),CONCATENATE(\" \",【ジュエリー】入力欄!G43,【ジュエリー】入力欄!H43,IF(【ジュエリー】入力欄!G43=\"パール\",\"mm\",\"ct\"))),IF(【ジュエリー】入力欄!J43=\"\",CONCATENATE(\" \",【ジュエリー】入力欄!I43),CONCATENATE(\" \",【ジュエリー】入力欄!I43,【ジュエリー】入力欄!J43,IF(【ジュエリー】入力欄!I43=\"パール\",\"mm\",\"ct\"))))","v":"  "},{"$f":"IF(【ジュエリー】入力欄!L43=\"\",\"\",【ジュエリー】入力欄!L43&\"g\")","v":""},{"$f":"IF(【ジュエリー】入力欄!M43=\"\",\"\",【ジュエリー】入力欄!M43)","v":""},{"$f":"IF(【ジュエリー】入力欄!O43=\"\",\"\",【ジュエリー】入力欄!O43)","v":""}]
["９",{"$f":"IF(【ジュエリー】入力欄!K44=\"\",\"\",【ジュエリー】入力欄!K44)","v":""},{"$f":"IF(【ジュエリー】入力欄!E44=\"\",\"\",【ジュエリー】入力欄!E44)","v":""},{"$f":"CONCATENATE(IF(【ジュエリー】入力欄!F44=\"\",\"\",【ジュエリー】入力欄!F44),IF(【ジュエリー】入力欄!H44=\"\",CONCATENATE(\" \",【ジュエリー】入力欄!G44),CONCATENATE(\" \",【ジュエリー】入力欄!G44,【ジュエリー】入力欄!H44,IF(【ジュエリー】入力欄!G44=\"パール\",\"mm\",\"ct\"))),IF(【ジュエリー】入力欄!J44=\"\",CONCATENATE(\" \",【ジュエリー】入力欄!I44),CONCATENATE(\" \",【ジュエリー】入力欄!I44,【ジュエリー】入力欄!J44,IF(【ジュエリー】入力欄!I44=\"パール\",\"mm\",\"ct\"))))","v":"  "},{"$f":"IF(【ジュエリー】入力欄!L44=\"\",\"\",【ジュエリー】入力欄!L44&\"g\")","v":""},{"$f":"IF(【ジュエリー】入力欄!M44=\"\",\"\",【ジュエリー】入力欄!M44)","v":""},{"$f":"IF(【ジュエリー】入力欄!O44=\"\",\"\",【ジュエリー】入力欄!O44)","v":""}]
["１０",{"$f":"IF(【ジュエリー】入力欄!K45=\"\",\"\",【ジュエリー】入力欄!K45)","v":""},{"$f":"IF(【ジュエリー】入力欄!E45=\"\",\"\",【ジュエリー】入力欄!E45)","v":""},{"$f":"CONCATENATE(IF(【ジュエリー】入力欄!F45=\"\",\"\",【ジュエリー】入力欄!F45),IF(【ジュエリー】入力欄!H45=\"\",CONCATENATE(\" \",【ジュエリー】入力欄!G45),CONCATENATE(\" \",【ジュエリー】入力欄!G45,【ジュエリー】入力欄!H45,IF(【ジュエリー】入力欄!G45=\"パール\",\"mm\",\"ct\"))),IF(【ジュエリー】入力欄!J45=\"\",CONCATENATE(\" \",【ジュエリー】入力欄!I45),CONCATENATE(\" \",【ジュエリー】入力欄!I45,【ジュエリー】入力欄!J45,IF(【ジュエリー】入力欄!I45=\"パール\",\"mm\",\"ct\"))))","v":"  "},{"$f":"IF(【ジュエリー】入力欄!L45=\"\",\"\",【ジュエリー】入力欄!L45&\"g\")","v":""},{"$f":"IF(【ジュエリー】入力欄!M45=\"\",\"\",【ジュエリー】入力欄!M45)","v":""},{"$f":"IF(【ジュエリー】入力欄!O45=\"\",\"\",【ジュエリー】入力欄!O45)","v":""}]
[]
["   \n",{"$f":"CONCATENATE(\"出品表　（　\",【ジュエリー】入力欄!I$3,\"　大吉オークション　宝石・ジュエリー）\")","v":"出品表　（　　大吉オークション　宝石・ジュエリー）"}]
[]
[null,"箱番：",{"$f":"IF(【ジュエリー】入力欄!C46=\"\",\"\",【ジュエリー】入力欄!C46)","v":""},"※太枠の中をご記入ください",null,"会社名",{"$f":"IF(【ジュエリー】入力欄!C$3=\"\",\"\",【ジュエリー】入力欄!C$3)","v":""}]
[]
["番号","品目","金性","詳細・特徴","重量","付属品","指値\n（3万円以上）","発句"]
["１",{"$f":"IF(【ジュエリー】入力欄!K46=\"\",\"\",【ジュエリー】入力欄!K46)","v":""},{"$f":"IF(【ジュエリー】入力欄!E46=\"\",\"\",【ジュエリー】入力欄!E46)","v":""},{"$f":"CONCATENATE(IF(【ジュエリー】入力欄!F46=\"\",\"\",【ジュエリー】入力欄!F46),IF(【ジュエリー】入力欄!H46=\"\",CONCATENATE(\" \",【ジュエリー】入力欄!G46),CONCATENATE(\" \",【ジュエリー】入力欄!G46,【ジュエリー】入力欄!H46,IF(【ジュエリー】入力欄!G46=\"パール\",\"mm\",\"ct\"))),IF(【ジュエリー】入力欄!J46=\"\",CONCATENATE(\" \",【ジュエリー】入力欄!I46),CONCATENATE(\" \",【ジュエリー】入力欄!I46,【ジュエリー】入力欄!J46,IF(【ジュエリー】入力欄!I46=\"パール\",\"mm\",\"ct\"))))","v":"  "},{"$f":"IF(【ジュエリー】入力欄!L46=\"\",\"\",【ジュエリー】入力欄!L46&\"g\")","v":""},{"$f":"IF(【ジュエリー】入力欄!M46=\"\",\"\",【ジュエリー】入力欄!M46)","v":""},{"$f":"IF(【ジュエリー】入力欄!O46=\"\",\"\",【ジュエリー】入力欄!O46)","v":""}]
["２",{"$f":"IF(【ジュエリー】入力欄!K47=\"\",\"\",【ジュエリー】入力欄!K47)","v":""},{"$f":"IF(【ジュエリー】入力欄!E47=\"\",\"\",【ジュエリー】入力欄!E47)","v":""},{"$f":"CONCATENATE(IF(【ジュエリー】入力欄!F47=\"\",\"\",【ジュエリー】入力欄!F47),IF(【ジュエリー】入力欄!H47=\"\",CONCATENATE(\" \",【ジュエリー】入力欄!G47),CONCATENATE(\" \",【ジュエリー】入力欄!G47,【ジュエリー】入力欄!H47,IF(【ジュエリー】入力欄!G47=\"パール\",\"mm\",\"ct\"))),IF(【ジュエリー】入力欄!J47=\"\",CONCATENATE(\" \",【ジュエリー】入力欄!I47),CONCATENATE(\" \",【ジュエリー】入力欄!I47,【ジュエリー】入力欄!J47,IF(【ジュエリー】入力欄!I47=\"パール\",\"mm\",\"ct\"))))","v":"  "},{"$f":"IF(【ジュエリー】入力欄!L47=\"\",\"\",【ジュエリー】入力欄!L47&\"g\")","v":""},{"$f":"IF(【ジュエリー】入力欄!M47=\"\",\"\",【ジュエリー】入力欄!M47)","v":""},{"$f":"IF(【ジュエリー】入力欄!O47=\"\",\"\",【ジュエリー】入力欄!O47)","v":""}]
["３",{"$f":"IF(【ジュエリー】入力欄!K48=\"\",\"\",【ジュエリー】入力欄!K48)","v":""},{"$f":"IF(【ジュエリー】入力欄!E48=\"\",\"\",【ジュエリー】入力欄!E48)","v":""},{"$f":"CONCATENATE(IF(【ジュエリー】入力欄!F48=\"\",\"\",【ジュエリー】入力欄!F48),IF(【ジュエリー】入力欄!H48=\"\",CONCATENATE(\" \",【ジュエリー】入力欄!G48),CONCATENATE(\" \",【ジュエリー】入力欄!G48,【ジュエリー】入力欄!H48,IF(【ジュエリー】入力欄!G48=\"パール\",\"mm\",\"ct\"))),IF(【ジュエリー】入力欄!J48=\"\",CONCATENATE(\" \",【ジュエリー】入力欄!I48),CONCATENATE(\" \",【ジュエリー】入力欄!I48,【ジュエリー】入力欄!J48,IF(【ジュエリー】入力欄!I48=\"パール\",\"mm\",\"ct\"))))","v":"  "},{"$f":"IF(【ジュエリー】入力欄!L48=\"\",\"\",【ジュエリー】入力欄!L48&\"g\")","v":""},{"$f":"IF(【ジュエリー】入力欄!M48=\"\",\"\",【ジュエリー】入力欄!M48)","v":""},{"$f":"IF(【ジュエリー】入力欄!O48=\"\",\"\",【ジュエリー】入力欄!O48)","v":""}]
["４",{"$f":"IF(【ジュエリー】入力欄!K49=\"\",\"\",【ジュエリー】入力欄!K49)","v":""},{"$f":"IF(【ジュエリー】入力欄!E49=\"\",\"\",【ジュエリー】入力欄!E49)","v":""},{"$f":"CONCATENATE(IF(【ジュエリー】入力欄!F49=\"\",\"\",【ジュエリー】入力欄!F49),IF(【ジュエリー】入力欄!H49=\"\",CONCATENATE(\" \",【ジュエリー】入力欄!G49),CONCATENATE(\" \",【ジュエリー】入力欄!G49,【ジュエリー】入力欄!H49,IF(【ジュエリー】入力欄!G49=\"パール\",\"mm\",\"ct\"))),IF(【ジュエリー】入力欄!J49=\"\",CONCATENATE(\" \",【ジュエリー】入力欄!I49),CONCATENATE(\" \",【ジュエリー】入力欄!I49,【ジュエリー】入力欄!J49,IF(【ジュエリー】入力欄!I49=\"パール\",\"mm\",\"ct\"))))","v":"  "},{"$f":"IF(【ジュエリー】入力欄!L49=\"\",\"\",【ジュエリー】入力欄!L49&\"g\")","v":""},{"$f":"IF(【ジュエリー】入力欄!M49=\"\",\"\",【ジュエリー】入力欄!M49)","v":""},{"$f":"IF(【ジュエリー】入力欄!O49=\"\",\"\",【ジュエリー】入力欄!O49)","v":""}]
["５",{"$f":"IF(【ジュエリー】入力欄!K50=\"\",\"\",【ジュエリー】入力欄!K50)","v":""},{"$f":"IF(【ジュエリー】入力欄!E50=\"\",\"\",【ジュエリー】入力欄!E50)","v":""},{"$f":"CONCATENATE(IF(【ジュエリー】入力欄!F50=\"\",\"\",【ジュエリー】入力欄!F50),IF(【ジュエリー】入力欄!H50=\"\",CONCATENATE(\" \",【ジュエリー】入力欄!G50),CONCATENATE(\" \",【ジュエリー】入力欄!G50,【ジュエリー】入力欄!H50,IF(【ジュエリー】入力欄!G50=\"パール\",\"mm\",\"ct\"))),IF(【ジュエリー】入力欄!J50=\"\",CONCATENATE(\" \",【ジュエリー】入力欄!I50),CONCATENATE(\" \",【ジュエリー】入力欄!I50,【ジュエリー】入力欄!J50,IF(【ジュエリー】入力欄!I50=\"パール\",\"mm\",\"ct\"))))","v":"  "},{"$f":"IF(【ジュエリー】入力欄!L50=\"\",\"\",【ジュエリー】入力欄!L50&\"g\")","v":""},{"$f":"IF(【ジュエリー】入力欄!M50=\"\",\"\",【ジュエリー】入力欄!M50)","v":""},{"$f":"IF(【ジュエリー】入力欄!O50=\"\",\"\",【ジュエリー】入力欄!O50)","v":""}]
["６",{"$f":"IF(【ジュエリー】入力欄!K51=\"\",\"\",【ジュエリー】入力欄!K51)","v":""},{"$f":"IF(【ジュエリー】入力欄!E51=\"\",\"\",【ジュエリー】入力欄!E51)","v":""},{"$f":"CONCATENATE(IF(【ジュエリー】入力欄!F51=\"\",\"\",【ジュエリー】入力欄!F51),IF(【ジュエリー】入力欄!H51=\"\",CONCATENATE(\" \",【ジュエリー】入力欄!G51),CONCATENATE(\" \",【ジュエリー】入力欄!G51,【ジュエリー】入力欄!H51,IF(【ジュエリー】入力欄!G51=\"パール\",\"mm\",\"ct\"))),IF(【ジュエリー】入力欄!J51=\"\",CONCATENATE(\" \",【ジュエリー】入力欄!I51),CONCATENATE(\" \",【ジュエリー】入力欄!I51,【ジュエリー】入力欄!J51,IF(【ジュエリー】入力欄!I51=\"パール\",\"mm\",\"ct\"))))","v":"  "},{"$f":"IF(【ジュエリー】入力欄!L51=\"\",\"\",【ジュエリー】入力欄!L51&\"g\")","v":""},{"$f":"IF(【ジュエリー】入力欄!M51=\"\",\"\",【ジュエリー】入力欄!M51)","v":""},{"$f":"IF(【ジュエリー】入力欄!O51=\"\",\"\",【ジュエリー】入力欄!O51)","v":""}]
["７",{"$f":"IF(【ジュエリー】入力欄!K52=\"\",\"\",【ジュエリー】入力欄!K52)","v":""},{"$f":"IF(【ジュエリー】入力欄!E52=\"\",\"\",【ジュエリー】入力欄!E52)","v":""},{"$f":"CONCATENATE(IF(【ジュエリー】入力欄!F52=\"\",\"\",【ジュエリー】入力欄!F52),IF(【ジュエリー】入力欄!H52=\"\",CONCATENATE(\" \",【ジュエリー】入力欄!G52),CONCATENATE(\" \",【ジュエリー】入力欄!G52,【ジュエリー】入力欄!H52,IF(【ジュエリー】入力欄!G52=\"パール\",\"mm\",\"ct\"))),IF(【ジュエリー】入力欄!J52=\"\",CONCATENATE(\" \",【ジュエリー】入力欄!I52),CONCATENATE(\" \",【ジュエリー】入力欄!I52,【ジュエリー】入力欄!J52,IF(【ジュエリー】入力欄!I52=\"パール\",\"mm\",\"ct\"))))","v":"  "},{"$f":"IF(【ジュエリー】入力欄!L52=\"\",\"\",【ジュエリー】入力欄!L52&\"g\")","v":""},{"$f":"IF(【ジュエリー】入力欄!M52=\"\",\"\",【ジュエリー】入力欄!M52)","v":""},{"$f":"IF(【ジュエリー】入力欄!O52=\"\",\"\",【ジュエリー】入力欄!O52)","v":""}]
["８",{"$f":"IF(【ジュエリー】入力欄!K53=\"\",\"\",【ジュエリー】入力欄!K53)","v":""},{"$f":"IF(【ジュエリー】入力欄!E53=\"\",\"\",【ジュエリー】入力欄!E53)","v":""},{"$f":"CONCATENATE(IF(【ジュエリー】入力欄!F53=\"\",\"\",【ジュエリー】入力欄!F53),IF(【ジュエリー】入力欄!H53=\"\",CONCATENATE(\" \",【ジュエリー】入力欄!G53),CONCATENATE(\" \",【ジュエリー】入力欄!G53,【ジュエリー】入力欄!H53,IF(【ジュエリー】入力欄!G53=\"パール\",\"mm\",\"ct\"))),IF(【ジュエリー】入力欄!J53=\"\",CONCATENATE(\" \",【ジュエリー】入力欄!I53),CONCATENATE(\" \",【ジュエリー】入力欄!I53,【ジュエリー】入力欄!J53,IF(【ジュエリー】入力欄!I53=\"パール\",\"mm\",\"ct\"))))","v":"  "},{"$f":"IF(【ジュエリー】入力欄!L53=\"\",\"\",【ジュエリー】入力欄!L53&\"g\")","v":""},{"$f":"IF(【ジュエリー】入力欄!M53=\"\",\"\",【ジュエリー】入力欄!M53)","v":""},{"$f":"IF(【ジュエリー】入力欄!O53=\"\",\"\",【ジュエリー】入力欄!O53)","v":""}]
["９",{"$f":"IF(【ジュエリー】入力欄!K54=\"\",\"\",【ジュエリー】入力欄!K54)","v":""},{"$f":"IF(【ジュエリー】入力欄!E54=\"\",\"\",【ジュエリー】入力欄!E54)","v":""},{"$f":"CONCATENATE(IF(【ジュエリー】入力欄!F54=\"\",\"\",【ジュエリー】入力欄!F54),IF(【ジュエリー】入力欄!H54=\"\",CONCATENATE(\" \",【ジュエリー】入力欄!G54),CONCATENATE(\" \",【ジュエリー】入力欄!G54,【ジュエリー】入力欄!H54,IF(【ジュエリー】入力欄!G54=\"パール\",\"mm\",\"ct\"))),IF(【ジュエリー】入力欄!J54=\"\",CONCATENATE(\" \",【ジュエリー】入力欄!I54),CONCATENATE(\" \",【ジュエリー】入力欄!I54,【ジュエリー】入力欄!J54,IF(【ジュエリー】入力欄!I54=\"パール\",\"mm\",\"ct\"))))","v":"  "},{"$f":"IF(【ジュエリー】入力欄!L54=\"\",\"\",【ジュエリー】入力欄!L54&\"g\")","v":""},{"$f":"IF(【ジュエリー】入力欄!M54=\"\",\"\",【ジュエリー】入力欄!M54)","v":""},{"$f":"IF(【ジュエリー】入力欄!O54=\"\",\"\",【ジュエリー】入力欄!O54)","v":""}]
["１０",{"$f":"IF(【ジュエリー】入力欄!K55=\"\",\"\",【ジュエリー】入力欄!K55)","v":""},{"$f":"IF(【ジュエリー】入力欄!E55=\"\",\"\",【ジュエリー】入力欄!E55)","v":""},{"$f":"CONCATENATE(IF(【ジュエリー】入力欄!F55=\"\",\"\",【ジュエリー】入力欄!F55),IF(【ジュエリー】入力欄!H55=\"\",CONCATENATE(\" \",【ジュエリー】入力欄!G55),CONCATENATE(\" \",【ジュエリー】入力欄!G55,【ジュエリー】入力欄!H55,IF(【ジュエリー】入力欄!G55=\"パール\",\"mm\",\"ct\"))),IF(【ジュエリー】入力欄!J55=\"\",CONCATENATE(\" \",【ジュエリー】入力欄!I55),CONCATENATE(\" \",【ジュエリー】入力欄!I55,【ジュエリー】入力欄!J55,IF(【ジュエリー】入力欄!I55=\"パール\",\"mm\",\"ct\"))))","v":"  "},{"$f":"IF(【ジュエリー】入力欄!L55=\"\",\"\",【ジュエリー】入力欄!L55&\"g\")","v":""},{"$f":"IF(【ジュエリー】入力欄!M55=\"\",\"\",【ジュエリー】入力欄!M55)","v":""},{"$f":"IF(【ジュエリー】入力欄!O55=\"\",\"\",【ジュエリー】入力欄!O55)","v":""}]
[]
["   \n",{"$f":"CONCATENATE(\"出品表　（　\",【ジュエリー】入力欄!I$3,\"　大吉オークション　宝石・ジュエリー）\")","v":"出品表　（　　大吉オークション　宝石・ジュエリー）"}]
[]
[null,"箱番：",{"$f":"IF(【ジュエリー】入力欄!C56=\"\",\"\",【ジュエリー】入力欄!C56)","v":""},"※太枠の中をご記入ください",null,"会社名",{"$f":"IF(【ジュエリー】入力欄!C$3=\"\",\"\",【ジュエリー】入力欄!C$3)","v":""}]
[]
["番号","品目","金性","詳細・特徴","重量","付属品","指値\n（3万円以上）","発句"]
["１",{"$f":"IF(【ジュエリー】入力欄!K56=\"\",\"\",【ジュエリー】入力欄!K56)","v":""},{"$f":"IF(【ジュエリー】入力欄!E56=\"\",\"\",【ジュエリー】入力欄!E56)","v":""},{"$f":"CONCATENATE(IF(【ジュエリー】入力欄!F56=\"\",\"\",【ジュエリー】入力欄!F56),IF(【ジュエリー】入力欄!H56=\"\",CONCATENATE(\" \",【ジュエリー】入力欄!G56),CONCATENATE(\" \",【ジュエリー】入力欄!G56,【ジュエリー】入力欄!H56,IF(【ジュエリー】入力欄!G56=\"パール\",\"mm\",\"ct\"))),IF(【ジュエリー】入力欄!J56=\"\",CONCATENATE(\" \",【ジュエリー】入力欄!I56),CONCATENATE(\" \",【ジュエリー】入力欄!I56,【ジュエリー】入力欄!J56,IF(【ジュエリー】入力欄!I56=\"パール\",\"mm\",\"ct\"))))","v":"  "},{"$f":"IF(【ジュエリー】入力欄!L56=\"\",\"\",【ジュエリー】入力欄!L56&\"g\")","v":""},{"$f":"IF(【ジュエリー】入力欄!M56=\"\",\"\",【ジュエリー】入力欄!M56)","v":""},{"$f":"IF(【ジュエリー】入力欄!O56=\"\",\"\",【ジュエリー】入力欄!O56)","v":""}]
["２",{"$f":"IF(【ジュエリー】入力欄!K57=\"\",\"\",【ジュエリー】入力欄!K57)","v":""},{"$f":"IF(【ジュエリー】入力欄!E57=\"\",\"\",【ジュエリー】入力欄!E57)","v":""},{"$f":"CONCATENATE(IF(【ジュエリー】入力欄!F57=\"\",\"\",【ジュエリー】入力欄!F57),IF(【ジュエリー】入力欄!H57=\"\",CONCATENATE(\" \",【ジュエリー】入力欄!G57),CONCATENATE(\" \",【ジュエリー】入力欄!G57,【ジュエリー】入力欄!H57,IF(【ジュエリー】入力欄!G57=\"パール\",\"mm\",\"ct\"))),IF(【ジュエリー】入力欄!J57=\"\",CONCATENATE(\" \",【ジュエリー】入力欄!I57),CONCATENATE(\" \",【ジュエリー】入力欄!I57,【ジュエリー】入力欄!J57,IF(【ジュエリー】入力欄!I57=\"パール\",\"mm\",\"ct\"))))","v":"  "},{"$f":"IF(【ジュエリー】入力欄!L57=\"\",\"\",【ジュエリー】入力欄!L57&\"g\")","v":""},{"$f":"IF(【ジュエリー】入力欄!M57=\"\",\"\",【ジュエリー】入力欄!M57)","v":""},{"$f":"IF(【ジュエリー】入力欄!O57=\"\",\"\",【ジュエリー】入力欄!O57)","v":""}]
["３",{"$f":"IF(【ジュエリー】入力欄!K58=\"\",\"\",【ジュエリー】入力欄!K58)","v":""},{"$f":"IF(【ジュエリー】入力欄!E58=\"\",\"\",【ジュエリー】入力欄!E58)","v":""},{"$f":"CONCATENATE(IF(【ジュエリー】入力欄!F58=\"\",\"\",【ジュエリー】入力欄!F58),IF(【ジュエリー】入力欄!H58=\"\",CONCATENATE(\" \",【ジュエリー】入力欄!G58),CONCATENATE(\" \",【ジュエリー】入力欄!G58,【ジュエリー】入力欄!H58,IF(【ジュエリー】入力欄!G58=\"パール\",\"mm\",\"ct\"))),IF(【ジュエリー】入力欄!J58=\"\",CONCATENATE(\" \",【ジュエリー】入力欄!I58),CONCATENATE(\" \",【ジュエリー】入力欄!I58,【ジュエリー】入力欄!J58,IF(【ジュエリー】入力欄!I58=\"パール\",\"mm\",\"ct\"))))","v":"  "},{"$f":"IF(【ジュエリー】入力欄!L58=\"\",\"\",【ジュエリー】入力欄!L58&\"g\")","v":""},{"$f":"IF(【ジュエリー】入力欄!M58=\"\",\"\",【ジュエリー】入力欄!M58)","v":""},{"$f":"IF(【ジュエリー】入力欄!O58=\"\",\"\",【ジュエリー】入力欄!O58)","v":""}]
["４",{"$f":"IF(【ジュエリー】入力欄!K59=\"\",\"\",【ジュエリー】入力欄!K59)","v":""},{"$f":"IF(【ジュエリー】入力欄!E59=\"\",\"\",【ジュエリー】入力欄!E59)","v":""},{"$f":"CONCATENATE(IF(【ジュエリー】入力欄!F59=\"\",\"\",【ジュエリー】入力欄!F59),IF(【ジュエリー】入力欄!H59=\"\",CONCATENATE(\" \",【ジュエリー】入力欄!G59),CONCATENATE(\" \",【ジュエリー】入力欄!G59,【ジュエリー】入力欄!H59,IF(【ジュエリー】入力欄!G59=\"パール\",\"mm\",\"ct\"))),IF(【ジュエリー】入力欄!J59=\"\",CONCATENATE(\" \",【ジュエリー】入力欄!I59),CONCATENATE(\" \",【ジュエリー】入力欄!I59,【ジュエリー】入力欄!J59,IF(【ジュエリー】入力欄!I59=\"パール\",\"mm\",\"ct\"))))","v":"  "},{"$f":"IF(【ジュエリー】入力欄!L59=\"\",\"\",【ジュエリー】入力欄!L59&\"g\")","v":""},{"$f":"IF(【ジュエリー】入力欄!M59=\"\",\"\",【ジュエリー】入力欄!M59)","v":""},{"$f":"IF(【ジュエリー】入力欄!O59=\"\",\"\",【ジュエリー】入力欄!O59)","v":""}]
["５",{"$f":"IF(【ジュエリー】入力欄!K60=\"\",\"\",【ジュエリー】入力欄!K60)","v":""},{"$f":"IF(【ジュエリー】入力欄!E60=\"\",\"\",【ジュエリー】入力欄!E60)","v":""},{"$f":"CONCATENATE(IF(【ジュエリー】入力欄!F60=\"\",\"\",【ジュエリー】入力欄!F60),IF(【ジュエリー】入力欄!H60=\"\",CONCATENATE(\" \",【ジュエリー】入力欄!G60),CONCATENATE(\" \",【ジュエリー】入力欄!G60,【ジュエリー】入力欄!H60,IF(【ジュエリー】入力欄!G60=\"パール\",\"mm\",\"ct\"))),IF(【ジュエリー】入力欄!J60=\"\",CONCATENATE(\" \",【ジュエリー】入力欄!I60),CONCATENATE(\" \",【ジュエリー】入力欄!I60,【ジュエリー】入力欄!J60,IF(【ジュエリー】入力欄!I60=\"パール\",\"mm\",\"ct\"))))","v":"  "},{"$f":"IF(【ジュエリー】入力欄!L60=\"\",\"\",【ジュエリー】入力欄!L60&\"g\")","v":""},{"$f":"IF(【ジュエリー】入力欄!M60=\"\",\"\",【ジュエリー】入力欄!M60)","v":""},{"$f":"IF(【ジュエリー】入力欄!O60=\"\",\"\",【ジュエリー】入力欄!O60)","v":""}]
["６",{"$f":"IF(【ジュエリー】入力欄!K61=\"\",\"\",【ジュエリー】入力欄!K61)","v":""},{"$f":"IF(【ジュエリー】入力欄!E61=\"\",\"\",【ジュエリー】入力欄!E61)","v":""},{"$f":"CONCATENATE(IF(【ジュエリー】入力欄!F61=\"\",\"\",【ジュエリー】入力欄!F61),IF(【ジュエリー】入力欄!H61=\"\",CONCATENATE(\" \",【ジュエリー】入力欄!G61),CONCATENATE(\" \",【ジュエリー】入力欄!G61,【ジュエリー】入力欄!H61,IF(【ジュエリー】入力欄!G61=\"パール\",\"mm\",\"ct\"))),IF(【ジュエリー】入力欄!J61=\"\",CONCATENATE(\" \",【ジュエリー】入力欄!I61),CONCATENATE(\" \",【ジュエリー】入力欄!I61,【ジュエリー】入力欄!J61,IF(【ジュエリー】入力欄!I61=\"パール\",\"mm\",\"ct\"))))","v":"  "},{"$f":"IF(【ジュエリー】入力欄!L61=\"\",\"\",【ジュエリー】入力欄!L61&\"g\")","v":""},{"$f":"IF(【ジュエリー】入力欄!M61=\"\",\"\",【ジュエリー】入力欄!M61)","v":""},{"$f":"IF(【ジュエリー】入力欄!O61=\"\",\"\",【ジュエリー】入力欄!O61)","v":""}]
["７",{"$f":"IF(【ジュエリー】入力欄!K62=\"\",\"\",【ジュエリー】入力欄!K62)","v":""},{"$f":"IF(【ジュエリー】入力欄!E62=\"\",\"\",【ジュエリー】入力欄!E62)","v":""},{"$f":"CONCATENATE(IF(【ジュエリー】入力欄!F62=\"\",\"\",【ジュエリー】入力欄!F62),IF(【ジュエリー】入力欄!H62=\"\",CONCATENATE(\" \",【ジュエリー】入力欄!G62),CONCATENATE(\" \",【ジュエリー】入力欄!G62,【ジュエリー】入力欄!H62,IF(【ジュエリー】入力欄!G62=\"パール\",\"mm\",\"ct\"))),IF(【ジュエリー】入力欄!J62=\"\",CONCATENATE(\" \",【ジュエリー】入力欄!I62),CONCATENATE(\" \",【ジュエリー】入力欄!I62,【ジュエリー】入力欄!J62,IF(【ジュエリー】入力欄!I62=\"パール\",\"mm\",\"ct\"))))","v":"  "},{"$f":"IF(【ジュエリー】入力欄!L62=\"\",\"\",【ジュエリー】入力欄!L62&\"g\")","v":""},{"$f":"IF(【ジュエリー】入力欄!M62=\"\",\"\",【ジュエリー】入力欄!M62)","v":""},{"$f":"IF(【ジュエリー】入力欄!O62=\"\",\"\",【ジュエリー】入力欄!O62)","v":""}]
["８",{"$f":"IF(【ジュエリー】入力欄!K63=\"\",\"\",【ジュエリー】入力欄!K63)","v":""},{"$f":"IF(【ジュエリー】入力欄!E63=\"\",\"\",【ジュエリー】入力欄!E63)","v":""},{"$f":"CONCATENATE(IF(【ジュエリー】入力欄!F63=\"\",\"\",【ジュエリー】入力欄!F63),IF(【ジュエリー】入力欄!H63=\"\",CONCATENATE(\" \",【ジュエリー】入力欄!G63),CONCATENATE(\" \",【ジュエリー】入力欄!G63,【ジュエリー】入力欄!H63,IF(【ジュエリー】入力欄!G63=\"パール\",\"mm\",\"ct\"))),IF(【ジュエリー】入力欄!J63=\"\",CONCATENATE(\" \",【ジュエリー】入力欄!I63),CONCATENATE(\" \",【ジュエリー】入力欄!I63,【ジュエリー】入力欄!J63,IF(【ジュエリー】入力欄!I63=\"パール\",\"mm\",\"ct\"))))","v":"  "},{"$f":"IF(【ジュエリー】入力欄!L63=\"\",\"\",【ジュエリー】入力欄!L63&\"g\")","v":""},{"$f":"IF(【ジュエリー】入力欄!M63=\"\",\"\",【ジュエリー】入力欄!M63)","v":""},{"$f":"IF(【ジュエリー】入力欄!O63=\"\",\"\",【ジュエリー】入力欄!O63)","v":""}]
["９",{"$f":"IF(【ジュエリー】入力欄!K64=\"\",\"\",【ジュエリー】入力欄!K64)","v":""},{"$f":"IF(【ジュエリー】入力欄!E64=\"\",\"\",【ジュエリー】入力欄!E64)","v":""},{"$f":"CONCATENATE(IF(【ジュエリー】入力欄!F64=\"\",\"\",【ジュエリー】入力欄!F64),IF(【ジュエリー】入力欄!H64=\"\",CONCATENATE(\" \",【ジュエリー】入力欄!G64),CONCATENATE(\" \",【ジュエリー】入力欄!G64,【ジュエリー】入力欄!H64,IF(【ジュエリー】入力欄!G64=\"パール\",\"mm\",\"ct\"))),IF(【ジュエリー】入力欄!J64=\"\",CONCATENATE(\" \",【ジュエリー】入力欄!I64),CONCATENATE(\" \",【ジュエリー】入力欄!I64,【ジュエリー】入力欄!J64,IF(【ジュエリー】入力欄!I64=\"パール\",\"mm\",\"ct\"))))","v":"  "},{"$f":"IF(【ジュエリー】入力欄!L64=\"\",\"\",【ジュエリー】入力欄!L64&\"g\")","v":""},{"$f":"IF(【ジュエリー】入力欄!M64=\"\",\"\",【ジュエリー】入力欄!M64)","v":""},{"$f":"IF(【ジュエリー】入力欄!O64=\"\",\"\",【ジュエリー】入力欄!O64)","v":""}]
["１０",{"$f":"IF(【ジュエリー】入力欄!K65=\"\",\"\",【ジュエリー】入力欄!K65)","v":""},{"$f":"IF(【ジュエリー】入力欄!E65=\"\",\"\",【ジュエリー】入力欄!E65)","v":""},{"$f":"CONCATENATE(IF(【ジュエリー】入力欄!F65=\"\",\"\",【ジュエリー】入力欄!F65),IF(【ジュエリー】入力欄!H65=\"\",CONCATENATE(\" \",【ジュエリー】入力欄!G65),CONCATENATE(\" \",【ジュエリー】入力欄!G65,【ジュエリー】入力欄!H65,IF(【ジュエリー】入力欄!G65=\"パール\",\"mm\",\"ct\"))),IF(【ジュエリー】入力欄!J65=\"\",CONCATENATE(\" \",【ジュエリー】入力欄!I65),CONCATENATE(\" \",【ジュエリー】入力欄!I65,【ジュエリー】入力欄!J65,IF(【ジュエリー】入力欄!I65=\"パール\",\"mm\",\"ct\"))))","v":"  "},{"$f":"IF(【ジュエリー】入力欄!L65=\"\",\"\",【ジュエリー】入力欄!L65&\"g\")","v":""},{"$f":"IF(【ジュエリー】入力欄!M65=\"\",\"\",【ジュエリー】入力欄!M65)","v":""},{"$f":"IF(【ジュエリー】入力欄!O65=\"\",\"\",【ジュエリー】入力欄!O65)","v":""}]
[]
["   \n",{"$f":"CONCATENATE(\"出品表　（　\",【ジュエリー】入力欄!I$3,\"　大吉オークション　宝石・ジュエリー）\")","v":"出品表　（　　大吉オークション　宝石・ジュエリー）"}]
[]
[null,"箱番：",{"$f":"IF(【ジュエリー】入力欄!C66=\"\",\"\",【ジュエリー】入力欄!C66)","v":""},"※太枠の中をご記入ください",null,"会社名",{"$f":"IF(【ジュエリー】入力欄!C$3=\"\",\"\",【ジュエリー】入力欄!C$3)","v":""}]
[]
["番号","品目","金性","詳細・特徴","重量","付属品","指値\n（3万円以上）","発句"]
["１",{"$f":"IF(【ジュエリー】入力欄!K66=\"\",\"\",【ジュエリー】入力欄!K66)","v":""},{"$f":"IF(【ジュエリー】入力欄!E66=\"\",\"\",【ジュエリー】入力欄!E66)","v":""},{"$f":"CONCATENATE(IF(【ジュエリー】入力欄!F66=\"\",\"\",【ジュエリー】入力欄!F66),IF(【ジュエリー】入力欄!H66=\"\",CONCATENATE(\" \",【ジュエリー】入力欄!G66),CONCATENATE(\" \",【ジュエリー】入力欄!G66,【ジュエリー】入力欄!H66,IF(【ジュエリー】入力欄!G66=\"パール\",\"mm\",\"ct\"))),IF(【ジュエリー】入力欄!J66=\"\",CONCATENATE(\" \",【ジュエリー】入力欄!I66),CONCATENATE(\" \",【ジュエリー】入力欄!I66,【ジュエリー】入力欄!J66,IF(【ジュエリー】入力欄!I66=\"パール\",\"mm\",\"ct\"))))","v":"  "},{"$f":"IF(【ジュエリー】入力欄!L66=\"\",\"\",【ジュエリー】入力欄!L66&\"g\")","v":""},{"$f":"IF(【ジュエリー】入力欄!M66=\"\",\"\",【ジュエリー】入力欄!M66)","v":""},{"$f":"IF(【ジュエリー】入力欄!O66=\"\",\"\",【ジュエリー】入力欄!O66)","v":""}]
["２",{"$f":"IF(【ジュエリー】入力欄!K67=\"\",\"\",【ジュエリー】入力欄!K67)","v":""},{"$f":"IF(【ジュエリー】入力欄!E67=\"\",\"\",【ジュエリー】入力欄!E67)","v":""},{"$f":"CONCATENATE(IF(【ジュエリー】入力欄!F67=\"\",\"\",【ジュエリー】入力欄!F67),IF(【ジュエリー】入力欄!H67=\"\",CONCATENATE(\" \",【ジュエリー】入力欄!G67),CONCATENATE(\" \",【ジュエリー】入力欄!G67,【ジュエリー】入力欄!H67,IF(【ジュエリー】入力欄!G67=\"パール\",\"mm\",\"ct\"))),IF(【ジュエリー】入力欄!J67=\"\",CONCATENATE(\" \",【ジュエリー】入力欄!I67),CONCATENATE(\" \",【ジュエリー】入力欄!I67,【ジュエリー】入力欄!J67,IF(【ジュエリー】入力欄!I67=\"パール\",\"mm\",\"ct\"))))","v":"  "},{"$f":"IF(【ジュエリー】入力欄!L67=\"\",\"\",【ジュエリー】入力欄!L67&\"g\")","v":""},{"$f":"IF(【ジュエリー】入力欄!M67=\"\",\"\",【ジュエリー】入力欄!M67)","v":""},{"$f":"IF(【ジュエリー】入力欄!O67=\"\",\"\",【ジュエリー】入力欄!O67)","v":""}]
["３",{"$f":"IF(【ジュエリー】入力欄!K68=\"\",\"\",【ジュエリー】入力欄!K68)","v":""},{"$f":"IF(【ジュエリー】入力欄!E68=\"\",\"\",【ジュエリー】入力欄!E68)","v":""},{"$f":"CONCATENATE(IF(【ジュエリー】入力欄!F68=\"\",\"\",【ジュエリー】入力欄!F68),IF(【ジュエリー】入力欄!H68=\"\",CONCATENATE(\" \",【ジュエリー】入力欄!G68),CONCATENATE(\" \",【ジュエリー】入力欄!G68,【ジュエリー】入力欄!H68,IF(【ジュエリー】入力欄!G68=\"パール\",\"mm\",\"ct\"))),IF(【ジュエリー】入力欄!J68=\"\",CONCATENATE(\" \",【ジュエリー】入力欄!I68),CONCATENATE(\" \",【ジュエリー】入力欄!I68,【ジュエリー】入力欄!J68,IF(【ジュエリー】入力欄!I68=\"パール\",\"mm\",\"ct\"))))","v":"  "},{"$f":"IF(【ジュエリー】入力欄!L68=\"\",\"\",【ジュエリー】入力欄!L68&\"g\")","v":""},{"$f":"IF(【ジュエリー】入力欄!M68=\"\",\"\",【ジュエリー】入力欄!M68)","v":""},{"$f":"IF(【ジュエリー】入力欄!O68=\"\",\"\",【ジュエリー】入力欄!O68)","v":""}]
["４",{"$f":"IF(【ジュエリー】入力欄!K69=\"\",\"\",【ジュエリー】入力欄!K69)","v":""},{"$f":"IF(【ジュエリー】入力欄!E69=\"\",\"\",【ジュエリー】入力欄!E69)","v":""},{"$f":"CONCATENATE(IF(【ジュエリー】入力欄!F69=\"\",\"\",【ジュエリー】入力欄!F69),IF(【ジュエリー】入力欄!H69=\"\",CONCATENATE(\" \",【ジュエリー】入力欄!G69),CONCATENATE(\" \",【ジュエリー】入力欄!G69,【ジュエリー】入力欄!H69,IF(【ジュエリー】入力欄!G69=\"パール\",\"mm\",\"ct\"))),IF(【ジュエリー】入力欄!J69=\"\",CONCATENATE(\" \",【ジュエリー】入力欄!I69),CONCATENATE(\" \",【ジュエリー】入力欄!I69,【ジュエリー】入力欄!J69,IF(【ジュエリー】入力欄!I69=\"パール\",\"mm\",\"ct\"))))","v":"  "},{"$f":"IF(【ジュエリー】入力欄!L69=\"\",\"\",【ジュエリー】入力欄!L69&\"g\")","v":""},{"$f":"IF(【ジュエリー】入力欄!M69=\"\",\"\",【ジュエリー】入力欄!M69)","v":""},{"$f":"IF(【ジュエリー】入力欄!O69=\"\",\"\",【ジュエリー】入力欄!O69)","v":""}]
["５",{"$f":"IF(【ジュエリー】入力欄!K70=\"\",\"\",【ジュエリー】入力欄!K70)","v":""},{"$f":"IF(【ジュエリー】入力欄!E70=\"\",\"\",【ジュエリー】入力欄!E70)","v":""},{"$f":"CONCATENATE(IF(【ジュエリー】入力欄!F70=\"\",\"\",【ジュエリー】入力欄!F70),IF(【ジュエリー】入力欄!H70=\"\",CONCATENATE(\" \",【ジュエリー】入力欄!G70),CONCATENATE(\" \",【ジュエリー】入力欄!G70,【ジュエリー】入力欄!H70,IF(【ジュエリー】入力欄!G70=\"パール\",\"mm\",\"ct\"))),IF(【ジュエリー】入力欄!J70=\"\",CONCATENATE(\" \",【ジュエリー】入力欄!I70),CONCATENATE(\" \",【ジュエリー】入力欄!I70,【ジュエリー】入力欄!J70,IF(【ジュエリー】入力欄!I70=\"パール\",\"mm\",\"ct\"))))","v":"  "},{"$f":"IF(【ジュエリー】入力欄!L70=\"\",\"\",【ジュエリー】入力欄!L70&\"g\")","v":""},{"$f":"IF(【ジュエリー】入力欄!M70=\"\",\"\",【ジュエリー】入力欄!M70)","v":""},{"$f":"IF(【ジュエリー】入力欄!O70=\"\",\"\",【ジュエリー】入力欄!O70)","v":""}]
["６",{"$f":"IF(【ジュエリー】入力欄!K71=\"\",\"\",【ジュエリー】入力欄!K71)","v":""},{"$f":"IF(【ジュエリー】入力欄!E71=\"\",\"\",【ジュエリー】入力欄!E71)","v":""},{"$f":"CONCATENATE(IF(【ジュエリー】入力欄!F71=\"\",\"\",【ジュエリー】入力欄!F71),IF(【ジュエリー】入力欄!H71=\"\",CONCATENATE(\" \",【ジュエリー】入力欄!G71),CONCATENATE(\" \",【ジュエリー】入力欄!G71,【ジュエリー】入力欄!H71,IF(【ジュエリー】入力欄!G71=\"パール\",\"mm\",\"ct\"))),IF(【ジュエリー】入力欄!J71=\"\",CONCATENATE(\" \",【ジュエリー】入力欄!I71),CONCATENATE(\" \",【ジュエリー】入力欄!I71,【ジュエリー】入力欄!J71,IF(【ジュエリー】入力欄!I71=\"パール\",\"mm\",\"ct\"))))","v":"  "},{"$f":"IF(【ジュエリー】入力欄!L71=\"\",\"\",【ジュエリー】入力欄!L71&\"g\")","v":""},{"$f":"IF(【ジュエリー】入力欄!M71=\"\",\"\",【ジュエリー】入力欄!M71)","v":""},{"$f":"IF(【ジュエリー】入力欄!O71=\"\",\"\",【ジュエリー】入力欄!O71)","v":""}]
["７",{"$f":"IF(【ジュエリー】入力欄!K72=\"\",\"\",【ジュエリー】入力欄!K72)","v":""},{"$f":"IF(【ジュエリー】入力欄!E72=\"\",\"\",【ジュエリー】入力欄!E72)","v":""},{"$f":"CONCATENATE(IF(【ジュエリー】入力欄!F72=\"\",\"\",【ジュエリー】入力欄!F72),IF(【ジュエリー】入力欄!H72=\"\",CONCATENATE(\" \",【ジュエリー】入力欄!G72),CONCATENATE(\" \",【ジュエリー】入力欄!G72,【ジュエリー】入力欄!H72,IF(【ジュエリー】入力欄!G72=\"パール\",\"mm\",\"ct\"))),IF(【ジュエリー】入力欄!J72=\"\",CONCATENATE(\" \",【ジュエリー】入力欄!I72),CONCATENATE(\" \",【ジュエリー】入力欄!I72,【ジュエリー】入力欄!J72,IF(【ジュエリー】入力欄!I72=\"パール\",\"mm\",\"ct\"))))","v":"  "},{"$f":"IF(【ジュエリー】入力欄!L72=\"\",\"\",【ジュエリー】入力欄!L72&\"g\")","v":""},{"$f":"IF(【ジュエリー】入力欄!M72=\"\",\"\",【ジュエリー】入力欄!M72)","v":""},{"$f":"IF(【ジュエリー】入力欄!O72=\"\",\"\",【ジュエリー】入力欄!O72)","v":""}]
["８",{"$f":"IF(【ジュエリー】入力欄!K73=\"\",\"\",【ジュエリー】入力欄!K73)","v":""},{"$f":"IF(【ジュエリー】入力欄!E73=\"\",\"\",【ジュエリー】入力欄!E73)","v":""},{"$f":"CONCATENATE(IF(【ジュエリー】入力欄!F73=\"\",\"\",【ジュエリー】入力欄!F73),IF(【ジュエリー】入力欄!H73=\"\",CONCATENATE(\" \",【ジュエリー】入力欄!G73),CONCATENATE(\" \",【ジュエリー】入力欄!G73,【ジュエリー】入力欄!H73,IF(【ジュエリー】入力欄!G73=\"パール\",\"mm\",\"ct\"))),IF(【ジュエリー】入力欄!J73=\"\",CONCATENATE(\" \",【ジュエリー】入力欄!I73),CONCATENATE(\" \",【ジュエリー】入力欄!I73,【ジュエリー】入力欄!J73,IF(【ジュエリー】入力欄!I73=\"パール\",\"mm\",\"ct\"))))","v":"  "},{"$f":"IF(【ジュエリー】入力欄!L73=\"\",\"\",【ジュエリー】入力欄!L73&\"g\")","v":""},{"$f":"IF(【ジュエリー】入力欄!M73=\"\",\"\",【ジュエリー】入力欄!M73)","v":""},{"$f":"IF(【ジュエリー】入力欄!O73=\"\",\"\",【ジュエリー】入力欄!O73)","v":""}]
["９",{"$f":"IF(【ジュエリー】入力欄!K74=\"\",\"\",【ジュエリー】入力欄!K74)","v":""},{"$f":"IF(【ジュエリー】入力欄!E74=\"\",\"\",【ジュエリー】入力欄!E74)","v":""},{"$f":"CONCATENATE(IF(【ジュエリー】入力欄!F74=\"\",\"\",【ジュエリー】入力欄!F74),IF(【ジュエリー】入力欄!H74=\"\",CONCATENATE(\" \",【ジュエリー】入力欄!G74),CONCATENATE(\" \",【ジュエリー】入力欄!G74,【ジュエリー】入力欄!H74,IF(【ジュエリー】入力欄!G74=\"パール\",\"mm\",\"ct\"))),IF(【ジュエリー】入力欄!J74=\"\",CONCATENATE(\" \",【ジュエリー】入力欄!I74),CONCATENATE(\" \",【ジュエリー】入力欄!I74,【ジュエリー】入力欄!J74,IF(【ジュエリー】入力欄!I74=\"パール\",\"mm\",\"ct\"))))","v":"  "},{"$f":"IF(【ジュエリー】入力欄!L74=\"\",\"\",【ジュエリー】入力欄!L74&\"g\")","v":""},{"$f":"IF(【ジュエリー】入力欄!M74=\"\",\"\",【ジュエリー】入力欄!M74)","v":""},{"$f":"IF(【ジュエリー】入力欄!O74=\"\",\"\",【ジュエリー】入力欄!O74)","v":""}]
["１０",{"$f":"IF(【ジュエリー】入力欄!K75=\"\",\"\",【ジュエリー】入力欄!K75)","v":""},{"$f":"IF(【ジュエリー】入力欄!E75=\"\",\"\",【ジュエリー】入力欄!E75)","v":""},{"$f":"CONCATENATE(IF(【ジュエリー】入力欄!F75=\"\",\"\",【ジュエリー】入力欄!F75),IF(【ジュエリー】入力欄!H75=\"\",CONCATENATE(\" \",【ジュエリー】入力欄!G75),CONCATENATE(\" \",【ジュエリー】入力欄!G75,【ジュエリー】入力欄!H75,IF(【ジュエリー】入力欄!G75=\"パール\",\"mm\",\"ct\"))),IF(【ジュエリー】入力欄!J75=\"\",CONCATENATE(\" \",【ジュエリー】入力欄!I75),CONCATENATE(\" \",【ジュエリー】入力欄!I75,【ジュエリー】入力欄!J75,IF(【ジュエリー】入力欄!I75=\"パール\",\"mm\",\"ct\"))))","v":"  "},{"$f":"IF(【ジュエリー】入力欄!L75=\"\",\"\",【ジュエリー】入力欄!L75&\"g\")","v":""},{"$f":"IF(【ジュエリー】入力欄!M75=\"\",\"\",【ジュエリー】入力欄!M75)","v":""},{"$f":"IF(【ジュエリー】入力欄!O75=\"\",\"\",【ジュエリー】入力欄!O75)","v":""}]
[]
["   \n",{"$f":"CONCATENATE(\"出品表　（　\",【ジュエリー】入力欄!I$3,\"　大吉オークション　宝石・ジュエリー）\")","v":"出品表　（　　大吉オークション　宝石・ジュエリー）"}]
[]
[null,"箱番：",{"$f":"IF(【ジュエリー】入力欄!C76=\"\",\"\",【ジュエリー】入力欄!C76)","v":""},"※太枠の中をご記入ください",null,"会社名",{"$f":"IF(【ジュエリー】入力欄!C$3=\"\",\"\",【ジュエリー】入力欄!C$3)","v":""}]
[]
["番号","品目","金性","詳細・特徴","重量","付属品","指値\n（3万円以上）","発句"]
["１",{"$f":"IF(【ジュエリー】入力欄!K76=\"\",\"\",【ジュエリー】入力欄!K76)","v":""},{"$f":"IF(【ジュエリー】入力欄!E76=\"\",\"\",【ジュエリー】入力欄!E76)","v":""},{"$f":"CONCATENATE(IF(【ジュエリー】入力欄!F76=\"\",\"\",【ジュエリー】入力欄!F76),IF(【ジュエリー】入力欄!H76=\"\",CONCATENATE(\" \",【ジュエリー】入力欄!G76),CONCATENATE(\" \",【ジュエリー】入力欄!G76,【ジュエリー】入力欄!H76,IF(【ジュエリー】入力欄!G76=\"パール\",\"mm\",\"ct\"))),IF(【ジュエリー】入力欄!J76=\"\",CONCATENATE(\" \",【ジュエリー】入力欄!I76),CONCATENATE(\" \",【ジュエリー】入力欄!I76,【ジュエリー】入力欄!J76,IF(【ジュエリー】入力欄!I76=\"パール\",\"mm\",\"ct\"))))","v":"  "},{"$f":"IF(【ジュエリー】入力欄!L76=\"\",\"\",【ジュエリー】入力欄!L76&\"g\")","v":""},{"$f":"IF(【ジュエリー】入力欄!M76=\"\",\"\",【ジュエリー】入力欄!M76)","v":""},{"$f":"IF(【ジュエリー】入力欄!O76=\"\",\"\",【ジュエリー】入力欄!O76)","v":""}]
["２",{"$f":"IF(【ジュエリー】入力欄!K77=\"\",\"\",【ジュエリー】入力欄!K77)","v":""},{"$f":"IF(【ジュエリー】入力欄!E77=\"\",\"\",【ジュエリー】入力欄!E77)","v":""},{"$f":"CONCATENATE(IF(【ジュエリー】入力欄!F77=\"\",\"\",【ジュエリー】入力欄!F77),IF(【ジュエリー】入力欄!H77=\"\",CONCATENATE(\" \",【ジュエリー】入力欄!G77),CONCATENATE(\" \",【ジュエリー】入力欄!G77,【ジュエリー】入力欄!H77,IF(【ジュエリー】入力欄!G77=\"パール\",\"mm\",\"ct\"))),IF(【ジュエリー】入力欄!J77=\"\",CONCATENATE(\" \",【ジュエリー】入力欄!I77),CONCATENATE(\" \",【ジュエリー】入力欄!I77,【ジュエリー】入力欄!J77,IF(【ジュエリー】入力欄!I77=\"パール\",\"mm\",\"ct\"))))","v":"  "},{"$f":"IF(【ジュエリー】入力欄!L77=\"\",\"\",【ジュエリー】入力欄!L77&\"g\")","v":""},{"$f":"IF(【ジュエリー】入力欄!M77=\"\",\"\",【ジュエリー】入力欄!M77)","v":""},{"$f":"IF(【ジュエリー】入力欄!O77=\"\",\"\",【ジュエリー】入力欄!O77)","v":""}]
["３",{"$f":"IF(【ジュエリー】入力欄!K78=\"\",\"\",【ジュエリー】入力欄!K78)","v":""},{"$f":"IF(【ジュエリー】入力欄!E78=\"\",\"\",【ジュエリー】入力欄!E78)","v":""},{"$f":"CONCATENATE(IF(【ジュエリー】入力欄!F78=\"\",\"\",【ジュエリー】入力欄!F78),IF(【ジュエリー】入力欄!H78=\"\",CONCATENATE(\" \",【ジュエリー】入力欄!G78),CONCATENATE(\" \",【ジュエリー】入力欄!G78,【ジュエリー】入力欄!H78,IF(【ジュエリー】入力欄!G78=\"パール\",\"mm\",\"ct\"))),IF(【ジュエリー】入力欄!J78=\"\",CONCATENATE(\" \",【ジュエリー】入力欄!I78),CONCATENATE(\" \",【ジュエリー】入力欄!I78,【ジュエリー】入力欄!J78,IF(【ジュエリー】入力欄!I78=\"パール\",\"mm\",\"ct\"))))","v":"  "},{"$f":"IF(【ジュエリー】入力欄!L78=\"\",\"\",【ジュエリー】入力欄!L78&\"g\")","v":""},{"$f":"IF(【ジュエリー】入力欄!M78=\"\",\"\",【ジュエリー】入力欄!M78)","v":""},{"$f":"IF(【ジュエリー】入力欄!O78=\"\",\"\",【ジュエリー】入力欄!O78)","v":""}]
["４",{"$f":"IF(【ジュエリー】入力欄!K79=\"\",\"\",【ジュエリー】入力欄!K79)","v":""},{"$f":"IF(【ジュエリー】入力欄!E79=\"\",\"\",【ジュエリー】入力欄!E79)","v":""},{"$f":"CONCATENATE(IF(【ジュエリー】入力欄!F79=\"\",\"\",【ジュエリー】入力欄!F79),IF(【ジュエリー】入力欄!H79=\"\",CONCATENATE(\" \",【ジュエリー】入力欄!G79),CONCATENATE(\" \",【ジュエリー】入力欄!G79,【ジュエリー】入力欄!H79,IF(【ジュエリー】入力欄!G79=\"パール\",\"mm\",\"ct\"))),IF(【ジュエリー】入力欄!J79=\"\",CONCATENATE(\" \",【ジュエリー】入力欄!I79),CONCATENATE(\" \",【ジュエリー】入力欄!I79,【ジュエリー】入力欄!J79,IF(【ジュエリー】入力欄!I79=\"パール\",\"mm\",\"ct\"))))","v":"  "},{"$f":"IF(【ジュエリー】入力欄!L79=\"\",\"\",【ジュエリー】入力欄!L79&\"g\")","v":""},{"$f":"IF(【ジュエリー】入力欄!M79=\"\",\"\",【ジュエリー】入力欄!M79)","v":""},{"$f":"IF(【ジュエリー】入力欄!O79=\"\",\"\",【ジュエリー】入力欄!O79)","v":""}]
["５",{"$f":"IF(【ジュエリー】入力欄!K80=\"\",\"\",【ジュエリー】入力欄!K80)","v":""},{"$f":"IF(【ジュエリー】入力欄!E80=\"\",\"\",【ジュエリー】入力欄!E80)","v":""},{"$f":"CONCATENATE(IF(【ジュエリー】入力欄!F80=\"\",\"\",【ジュエリー】入力欄!F80),IF(【ジュエリー】入力欄!H80=\"\",CONCATENATE(\" \",【ジュエリー】入力欄!G80),CONCATENATE(\" \",【ジュエリー】入力欄!G80,【ジュエリー】入力欄!H80,IF(【ジュエリー】入力欄!G80=\"パール\",\"mm\",\"ct\"))),IF(【ジュエリー】入力欄!J80=\"\",CONCATENATE(\" \",【ジュエリー】入力欄!I80),CONCATENATE(\" \",【ジュエリー】入力欄!I80,【ジュエリー】入力欄!J80,IF(【ジュエリー】入力欄!I80=\"パール\",\"mm\",\"ct\"))))","v":"  "},{"$f":"IF(【ジュエリー】入力欄!L80=\"\",\"\",【ジュエリー】入力欄!L80&\"g\")","v":""},{"$f":"IF(【ジュエリー】入力欄!M80=\"\",\"\",【ジュエリー】入力欄!M80)","v":""},{"$f":"IF(【ジュエリー】入力欄!O80=\"\",\"\",【ジュエリー】入力欄!O80)","v":""}]
["６",{"$f":"IF(【ジュエリー】入力欄!K81=\"\",\"\",【ジュエリー】入力欄!K81)","v":""},{"$f":"IF(【ジュエリー】入力欄!E81=\"\",\"\",【ジュエリー】入力欄!E81)","v":""},{"$f":"CONCATENATE(IF(【ジュエリー】入力欄!F81=\"\",\"\",【ジュエリー】入力欄!F81),IF(【ジュエリー】入力欄!H81=\"\",CONCATENATE(\" \",【ジュエリー】入力欄!G81),CONCATENATE(\" \",【ジュエリー】入力欄!G81,【ジュエリー】入力欄!H81,IF(【ジュエリー】入力欄!G81=\"パール\",\"mm\",\"ct\"))),IF(【ジュエリー】入力欄!J81=\"\",CONCATENATE(\" \",【ジュエリー】入力欄!I81),CONCATENATE(\" \",【ジュエリー】入力欄!I81,【ジュエリー】入力欄!J81,IF(【ジュエリー】入力欄!I81=\"パール\",\"mm\",\"ct\"))))","v":"  "},{"$f":"IF(【ジュエリー】入力欄!L81=\"\",\"\",【ジュエリー】入力欄!L81&\"g\")","v":""},{"$f":"IF(【ジュエリー】入力欄!M81=\"\",\"\",【ジュエリー】入力欄!M81)","v":""},{"$f":"IF(【ジュエリー】入力欄!O81=\"\",\"\",【ジュエリー】入力欄!O81)","v":""}]
["７",{"$f":"IF(【ジュエリー】入力欄!K82=\"\",\"\",【ジュエリー】入力欄!K82)","v":""},{"$f":"IF(【ジュエリー】入力欄!E82=\"\",\"\",【ジュエリー】入力欄!E82)","v":""},{"$f":"CONCATENATE(IF(【ジュエリー】入力欄!F82=\"\",\"\",【ジュエリー】入力欄!F82),IF(【ジュエリー】入力欄!H82=\"\",CONCATENATE(\" \",【ジュエリー】入力欄!G82),CONCATENATE(\" \",【ジュエリー】入力欄!G82,【ジュエリー】入力欄!H82,IF(【ジュエリー】入力欄!G82=\"パール\",\"mm\",\"ct\"))),IF(【ジュエリー】入力欄!J82=\"\",CONCATENATE(\" \",【ジュエリー】入力欄!I82),CONCATENATE(\" \",【ジュエリー】入力欄!I82,【ジュエリー】入力欄!J82,IF(【ジュエリー】入力欄!I82=\"パール\",\"mm\",\"ct\"))))","v":"  "},{"$f":"IF(【ジュエリー】入力欄!L82=\"\",\"\",【ジュエリー】入力欄!L82&\"g\")","v":""},{"$f":"IF(【ジュエリー】入力欄!M82=\"\",\"\",【ジュエリー】入力欄!M82)","v":""},{"$f":"IF(【ジュエリー】入力欄!O82=\"\",\"\",【ジュエリー】入力欄!O82)","v":""}]
["８",{"$f":"IF(【ジュエリー】入力欄!K83=\"\",\"\",【ジュエリー】入力欄!K83)","v":""},{"$f":"IF(【ジュエリー】入力欄!E83=\"\",\"\",【ジュエリー】入力欄!E83)","v":""},{"$f":"CONCATENATE(IF(【ジュエリー】入力欄!F83=\"\",\"\",【ジュエリー】入力欄!F83),IF(【ジュエリー】入力欄!H83=\"\",CONCATENATE(\" \",【ジュエリー】入力欄!G83),CONCATENATE(\" \",【ジュエリー】入力欄!G83,【ジュエリー】入力欄!H83,IF(【ジュエリー】入力欄!G83=\"パール\",\"mm\",\"ct\"))),IF(【ジュエリー】入力欄!J83=\"\",CONCATENATE(\" \",【ジュエリー】入力欄!I83),CONCATENATE(\" \",【ジュエリー】入力欄!I83,【ジュエリー】入力欄!J83,IF(【ジュエリー】入力欄!I83=\"パール\",\"mm\",\"ct\"))))","v":"  "},{"$f":"IF(【ジュエリー】入力欄!L83=\"\",\"\",【ジュエリー】入力欄!L83&\"g\")","v":""},{"$f":"IF(【ジュエリー】入力欄!M83=\"\",\"\",【ジュエリー】入力欄!M83)","v":""},{"$f":"IF(【ジュエリー】入力欄!O83=\"\",\"\",【ジュエリー】入力欄!O83)","v":""}]
["９",{"$f":"IF(【ジュエリー】入力欄!K84=\"\",\"\",【ジュエリー】入力欄!K84)","v":""},{"$f":"IF(【ジュエリー】入力欄!E84=\"\",\"\",【ジュエリー】入力欄!E84)","v":""},{"$f":"CONCATENATE(IF(【ジュエリー】入力欄!F84=\"\",\"\",【ジュエリー】入力欄!F84),IF(【ジュエリー】入力欄!H84=\"\",CONCATENATE(\" \",【ジュエリー】入力欄!G84),CONCATENATE(\" \",【ジュエリー】入力欄!G84,【ジュエリー】入力欄!H84,IF(【ジュエリー】入力欄!G84=\"パール\",\"mm\",\"ct\"))),IF(【ジュエリー】入力欄!J84=\"\",CONCATENATE(\" \",【ジュエリー】入力欄!I84),CONCATENATE(\" \",【ジュエリー】入力欄!I84,【ジュエリー】入力欄!J84,IF(【ジュエリー】入力欄!I84=\"パール\",\"mm\",\"ct\"))))","v":"  "},{"$f":"IF(【ジュエリー】入力欄!L84=\"\",\"\",【ジュエリー】入力欄!L84&\"g\")","v":""},{"$f":"IF(【ジュエリー】入力欄!M84=\"\",\"\",【ジュエリー】入力欄!M84)","v":""},{"$f":"IF(【ジュエリー】入力欄!O84=\"\",\"\",【ジュエリー】入力欄!O84)","v":""}]
["１０",{"$f":"IF(【ジュエリー】入力欄!K85=\"\",\"\",【ジュエリー】入力欄!K85)","v":""},{"$f":"IF(【ジュエリー】入力欄!E85=\"\",\"\",【ジュエリー】入力欄!E85)","v":""},{"$f":"CONCATENATE(IF(【ジュエリー】入力欄!F85=\"\",\"\",【ジュエリー】入力欄!F85),IF(【ジュエリー】入力欄!H85=\"\",CONCATENATE(\" \",【ジュエリー】入力欄!G85),CONCATENATE(\" \",【ジュエリー】入力欄!G85,【ジュエリー】入力欄!H85,IF(【ジュエリー】入力欄!G85=\"パール\",\"mm\",\"ct\"))),IF(【ジュエリー】入力欄!J85=\"\",CONCATENATE(\" \",【ジュエリー】入力欄!I85),CONCATENATE(\" \",【ジュエリー】入力欄!I85,【ジュエリー】入力欄!J85,IF(【ジュエリー】入力欄!I85=\"パール\",\"mm\",\"ct\"))))","v":"  "},{"$f":"IF(【ジュエリー】入力欄!L85=\"\",\"\",【ジュエリー】入力欄!L85&\"g\")","v":""},{"$f":"IF(【ジュエリー】入力欄!M85=\"\",\"\",【ジュエリー】入力欄!M85)","v":""},{"$f":"IF(【ジュエリー】入力欄!O85=\"\",\"\",【ジュエリー】入力欄!O85)","v":""}]
[]
["   \n",{"$f":"CONCATENATE(\"出品表　（　\",【ジュエリー】入力欄!I$3,\"　APREオークション　宝石・ジュエリー）\")","v":"出品表　（　　APREオークション　宝石・ジュエリー）"}]
[]
[null,"箱番：",{"$f":"IF(【ジュエリー】入力欄!C86=\"\",\"\",【ジュエリー】入力欄!C86)","v":""},"※太枠の中をご記入ください",null,"会社名",{"$f":"IF(【ジュエリー】入力欄!C$3=\"\",\"\",【ジュエリー】入力欄!C$3)","v":""}]
[]
["番号","品目","金性","詳細・特徴","重量","付属品","指値\n（3万円以上）","発句"]
["１",{"$f":"IF(【ジュエリー】入力欄!K86=\"\",\"\",【ジュエリー】入力欄!K86)","v":""},{"$f":"IF(【ジュエリー】入力欄!E86=\"\",\"\",【ジュエリー】入力欄!E86)","v":""},{"$f":"CONCATENATE(IF(【ジュエリー】入力欄!F86=\"\",\"\",【ジュエリー】入力欄!F86),IF(【ジュエリー】入力欄!H86=\"\",CONCATENATE(\" \",【ジュエリー】入力欄!G86),CONCATENATE(\" \",【ジュエリー】入力欄!G86,【ジュエリー】入力欄!H86,IF(【ジュエリー】入力欄!G86=\"パール\",\"mm\",\"ct\"))),IF(【ジュエリー】入力欄!J86=\"\",CONCATENATE(\" \",【ジュエリー】入力欄!I86),CONCATENATE(\" \",【ジュエリー】入力欄!I86,【ジュエリー】入力欄!J86,IF(【ジュエリー】入力欄!I86=\"パール\",\"mm\",\"ct\"))))","v":"  "},{"$f":"IF(【ジュエリー】入力欄!L86=\"\",\"\",【ジュエリー】入力欄!L86&\"g\")","v":""},{"$f":"IF(【ジュエリー】入力欄!M86=\"\",\"\",【ジュエリー】入力欄!M86)","v":""},{"$f":"IF(【ジュエリー】入力欄!O86=\"\",\"\",【ジュエリー】入力欄!O86)","v":""}]
["２",{"$f":"IF(【ジュエリー】入力欄!K87=\"\",\"\",【ジュエリー】入力欄!K87)","v":""},{"$f":"IF(【ジュエリー】入力欄!E87=\"\",\"\",【ジュエリー】入力欄!E87)","v":""},{"$f":"CONCATENATE(IF(【ジュエリー】入力欄!F87=\"\",\"\",【ジュエリー】入力欄!F87),IF(【ジュエリー】入力欄!H87=\"\",CONCATENATE(\" \",【ジュエリー】入力欄!G87),CONCATENATE(\" \",【ジュエリー】入力欄!G87,【ジュエリー】入力欄!H87,IF(【ジュエリー】入力欄!G87=\"パール\",\"mm\",\"ct\"))),IF(【ジュエリー】入力欄!J87=\"\",CONCATENATE(\" \",【ジュエリー】入力欄!I87),CONCATENATE(\" \",【ジュエリー】入力欄!I87,【ジュエリー】入力欄!J87,IF(【ジュエリー】入力欄!I87=\"パール\",\"mm\",\"ct\"))))","v":"  "},{"$f":"IF(【ジュエリー】入力欄!L87=\"\",\"\",【ジュエリー】入力欄!L87&\"g\")","v":""},{"$f":"IF(【ジュエリー】入力欄!M87=\"\",\"\",【ジュエリー】入力欄!M87)","v":""},{"$f":"IF(【ジュエリー】入力欄!O87=\"\",\"\",【ジュエリー】入力欄!O87)","v":""}]
["３",{"$f":"IF(【ジュエリー】入力欄!K88=\"\",\"\",【ジュエリー】入力欄!K88)","v":""},{"$f":"IF(【ジュエリー】入力欄!E88=\"\",\"\",【ジュエリー】入力欄!E88)","v":""},{"$f":"CONCATENATE(IF(【ジュエリー】入力欄!F88=\"\",\"\",【ジュエリー】入力欄!F88),IF(【ジュエリー】入力欄!H88=\"\",CONCATENATE(\" \",【ジュエリー】入力欄!G88),CONCATENATE(\" \",【ジュエリー】入力欄!G88,【ジュエリー】入力欄!H88,IF(【ジュエリー】入力欄!G88=\"パール\",\"mm\",\"ct\"))),IF(【ジュエリー】入力欄!J88=\"\",CONCATENATE(\" \",【ジュエリー】入力欄!I88),CONCATENATE(\" \",【ジュエリー】入力欄!I88,【ジュエリー】入力欄!J88,IF(【ジュエリー】入力欄!I88=\"パール\",\"mm\",\"ct\"))))","v":"  "},{"$f":"IF(【ジュエリー】入力欄!L88=\"\",\"\",【ジュエリー】入力欄!L88&\"g\")","v":""},{"$f":"IF(【ジュエリー】入力欄!M88=\"\",\"\",【ジュエリー】入力欄!M88)","v":""},{"$f":"IF(【ジュエリー】入力欄!O88=\"\",\"\",【ジュエリー】入力欄!O88)","v":""}]
["４",{"$f":"IF(【ジュエリー】入力欄!K89=\"\",\"\",【ジュエリー】入力欄!K89)","v":""},{"$f":"IF(【ジュエリー】入力欄!E89=\"\",\"\",【ジュエリー】入力欄!E89)","v":""},{"$f":"CONCATENATE(IF(【ジュエリー】入力欄!F89=\"\",\"\",【ジュエリー】入力欄!F89),IF(【ジュエリー】入力欄!H89=\"\",CONCATENATE(\" \",【ジュエリー】入力欄!G89),CONCATENATE(\" \",【ジュエリー】入力欄!G89,【ジュエリー】入力欄!H89,IF(【ジュエリー】入力欄!G89=\"パール\",\"mm\",\"ct\"))),IF(【ジュエリー】入力欄!J89=\"\",CONCATENATE(\" \",【ジュエリー】入力欄!I89),CONCATENATE(\" \",【ジュエリー】入力欄!I89,【ジュエリー】入力欄!J89,IF(【ジュエリー】入力欄!I89=\"パール\",\"mm\",\"ct\"))))","v":"  "},{"$f":"IF(【ジュエリー】入力欄!L89=\"\",\"\",【ジュエリー】入力欄!L89&\"g\")","v":""},{"$f":"IF(【ジュエリー】入力欄!M89=\"\",\"\",【ジュエリー】入力欄!M89)","v":""},{"$f":"IF(【ジュエリー】入力欄!O89=\"\",\"\",【ジュエリー】入力欄!O89)","v":""}]
["５",{"$f":"IF(【ジュエリー】入力欄!K90=\"\",\"\",【ジュエリー】入力欄!K90)","v":""},{"$f":"IF(【ジュエリー】入力欄!E90=\"\",\"\",【ジュエリー】入力欄!E90)","v":""},{"$f":"CONCATENATE(IF(【ジュエリー】入力欄!F90=\"\",\"\",【ジュエリー】入力欄!F90),IF(【ジュエリー】入力欄!H90=\"\",CONCATENATE(\" \",【ジュエリー】入力欄!G90),CONCATENATE(\" \",【ジュエリー】入力欄!G90,【ジュエリー】入力欄!H90,IF(【ジュエリー】入力欄!G90=\"パール\",\"mm\",\"ct\"))),IF(【ジュエリー】入力欄!J90=\"\",CONCATENATE(\" \",【ジュエリー】入力欄!I90),CONCATENATE(\" \",【ジュエリー】入力欄!I90,【ジュエリー】入力欄!J90,IF(【ジュエリー】入力欄!I90=\"パール\",\"mm\",\"ct\"))))","v":"  "},{"$f":"IF(【ジュエリー】入力欄!L90=\"\",\"\",【ジュエリー】入力欄!L90&\"g\")","v":""},{"$f":"IF(【ジュエリー】入力欄!M90=\"\",\"\",【ジュエリー】入力欄!M90)","v":""},{"$f":"IF(【ジュエリー】入力欄!O90=\"\",\"\",【ジュエリー】入力欄!O90)","v":""}]
["６",{"$f":"IF(【ジュエリー】入力欄!K91=\"\",\"\",【ジュエリー】入力欄!K91)","v":""},{"$f":"IF(【ジュエリー】入力欄!E91=\"\",\"\",【ジュエリー】入力欄!E91)","v":""},{"$f":"CONCATENATE(IF(【ジュエリー】入力欄!F91=\"\",\"\",【ジュエリー】入力欄!F91),IF(【ジュエリー】入力欄!H91=\"\",CONCATENATE(\" \",【ジュエリー】入力欄!G91),CONCATENATE(\" \",【ジュエリー】入力欄!G91,【ジュエリー】入力欄!H91,IF(【ジュエリー】入力欄!G91=\"パール\",\"mm\",\"ct\"))),IF(【ジュエリー】入力欄!J91=\"\",CONCATENATE(\" \",【ジュエリー】入力欄!I91),CONCATENATE(\" \",【ジュエリー】入力欄!I91,【ジュエリー】入力欄!J91,IF(【ジュエリー】入力欄!I91=\"パール\",\"mm\",\"ct\"))))","v":"  "},{"$f":"IF(【ジュエリー】入力欄!L91=\"\",\"\",【ジュエリー】入力欄!L91&\"g\")","v":""},{"$f":"IF(【ジュエリー】入力欄!M91=\"\",\"\",【ジュエリー】入力欄!M91)","v":""},{"$f":"IF(【ジュエリー】入力欄!O91=\"\",\"\",【ジュエリー】入力欄!O91)","v":""}]
["７",{"$f":"IF(【ジュエリー】入力欄!K92=\"\",\"\",【ジュエリー】入力欄!K92)","v":""},{"$f":"IF(【ジュエリー】入力欄!E92=\"\",\"\",【ジュエリー】入力欄!E92)","v":""},{"$f":"CONCATENATE(IF(【ジュエリー】入力欄!F92=\"\",\"\",【ジュエリー】入力欄!F92),IF(【ジュエリー】入力欄!H92=\"\",CONCATENATE(\" \",【ジュエリー】入力欄!G92),CONCATENATE(\" \",【ジュエリー】入力欄!G92,【ジュエリー】入力欄!H92,IF(【ジュエリー】入力欄!G92=\"パール\",\"mm\",\"ct\"))),IF(【ジュエリー】入力欄!J92=\"\",CONCATENATE(\" \",【ジュエリー】入力欄!I92),CONCATENATE(\" \",【ジュエリー】入力欄!I92,【ジュエリー】入力欄!J92,IF(【ジュエリー】入力欄!I92=\"パール\",\"mm\",\"ct\"))))","v":"  "},{"$f":"IF(【ジュエリー】入力欄!L92=\"\",\"\",【ジュエリー】入力欄!L92&\"g\")","v":""},{"$f":"IF(【ジュエリー】入力欄!M92=\"\",\"\",【ジュエリー】入力欄!M92)","v":""},{"$f":"IF(【ジュエリー】入力欄!O92=\"\",\"\",【ジュエリー】入力欄!O92)","v":""}]
["８",{"$f":"IF(【ジュエリー】入力欄!K93=\"\",\"\",【ジュエリー】入力欄!K93)","v":""},{"$f":"IF(【ジュエリー】入力欄!E93=\"\",\"\",【ジュエリー】入力欄!E93)","v":""},{"$f":"CONCATENATE(IF(【ジュエリー】入力欄!F93=\"\",\"\",【ジュエリー】入力欄!F93),IF(【ジュエリー】入力欄!H93=\"\",CONCATENATE(\" \",【ジュエリー】入力欄!G93),CONCATENATE(\" \",【ジュエリー】入力欄!G93,【ジュエリー】入力欄!H93,IF(【ジュエリー】入力欄!G93=\"パール\",\"mm\",\"ct\"))),IF(【ジュエリー】入力欄!J93=\"\",CONCATENATE(\" \",【ジュエリー】入力欄!I93),CONCATENATE(\" \",【ジュエリー】入力欄!I93,【ジュエリー】入力欄!J93,IF(【ジュエリー】入力欄!I93=\"パール\",\"mm\",\"ct\"))))","v":"  "},{"$f":"IF(【ジュエリー】入力欄!L93=\"\",\"\",【ジュエリー】入力欄!L93&\"g\")","v":""},{"$f":"IF(【ジュエリー】入力欄!M93=\"\",\"\",【ジュエリー】入力欄!M93)","v":""},{"$f":"IF(【ジュエリー】入力欄!O93=\"\",\"\",【ジュエリー】入力欄!O93)","v":""}]
["９",{"$f":"IF(【ジュエリー】入力欄!K94=\"\",\"\",【ジュエリー】入力欄!K94)","v":""},{"$f":"IF(【ジュエリー】入力欄!E94=\"\",\"\",【ジュエリー】入力欄!E94)","v":""},{"$f":"CONCATENATE(IF(【ジュエリー】入力欄!F94=\"\",\"\",【ジュエリー】入力欄!F94),IF(【ジュエリー】入力欄!H94=\"\",CONCATENATE(\" \",【ジュエリー】入力欄!G94),CONCATENATE(\" \",【ジュエリー】入力欄!G94,【ジュエリー】入力欄!H94,IF(【ジュエリー】入力欄!G94=\"パール\",\"mm\",\"ct\"))),IF(【ジュエリー】入力欄!J94=\"\",CONCATENATE(\" \",【ジュエリー】入力欄!I94),CONCATENATE(\" \",【ジュエリー】入力欄!I94,【ジュエリー】入力欄!J94,IF(【ジュエリー】入力欄!I94=\"パール\",\"mm\",\"ct\"))))","v":"  "},{"$f":"IF(【ジュエリー】入力欄!L94=\"\",\"\",【ジュエリー】入力欄!L94&\"g\")","v":""},{"$f":"IF(【ジュエリー】入力欄!M94=\"\",\"\",【ジュエリー】入力欄!M94)","v":""},{"$f":"IF(【ジュエリー】入力欄!O94=\"\",\"\",【ジュエリー】入力欄!O94)","v":""}]
["１０",{"$f":"IF(【ジュエリー】入力欄!K95=\"\",\"\",【ジュエリー】入力欄!K95)","v":""},{"$f":"IF(【ジュエリー】入力欄!E95=\"\",\"\",【ジュエリー】入力欄!E95)","v":""},{"$f":"CONCATENATE(IF(【ジュエリー】入力欄!F95=\"\",\"\",【ジュエリー】入力欄!F95),IF(【ジュエリー】入力欄!H95=\"\",CONCATENATE(\" \",【ジュエリー】入力欄!G95),CONCATENATE(\" \",【ジュエリー】入力欄!G95,【ジュエリー】入力欄!H95,IF(【ジュエリー】入力欄!G95=\"パール\",\"mm\",\"ct\"))),IF(【ジュエリー】入力欄!J95=\"\",CONCATENATE(\" \",【ジュエリー】入力欄!I95),CONCATENATE(\" \",【ジュエリー】入力欄!I95,【ジュエリー】入力欄!J95,IF(【ジュエリー】入力欄!I95=\"パール\",\"mm\",\"ct\"))))","v":"  "},{"$f":"IF(【ジュエリー】入力欄!L95=\"\",\"\",【ジュエリー】入力欄!L95&\"g\")","v":""},{"$f":"IF(【ジュエリー】入力欄!M95=\"\",\"\",【ジュエリー】入力欄!M95)","v":""},{"$f":"IF(【ジュエリー】入力欄!O95=\"\",\"\",【ジュエリー】入力欄!O95)","v":""}]
[]
["   \n",{"$f":"CONCATENATE(\"出品表　（　\",【ジュエリー】入力欄!I$3,\"　大吉オークション　宝石・ジュエリー）\")","v":"出品表　（　　大吉オークション　宝石・ジュエリー）"}]
[]
[null,"箱番：",{"$f":"IF(【ジュエリー】入力欄!C96=\"\",\"\",【ジュエリー】入力欄!C96)","v":""},"※太枠の中をご記入ください",null,"会社名",{"$f":"IF(【ジュエリー】入力欄!C$3=\"\",\"\",【ジュエリー】入力欄!C$3)","v":""}]
[]
["番号","品目","金性","詳細・特徴","重量","付属品","指値\n（3万円以上）","発句"]
["１",{"$f":"IF(【ジュエリー】入力欄!K96=\"\",\"\",【ジュエリー】入力欄!K96)","v":""},{"$f":"IF(【ジュエリー】入力欄!E96=\"\",\"\",【ジュエリー】入力欄!E96)","v":""},{"$f":"CONCATENATE(IF(【ジュエリー】入力欄!F96=\"\",\"\",【ジュエリー】入力欄!F96),IF(【ジュエリー】入力欄!H96=\"\",CONCATENATE(\" \",【ジュエリー】入力欄!G96),CONCATENATE(\" \",【ジュエリー】入力欄!G96,【ジュエリー】入力欄!H96,IF(【ジュエリー】入力欄!G96=\"パール\",\"mm\",\"ct\"))),IF(【ジュエリー】入力欄!J96=\"\",CONCATENATE(\" \",【ジュエリー】入力欄!I96),CONCATENATE(\" \",【ジュエリー】入力欄!I96,【ジュエリー】入力欄!J96,IF(【ジュエリー】入力欄!I96=\"パール\",\"mm\",\"ct\"))))","v":"  "},{"$f":"IF(【ジュエリー】入力欄!L96=\"\",\"\",【ジュエリー】入力欄!L96&\"g\")","v":""},{"$f":"IF(【ジュエリー】入力欄!M96=\"\",\"\",【ジュエリー】入力欄!M96)","v":""},{"$f":"IF(【ジュエリー】入力欄!O96=\"\",\"\",【ジュエリー】入力欄!O96)","v":""}]
["２",{"$f":"IF(【ジュエリー】入力欄!K97=\"\",\"\",【ジュエリー】入力欄!K97)","v":""},{"$f":"IF(【ジュエリー】入力欄!E97=\"\",\"\",【ジュエリー】入力欄!E97)","v":""},{"$f":"CONCATENATE(IF(【ジュエリー】入力欄!F97=\"\",\"\",【ジュエリー】入力欄!F97),IF(【ジュエリー】入力欄!H97=\"\",CONCATENATE(\" \",【ジュエリー】入力欄!G97),CONCATENATE(\" \",【ジュエリー】入力欄!G97,【ジュエリー】入力欄!H97,IF(【ジュエリー】入力欄!G97=\"パール\",\"mm\",\"ct\"))),IF(【ジュエリー】入力欄!J97=\"\",CONCATENATE(\" \",【ジュエリー】入力欄!I97),CONCATENATE(\" \",【ジュエリー】入力欄!I97,【ジュエリー】入力欄!J97,IF(【ジュエリー】入力欄!I97=\"パール\",\"mm\",\"ct\"))))","v":"  "},{"$f":"IF(【ジュエリー】入力欄!L97=\"\",\"\",【ジュエリー】入力欄!L97&\"g\")","v":""},{"$f":"IF(【ジュエリー】入力欄!M97=\"\",\"\",【ジュエリー】入力欄!M97)","v":""},{"$f":"IF(【ジュエリー】入力欄!O97=\"\",\"\",【ジュエリー】入力欄!O97)","v":""}]
["３",{"$f":"IF(【ジュエリー】入力欄!K98=\"\",\"\",【ジュエリー】入力欄!K98)","v":""},{"$f":"IF(【ジュエリー】入力欄!E98=\"\",\"\",【ジュエリー】入力欄!E98)","v":""},{"$f":"CONCATENATE(IF(【ジュエリー】入力欄!F98=\"\",\"\",【ジュエリー】入力欄!F98),IF(【ジュエリー】入力欄!H98=\"\",CONCATENATE(\" \",【ジュエリー】入力欄!G98),CONCATENATE(\" \",【ジュエリー】入力欄!G98,【ジュエリー】入力欄!H98,IF(【ジュエリー】入力欄!G98=\"パール\",\"mm\",\"ct\"))),IF(【ジュエリー】入力欄!J98=\"\",CONCATENATE(\" \",【ジュエリー】入力欄!I98),CONCATENATE(\" \",【ジュエリー】入力欄!I98,【ジュエリー】入力欄!J98,IF(【ジュエリー】入力欄!I98=\"パール\",\"mm\",\"ct\"))))","v":"  "},{"$f":"IF(【ジュエリー】入力欄!L98=\"\",\"\",【ジュエリー】入力欄!L98&\"g\")","v":""},{"$f":"IF(【ジュエリー】入力欄!M98=\"\",\"\",【ジュエリー】入力欄!M98)","v":""},{"$f":"IF(【ジュエリー】入力欄!O98=\"\",\"\",【ジュエリー】入力欄!O98)","v":""}]
["４",{"$f":"IF(【ジュエリー】入力欄!K99=\"\",\"\",【ジュエリー】入力欄!K99)","v":""},{"$f":"IF(【ジュエリー】入力欄!E99=\"\",\"\",【ジュエリー】入力欄!E99)","v":""},{"$f":"CONCATENATE(IF(【ジュエリー】入力欄!F99=\"\",\"\",【ジュエリー】入力欄!F99),IF(【ジュエリー】入力欄!H99=\"\",CONCATENATE(\" \",【ジュエリー】入力欄!G99),CONCATENATE(\" \",【ジュエリー】入力欄!G99,【ジュエリー】入力欄!H99,IF(【ジュエリー】入力欄!G99=\"パール\",\"mm\",\"ct\"))),IF(【ジュエリー】入力欄!J99=\"\",CONCATENATE(\" \",【ジュエリー】入力欄!I99),CONCATENATE(\" \",【ジュエリー】入力欄!I99,【ジュエリー】入力欄!J99,IF(【ジュエリー】入力欄!I99=\"パール\",\"mm\",\"ct\"))))","v":"  "},{"$f":"IF(【ジュエリー】入力欄!L99=\"\",\"\",【ジュエリー】入力欄!L99&\"g\")","v":""},{"$f":"IF(【ジュエリー】入力欄!M99=\"\",\"\",【ジュエリー】入力欄!M99)","v":""},{"$f":"IF(【ジュエリー】入力欄!O99=\"\",\"\",【ジュエリー】入力欄!O99)","v":""}]
["５",{"$f":"IF(【ジュエリー】入力欄!K100=\"\",\"\",【ジュエリー】入力欄!K100)","v":""},{"$f":"IF(【ジュエリー】入力欄!E100=\"\",\"\",【ジュエリー】入力欄!E100)","v":""},{"$f":"CONCATENATE(IF(【ジュエリー】入力欄!F100=\"\",\"\",【ジュエリー】入力欄!F100),IF(【ジュエリー】入力欄!H100=\"\",CONCATENATE(\" \",【ジュエリー】入力欄!G100),CONCATENATE(\" \",【ジュエリー】入力欄!G100,【ジュエリー】入力欄!H100,IF(【ジュエリー】入力欄!G100=\"パール\",\"mm\",\"ct\"))),IF(【ジュエリー】入力欄!J100=\"\",CONCATENATE(\" \",【ジュエリー】入力欄!I100),CONCATENATE(\" \",【ジュエリー】入力欄!I100,【ジュエリー】入力欄!J100,IF(【ジュエリー】入力欄!I100=\"パール\",\"mm\",\"ct\"))))","v":"  "},{"$f":"IF(【ジュエリー】入力欄!L100=\"\",\"\",【ジュエリー】入力欄!L100&\"g\")","v":""},{"$f":"IF(【ジュエリー】入力欄!M100=\"\",\"\",【ジュエリー】入力欄!M100)","v":""},{"$f":"IF(【ジュエリー】入力欄!O100=\"\",\"\",【ジュエリー】入力欄!O100)","v":""}]
["６",{"$f":"IF(【ジュエリー】入力欄!K101=\"\",\"\",【ジュエリー】入力欄!K101)","v":""},{"$f":"IF(【ジュエリー】入力欄!E101=\"\",\"\",【ジュエリー】入力欄!E101)","v":""},{"$f":"CONCATENATE(IF(【ジュエリー】入力欄!F101=\"\",\"\",【ジュエリー】入力欄!F101),IF(【ジュエリー】入力欄!H101=\"\",CONCATENATE(\" \",【ジュエリー】入力欄!G101),CONCATENATE(\" \",【ジュエリー】入力欄!G101,【ジュエリー】入力欄!H101,IF(【ジュエリー】入力欄!G101=\"パール\",\"mm\",\"ct\"))),IF(【ジュエリー】入力欄!J101=\"\",CONCATENATE(\" \",【ジュエリー】入力欄!I101),CONCATENATE(\" \",【ジュエリー】入力欄!I101,【ジュエリー】入力欄!J101,IF(【ジュエリー】入力欄!I101=\"パール\",\"mm\",\"ct\"))))","v":"  "},{"$f":"IF(【ジュエリー】入力欄!L101=\"\",\"\",【ジュエリー】入力欄!L101&\"g\")","v":""},{"$f":"IF(【ジュエリー】入力欄!M101=\"\",\"\",【ジュエリー】入力欄!M101)","v":""},{"$f":"IF(【ジュエリー】入力欄!O101=\"\",\"\",【ジュエリー】入力欄!O101)","v":""}]
["７",{"$f":"IF(【ジュエリー】入力欄!K102=\"\",\"\",【ジュエリー】入力欄!K102)","v":""},{"$f":"IF(【ジュエリー】入力欄!E102=\"\",\"\",【ジュエリー】入力欄!E102)","v":""},{"$f":"CONCATENATE(IF(【ジュエリー】入力欄!F102=\"\",\"\",【ジュエリー】入力欄!F102),IF(【ジュエリー】入力欄!H102=\"\",CONCATENATE(\" \",【ジュエリー】入力欄!G102),CONCATENATE(\" \",【ジュエリー】入力欄!G102,【ジュエリー】入力欄!H102,IF(【ジュエリー】入力欄!G102=\"パール\",\"mm\",\"ct\"))),IF(【ジュエリー】入力欄!J102=\"\",CONCATENATE(\" \",【ジュエリー】入力欄!I102),CONCATENATE(\" \",【ジュエリー】入力欄!I102,【ジュエリー】入力欄!J102,IF(【ジュエリー】入力欄!I102=\"パール\",\"mm\",\"ct\"))))","v":"  "},{"$f":"IF(【ジュエリー】入力欄!L102=\"\",\"\",【ジュエリー】入力欄!L102&\"g\")","v":""},{"$f":"IF(【ジュエリー】入力欄!M102=\"\",\"\",【ジュエリー】入力欄!M102)","v":""},{"$f":"IF(【ジュエリー】入力欄!O102=\"\",\"\",【ジュエリー】入力欄!O102)","v":""}]
["８",{"$f":"IF(【ジュエリー】入力欄!K103=\"\",\"\",【ジュエリー】入力欄!K103)","v":""},{"$f":"IF(【ジュエリー】入力欄!E103=\"\",\"\",【ジュエリー】入力欄!E103)","v":""},{"$f":"CONCATENATE(IF(【ジュエリー】入力欄!F103=\"\",\"\",【ジュエリー】入力欄!F103),IF(【ジュエリー】入力欄!H103=\"\",CONCATENATE(\" \",【ジュエリー】入力欄!G103),CONCATENATE(\" \",【ジュエリー】入力欄!G103,【ジュエリー】入力欄!H103,IF(【ジュエリー】入力欄!G103=\"パール\",\"mm\",\"ct\"))),IF(【ジュエリー】入力欄!J103=\"\",CONCATENATE(\" \",【ジュエリー】入力欄!I103),CONCATENATE(\" \",【ジュエリー】入力欄!I103,【ジュエリー】入力欄!J103,IF(【ジュエリー】入力欄!I103=\"パール\",\"mm\",\"ct\"))))","v":"  "},{"$f":"IF(【ジュエリー】入力欄!L103=\"\",\"\",【ジュエリー】入力欄!L103&\"g\")","v":""},{"$f":"IF(【ジュエリー】入力欄!M103=\"\",\"\",【ジュエリー】入力欄!M103)","v":""},{"$f":"IF(【ジュエリー】入力欄!O103=\"\",\"\",【ジュエリー】入力欄!O103)","v":""}]
["９",{"$f":"IF(【ジュエリー】入力欄!K104=\"\",\"\",【ジュエリー】入力欄!K104)","v":""},{"$f":"IF(【ジュエリー】入力欄!E104=\"\",\"\",【ジュエリー】入力欄!E104)","v":""},{"$f":"CONCATENATE(IF(【ジュエリー】入力欄!F104=\"\",\"\",【ジュエリー】入力欄!F104),IF(【ジュエリー】入力欄!H104=\"\",CONCATENATE(\" \",【ジュエリー】入力欄!G104),CONCATENATE(\" \",【ジュエリー】入力欄!G104,【ジュエリー】入力欄!H104,IF(【ジュエリー】入力欄!G104=\"パール\",\"mm\",\"ct\"))),IF(【ジュエリー】入力欄!J104=\"\",CONCATENATE(\" \",【ジュエリー】入力欄!I104),CONCATENATE(\" \",【ジュエリー】入力欄!I104,【ジュエリー】入力欄!J104,IF(【ジュエリー】入力欄!I104=\"パール\",\"mm\",\"ct\"))))","v":"  "},{"$f":"IF(【ジュエリー】入力欄!L104=\"\",\"\",【ジュエリー】入力欄!L104&\"g\")","v":""},{"$f":"IF(【ジュエリー】入力欄!M104=\"\",\"\",【ジュエリー】入力欄!M104)","v":""},{"$f":"IF(【ジュエリー】入力欄!O104=\"\",\"\",【ジュエリー】入力欄!O104)","v":""}]
["１０",{"$f":"IF(【ジュエリー】入力欄!K105=\"\",\"\",【ジュエリー】入力欄!K105)","v":""},{"$f":"IF(【ジュエリー】入力欄!E105=\"\",\"\",【ジュエリー】入力欄!E105)","v":""},{"$f":"CONCATENATE(IF(【ジュエリー】入力欄!F105=\"\",\"\",【ジュエリー】入力欄!F105),IF(【ジュエリー】入力欄!H105=\"\",CONCATENATE(\" \",【ジュエリー】入力欄!G105),CONCATENATE(\" \",【ジュエリー】入力欄!G105,【ジュエリー】入力欄!H105,IF(【ジュエリー】入力欄!G105=\"パール\",\"mm\",\"ct\"))),IF(【ジュエリー】入力欄!J105=\"\",CONCATENATE(\" \",【ジュエリー】入力欄!I105),CONCATENATE(\" \",【ジュエリー】入力欄!I105,【ジュエリー】入力欄!J105,IF(【ジュエリー】入力欄!I105=\"パール\",\"mm\",\"ct\"))))","v":"  "},{"$f":"IF(【ジュエリー】入力欄!L105=\"\",\"\",【ジュエリー】入力欄!L105&\"g\")","v":""},{"$f":"IF(【ジュエリー】入力欄!M105=\"\",\"\",【ジュエリー】入力欄!M105)","v":""},{"$f":"IF(【ジュエリー】入力欄!O105=\"\",\"\",【ジュエリー】入力欄!O105)","v":""}]
[]
["   \n",{"$f":"CONCATENATE(\"出品表　（　\",【ジュエリー】入力欄!I$3,\"　大吉オークション　宝石・ジュエリー）\")","v":"出品表　（　　大吉オークション　宝石・ジュエリー）"}]
[]
[null,"箱番：",{"$f":"IF(【ジュエリー】入力欄!C106=\"\",\"\",【ジュエリー】入力欄!C106)","v":""},"※太枠の中をご記入ください",null,"会社名",{"$f":"IF(【ジュエリー】入力欄!C$3=\"\",\"\",【ジュエリー】入力欄!C$3)","v":""}]
[]
["番号","品目","金性","詳細・特徴","重量","付属品","指値\n（3万円以上）","発句"]
["１",{"$f":"IF(【ジュエリー】入力欄!K106=\"\",\"\",【ジュエリー】入力欄!K106)","v":""},{"$f":"IF(【ジュエリー】入力欄!E106=\"\",\"\",【ジュエリー】入力欄!E106)","v":""},{"$f":"CONCATENATE(IF(【ジュエリー】入力欄!F106=\"\",\"\",【ジュエリー】入力欄!F106),IF(【ジュエリー】入力欄!H106=\"\",CONCATENATE(\" \",【ジュエリー】入力欄!G106),CONCATENATE(\" \",【ジュエリー】入力欄!G106,【ジュエリー】入力欄!H106,IF(【ジュエリー】入力欄!G106=\"パール\",\"mm\",\"ct\"))),IF(【ジュエリー】入力欄!J106=\"\",CONCATENATE(\" \",【ジュエリー】入力欄!I106),CONCATENATE(\" \",【ジュエリー】入力欄!I106,【ジュエリー】入力欄!J106,IF(【ジュエリー】入力欄!I106=\"パール\",\"mm\",\"ct\"))))","v":"  "},{"$f":"IF(【ジュエリー】入力欄!L106=\"\",\"\",【ジュエリー】入力欄!L106&\"g\")","v":""},{"$f":"IF(【ジュエリー】入力欄!M106=\"\",\"\",【ジュエリー】入力欄!M106)","v":""},{"$f":"IF(【ジュエリー】入力欄!O106=\"\",\"\",【ジュエリー】入力欄!O106)","v":""}]
["２",{"$f":"IF(【ジュエリー】入力欄!K107=\"\",\"\",【ジュエリー】入力欄!K107)","v":""},{"$f":"IF(【ジュエリー】入力欄!E107=\"\",\"\",【ジュエリー】入力欄!E107)","v":""},{"$f":"CONCATENATE(IF(【ジュエリー】入力欄!F107=\"\",\"\",【ジュエリー】入力欄!F107),IF(【ジュエリー】入力欄!H107=\"\",CONCATENATE(\" \",【ジュエリー】入力欄!G107),CONCATENATE(\" \",【ジュエリー】入力欄!G107,【ジュエリー】入力欄!H107,IF(【ジュエリー】入力欄!G107=\"パール\",\"mm\",\"ct\"))),IF(【ジュエリー】入力欄!J107=\"\",CONCATENATE(\" \",【ジュエリー】入力欄!I107),CONCATENATE(\" \",【ジュエリー】入力欄!I107,【ジュエリー】入力欄!J107,IF(【ジュエリー】入力欄!I107=\"パール\",\"mm\",\"ct\"))))","v":"  "},{"$f":"IF(【ジュエリー】入力欄!L107=\"\",\"\",【ジュエリー】入力欄!L107&\"g\")","v":""},{"$f":"IF(【ジュエリー】入力欄!M107=\"\",\"\",【ジュエリー】入力欄!M107)","v":""},{"$f":"IF(【ジュエリー】入力欄!O107=\"\",\"\",【ジュエリー】入力欄!O107)","v":""}]
["３",{"$f":"IF(【ジュエリー】入力欄!K108=\"\",\"\",【ジュエリー】入力欄!K108)","v":""},{"$f":"IF(【ジュエリー】入力欄!E108=\"\",\"\",【ジュエリー】入力欄!E108)","v":""},{"$f":"CONCATENATE(IF(【ジュエリー】入力欄!F108=\"\",\"\",【ジュエリー】入力欄!F108),IF(【ジュエリー】入力欄!H108=\"\",CONCATENATE(\" \",【ジュエリー】入力欄!G108),CONCATENATE(\" \",【ジュエリー】入力欄!G108,【ジュエリー】入力欄!H108,IF(【ジュエリー】入力欄!G108=\"パール\",\"mm\",\"ct\"))),IF(【ジュエリー】入力欄!J108=\"\",CONCATENATE(\" \",【ジュエリー】入力欄!I108),CONCATENATE(\" \",【ジュエリー】入力欄!I108,【ジュエリー】入力欄!J108,IF(【ジュエリー】入力欄!I108=\"パール\",\"mm\",\"ct\"))))","v":"  "},{"$f":"IF(【ジュエリー】入力欄!L108=\"\",\"\",【ジュエリー】入力欄!L108&\"g\")","v":""},{"$f":"IF(【ジュエリー】入力欄!M108=\"\",\"\",【ジュエリー】入力欄!M108)","v":""},{"$f":"IF(【ジュエリー】入力欄!O108=\"\",\"\",【ジュエリー】入力欄!O108)","v":""}]
["４",{"$f":"IF(【ジュエリー】入力欄!K109=\"\",\"\",【ジュエリー】入力欄!K109)","v":""},{"$f":"IF(【ジュエリー】入力欄!E109=\"\",\"\",【ジュエリー】入力欄!E109)","v":""},{"$f":"CONCATENATE(IF(【ジュエリー】入力欄!F109=\"\",\"\",【ジュエリー】入力欄!F109),IF(【ジュエリー】入力欄!H109=\"\",CONCATENATE(\" \",【ジュエリー】入力欄!G109),CONCATENATE(\" \",【ジュエリー】入力欄!G109,【ジュエリー】入力欄!H109,IF(【ジュエリー】入力欄!G109=\"パール\",\"mm\",\"ct\"))),IF(【ジュエリー】入力欄!J109=\"\",CONCATENATE(\" \",【ジュエリー】入力欄!I109),CONCATENATE(\" \",【ジュエリー】入力欄!I109,【ジュエリー】入力欄!J109,IF(【ジュエリー】入力欄!I109=\"パール\",\"mm\",\"ct\"))))","v":"  "},{"$f":"IF(【ジュエリー】入力欄!L109=\"\",\"\",【ジュエリー】入力欄!L109&\"g\")","v":""},{"$f":"IF(【ジュエリー】入力欄!M109=\"\",\"\",【ジュエリー】入力欄!M109)","v":""},{"$f":"IF(【ジュエリー】入力欄!O109=\"\",\"\",【ジュエリー】入力欄!O109)","v":""}]
["５",{"$f":"IF(【ジュエリー】入力欄!K110=\"\",\"\",【ジュエリー】入力欄!K110)","v":""},{"$f":"IF(【ジュエリー】入力欄!E110=\"\",\"\",【ジュエリー】入力欄!E110)","v":""},{"$f":"CONCATENATE(IF(【ジュエリー】入力欄!F110=\"\",\"\",【ジュエリー】入力欄!F110),IF(【ジュエリー】入力欄!H110=\"\",CONCATENATE(\" \",【ジュエリー】入力欄!G110),CONCATENATE(\" \",【ジュエリー】入力欄!G110,【ジュエリー】入力欄!H110,IF(【ジュエリー】入力欄!G110=\"パール\",\"mm\",\"ct\"))),IF(【ジュエリー】入力欄!J110=\"\",CONCATENATE(\" \",【ジュエリー】入力欄!I110),CONCATENATE(\" \",【ジュエリー】入力欄!I110,【ジュエリー】入力欄!J110,IF(【ジュエリー】入力欄!I110=\"パール\",\"mm\",\"ct\"))))","v":"  "},{"$f":"IF(【ジュエリー】入力欄!L110=\"\",\"\",【ジュエリー】入力欄!L110&\"g\")","v":""},{"$f":"IF(【ジュエリー】入力欄!M110=\"\",\"\",【ジュエリー】入力欄!M110)","v":""},{"$f":"IF(【ジュエリー】入力欄!O110=\"\",\"\",【ジュエリー】入力欄!O110)","v":""}]
["６",{"$f":"IF(【ジュエリー】入力欄!K111=\"\",\"\",【ジュエリー】入力欄!K111)","v":""},{"$f":"IF(【ジュエリー】入力欄!E111=\"\",\"\",【ジュエリー】入力欄!E111)","v":""},{"$f":"CONCATENATE(IF(【ジュエリー】入力欄!F111=\"\",\"\",【ジュエリー】入力欄!F111),IF(【ジュエリー】入力欄!H111=\"\",CONCATENATE(\" \",【ジュエリー】入力欄!G111),CONCATENATE(\" \",【ジュエリー】入力欄!G111,【ジュエリー】入力欄!H111,IF(【ジュエリー】入力欄!G111=\"パール\",\"mm\",\"ct\"))),IF(【ジュエリー】入力欄!J111=\"\",CONCATENATE(\" \",【ジュエリー】入力欄!I111),CONCATENATE(\" \",【ジュエリー】入力欄!I111,【ジュエリー】入力欄!J111,IF(【ジュエリー】入力欄!I111=\"パール\",\"mm\",\"ct\"))))","v":"  "},{"$f":"IF(【ジュエリー】入力欄!L111=\"\",\"\",【ジュエリー】入力欄!L111&\"g\")","v":""},{"$f":"IF(【ジュエリー】入力欄!M111=\"\",\"\",【ジュエリー】入力欄!M111)","v":""},{"$f":"IF(【ジュエリー】入力欄!O111=\"\",\"\",【ジュエリー】入力欄!O111)","v":""}]
["７",{"$f":"IF(【ジュエリー】入力欄!K112=\"\",\"\",【ジュエリー】入力欄!K112)","v":""},{"$f":"IF(【ジュエリー】入力欄!E112=\"\",\"\",【ジュエリー】入力欄!E112)","v":""},{"$f":"CONCATENATE(IF(【ジュエリー】入力欄!F112=\"\",\"\",【ジュエリー】入力欄!F112),IF(【ジュエリー】入力欄!H112=\"\",CONCATENATE(\" \",【ジュエリー】入力欄!G112),CONCATENATE(\" \",【ジュエリー】入力欄!G112,【ジュエリー】入力欄!H112,IF(【ジュエリー】入力欄!G112=\"パール\",\"mm\",\"ct\"))),IF(【ジュエリー】入力欄!J112=\"\",CONCATENATE(\" \",【ジュエリー】入力欄!I112),CONCATENATE(\" \",【ジュエリー】入力欄!I112,【ジュエリー】入力欄!J112,IF(【ジュエリー】入力欄!I112=\"パール\",\"mm\",\"ct\"))))","v":"  "},{"$f":"IF(【ジュエリー】入力欄!L112=\"\",\"\",【ジュエリー】入力欄!L112&\"g\")","v":""},{"$f":"IF(【ジュエリー】入力欄!M112=\"\",\"\",【ジュエリー】入力欄!M112)","v":""},{"$f":"IF(【ジュエリー】入力欄!O112=\"\",\"\",【ジュエリー】入力欄!O112)","v":""}]
["８",{"$f":"IF(【ジュエリー】入力欄!K113=\"\",\"\",【ジュエリー】入力欄!K113)","v":""},{"$f":"IF(【ジュエリー】入力欄!E113=\"\",\"\",【ジュエリー】入力欄!E113)","v":""},{"$f":"CONCATENATE(IF(【ジュエリー】入力欄!F113=\"\",\"\",【ジュエリー】入力欄!F113),IF(【ジュエリー】入力欄!H113=\"\",CONCATENATE(\" \",【ジュエリー】入力欄!G113),CONCATENATE(\" \",【ジュエリー】入力欄!G113,【ジュエリー】入力欄!H113,IF(【ジュエリー】入力欄!G113=\"パール\",\"mm\",\"ct\"))),IF(【ジュエリー】入力欄!J113=\"\",CONCATENATE(\" \",【ジュエリー】入力欄!I113),CONCATENATE(\" \",【ジュエリー】入力欄!I113,【ジュエリー】入力欄!J113,IF(【ジュエリー】入力欄!I113=\"パール\",\"mm\",\"ct\"))))","v":"  "},{"$f":"IF(【ジュエリー】入力欄!L113=\"\",\"\",【ジュエリー】入力欄!L113&\"g\")","v":""},{"$f":"IF(【ジュエリー】入力欄!M113=\"\",\"\",【ジュエリー】入力欄!M113)","v":""},{"$f":"IF(【ジュエリー】入力欄!O113=\"\",\"\",【ジュエリー】入力欄!O113)","v":""}]
["９",{"$f":"IF(【ジュエリー】入力欄!K114=\"\",\"\",【ジュエリー】入力欄!K114)","v":""},{"$f":"IF(【ジュエリー】入力欄!E114=\"\",\"\",【ジュエリー】入力欄!E114)","v":""},{"$f":"CONCATENATE(IF(【ジュエリー】入力欄!F114=\"\",\"\",【ジュエリー】入力欄!F114),IF(【ジュエリー】入力欄!H114=\"\",CONCATENATE(\" \",【ジュエリー】入力欄!G114),CONCATENATE(\" \",【ジュエリー】入力欄!G114,【ジュエリー】入力欄!H114,IF(【ジュエリー】入力欄!G114=\"パール\",\"mm\",\"ct\"))),IF(【ジュエリー】入力欄!J114=\"\",CONCATENATE(\" \",【ジュエリー】入力欄!I114),CONCATENATE(\" \",【ジュエリー】入力欄!I114,【ジュエリー】入力欄!J114,IF(【ジュエリー】入力欄!I114=\"パール\",\"mm\",\"ct\"))))","v":"  "},{"$f":"IF(【ジュエリー】入力欄!L114=\"\",\"\",【ジュエリー】入力欄!L114&\"g\")","v":""},{"$f":"IF(【ジュエリー】入力欄!M114=\"\",\"\",【ジュエリー】入力欄!M114)","v":""},{"$f":"IF(【ジュエリー】入力欄!O114=\"\",\"\",【ジュエリー】入力欄!O114)","v":""}]
["１０",{"$f":"IF(【ジュエリー】入力欄!K115=\"\",\"\",【ジュエリー】入力欄!K115)","v":""},{"$f":"IF(【ジュエリー】入力欄!E115=\"\",\"\",【ジュエリー】入力欄!E115)","v":""},{"$f":"CONCATENATE(IF(【ジュエリー】入力欄!F115=\"\",\"\",【ジュエリー】入力欄!F115),IF(【ジュエリー】入力欄!H115=\"\",CONCATENATE(\" \",【ジュエリー】入力欄!G115),CONCATENATE(\" \",【ジュエリー】入力欄!G115,【ジュエリー】入力欄!H115,IF(【ジュエリー】入力欄!G115=\"パール\",\"mm\",\"ct\"))),IF(【ジュエリー】入力欄!J115=\"\",CONCATENATE(\" \",【ジュエリー】入力欄!I115),CONCATENATE(\" \",【ジュエリー】入力欄!I115,【ジュエリー】入力欄!J115,IF(【ジュエリー】入力欄!I115=\"パール\",\"mm\",\"ct\"))))","v":"  "},{"$f":"IF(【ジュエリー】入力欄!L115=\"\",\"\",【ジュエリー】入力欄!L115&\"g\")","v":""},{"$f":"IF(【ジュエリー】入力欄!M115=\"\",\"\",【ジュエリー】入力欄!M115)","v":""},{"$f":"IF(【ジュエリー】入力欄!O115=\"\",\"\",【ジュエリー】入力欄!O115)","v":""}]
[]
["   \n",{"$f":"CONCATENATE(\"出品表　（　\",【ジュエリー】入力欄!I$3,\"　APREオークション　宝石・ジュエリー）\")","v":"出品表　（　　APREオークション　宝石・ジュエリー）"}]
[]
[null,"箱番：",{"$f":"IF(【ジュエリー】入力欄!C116=\"\",\"\",【ジュエリー】入力欄!C116)","v":""},"※太枠の中をご記入ください",null,"会社名",{"$f":"IF(【ジュエリー】入力欄!C$3=\"\",\"\",【ジュエリー】入力欄!C$3)","v":""}]
[]
["番号","品目","金性","詳細・特徴","重量","付属品","指値\n（3万円以上）","発句"]
["１",{"$f":"IF(【ジュエリー】入力欄!K116=\"\",\"\",【ジュエリー】入力欄!K116)","v":""},{"$f":"IF(【ジュエリー】入力欄!E116=\"\",\"\",【ジュエリー】入力欄!E116)","v":""},{"$f":"CONCATENATE(IF(【ジュエリー】入力欄!F116=\"\",\"\",【ジュエリー】入力欄!F116),IF(【ジュエリー】入力欄!H116=\"\",CONCATENATE(\" \",【ジュエリー】入力欄!G116),CONCATENATE(\" \",【ジュエリー】入力欄!G116,【ジュエリー】入力欄!H116,IF(【ジュエリー】入力欄!G116=\"パール\",\"mm\",\"ct\"))),IF(【ジュエリー】入力欄!J116=\"\",CONCATENATE(\" \",【ジュエリー】入力欄!I116),CONCATENATE(\" \",【ジュエリー】入力欄!I116,【ジュエリー】入力欄!J116,IF(【ジュエリー】入力欄!I116=\"パール\",\"mm\",\"ct\"))))","v":"  "},{"$f":"IF(【ジュエリー】入力欄!L116=\"\",\"\",【ジュエリー】入力欄!L116&\"g\")","v":""},{"$f":"IF(【ジュエリー】入力欄!M116=\"\",\"\",【ジュエリー】入力欄!M116)","v":""},{"$f":"IF(【ジュエリー】入力欄!O116=\"\",\"\",【ジュエリー】入力欄!O116)","v":""}]
["２",{"$f":"IF(【ジュエリー】入力欄!K117=\"\",\"\",【ジュエリー】入力欄!K117)","v":""},{"$f":"IF(【ジュエリー】入力欄!E117=\"\",\"\",【ジュエリー】入力欄!E117)","v":""},{"$f":"CONCATENATE(IF(【ジュエリー】入力欄!F117=\"\",\"\",【ジュエリー】入力欄!F117),IF(【ジュエリー】入力欄!H117=\"\",CONCATENATE(\" \",【ジュエリー】入力欄!G117),CONCATENATE(\" \",【ジュエリー】入力欄!G117,【ジュエリー】入力欄!H117,IF(【ジュエリー】入力欄!G117=\"パール\",\"mm\",\"ct\"))),IF(【ジュエリー】入力欄!J117=\"\",CONCATENATE(\" \",【ジュエリー】入力欄!I117),CONCATENATE(\" \",【ジュエリー】入力欄!I117,【ジュエリー】入力欄!J117,IF(【ジュエリー】入力欄!I117=\"パール\",\"mm\",\"ct\"))))","v":"  "},{"$f":"IF(【ジュエリー】入力欄!L117=\"\",\"\",【ジュエリー】入力欄!L117&\"g\")","v":""},{"$f":"IF(【ジュエリー】入力欄!M117=\"\",\"\",【ジュエリー】入力欄!M117)","v":""},{"$f":"IF(【ジュエリー】入力欄!O117=\"\",\"\",【ジュエリー】入力欄!O117)","v":""}]
["３",{"$f":"IF(【ジュエリー】入力欄!K118=\"\",\"\",【ジュエリー】入力欄!K118)","v":""},{"$f":"IF(【ジュエリー】入力欄!E118=\"\",\"\",【ジュエリー】入力欄!E118)","v":""},{"$f":"CONCATENATE(IF(【ジュエリー】入力欄!F118=\"\",\"\",【ジュエリー】入力欄!F118),IF(【ジュエリー】入力欄!H118=\"\",CONCATENATE(\" \",【ジュエリー】入力欄!G118),CONCATENATE(\" \",【ジュエリー】入力欄!G118,【ジュエリー】入力欄!H118,IF(【ジュエリー】入力欄!G118=\"パール\",\"mm\",\"ct\"))),IF(【ジュエリー】入力欄!J118=\"\",CONCATENATE(\" \",【ジュエリー】入力欄!I118),CONCATENATE(\" \",【ジュエリー】入力欄!I118,【ジュエリー】入力欄!J118,IF(【ジュエリー】入力欄!I118=\"パール\",\"mm\",\"ct\"))))","v":"  "},{"$f":"IF(【ジュエリー】入力欄!L118=\"\",\"\",【ジュエリー】入力欄!L118&\"g\")","v":""},{"$f":"IF(【ジュエリー】入力欄!M118=\"\",\"\",【ジュエリー】入力欄!M118)","v":""},{"$f":"IF(【ジュエリー】入力欄!O118=\"\",\"\",【ジュエリー】入力欄!O118)","v":""}]
["４",{"$f":"IF(【ジュエリー】入力欄!K119=\"\",\"\",【ジュエリー】入力欄!K119)","v":""},{"$f":"IF(【ジュエリー】入力欄!E119=\"\",\"\",【ジュエリー】入力欄!E119)","v":""},{"$f":"CONCATENATE(IF(【ジュエリー】入力欄!F119=\"\",\"\",【ジュエリー】入力欄!F119),IF(【ジュエリー】入力欄!H119=\"\",CONCATENATE(\" \",【ジュエリー】入力欄!G119),CONCATENATE(\" \",【ジュエリー】入力欄!G119,【ジュエリー】入力欄!H119,IF(【ジュエリー】入力欄!G119=\"パール\",\"mm\",\"ct\"))),IF(【ジュエリー】入力欄!J119=\"\",CONCATENATE(\" \",【ジュエリー】入力欄!I119),CONCATENATE(\" \",【ジュエリー】入力欄!I119,【ジュエリー】入力欄!J119,IF(【ジュエリー】入力欄!I119=\"パール\",\"mm\",\"ct\"))))","v":"  "},{"$f":"IF(【ジュエリー】入力欄!L119=\"\",\"\",【ジュエリー】入力欄!L119&\"g\")","v":""},{"$f":"IF(【ジュエリー】入力欄!M119=\"\",\"\",【ジュエリー】入力欄!M119)","v":""},{"$f":"IF(【ジュエリー】入力欄!O119=\"\",\"\",【ジュエリー】入力欄!O119)","v":""}]
["５",{"$f":"IF(【ジュエリー】入力欄!K120=\"\",\"\",【ジュエリー】入力欄!K120)","v":""},{"$f":"IF(【ジュエリー】入力欄!E120=\"\",\"\",【ジュエリー】入力欄!E120)","v":""},{"$f":"CONCATENATE(IF(【ジュエリー】入力欄!F120=\"\",\"\",【ジュエリー】入力欄!F120),IF(【ジュエリー】入力欄!H120=\"\",CONCATENATE(\" \",【ジュエリー】入力欄!G120),CONCATENATE(\" \",【ジュエリー】入力欄!G120,【ジュエリー】入力欄!H120,IF(【ジュエリー】入力欄!G120=\"パール\",\"mm\",\"ct\"))),IF(【ジュエリー】入力欄!J120=\"\",CONCATENATE(\" \",【ジュエリー】入力欄!I120),CONCATENATE(\" \",【ジュエリー】入力欄!I120,【ジュエリー】入力欄!J120,IF(【ジュエリー】入力欄!I120=\"パール\",\"mm\",\"ct\"))))","v":"  "},{"$f":"IF(【ジュエリー】入力欄!L120=\"\",\"\",【ジュエリー】入力欄!L120&\"g\")","v":""},{"$f":"IF(【ジュエリー】入力欄!M120=\"\",\"\",【ジュエリー】入力欄!M120)","v":""},{"$f":"IF(【ジュエリー】入力欄!O120=\"\",\"\",【ジュエリー】入力欄!O120)","v":""}]
["６",{"$f":"IF(【ジュエリー】入力欄!K121=\"\",\"\",【ジュエリー】入力欄!K121)","v":""},{"$f":"IF(【ジュエリー】入力欄!E121=\"\",\"\",【ジュエリー】入力欄!E121)","v":""},{"$f":"CONCATENATE(IF(【ジュエリー】入力欄!F121=\"\",\"\",【ジュエリー】入力欄!F121),IF(【ジュエリー】入力欄!H121=\"\",CONCATENATE(\" \",【ジュエリー】入力欄!G121),CONCATENATE(\" \",【ジュエリー】入力欄!G121,【ジュエリー】入力欄!H121,IF(【ジュエリー】入力欄!G121=\"パール\",\"mm\",\"ct\"))),IF(【ジュエリー】入力欄!J121=\"\",CONCATENATE(\" \",【ジュエリー】入力欄!I121),CONCATENATE(\" \",【ジュエリー】入力欄!I121,【ジュエリー】入力欄!J121,IF(【ジュエリー】入力欄!I121=\"パール\",\"mm\",\"ct\"))))","v":"  "},{"$f":"IF(【ジュエリー】入力欄!L121=\"\",\"\",【ジュエリー】入力欄!L121&\"g\")","v":""},{"$f":"IF(【ジュエリー】入力欄!M121=\"\",\"\",【ジュエリー】入力欄!M121)","v":""},{"$f":"IF(【ジュエリー】入力欄!O121=\"\",\"\",【ジュエリー】入力欄!O121)","v":""}]
["７",{"$f":"IF(【ジュエリー】入力欄!K122=\"\",\"\",【ジュエリー】入力欄!K122)","v":""},{"$f":"IF(【ジュエリー】入力欄!E122=\"\",\"\",【ジュエリー】入力欄!E122)","v":""},{"$f":"CONCATENATE(IF(【ジュエリー】入力欄!F122=\"\",\"\",【ジュエリー】入力欄!F122),IF(【ジュエリー】入力欄!H122=\"\",CONCATENATE(\" \",【ジュエリー】入力欄!G122),CONCATENATE(\" \",【ジュエリー】入力欄!G122,【ジュエリー】入力欄!H122,IF(【ジュエリー】入力欄!G122=\"パール\",\"mm\",\"ct\"))),IF(【ジュエリー】入力欄!J122=\"\",CONCATENATE(\" \",【ジュエリー】入力欄!I122),CONCATENATE(\" \",【ジュエリー】入力欄!I122,【ジュエリー】入力欄!J122,IF(【ジュエリー】入力欄!I122=\"パール\",\"mm\",\"ct\"))))","v":"  "},{"$f":"IF(【ジュエリー】入力欄!L122=\"\",\"\",【ジュエリー】入力欄!L122&\"g\")","v":""},{"$f":"IF(【ジュエリー】入力欄!M122=\"\",\"\",【ジュエリー】入力欄!M122)","v":""},{"$f":"IF(【ジュエリー】入力欄!O122=\"\",\"\",【ジュエリー】入力欄!O122)","v":""}]
["８",{"$f":"IF(【ジュエリー】入力欄!K123=\"\",\"\",【ジュエリー】入力欄!K123)","v":""},{"$f":"IF(【ジュエリー】入力欄!E123=\"\",\"\",【ジュエリー】入力欄!E123)","v":""},{"$f":"CONCATENATE(IF(【ジュエリー】入力欄!F123=\"\",\"\",【ジュエリー】入力欄!F123),IF(【ジュエリー】入力欄!H123=\"\",CONCATENATE(\" \",【ジュエリー】入力欄!G123),CONCATENATE(\" \",【ジュエリー】入力欄!G123,【ジュエリー】入力欄!H123,IF(【ジュエリー】入力欄!G123=\"パール\",\"mm\",\"ct\"))),IF(【ジュエリー】入力欄!J123=\"\",CONCATENATE(\" \",【ジュエリー】入力欄!I123),CONCATENATE(\" \",【ジュエリー】入力欄!I123,【ジュエリー】入力欄!J123,IF(【ジュエリー】入力欄!I123=\"パール\",\"mm\",\"ct\"))))","v":"  "},{"$f":"IF(【ジュエリー】入力欄!L123=\"\",\"\",【ジュエリー】入力欄!L123&\"g\")","v":""},{"$f":"IF(【ジュエリー】入力欄!M123=\"\",\"\",【ジュエリー】入力欄!M123)","v":""},{"$f":"IF(【ジュエリー】入力欄!O123=\"\",\"\",【ジュエリー】入力欄!O123)","v":""}]
["９",{"$f":"IF(【ジュエリー】入力欄!K124=\"\",\"\",【ジュエリー】入力欄!K124)","v":""},{"$f":"IF(【ジュエリー】入力欄!E124=\"\",\"\",【ジュエリー】入力欄!E124)","v":""},{"$f":"CONCATENATE(IF(【ジュエリー】入力欄!F124=\"\",\"\",【ジュエリー】入力欄!F124),IF(【ジュエリー】入力欄!H124=\"\",CONCATENATE(\" \",【ジュエリー】入力欄!G124),CONCATENATE(\" \",【ジュエリー】入力欄!G124,【ジュエリー】入力欄!H124,IF(【ジュエリー】入力欄!G124=\"パール\",\"mm\",\"ct\"))),IF(【ジュエリー】入力欄!J124=\"\",CONCATENATE(\" \",【ジュエリー】入力欄!I124),CONCATENATE(\" \",【ジュエリー】入力欄!I124,【ジュエリー】入力欄!J124,IF(【ジュエリー】入力欄!I124=\"パール\",\"mm\",\"ct\"))))","v":"  "},{"$f":"IF(【ジュエリー】入力欄!L124=\"\",\"\",【ジュエリー】入力欄!L124&\"g\")","v":""},{"$f":"IF(【ジュエリー】入力欄!M124=\"\",\"\",【ジュエリー】入力欄!M124)","v":""},{"$f":"IF(【ジュエリー】入力欄!O124=\"\",\"\",【ジュエリー】入力欄!O124)","v":""}]
["１０",{"$f":"IF(【ジュエリー】入力欄!K125=\"\",\"\",【ジュエリー】入力欄!K125)","v":""},{"$f":"IF(【ジュエリー】入力欄!E125=\"\",\"\",【ジュエリー】入力欄!E125)","v":""},{"$f":"CONCATENATE(IF(【ジュエリー】入力欄!F125=\"\",\"\",【ジュエリー】入力欄!F125),IF(【ジュエリー】入力欄!H125=\"\",CONCATENATE(\" \",【ジュエリー】入力欄!G125),CONCATENATE(\" \",【ジュエリー】入力欄!G125,【ジュエリー】入力欄!H125,IF(【ジュエリー】入力欄!G125=\"パール\",\"mm\",\"ct\"))),IF(【ジュエリー】入力欄!J125=\"\",CONCATENATE(\" \",【ジュエリー】入力欄!I125),CONCATENATE(\" \",【ジュエリー】入力欄!I125,【ジュエリー】入力欄!J125,IF(【ジュエリー】入力欄!I125=\"パール\",\"mm\",\"ct\"))))","v":"  "},{"$f":"IF(【ジュエリー】入力欄!L125=\"\",\"\",【ジュエリー】入力欄!L125&\"g\")","v":""},{"$f":"IF(【ジュエリー】入力欄!M125=\"\",\"\",【ジュエリー】入力欄!M125)","v":""},{"$f":"IF(【ジュエリー】入力欄!O125=\"\",\"\",【ジュエリー】入力欄!O125)","v":""}]
[]
["   \n",{"$f":"CONCATENATE(\"出品表　（　\",【ジュエリー】入力欄!I$3,\"　大吉オークション　宝石・ジュエリー）\")","v":"出品表　（　　大吉オークション　宝石・ジュエリー）"}]
[]
[null,"箱番：",{"$f":"IF(【ジュエリー】入力欄!C126=\"\",\"\",【ジュエリー】入力欄!C126)","v":""},"※太枠の中をご記入ください",null,"会社名",{"$f":"IF(【ジュエリー】入力欄!C$3=\"\",\"\",【ジュエリー】入力欄!C$3)","v":""}]
[]
["番号","品目","金性","詳細・特徴","重量","付属品","指値\n（3万円以上）","発句"]
["１",{"$f":"IF(【ジュエリー】入力欄!K126=\"\",\"\",【ジュエリー】入力欄!K126)","v":""},{"$f":"IF(【ジュエリー】入力欄!E126=\"\",\"\",【ジュエリー】入力欄!E126)","v":""},{"$f":"CONCATENATE(IF(【ジュエリー】入力欄!F126=\"\",\"\",【ジュエリー】入力欄!F126),IF(【ジュエリー】入力欄!H126=\"\",CONCATENATE(\" \",【ジュエリー】入力欄!G126),CONCATENATE(\" \",【ジュエリー】入力欄!G126,【ジュエリー】入力欄!H126,IF(【ジュエリー】入力欄!G126=\"パール\",\"mm\",\"ct\"))),IF(【ジュエリー】入力欄!J126=\"\",CONCATENATE(\" \",【ジュエリー】入力欄!I126),CONCATENATE(\" \",【ジュエリー】入力欄!I126,【ジュエリー】入力欄!J126,IF(【ジュエリー】入力欄!I126=\"パール\",\"mm\",\"ct\"))))","v":"  "},{"$f":"IF(【ジュエリー】入力欄!L126=\"\",\"\",【ジュエリー】入力欄!L126&\"g\")","v":""},{"$f":"IF(【ジュエリー】入力欄!M126=\"\",\"\",【ジュエリー】入力欄!M126)","v":""},{"$f":"IF(【ジュエリー】入力欄!O126=\"\",\"\",【ジュエリー】入力欄!O126)","v":""}]
["２",{"$f":"IF(【ジュエリー】入力欄!K127=\"\",\"\",【ジュエリー】入力欄!K127)","v":""},{"$f":"IF(【ジュエリー】入力欄!E127=\"\",\"\",【ジュエリー】入力欄!E127)","v":""},{"$f":"CONCATENATE(IF(【ジュエリー】入力欄!F127=\"\",\"\",【ジュエリー】入力欄!F127),IF(【ジュエリー】入力欄!H127=\"\",CONCATENATE(\" \",【ジュエリー】入力欄!G127),CONCATENATE(\" \",【ジュエリー】入力欄!G127,【ジュエリー】入力欄!H127,IF(【ジュエリー】入力欄!G127=\"パール\",\"mm\",\"ct\"))),IF(【ジュエリー】入力欄!J127=\"\",CONCATENATE(\" \",【ジュエリー】入力欄!I127),CONCATENATE(\" \",【ジュエリー】入力欄!I127,【ジュエリー】入力欄!J127,IF(【ジュエリー】入力欄!I127=\"パール\",\"mm\",\"ct\"))))","v":"  "},{"$f":"IF(【ジュエリー】入力欄!L127=\"\",\"\",【ジュエリー】入力欄!L127&\"g\")","v":""},{"$f":"IF(【ジュエリー】入力欄!M127=\"\",\"\",【ジュエリー】入力欄!M127)","v":""},{"$f":"IF(【ジュエリー】入力欄!O127=\"\",\"\",【ジュエリー】入力欄!O127)","v":""}]
["３",{"$f":"IF(【ジュエリー】入力欄!K128=\"\",\"\",【ジュエリー】入力欄!K128)","v":""},{"$f":"IF(【ジュエリー】入力欄!E128=\"\",\"\",【ジュエリー】入力欄!E128)","v":""},{"$f":"CONCATENATE(IF(【ジュエリー】入力欄!F128=\"\",\"\",【ジュエリー】入力欄!F128),IF(【ジュエリー】入力欄!H128=\"\",CONCATENATE(\" \",【ジュエリー】入力欄!G128),CONCATENATE(\" \",【ジュエリー】入力欄!G128,【ジュエリー】入力欄!H128,IF(【ジュエリー】入力欄!G128=\"パール\",\"mm\",\"ct\"))),IF(【ジュエリー】入力欄!J128=\"\",CONCATENATE(\" \",【ジュエリー】入力欄!I128),CONCATENATE(\" \",【ジュエリー】入力欄!I128,【ジュエリー】入力欄!J128,IF(【ジュエリー】入力欄!I128=\"パール\",\"mm\",\"ct\"))))","v":"  "},{"$f":"IF(【ジュエリー】入力欄!L128=\"\",\"\",【ジュエリー】入力欄!L128&\"g\")","v":""},{"$f":"IF(【ジュエリー】入力欄!M128=\"\",\"\",【ジュエリー】入力欄!M128)","v":""},{"$f":"IF(【ジュエリー】入力欄!O128=\"\",\"\",【ジュエリー】入力欄!O128)","v":""}]
["４",{"$f":"IF(【ジュエリー】入力欄!K129=\"\",\"\",【ジュエリー】入力欄!K129)","v":""},{"$f":"IF(【ジュエリー】入力欄!E129=\"\",\"\",【ジュエリー】入力欄!E129)","v":""},{"$f":"CONCATENATE(IF(【ジュエリー】入力欄!F129=\"\",\"\",【ジュエリー】入力欄!F129),IF(【ジュエリー】入力欄!H129=\"\",CONCATENATE(\" \",【ジュエリー】入力欄!G129),CONCATENATE(\" \",【ジュエリー】入力欄!G129,【ジュエリー】入力欄!H129,IF(【ジュエリー】入力欄!G129=\"パール\",\"mm\",\"ct\"))),IF(【ジュエリー】入力欄!J129=\"\",CONCATENATE(\" \",【ジュエリー】入力欄!I129),CONCATENATE(\" \",【ジュエリー】入力欄!I129,【ジュエリー】入力欄!J129,IF(【ジュエリー】入力欄!I129=\"パール\",\"mm\",\"ct\"))))","v":"  "},{"$f":"IF(【ジュエリー】入力欄!L129=\"\",\"\",【ジュエリー】入力欄!L129&\"g\")","v":""},{"$f":"IF(【ジュエリー】入力欄!M129=\"\",\"\",【ジュエリー】入力欄!M129)","v":""},{"$f":"IF(【ジュエリー】入力欄!O129=\"\",\"\",【ジュエリー】入力欄!O129)","v":""}]
["５",{"$f":"IF(【ジュエリー】入力欄!K130=\"\",\"\",【ジュエリー】入力欄!K130)","v":""},{"$f":"IF(【ジュエリー】入力欄!E130=\"\",\"\",【ジュエリー】入力欄!E130)","v":""},{"$f":"CONCATENATE(IF(【ジュエリー】入力欄!F130=\"\",\"\",【ジュエリー】入力欄!F130),IF(【ジュエリー】入力欄!H130=\"\",CONCATENATE(\" \",【ジュエリー】入力欄!G130),CONCATENATE(\" \",【ジュエリー】入力欄!G130,【ジュエリー】入力欄!H130,IF(【ジュエリー】入力欄!G130=\"パール\",\"mm\",\"ct\"))),IF(【ジュエリー】入力欄!J130=\"\",CONCATENATE(\" \",【ジュエリー】入力欄!I130),CONCATENATE(\" \",【ジュエリー】入力欄!I130,【ジュエリー】入力欄!J130,IF(【ジュエリー】入力欄!I130=\"パール\",\"mm\",\"ct\"))))","v":"  "},{"$f":"IF(【ジュエリー】入力欄!L130=\"\",\"\",【ジュエリー】入力欄!L130&\"g\")","v":""},{"$f":"IF(【ジュエリー】入力欄!M130=\"\",\"\",【ジュエリー】入力欄!M130)","v":""},{"$f":"IF(【ジュエリー】入力欄!O130=\"\",\"\",【ジュエリー】入力欄!O130)","v":""}]
["６",{"$f":"IF(【ジュエリー】入力欄!K131=\"\",\"\",【ジュエリー】入力欄!K131)","v":""},{"$f":"IF(【ジュエリー】入力欄!E131=\"\",\"\",【ジュエリー】入力欄!E131)","v":""},{"$f":"CONCATENATE(IF(【ジュエリー】入力欄!F131=\"\",\"\",【ジュエリー】入力欄!F131),IF(【ジュエリー】入力欄!H131=\"\",CONCATENATE(\" \",【ジュエリー】入力欄!G131),CONCATENATE(\" \",【ジュエリー】入力欄!G131,【ジュエリー】入力欄!H131,IF(【ジュエリー】入力欄!G131=\"パール\",\"mm\",\"ct\"))),IF(【ジュエリー】入力欄!J131=\"\",CONCATENATE(\" \",【ジュエリー】入力欄!I131),CONCATENATE(\" \",【ジュエリー】入力欄!I131,【ジュエリー】入力欄!J131,IF(【ジュエリー】入力欄!I131=\"パール\",\"mm\",\"ct\"))))","v":"  "},{"$f":"IF(【ジュエリー】入力欄!L131=\"\",\"\",【ジュエリー】入力欄!L131&\"g\")","v":""},{"$f":"IF(【ジュエリー】入力欄!M131=\"\",\"\",【ジュエリー】入力欄!M131)","v":""},{"$f":"IF(【ジュエリー】入力欄!O131=\"\",\"\",【ジュエリー】入力欄!O131)","v":""}]
["７",{"$f":"IF(【ジュエリー】入力欄!K132=\"\",\"\",【ジュエリー】入力欄!K132)","v":""},{"$f":"IF(【ジュエリー】入力欄!E132=\"\",\"\",【ジュエリー】入力欄!E132)","v":""},{"$f":"CONCATENATE(IF(【ジュエリー】入力欄!F132=\"\",\"\",【ジュエリー】入力欄!F132),IF(【ジュエリー】入力欄!H132=\"\",CONCATENATE(\" \",【ジュエリー】入力欄!G132),CONCATENATE(\" \",【ジュエリー】入力欄!G132,【ジュエリー】入力欄!H132,IF(【ジュエリー】入力欄!G132=\"パール\",\"mm\",\"ct\"))),IF(【ジュエリー】入力欄!J132=\"\",CONCATENATE(\" \",【ジュエリー】入力欄!I132),CONCATENATE(\" \",【ジュエリー】入力欄!I132,【ジュエリー】入力欄!J132,IF(【ジュエリー】入力欄!I132=\"パール\",\"mm\",\"ct\"))))","v":"  "},{"$f":"IF(【ジュエリー】入力欄!L132=\"\",\"\",【ジュエリー】入力欄!L132&\"g\")","v":""},{"$f":"IF(【ジュエリー】入力欄!M132=\"\",\"\",【ジュエリー】入力欄!M132)","v":""},{"$f":"IF(【ジュエリー】入力欄!O132=\"\",\"\",【ジュエリー】入力欄!O132)","v":""}]
["８",{"$f":"IF(【ジュエリー】入力欄!K133=\"\",\"\",【ジュエリー】入力欄!K133)","v":""},{"$f":"IF(【ジュエリー】入力欄!E133=\"\",\"\",【ジュエリー】入力欄!E133)","v":""},{"$f":"CONCATENATE(IF(【ジュエリー】入力欄!F133=\"\",\"\",【ジュエリー】入力欄!F133),IF(【ジュエリー】入力欄!H133=\"\",CONCATENATE(\" \",【ジュエリー】入力欄!G133),CONCATENATE(\" \",【ジュエリー】入力欄!G133,【ジュエリー】入力欄!H133,IF(【ジュエリー】入力欄!G133=\"パール\",\"mm\",\"ct\"))),IF(【ジュエリー】入力欄!J133=\"\",CONCATENATE(\" \",【ジュエリー】入力欄!I133),CONCATENATE(\" \",【ジュエリー】入力欄!I133,【ジュエリー】入力欄!J133,IF(【ジュエリー】入力欄!I133=\"パール\",\"mm\",\"ct\"))))","v":"  "},{"$f":"IF(【ジュエリー】入力欄!L133=\"\",\"\",【ジュエリー】入力欄!L133&\"g\")","v":""},{"$f":"IF(【ジュエリー】入力欄!M133=\"\",\"\",【ジュエリー】入力欄!M133)","v":""},{"$f":"IF(【ジュエリー】入力欄!O133=\"\",\"\",【ジュエリー】入力欄!O133)","v":""}]
["９",{"$f":"IF(【ジュエリー】入力欄!K134=\"\",\"\",【ジュエリー】入力欄!K134)","v":""},{"$f":"IF(【ジュエリー】入力欄!E134=\"\",\"\",【ジュエリー】入力欄!E134)","v":""},{"$f":"CONCATENATE(IF(【ジュエリー】入力欄!F134=\"\",\"\",【ジュエリー】入力欄!F134),IF(【ジュエリー】入力欄!H134=\"\",CONCATENATE(\" \",【ジュエリー】入力欄!G134),CONCATENATE(\" \",【ジュエリー】入力欄!G134,【ジュエリー】入力欄!H134,IF(【ジュエリー】入力欄!G134=\"パール\",\"mm\",\"ct\"))),IF(【ジュエリー】入力欄!J134=\"\",CONCATENATE(\" \",【ジュエリー】入力欄!I134),CONCATENATE(\" \",【ジュエリー】入力欄!I134,【ジュエリー】入力欄!J134,IF(【ジュエリー】入力欄!I134=\"パール\",\"mm\",\"ct\"))))","v":"  "},{"$f":"IF(【ジュエリー】入力欄!L134=\"\",\"\",【ジュエリー】入力欄!L134&\"g\")","v":""},{"$f":"IF(【ジュエリー】入力欄!M134=\"\",\"\",【ジュエリー】入力欄!M134)","v":""},{"$f":"IF(【ジュエリー】入力欄!O134=\"\",\"\",【ジュエリー】入力欄!O134)","v":""}]
["１０",{"$f":"IF(【ジュエリー】入力欄!K135=\"\",\"\",【ジュエリー】入力欄!K135)","v":""},{"$f":"IF(【ジュエリー】入力欄!E135=\"\",\"\",【ジュエリー】入力欄!E135)","v":""},{"$f":"CONCATENATE(IF(【ジュエリー】入力欄!F135=\"\",\"\",【ジュエリー】入力欄!F135),IF(【ジュエリー】入力欄!H135=\"\",CONCATENATE(\" \",【ジュエリー】入力欄!G135),CONCATENATE(\" \",【ジュエリー】入力欄!G135,【ジュエリー】入力欄!H135,IF(【ジュエリー】入力欄!G135=\"パール\",\"mm\",\"ct\"))),IF(【ジュエリー】入力欄!J135=\"\",CONCATENATE(\" \",【ジュエリー】入力欄!I135),CONCATENATE(\" \",【ジュエリー】入力欄!I135,【ジュエリー】入力欄!J135,IF(【ジュエリー】入力欄!I135=\"パール\",\"mm\",\"ct\"))))","v":"  "},{"$f":"IF(【ジュエリー】入力欄!L135=\"\",\"\",【ジュエリー】入力欄!L135&\"g\")","v":""},{"$f":"IF(【ジュエリー】入力欄!M135=\"\",\"\",【ジュエリー】入力欄!M135)","v":""},{"$f":"IF(【ジュエリー】入力欄!O135=\"\",\"\",【ジュエリー】入力欄!O135)","v":""}]
[]
["   \n",{"$f":"CONCATENATE(\"出品表　（　\",【ジュエリー】入力欄!I$3,\"　大吉オークション　宝石・ジュエリー）\")","v":"出品表　（　　大吉オークション　宝石・ジュエリー）"}]
[]
[null,"箱番：",{"$f":"IF(【ジュエリー】入力欄!C136=\"\",\"\",【ジュエリー】入力欄!C136)","v":""},"※太枠の中をご記入ください",null,"会社名",{"$f":"IF(【ジュエリー】入力欄!C$3=\"\",\"\",【ジュエリー】入力欄!C$3)","v":""}]
[]
["番号","品目","金性","詳細・特徴","重量","付属品","指値\n（3万円以上）","発句"]
["１",{"$f":"IF(【ジュエリー】入力欄!K136=\"\",\"\",【ジュエリー】入力欄!K136)","v":""},{"$f":"IF(【ジュエリー】入力欄!E136=\"\",\"\",【ジュエリー】入力欄!E136)","v":""},{"$f":"CONCATENATE(IF(【ジュエリー】入力欄!F136=\"\",\"\",【ジュエリー】入力欄!F136),IF(【ジュエリー】入力欄!H136=\"\",CONCATENATE(\" \",【ジュエリー】入力欄!G136),CONCATENATE(\" \",【ジュエリー】入力欄!G136,【ジュエリー】入力欄!H136,IF(【ジュエリー】入力欄!G136=\"パール\",\"mm\",\"ct\"))),IF(【ジュエリー】入力欄!J136=\"\",CONCATENATE(\" \",【ジュエリー】入力欄!I136),CONCATENATE(\" \",【ジュエリー】入力欄!I136,【ジュエリー】入力欄!J136,IF(【ジュエリー】入力欄!I136=\"パール\",\"mm\",\"ct\"))))","v":"  "},{"$f":"IF(【ジュエリー】入力欄!L136=\"\",\"\",【ジュエリー】入力欄!L136&\"g\")","v":""},{"$f":"IF(【ジュエリー】入力欄!M136=\"\",\"\",【ジュエリー】入力欄!M136)","v":""},{"$f":"IF(【ジュエリー】入力欄!O136=\"\",\"\",【ジュエリー】入力欄!O136)","v":""}]
["２",{"$f":"IF(【ジュエリー】入力欄!K137=\"\",\"\",【ジュエリー】入力欄!K137)","v":""},{"$f":"IF(【ジュエリー】入力欄!E137=\"\",\"\",【ジュエリー】入力欄!E137)","v":""},{"$f":"CONCATENATE(IF(【ジュエリー】入力欄!F137=\"\",\"\",【ジュエリー】入力欄!F137),IF(【ジュエリー】入力欄!H137=\"\",CONCATENATE(\" \",【ジュエリー】入力欄!G137),CONCATENATE(\" \",【ジュエリー】入力欄!G137,【ジュエリー】入力欄!H137,IF(【ジュエリー】入力欄!G137=\"パール\",\"mm\",\"ct\"))),IF(【ジュエリー】入力欄!J137=\"\",CONCATENATE(\" \",【ジュエリー】入力欄!I137),CONCATENATE(\" \",【ジュエリー】入力欄!I137,【ジュエリー】入力欄!J137,IF(【ジュエリー】入力欄!I137=\"パール\",\"mm\",\"ct\"))))","v":"  "},{"$f":"IF(【ジュエリー】入力欄!L137=\"\",\"\",【ジュエリー】入力欄!L137&\"g\")","v":""},{"$f":"IF(【ジュエリー】入力欄!M137=\"\",\"\",【ジュエリー】入力欄!M137)","v":""},{"$f":"IF(【ジュエリー】入力欄!O137=\"\",\"\",【ジュエリー】入力欄!O137)","v":""}]
["３",{"$f":"IF(【ジュエリー】入力欄!K138=\"\",\"\",【ジュエリー】入力欄!K138)","v":""},{"$f":"IF(【ジュエリー】入力欄!E138=\"\",\"\",【ジュエリー】入力欄!E138)","v":""},{"$f":"CONCATENATE(IF(【ジュエリー】入力欄!F138=\"\",\"\",【ジュエリー】入力欄!F138),IF(【ジュエリー】入力欄!H138=\"\",CONCATENATE(\" \",【ジュエリー】入力欄!G138),CONCATENATE(\" \",【ジュエリー】入力欄!G138,【ジュエリー】入力欄!H138,IF(【ジュエリー】入力欄!G138=\"パール\",\"mm\",\"ct\"))),IF(【ジュエリー】入力欄!J138=\"\",CONCATENATE(\" \",【ジュエリー】入力欄!I138),CONCATENATE(\" \",【ジュエリー】入力欄!I138,【ジュエリー】入力欄!J138,IF(【ジュエリー】入力欄!I138=\"パール\",\"mm\",\"ct\"))))","v":"  "},{"$f":"IF(【ジュエリー】入力欄!L138=\"\",\"\",【ジュエリー】入力欄!L138&\"g\")","v":""},{"$f":"IF(【ジュエリー】入力欄!M138=\"\",\"\",【ジュエリー】入力欄!M138)","v":""},{"$f":"IF(【ジュエリー】入力欄!O138=\"\",\"\",【ジュエリー】入力欄!O138)","v":""}]
["４",{"$f":"IF(【ジュエリー】入力欄!K139=\"\",\"\",【ジュエリー】入力欄!K139)","v":""},{"$f":"IF(【ジュエリー】入力欄!E139=\"\",\"\",【ジュエリー】入力欄!E139)","v":""},{"$f":"CONCATENATE(IF(【ジュエリー】入力欄!F139=\"\",\"\",【ジュエリー】入力欄!F139),IF(【ジュエリー】入力欄!H139=\"\",CONCATENATE(\" \",【ジュエリー】入力欄!G139),CONCATENATE(\" \",【ジュエリー】入力欄!G139,【ジュエリー】入力欄!H139,IF(【ジュエリー】入力欄!G139=\"パール\",\"mm\",\"ct\"))),IF(【ジュエリー】入力欄!J139=\"\",CONCATENATE(\" \",【ジュエリー】入力欄!I139),CONCATENATE(\" \",【ジュエリー】入力欄!I139,【ジュエリー】入力欄!J139,IF(【ジュエリー】入力欄!I139=\"パール\",\"mm\",\"ct\"))))","v":"  "},{"$f":"IF(【ジュエリー】入力欄!L139=\"\",\"\",【ジュエリー】入力欄!L139&\"g\")","v":""},{"$f":"IF(【ジュエリー】入力欄!M139=\"\",\"\",【ジュエリー】入力欄!M139)","v":""},{"$f":"IF(【ジュエリー】入力欄!O139=\"\",\"\",【ジュエリー】入力欄!O139)","v":""}]
["５",{"$f":"IF(【ジュエリー】入力欄!K140=\"\",\"\",【ジュエリー】入力欄!K140)","v":""},{"$f":"IF(【ジュエリー】入力欄!E140=\"\",\"\",【ジュエリー】入力欄!E140)","v":""},{"$f":"CONCATENATE(IF(【ジュエリー】入力欄!F140=\"\",\"\",【ジュエリー】入力欄!F140),IF(【ジュエリー】入力欄!H140=\"\",CONCATENATE(\" \",【ジュエリー】入力欄!G140),CONCATENATE(\" \",【ジュエリー】入力欄!G140,【ジュエリー】入力欄!H140,IF(【ジュエリー】入力欄!G140=\"パール\",\"mm\",\"ct\"))),IF(【ジュエリー】入力欄!J140=\"\",CONCATENATE(\" \",【ジュエリー】入力欄!I140),CONCATENATE(\" \",【ジュエリー】入力欄!I140,【ジュエリー】入力欄!J140,IF(【ジュエリー】入力欄!I140=\"パール\",\"mm\",\"ct\"))))","v":"  "},{"$f":"IF(【ジュエリー】入力欄!L140=\"\",\"\",【ジュエリー】入力欄!L140&\"g\")","v":""},{"$f":"IF(【ジュエリー】入力欄!M140=\"\",\"\",【ジュエリー】入力欄!M140)","v":""},{"$f":"IF(【ジュエリー】入力欄!O140=\"\",\"\",【ジュエリー】入力欄!O140)","v":""}]
["６",{"$f":"IF(【ジュエリー】入力欄!K141=\"\",\"\",【ジュエリー】入力欄!K141)","v":""},{"$f":"IF(【ジュエリー】入力欄!E141=\"\",\"\",【ジュエリー】入力欄!E141)","v":""},{"$f":"CONCATENATE(IF(【ジュエリー】入力欄!F141=\"\",\"\",【ジュエリー】入力欄!F141),IF(【ジュエリー】入力欄!H141=\"\",CONCATENATE(\" \",【ジュエリー】入力欄!G141),CONCATENATE(\" \",【ジュエリー】入力欄!G141,【ジュエリー】入力欄!H141,IF(【ジュエリー】入力欄!G141=\"パール\",\"mm\",\"ct\"))),IF(【ジュエリー】入力欄!J141=\"\",CONCATENATE(\" \",【ジュエリー】入力欄!I141),CONCATENATE(\" \",【ジュエリー】入力欄!I141,【ジュエリー】入力欄!J141,IF(【ジュエリー】入力欄!I141=\"パール\",\"mm\",\"ct\"))))","v":"  "},{"$f":"IF(【ジュエリー】入力欄!L141=\"\",\"\",【ジュエリー】入力欄!L141&\"g\")","v":""},{"$f":"IF(【ジュエリー】入力欄!M141=\"\",\"\",【ジュエリー】入力欄!M141)","v":""},{"$f":"IF(【ジュエリー】入力欄!O141=\"\",\"\",【ジュエリー】入力欄!O141)","v":""}]
["７",{"$f":"IF(【ジュエリー】入力欄!K142=\"\",\"\",【ジュエリー】入力欄!K142)","v":""},{"$f":"IF(【ジュエリー】入力欄!E142=\"\",\"\",【ジュエリー】入力欄!E142)","v":""},{"$f":"CONCATENATE(IF(【ジュエリー】入力欄!F142=\"\",\"\",【ジュエリー】入力欄!F142),IF(【ジュエリー】入力欄!H142=\"\",CONCATENATE(\" \",【ジュエリー】入力欄!G142),CONCATENATE(\" \",【ジュエリー】入力欄!G142,【ジュエリー】入力欄!H142,IF(【ジュエリー】入力欄!G142=\"パール\",\"mm\",\"ct\"))),IF(【ジュエリー】入力欄!J142=\"\",CONCATENATE(\" \",【ジュエリー】入力欄!I142),CONCATENATE(\" \",【ジュエリー】入力欄!I142,【ジュエリー】入力欄!J142,IF(【ジュエリー】入力欄!I142=\"パール\",\"mm\",\"ct\"))))","v":"  "},{"$f":"IF(【ジュエリー】入力欄!L142=\"\",\"\",【ジュエリー】入力欄!L142&\"g\")","v":""},{"$f":"IF(【ジュエリー】入力欄!M142=\"\",\"\",【ジュエリー】入力欄!M142)","v":""},{"$f":"IF(【ジュエリー】入力欄!O142=\"\",\"\",【ジュエリー】入力欄!O142)","v":""}]
["８",{"$f":"IF(【ジュエリー】入力欄!K143=\"\",\"\",【ジュエリー】入力欄!K143)","v":""},{"$f":"IF(【ジュエリー】入力欄!E143=\"\",\"\",【ジュエリー】入力欄!E143)","v":""},{"$f":"CONCATENATE(IF(【ジュエリー】入力欄!F143=\"\",\"\",【ジュエリー】入力欄!F143),IF(【ジュエリー】入力欄!H143=\"\",CONCATENATE(\" \",【ジュエリー】入力欄!G143),CONCATENATE(\" \",【ジュエリー】入力欄!G143,【ジュエリー】入力欄!H143,IF(【ジュエリー】入力欄!G143=\"パール\",\"mm\",\"ct\"))),IF(【ジュエリー】入力欄!J143=\"\",CONCATENATE(\" \",【ジュエリー】入力欄!I143),CONCATENATE(\" \",【ジュエリー】入力欄!I143,【ジュエリー】入力欄!J143,IF(【ジュエリー】入力欄!I143=\"パール\",\"mm\",\"ct\"))))","v":"  "},{"$f":"IF(【ジュエリー】入力欄!L143=\"\",\"\",【ジュエリー】入力欄!L143&\"g\")","v":""},{"$f":"IF(【ジュエリー】入力欄!M143=\"\",\"\",【ジュエリー】入力欄!M143)","v":""},{"$f":"IF(【ジュエリー】入力欄!O143=\"\",\"\",【ジュエリー】入力欄!O143)","v":""}]
["９",{"$f":"IF(【ジュエリー】入力欄!K144=\"\",\"\",【ジュエリー】入力欄!K144)","v":""},{"$f":"IF(【ジュエリー】入力欄!E144=\"\",\"\",【ジュエリー】入力欄!E144)","v":""},{"$f":"CONCATENATE(IF(【ジュエリー】入力欄!F144=\"\",\"\",【ジュエリー】入力欄!F144),IF(【ジュエリー】入力欄!H144=\"\",CONCATENATE(\" \",【ジュエリー】入力欄!G144),CONCATENATE(\" \",【ジュエリー】入力欄!G144,【ジュエリー】入力欄!H144,IF(【ジュエリー】入力欄!G144=\"パール\",\"mm\",\"ct\"))),IF(【ジュエリー】入力欄!J144=\"\",CONCATENATE(\" \",【ジュエリー】入力欄!I144),CONCATENATE(\" \",【ジュエリー】入力欄!I144,【ジュエリー】入力欄!J144,IF(【ジュエリー】入力欄!I144=\"パール\",\"mm\",\"ct\"))))","v":"  "},{"$f":"IF(【ジュエリー】入力欄!L144=\"\",\"\",【ジュエリー】入力欄!L144&\"g\")","v":""},{"$f":"IF(【ジュエリー】入力欄!M144=\"\",\"\",【ジュエリー】入力欄!M144)","v":""},{"$f":"IF(【ジュエリー】入力欄!O144=\"\",\"\",【ジュエリー】入力欄!O144)","v":""}]
["１０",{"$f":"IF(【ジュエリー】入力欄!K145=\"\",\"\",【ジュエリー】入力欄!K145)","v":""},{"$f":"IF(【ジュエリー】入力欄!E145=\"\",\"\",【ジュエリー】入力欄!E145)","v":""},{"$f":"CONCATENATE(IF(【ジュエリー】入力欄!F145=\"\",\"\",【ジュエリー】入力欄!F145),IF(【ジュエリー】入力欄!H145=\"\",CONCATENATE(\" \",【ジュエリー】入力欄!G145),CONCATENATE(\" \",【ジュエリー】入力欄!G145,【ジュエリー】入力欄!H145,IF(【ジュエリー】入力欄!G145=\"パール\",\"mm\",\"ct\"))),IF(【ジュエリー】入力欄!J145=\"\",CONCATENATE(\" \",【ジュエリー】入力欄!I145),CONCATENATE(\" \",【ジュエリー】入力欄!I145,【ジュエリー】入力欄!J145,IF(【ジュエリー】入力欄!I145=\"パール\",\"mm\",\"ct\"))))","v":"  "},{"$f":"IF(【ジュエリー】入力欄!L145=\"\",\"\",【ジュエリー】入力欄!L145&\"g\")","v":""},{"$f":"IF(【ジュエリー】入力欄!M145=\"\",\"\",【ジュエリー】入力欄!M145)","v":""},{"$f":"IF(【ジュエリー】入力欄!O145=\"\",\"\",【ジュエリー】入力欄!O145)","v":""}]
[]
["   \n",{"$f":"CONCATENATE(\"出品表　（　\",【ジュエリー】入力欄!I$3,\"　大吉オークション　宝石・ジュエリー）\")","v":"出品表　（　　大吉オークション　宝石・ジュエリー）"}]
[]
[null,"箱番：",{"$f":"IF(【ジュエリー】入力欄!C146=\"\",\"\",【ジュエリー】入力欄!C146)","v":""},"※太枠の中をご記入ください",null,"会社名",{"$f":"IF(【ジュエリー】入力欄!C$3=\"\",\"\",【ジュエリー】入力欄!C$3)","v":""}]
[]
["番号","品目","金性","詳細・特徴","重量","付属品","指値\n（3万円以上）","発句"]
["１",{"$f":"IF(【ジュエリー】入力欄!K146=\"\",\"\",【ジュエリー】入力欄!K146)","v":""},{"$f":"IF(【ジュエリー】入力欄!E146=\"\",\"\",【ジュエリー】入力欄!E146)","v":""},{"$f":"CONCATENATE(IF(【ジュエリー】入力欄!F146=\"\",\"\",【ジュエリー】入力欄!F146),IF(【ジュエリー】入力欄!H146=\"\",CONCATENATE(\" \",【ジュエリー】入力欄!G146),CONCATENATE(\" \",【ジュエリー】入力欄!G146,【ジュエリー】入力欄!H146,IF(【ジュエリー】入力欄!G146=\"パール\",\"mm\",\"ct\"))),IF(【ジュエリー】入力欄!J146=\"\",CONCATENATE(\" \",【ジュエリー】入力欄!I146),CONCATENATE(\" \",【ジュエリー】入力欄!I146,【ジュエリー】入力欄!J146,IF(【ジュエリー】入力欄!I146=\"パール\",\"mm\",\"ct\"))))","v":"  "},{"$f":"IF(【ジュエリー】入力欄!L146=\"\",\"\",【ジュエリー】入力欄!L146&\"g\")","v":""},{"$f":"IF(【ジュエリー】入力欄!M146=\"\",\"\",【ジュエリー】入力欄!M146)","v":""},{"$f":"IF(【ジュエリー】入力欄!O146=\"\",\"\",【ジュエリー】入力欄!O146)","v":""}]
["２",{"$f":"IF(【ジュエリー】入力欄!K147=\"\",\"\",【ジュエリー】入力欄!K147)","v":""},{"$f":"IF(【ジュエリー】入力欄!E147=\"\",\"\",【ジュエリー】入力欄!E147)","v":""},{"$f":"CONCATENATE(IF(【ジュエリー】入力欄!F147=\"\",\"\",【ジュエリー】入力欄!F147),IF(【ジュエリー】入力欄!H147=\"\",CONCATENATE(\" \",【ジュエリー】入力欄!G147),CONCATENATE(\" \",【ジュエリー】入力欄!G147,【ジュエリー】入力欄!H147,IF(【ジュエリー】入力欄!G147=\"パール\",\"mm\",\"ct\"))),IF(【ジュエリー】入力欄!J147=\"\",CONCATENATE(\" \",【ジュエリー】入力欄!I147),CONCATENATE(\" \",【ジュエリー】入力欄!I147,【ジュエリー】入力欄!J147,IF(【ジュエリー】入力欄!I147=\"パール\",\"mm\",\"ct\"))))","v":"  "},{"$f":"IF(【ジュエリー】入力欄!L147=\"\",\"\",【ジュエリー】入力欄!L147&\"g\")","v":""},{"$f":"IF(【ジュエリー】入力欄!M147=\"\",\"\",【ジュエリー】入力欄!M147)","v":""},{"$f":"IF(【ジュエリー】入力欄!O147=\"\",\"\",【ジュエリー】入力欄!O147)","v":""}]
["３",{"$f":"IF(【ジュエリー】入力欄!K148=\"\",\"\",【ジュエリー】入力欄!K148)","v":""},{"$f":"IF(【ジュエリー】入力欄!E148=\"\",\"\",【ジュエリー】入力欄!E148)","v":""},{"$f":"CONCATENATE(IF(【ジュエリー】入力欄!F148=\"\",\"\",【ジュエリー】入力欄!F148),IF(【ジュエリー】入力欄!H148=\"\",CONCATENATE(\" \",【ジュエリー】入力欄!G148),CONCATENATE(\" \",【ジュエリー】入力欄!G148,【ジュエリー】入力欄!H148,IF(【ジュエリー】入力欄!G148=\"パール\",\"mm\",\"ct\"))),IF(【ジュエリー】入力欄!J148=\"\",CONCATENATE(\" \",【ジュエリー】入力欄!I148),CONCATENATE(\" \",【ジュエリー】入力欄!I148,【ジュエリー】入力欄!J148,IF(【ジュエリー】入力欄!I148=\"パール\",\"mm\",\"ct\"))))","v":"  "},{"$f":"IF(【ジュエリー】入力欄!L148=\"\",\"\",【ジュエリー】入力欄!L148&\"g\")","v":""},{"$f":"IF(【ジュエリー】入力欄!M148=\"\",\"\",【ジュエリー】入力欄!M148)","v":""},{"$f":"IF(【ジュエリー】入力欄!O148=\"\",\"\",【ジュエリー】入力欄!O148)","v":""}]
["４",{"$f":"IF(【ジュエリー】入力欄!K149=\"\",\"\",【ジュエリー】入力欄!K149)","v":""},{"$f":"IF(【ジュエリー】入力欄!E149=\"\",\"\",【ジュエリー】入力欄!E149)","v":""},{"$f":"CONCATENATE(IF(【ジュエリー】入力欄!F149=\"\",\"\",【ジュエリー】入力欄!F149),IF(【ジュエリー】入力欄!H149=\"\",CONCATENATE(\" \",【ジュエリー】入力欄!G149),CONCATENATE(\" \",【ジュエリー】入力欄!G149,【ジュエリー】入力欄!H149,IF(【ジュエリー】入力欄!G149=\"パール\",\"mm\",\"ct\"))),IF(【ジュエリー】入力欄!J149=\"\",CONCATENATE(\" \",【ジュエリー】入力欄!I149),CONCATENATE(\" \",【ジュエリー】入力欄!I149,【ジュエリー】入力欄!J149,IF(【ジュエリー】入力欄!I149=\"パール\",\"mm\",\"ct\"))))","v":"  "},{"$f":"IF(【ジュエリー】入力欄!L149=\"\",\"\",【ジュエリー】入力欄!L149&\"g\")","v":""},{"$f":"IF(【ジュエリー】入力欄!M149=\"\",\"\",【ジュエリー】入力欄!M149)","v":""},{"$f":"IF(【ジュエリー】入力欄!O149=\"\",\"\",【ジュエリー】入力欄!O149)","v":""}]
["５",{"$f":"IF(【ジュエリー】入力欄!K150=\"\",\"\",【ジュエリー】入力欄!K150)","v":""},{"$f":"IF(【ジュエリー】入力欄!E150=\"\",\"\",【ジュエリー】入力欄!E150)","v":""},{"$f":"CONCATENATE(IF(【ジュエリー】入力欄!F150=\"\",\"\",【ジュエリー】入力欄!F150),IF(【ジュエリー】入力欄!H150=\"\",CONCATENATE(\" \",【ジュエリー】入力欄!G150),CONCATENATE(\" \",【ジュエリー】入力欄!G150,【ジュエリー】入力欄!H150,IF(【ジュエリー】入力欄!G150=\"パール\",\"mm\",\"ct\"))),IF(【ジュエリー】入力欄!J150=\"\",CONCATENATE(\" \",【ジュエリー】入力欄!I150),CONCATENATE(\" \",【ジュエリー】入力欄!I150,【ジュエリー】入力欄!J150,IF(【ジュエリー】入力欄!I150=\"パール\",\"mm\",\"ct\"))))","v":"  "},{"$f":"IF(【ジュエリー】入力欄!L150=\"\",\"\",【ジュエリー】入力欄!L150&\"g\")","v":""},{"$f":"IF(【ジュエリー】入力欄!M150=\"\",\"\",【ジュエリー】入力欄!M150)","v":""},{"$f":"IF(【ジュエリー】入力欄!O150=\"\",\"\",【ジュエリー】入力欄!O150)","v":""}]
["６",{"$f":"IF(【ジュエリー】入力欄!K151=\"\",\"\",【ジュエリー】入力欄!K151)","v":""},{"$f":"IF(【ジュエリー】入力欄!E151=\"\",\"\",【ジュエリー】入力欄!E151)","v":""},{"$f":"CONCATENATE(IF(【ジュエリー】入力欄!F151=\"\",\"\",【ジュエリー】入力欄!F151),IF(【ジュエリー】入力欄!H151=\"\",CONCATENATE(\" \",【ジュエリー】入力欄!G151),CONCATENATE(\" \",【ジュエリー】入力欄!G151,【ジュエリー】入力欄!H151,IF(【ジュエリー】入力欄!G151=\"パール\",\"mm\",\"ct\"))),IF(【ジュエリー】入力欄!J151=\"\",CONCATENATE(\" \",【ジュエリー】入力欄!I151),CONCATENATE(\" \",【ジュエリー】入力欄!I151,【ジュエリー】入力欄!J151,IF(【ジュエリー】入力欄!I151=\"パール\",\"mm\",\"ct\"))))","v":"  "},{"$f":"IF(【ジュエリー】入力欄!L151=\"\",\"\",【ジュエリー】入力欄!L151&\"g\")","v":""},{"$f":"IF(【ジュエリー】入力欄!M151=\"\",\"\",【ジュエリー】入力欄!M151)","v":""},{"$f":"IF(【ジュエリー】入力欄!O151=\"\",\"\",【ジュエリー】入力欄!O151)","v":""}]
["７",{"$f":"IF(【ジュエリー】入力欄!K152=\"\",\"\",【ジュエリー】入力欄!K152)","v":""},{"$f":"IF(【ジュエリー】入力欄!E152=\"\",\"\",【ジュエリー】入力欄!E152)","v":""},{"$f":"CONCATENATE(IF(【ジュエリー】入力欄!F152=\"\",\"\",【ジュエリー】入力欄!F152),IF(【ジュエリー】入力欄!H152=\"\",CONCATENATE(\" \",【ジュエリー】入力欄!G152),CONCATENATE(\" \",【ジュエリー】入力欄!G152,【ジュエリー】入力欄!H152,IF(【ジュエリー】入力欄!G152=\"パール\",\"mm\",\"ct\"))),IF(【ジュエリー】入力欄!J152=\"\",CONCATENATE(\" \",【ジュエリー】入力欄!I152),CONCATENATE(\" \",【ジュエリー】入力欄!I152,【ジュエリー】入力欄!J152,IF(【ジュエリー】入力欄!I152=\"パール\",\"mm\",\"ct\"))))","v":"  "},{"$f":"IF(【ジュエリー】入力欄!L152=\"\",\"\",【ジュエリー】入力欄!L152&\"g\")","v":""},{"$f":"IF(【ジュエリー】入力欄!M152=\"\",\"\",【ジュエリー】入力欄!M152)","v":""},{"$f":"IF(【ジュエリー】入力欄!O152=\"\",\"\",【ジュエリー】入力欄!O152)","v":""}]
["８",{"$f":"IF(【ジュエリー】入力欄!K153=\"\",\"\",【ジュエリー】入力欄!K153)","v":""},{"$f":"IF(【ジュエリー】入力欄!E153=\"\",\"\",【ジュエリー】入力欄!E153)","v":""},{"$f":"CONCATENATE(IF(【ジュエリー】入力欄!F153=\"\",\"\",【ジュエリー】入力欄!F153),IF(【ジュエリー】入力欄!H153=\"\",CONCATENATE(\" \",【ジュエリー】入力欄!G153),CONCATENATE(\" \",【ジュエリー】入力欄!G153,【ジュエリー】入力欄!H153,IF(【ジュエリー】入力欄!G153=\"パール\",\"mm\",\"ct\"))),IF(【ジュエリー】入力欄!J153=\"\",CONCATENATE(\" \",【ジュエリー】入力欄!I153),CONCATENATE(\" \",【ジュエリー】入力欄!I153,【ジュエリー】入力欄!J153,IF(【ジュエリー】入力欄!I153=\"パール\",\"mm\",\"ct\"))))","v":"  "},{"$f":"IF(【ジュエリー】入力欄!L153=\"\",\"\",【ジュエリー】入力欄!L153&\"g\")","v":""},{"$f":"IF(【ジュエリー】入力欄!M153=\"\",\"\",【ジュエリー】入力欄!M153)","v":""},{"$f":"IF(【ジュエリー】入力欄!O153=\"\",\"\",【ジュエリー】入力欄!O153)","v":""}]
["９",{"$f":"IF(【ジュエリー】入力欄!K154=\"\",\"\",【ジュエリー】入力欄!K154)","v":""},{"$f":"IF(【ジュエリー】入力欄!E154=\"\",\"\",【ジュエリー】入力欄!E154)","v":""},{"$f":"CONCATENATE(IF(【ジュエリー】入力欄!F154=\"\",\"\",【ジュエリー】入力欄!F154),IF(【ジュエリー】入力欄!H154=\"\",CONCATENATE(\" \",【ジュエリー】入力欄!G154),CONCATENATE(\" \",【ジュエリー】入力欄!G154,【ジュエリー】入力欄!H154,IF(【ジュエリー】入力欄!G154=\"パール\",\"mm\",\"ct\"))),IF(【ジュエリー】入力欄!J154=\"\",CONCATENATE(\" \",【ジュエリー】入力欄!I154),CONCATENATE(\" \",【ジュエリー】入力欄!I154,【ジュエリー】入力欄!J154,IF(【ジュエリー】入力欄!I154=\"パール\",\"mm\",\"ct\"))))","v":"  "},{"$f":"IF(【ジュエリー】入力欄!L154=\"\",\"\",【ジュエリー】入力欄!L154&\"g\")","v":""},{"$f":"IF(【ジュエリー】入力欄!M154=\"\",\"\",【ジュエリー】入力欄!M154)","v":""},{"$f":"IF(【ジュエリー】入力欄!O154=\"\",\"\",【ジュエリー】入力欄!O154)","v":""}]
["１０",{"$f":"IF(【ジュエリー】入力欄!K155=\"\",\"\",【ジュエリー】入力欄!K155)","v":""},{"$f":"IF(【ジュエリー】入力欄!E155=\"\",\"\",【ジュエリー】入力欄!E155)","v":""},{"$f":"CONCATENATE(IF(【ジュエリー】入力欄!F155=\"\",\"\",【ジュエリー】入力欄!F155),IF(【ジュエリー】入力欄!H155=\"\",CONCATENATE(\" \",【ジュエリー】入力欄!G155),CONCATENATE(\" \",【ジュエリー】入力欄!G155,【ジュエリー】入力欄!H155,IF(【ジュエリー】入力欄!G155=\"パール\",\"mm\",\"ct\"))),IF(【ジュエリー】入力欄!J155=\"\",CONCATENATE(\" \",【ジュエリー】入力欄!I155),CONCATENATE(\" \",【ジュエリー】入力欄!I155,【ジュエリー】入力欄!J155,IF(【ジュエリー】入力欄!I155=\"パール\",\"mm\",\"ct\"))))","v":"  "},{"$f":"IF(【ジュエリー】入力欄!L155=\"\",\"\",【ジュエリー】入力欄!L155&\"g\")","v":""},{"$f":"IF(【ジュエリー】入力欄!M155=\"\",\"\",【ジュエリー】入力欄!M155)","v":""},{"$f":"IF(【ジュエリー】入力欄!O155=\"\",\"\",【ジュエリー】入力欄!O155)","v":""}]
[]
["   \n",{"$f":"CONCATENATE(\"出品表　（　\",【ジュエリー】入力欄!I$3,\"　大吉オークション　宝石・ジュエリー）\")","v":"出品表　（　　大吉オークション　宝石・ジュエリー）"}]
[]
[null,"箱番：",{"$f":"IF(【ジュエリー】入力欄!C156=\"\",\"\",【ジュエリー】入力欄!C156)","v":""},"※太枠の中をご記入ください",null,"会社名",{"$f":"IF(【ジュエリー】入力欄!C$3=\"\",\"\",【ジュエリー】入力欄!C$3)","v":""}]
[]
["番号","品目","金性","詳細・特徴","重量","付属品","指値\n（3万円以上）","発句"]
["１",{"$f":"IF(【ジュエリー】入力欄!K156=\"\",\"\",【ジュエリー】入力欄!K156)","v":""},{"$f":"IF(【ジュエリー】入力欄!E156=\"\",\"\",【ジュエリー】入力欄!E156)","v":""},{"$f":"CONCATENATE(IF(【ジュエリー】入力欄!F156=\"\",\"\",【ジュエリー】入力欄!F156),IF(【ジュエリー】入力欄!H156=\"\",CONCATENATE(\" \",【ジュエリー】入力欄!G156),CONCATENATE(\" \",【ジュエリー】入力欄!G156,【ジュエリー】入力欄!H156,IF(【ジュエリー】入力欄!G156=\"パール\",\"mm\",\"ct\"))),IF(【ジュエリー】入力欄!J156=\"\",CONCATENATE(\" \",【ジュエリー】入力欄!I156),CONCATENATE(\" \",【ジュエリー】入力欄!I156,【ジュエリー】入力欄!J156,IF(【ジュエリー】入力欄!I156=\"パール\",\"mm\",\"ct\"))))","v":"  "},{"$f":"IF(【ジュエリー】入力欄!L156=\"\",\"\",【ジュエリー】入力欄!L156&\"g\")","v":""},{"$f":"IF(【ジュエリー】入力欄!M156=\"\",\"\",【ジュエリー】入力欄!M156)","v":""},{"$f":"IF(【ジュエリー】入力欄!O156=\"\",\"\",【ジュエリー】入力欄!O156)","v":""}]
["２",{"$f":"IF(【ジュエリー】入力欄!K157=\"\",\"\",【ジュエリー】入力欄!K157)","v":""},{"$f":"IF(【ジュエリー】入力欄!E157=\"\",\"\",【ジュエリー】入力欄!E157)","v":""},{"$f":"CONCATENATE(IF(【ジュエリー】入力欄!F157=\"\",\"\",【ジュエリー】入力欄!F157),IF(【ジュエリー】入力欄!H157=\"\",CONCATENATE(\" \",【ジュエリー】入力欄!G157),CONCATENATE(\" \",【ジュエリー】入力欄!G157,【ジュエリー】入力欄!H157,IF(【ジュエリー】入力欄!G157=\"パール\",\"mm\",\"ct\"))),IF(【ジュエリー】入力欄!J157=\"\",CONCATENATE(\" \",【ジュエリー】入力欄!I157),CONCATENATE(\" \",【ジュエリー】入力欄!I157,【ジュエリー】入力欄!J157,IF(【ジュエリー】入力欄!I157=\"パール\",\"mm\",\"ct\"))))","v":"  "},{"$f":"IF(【ジュエリー】入力欄!L157=\"\",\"\",【ジュエリー】入力欄!L157&\"g\")","v":""},{"$f":"IF(【ジュエリー】入力欄!M157=\"\",\"\",【ジュエリー】入力欄!M157)","v":""},{"$f":"IF(【ジュエリー】入力欄!O157=\"\",\"\",【ジュエリー】入力欄!O157)","v":""}]
["３",{"$f":"IF(【ジュエリー】入力欄!K158=\"\",\"\",【ジュエリー】入力欄!K158)","v":""},{"$f":"IF(【ジュエリー】入力欄!E158=\"\",\"\",【ジュエリー】入力欄!E158)","v":""},{"$f":"CONCATENATE(IF(【ジュエリー】入力欄!F158=\"\",\"\",【ジュエリー】入力欄!F158),IF(【ジュエリー】入力欄!H158=\"\",CONCATENATE(\" \",【ジュエリー】入力欄!G158),CONCATENATE(\" \",【ジュエリー】入力欄!G158,【ジュエリー】入力欄!H158,IF(【ジュエリー】入力欄!G158=\"パール\",\"mm\",\"ct\"))),IF(【ジュエリー】入力欄!J158=\"\",CONCATENATE(\" \",【ジュエリー】入力欄!I158),CONCATENATE(\" \",【ジュエリー】入力欄!I158,【ジュエリー】入力欄!J158,IF(【ジュエリー】入力欄!I158=\"パール\",\"mm\",\"ct\"))))","v":"  "},{"$f":"IF(【ジュエリー】入力欄!L158=\"\",\"\",【ジュエリー】入力欄!L158&\"g\")","v":""},{"$f":"IF(【ジュエリー】入力欄!M158=\"\",\"\",【ジュエリー】入力欄!M158)","v":""},{"$f":"IF(【ジュエリー】入力欄!O158=\"\",\"\",【ジュエリー】入力欄!O158)","v":""}]
["４",{"$f":"IF(【ジュエリー】入力欄!K159=\"\",\"\",【ジュエリー】入力欄!K159)","v":""},{"$f":"IF(【ジュエリー】入力欄!E159=\"\",\"\",【ジュエリー】入力欄!E159)","v":""},{"$f":"CONCATENATE(IF(【ジュエリー】入力欄!F159=\"\",\"\",【ジュエリー】入力欄!F159),IF(【ジュエリー】入力欄!H159=\"\",CONCATENATE(\" \",【ジュエリー】入力欄!G159),CONCATENATE(\" \",【ジュエリー】入力欄!G159,【ジュエリー】入力欄!H159,IF(【ジュエリー】入力欄!G159=\"パール\",\"mm\",\"ct\"))),IF(【ジュエリー】入力欄!J159=\"\",CONCATENATE(\" \",【ジュエリー】入力欄!I159),CONCATENATE(\" \",【ジュエリー】入力欄!I159,【ジュエリー】入力欄!J159,IF(【ジュエリー】入力欄!I159=\"パール\",\"mm\",\"ct\"))))","v":"  "},{"$f":"IF(【ジュエリー】入力欄!L159=\"\",\"\",【ジュエリー】入力欄!L159&\"g\")","v":""},{"$f":"IF(【ジュエリー】入力欄!M159=\"\",\"\",【ジュエリー】入力欄!M159)","v":""},{"$f":"IF(【ジュエリー】入力欄!O159=\"\",\"\",【ジュエリー】入力欄!O159)","v":""}]
["５",{"$f":"IF(【ジュエリー】入力欄!K160=\"\",\"\",【ジュエリー】入力欄!K160)","v":""},{"$f":"IF(【ジュエリー】入力欄!E160=\"\",\"\",【ジュエリー】入力欄!E160)","v":""},{"$f":"CONCATENATE(IF(【ジュエリー】入力欄!F160=\"\",\"\",【ジュエリー】入力欄!F160),IF(【ジュエリー】入力欄!H160=\"\",CONCATENATE(\" \",【ジュエリー】入力欄!G160),CONCATENATE(\" \",【ジュエリー】入力欄!G160,【ジュエリー】入力欄!H160,IF(【ジュエリー】入力欄!G160=\"パール\",\"mm\",\"ct\"))),IF(【ジュエリー】入力欄!J160=\"\",CONCATENATE(\" \",【ジュエリー】入力欄!I160),CONCATENATE(\" \",【ジュエリー】入力欄!I160,【ジュエリー】入力欄!J160,IF(【ジュエリー】入力欄!I160=\"パール\",\"mm\",\"ct\"))))","v":"  "},{"$f":"IF(【ジュエリー】入力欄!L160=\"\",\"\",【ジュエリー】入力欄!L160&\"g\")","v":""},{"$f":"IF(【ジュエリー】入力欄!M160=\"\",\"\",【ジュエリー】入力欄!M160)","v":""},{"$f":"IF(【ジュエリー】入力欄!O160=\"\",\"\",【ジュエリー】入力欄!O160)","v":""}]
["６",{"$f":"IF(【ジュエリー】入力欄!K161=\"\",\"\",【ジュエリー】入力欄!K161)","v":""},{"$f":"IF(【ジュエリー】入力欄!E161=\"\",\"\",【ジュエリー】入力欄!E161)","v":""},{"$f":"CONCATENATE(IF(【ジュエリー】入力欄!F161=\"\",\"\",【ジュエリー】入力欄!F161),IF(【ジュエリー】入力欄!H161=\"\",CONCATENATE(\" \",【ジュエリー】入力欄!G161),CONCATENATE(\" \",【ジュエリー】入力欄!G161,【ジュエリー】入力欄!H161,IF(【ジュエリー】入力欄!G161=\"パール\",\"mm\",\"ct\"))),IF(【ジュエリー】入力欄!J161=\"\",CONCATENATE(\" \",【ジュエリー】入力欄!I161),CONCATENATE(\" \",【ジュエリー】入力欄!I161,【ジュエリー】入力欄!J161,IF(【ジュエリー】入力欄!I161=\"パール\",\"mm\",\"ct\"))))","v":"  "},{"$f":"IF(【ジュエリー】入力欄!L161=\"\",\"\",【ジュエリー】入力欄!L161&\"g\")","v":""},{"$f":"IF(【ジュエリー】入力欄!M161=\"\",\"\",【ジュエリー】入力欄!M161)","v":""},{"$f":"IF(【ジュエリー】入力欄!O161=\"\",\"\",【ジュエリー】入力欄!O161)","v":""}]
["７",{"$f":"IF(【ジュエリー】入力欄!K162=\"\",\"\",【ジュエリー】入力欄!K162)","v":""},{"$f":"IF(【ジュエリー】入力欄!E162=\"\",\"\",【ジュエリー】入力欄!E162)","v":""},{"$f":"CONCATENATE(IF(【ジュエリー】入力欄!F162=\"\",\"\",【ジュエリー】入力欄!F162),IF(【ジュエリー】入力欄!H162=\"\",CONCATENATE(\" \",【ジュエリー】入力欄!G162),CONCATENATE(\" \",【ジュエリー】入力欄!G162,【ジュエリー】入力欄!H162,IF(【ジュエリー】入力欄!G162=\"パール\",\"mm\",\"ct\"))),IF(【ジュエリー】入力欄!J162=\"\",CONCATENATE(\" \",【ジュエリー】入力欄!I162),CONCATENATE(\" \",【ジュエリー】入力欄!I162,【ジュエリー】入力欄!J162,IF(【ジュエリー】入力欄!I162=\"パール\",\"mm\",\"ct\"))))","v":"  "},{"$f":"IF(【ジュエリー】入力欄!L162=\"\",\"\",【ジュエリー】入力欄!L162&\"g\")","v":""},{"$f":"IF(【ジュエリー】入力欄!M162=\"\",\"\",【ジュエリー】入力欄!M162)","v":""},{"$f":"IF(【ジュエリー】入力欄!O162=\"\",\"\",【ジュエリー】入力欄!O162)","v":""}]
["８",{"$f":"IF(【ジュエリー】入力欄!K163=\"\",\"\",【ジュエリー】入力欄!K163)","v":""},{"$f":"IF(【ジュエリー】入力欄!E163=\"\",\"\",【ジュエリー】入力欄!E163)","v":""},{"$f":"CONCATENATE(IF(【ジュエリー】入力欄!F163=\"\",\"\",【ジュエリー】入力欄!F163),IF(【ジュエリー】入力欄!H163=\"\",CONCATENATE(\" \",【ジュエリー】入力欄!G163),CONCATENATE(\" \",【ジュエリー】入力欄!G163,【ジュエリー】入力欄!H163,IF(【ジュエリー】入力欄!G163=\"パール\",\"mm\",\"ct\"))),IF(【ジュエリー】入力欄!J163=\"\",CONCATENATE(\" \",【ジュエリー】入力欄!I163),CONCATENATE(\" \",【ジュエリー】入力欄!I163,【ジュエリー】入力欄!J163,IF(【ジュエリー】入力欄!I163=\"パール\",\"mm\",\"ct\"))))","v":"  "},{"$f":"IF(【ジュエリー】入力欄!L163=\"\",\"\",【ジュエリー】入力欄!L163&\"g\")","v":""},{"$f":"IF(【ジュエリー】入力欄!M163=\"\",\"\",【ジュエリー】入力欄!M163)","v":""},{"$f":"IF(【ジュエリー】入力欄!O163=\"\",\"\",【ジュエリー】入力欄!O163)","v":""}]
["９",{"$f":"IF(【ジュエリー】入力欄!K164=\"\",\"\",【ジュエリー】入力欄!K164)","v":""},{"$f":"IF(【ジュエリー】入力欄!E164=\"\",\"\",【ジュエリー】入力欄!E164)","v":""},{"$f":"CONCATENATE(IF(【ジュエリー】入力欄!F164=\"\",\"\",【ジュエリー】入力欄!F164),IF(【ジュエリー】入力欄!H164=\"\",CONCATENATE(\" \",【ジュエリー】入力欄!G164),CONCATENATE(\" \",【ジュエリー】入力欄!G164,【ジュエリー】入力欄!H164,IF(【ジュエリー】入力欄!G164=\"パール\",\"mm\",\"ct\"))),IF(【ジュエリー】入力欄!J164=\"\",CONCATENATE(\" \",【ジュエリー】入力欄!I164),CONCATENATE(\" \",【ジュエリー】入力欄!I164,【ジュエリー】入力欄!J164,IF(【ジュエリー】入力欄!I164=\"パール\",\"mm\",\"ct\"))))","v":"  "},{"$f":"IF(【ジュエリー】入力欄!L164=\"\",\"\",【ジュエリー】入力欄!L164&\"g\")","v":""},{"$f":"IF(【ジュエリー】入力欄!M164=\"\",\"\",【ジュエリー】入力欄!M164)","v":""},{"$f":"IF(【ジュエリー】入力欄!O164=\"\",\"\",【ジュエリー】入力欄!O164)","v":""}]
["１０",{"$f":"IF(【ジュエリー】入力欄!K165=\"\",\"\",【ジュエリー】入力欄!K165)","v":""},{"$f":"IF(【ジュエリー】入力欄!E165=\"\",\"\",【ジュエリー】入力欄!E165)","v":""},{"$f":"CONCATENATE(IF(【ジュエリー】入力欄!F165=\"\",\"\",【ジュエリー】入力欄!F165),IF(【ジュエリー】入力欄!H165=\"\",CONCATENATE(\" \",【ジュエリー】入力欄!G165),CONCATENATE(\" \",【ジュエリー】入力欄!G165,【ジュエリー】入力欄!H165,IF(【ジュエリー】入力欄!G165=\"パール\",\"mm\",\"ct\"))),IF(【ジュエリー】入力欄!J165=\"\",CONCATENATE(\" \",【ジュエリー】入力欄!I165),CONCATENATE(\" \",【ジュエリー】入力欄!I165,【ジュエリー】入力欄!J165,IF(【ジュエリー】入力欄!I165=\"パール\",\"mm\",\"ct\"))))","v":"  "},{"$f":"IF(【ジュエリー】入力欄!L165=\"\",\"\",【ジュエリー】入力欄!L165&\"g\")","v":""},{"$f":"IF(【ジュエリー】入力欄!M165=\"\",\"\",【ジュエリー】入力欄!M165)","v":""},{"$f":"IF(【ジュエリー】入力欄!O165=\"\",\"\",【ジュエリー】入力欄!O165)","v":""}]
[]
["   \n",{"$f":"CONCATENATE(\"出品表　（　\",【ジュエリー】入力欄!I$3,\"　大吉オークション　宝石・ジュエリー）\")","v":"出品表　（　　大吉オークション　宝石・ジュエリー）"}]
[]
[null,"箱番：",{"$f":"IF(【ジュエリー】入力欄!C166=\"\",\"\",【ジュエリー】入力欄!C166)","v":""},"※太枠の中をご記入ください",null,"会社名",{"$f":"IF(【ジュエリー】入力欄!C$3=\"\",\"\",【ジュエリー】入力欄!C$3)","v":""}]
[]
["番号","品目","金性","詳細・特徴","重量","付属品","指値\n（3万円以上）","発句"]
["１",{"$f":"IF(【ジュエリー】入力欄!K166=\"\",\"\",【ジュエリー】入力欄!K166)","v":""},{"$f":"IF(【ジュエリー】入力欄!E166=\"\",\"\",【ジュエリー】入力欄!E166)","v":""},{"$f":"CONCATENATE(IF(【ジュエリー】入力欄!F166=\"\",\"\",【ジュエリー】入力欄!F166),IF(【ジュエリー】入力欄!H166=\"\",CONCATENATE(\" \",【ジュエリー】入力欄!G166),CONCATENATE(\" \",【ジュエリー】入力欄!G166,【ジュエリー】入力欄!H166,IF(【ジュエリー】入力欄!G166=\"パール\",\"mm\",\"ct\"))),IF(【ジュエリー】入力欄!J166=\"\",CONCATENATE(\" \",【ジュエリー】入力欄!I166),CONCATENATE(\" \",【ジュエリー】入力欄!I166,【ジュエリー】入力欄!J166,IF(【ジュエリー】入力欄!I166=\"パール\",\"mm\",\"ct\"))))","v":"  "},{"$f":"IF(【ジュエリー】入力欄!L166=\"\",\"\",【ジュエリー】入力欄!L166&\"g\")","v":""},{"$f":"IF(【ジュエリー】入力欄!M166=\"\",\"\",【ジュエリー】入力欄!M166)","v":""},{"$f":"IF(【ジュエリー】入力欄!O166=\"\",\"\",【ジュエリー】入力欄!O166)","v":""}]
["２",{"$f":"IF(【ジュエリー】入力欄!K167=\"\",\"\",【ジュエリー】入力欄!K167)","v":""},{"$f":"IF(【ジュエリー】入力欄!E167=\"\",\"\",【ジュエリー】入力欄!E167)","v":""},{"$f":"CONCATENATE(IF(【ジュエリー】入力欄!F167=\"\",\"\",【ジュエリー】入力欄!F167),IF(【ジュエリー】入力欄!H167=\"\",CONCATENATE(\" \",【ジュエリー】入力欄!G167),CONCATENATE(\" \",【ジュエリー】入力欄!G167,【ジュエリー】入力欄!H167,IF(【ジュエリー】入力欄!G167=\"パール\",\"mm\",\"ct\"))),IF(【ジュエリー】入力欄!J167=\"\",CONCATENATE(\" \",【ジュエリー】入力欄!I167),CONCATENATE(\" \",【ジュエリー】入力欄!I167,【ジュエリー】入力欄!J167,IF(【ジュエリー】入力欄!I167=\"パール\",\"mm\",\"ct\"))))","v":"  "},{"$f":"IF(【ジュエリー】入力欄!L167=\"\",\"\",【ジュエリー】入力欄!L167&\"g\")","v":""},{"$f":"IF(【ジュエリー】入力欄!M167=\"\",\"\",【ジュエリー】入力欄!M167)","v":""},{"$f":"IF(【ジュエリー】入力欄!O167=\"\",\"\",【ジュエリー】入力欄!O167)","v":""}]
["３",{"$f":"IF(【ジュエリー】入力欄!K168=\"\",\"\",【ジュエリー】入力欄!K168)","v":""},{"$f":"IF(【ジュエリー】入力欄!E168=\"\",\"\",【ジュエリー】入力欄!E168)","v":""},{"$f":"CONCATENATE(IF(【ジュエリー】入力欄!F168=\"\",\"\",【ジュエリー】入力欄!F168),IF(【ジュエリー】入力欄!H168=\"\",CONCATENATE(\" \",【ジュエリー】入力欄!G168),CONCATENATE(\" \",【ジュエリー】入力欄!G168,【ジュエリー】入力欄!H168,IF(【ジュエリー】入力欄!G168=\"パール\",\"mm\",\"ct\"))),IF(【ジュエリー】入力欄!J168=\"\",CONCATENATE(\" \",【ジュエリー】入力欄!I168),CONCATENATE(\" \",【ジュエリー】入力欄!I168,【ジュエリー】入力欄!J168,IF(【ジュエリー】入力欄!I168=\"パール\",\"mm\",\"ct\"))))","v":"  "},{"$f":"IF(【ジュエリー】入力欄!L168=\"\",\"\",【ジュエリー】入力欄!L168&\"g\")","v":""},{"$f":"IF(【ジュエリー】入力欄!M168=\"\",\"\",【ジュエリー】入力欄!M168)","v":""},{"$f":"IF(【ジュエリー】入力欄!O168=\"\",\"\",【ジュエリー】入力欄!O168)","v":""}]
["４",{"$f":"IF(【ジュエリー】入力欄!K169=\"\",\"\",【ジュエリー】入力欄!K169)","v":""},{"$f":"IF(【ジュエリー】入力欄!E169=\"\",\"\",【ジュエリー】入力欄!E169)","v":""},{"$f":"CONCATENATE(IF(【ジュエリー】入力欄!F169=\"\",\"\",【ジュエリー】入力欄!F169),IF(【ジュエリー】入力欄!H169=\"\",CONCATENATE(\" \",【ジュエリー】入力欄!G169),CONCATENATE(\" \",【ジュエリー】入力欄!G169,【ジュエリー】入力欄!H169,IF(【ジュエリー】入力欄!G169=\"パール\",\"mm\",\"ct\"))),IF(【ジュエリー】入力欄!J169=\"\",CONCATENATE(\" \",【ジュエリー】入力欄!I169),CONCATENATE(\" \",【ジュエリー】入力欄!I169,【ジュエリー】入力欄!J169,IF(【ジュエリー】入力欄!I169=\"パール\",\"mm\",\"ct\"))))","v":"  "},{"$f":"IF(【ジュエリー】入力欄!L169=\"\",\"\",【ジュエリー】入力欄!L169&\"g\")","v":""},{"$f":"IF(【ジュエリー】入力欄!M169=\"\",\"\",【ジュエリー】入力欄!M169)","v":""},{"$f":"IF(【ジュエリー】入力欄!O169=\"\",\"\",【ジュエリー】入力欄!O169)","v":""}]
["５",{"$f":"IF(【ジュエリー】入力欄!K170=\"\",\"\",【ジュエリー】入力欄!K170)","v":""},{"$f":"IF(【ジュエリー】入力欄!E170=\"\",\"\",【ジュエリー】入力欄!E170)","v":""},{"$f":"CONCATENATE(IF(【ジュエリー】入力欄!F170=\"\",\"\",【ジュエリー】入力欄!F170),IF(【ジュエリー】入力欄!H170=\"\",CONCATENATE(\" \",【ジュエリー】入力欄!G170),CONCATENATE(\" \",【ジュエリー】入力欄!G170,【ジュエリー】入力欄!H170,IF(【ジュエリー】入力欄!G170=\"パール\",\"mm\",\"ct\"))),IF(【ジュエリー】入力欄!J170=\"\",CONCATENATE(\" \",【ジュエリー】入力欄!I170),CONCATENATE(\" \",【ジュエリー】入力欄!I170,【ジュエリー】入力欄!J170,IF(【ジュエリー】入力欄!I170=\"パール\",\"mm\",\"ct\"))))","v":"  "},{"$f":"IF(【ジュエリー】入力欄!L170=\"\",\"\",【ジュエリー】入力欄!L170&\"g\")","v":""},{"$f":"IF(【ジュエリー】入力欄!M170=\"\",\"\",【ジュエリー】入力欄!M170)","v":""},{"$f":"IF(【ジュエリー】入力欄!O170=\"\",\"\",【ジュエリー】入力欄!O170)","v":""}]
["６",{"$f":"IF(【ジュエリー】入力欄!K171=\"\",\"\",【ジュエリー】入力欄!K171)","v":""},{"$f":"IF(【ジュエリー】入力欄!E171=\"\",\"\",【ジュエリー】入力欄!E171)","v":""},{"$f":"CONCATENATE(IF(【ジュエリー】入力欄!F171=\"\",\"\",【ジュエリー】入力欄!F171),IF(【ジュエリー】入力欄!H171=\"\",CONCATENATE(\" \",【ジュエリー】入力欄!G171),CONCATENATE(\" \",【ジュエリー】入力欄!G171,【ジュエリー】入力欄!H171,IF(【ジュエリー】入力欄!G171=\"パール\",\"mm\",\"ct\"))),IF(【ジュエリー】入力欄!J171=\"\",CONCATENATE(\" \",【ジュエリー】入力欄!I171),CONCATENATE(\" \",【ジュエリー】入力欄!I171,【ジュエリー】入力欄!J171,IF(【ジュエリー】入力欄!I171=\"パール\",\"mm\",\"ct\"))))","v":"  "},{"$f":"IF(【ジュエリー】入力欄!L171=\"\",\"\",【ジュエリー】入力欄!L171&\"g\")","v":""},{"$f":"IF(【ジュエリー】入力欄!M171=\"\",\"\",【ジュエリー】入力欄!M171)","v":""},{"$f":"IF(【ジュエリー】入力欄!O171=\"\",\"\",【ジュエリー】入力欄!O171)","v":""}]
["７",{"$f":"IF(【ジュエリー】入力欄!K172=\"\",\"\",【ジュエリー】入力欄!K172)","v":""},{"$f":"IF(【ジュエリー】入力欄!E172=\"\",\"\",【ジュエリー】入力欄!E172)","v":""},{"$f":"CONCATENATE(IF(【ジュエリー】入力欄!F172=\"\",\"\",【ジュエリー】入力欄!F172),IF(【ジュエリー】入力欄!H172=\"\",CONCATENATE(\" \",【ジュエリー】入力欄!G172),CONCATENATE(\" \",【ジュエリー】入力欄!G172,【ジュエリー】入力欄!H172,IF(【ジュエリー】入力欄!G172=\"パール\",\"mm\",\"ct\"))),IF(【ジュエリー】入力欄!J172=\"\",CONCATENATE(\" \",【ジュエリー】入力欄!I172),CONCATENATE(\" \",【ジュエリー】入力欄!I172,【ジュエリー】入力欄!J172,IF(【ジュエリー】入力欄!I172=\"パール\",\"mm\",\"ct\"))))","v":"  "},{"$f":"IF(【ジュエリー】入力欄!L172=\"\",\"\",【ジュエリー】入力欄!L172&\"g\")","v":""},{"$f":"IF(【ジュエリー】入力欄!M172=\"\",\"\",【ジュエリー】入力欄!M172)","v":""},{"$f":"IF(【ジュエリー】入力欄!O172=\"\",\"\",【ジュエリー】入力欄!O172)","v":""}]
["８",{"$f":"IF(【ジュエリー】入力欄!K173=\"\",\"\",【ジュエリー】入力欄!K173)","v":""},{"$f":"IF(【ジュエリー】入力欄!E173=\"\",\"\",【ジュエリー】入力欄!E173)","v":""},{"$f":"CONCATENATE(IF(【ジュエリー】入力欄!F173=\"\",\"\",【ジュエリー】入力欄!F173),IF(【ジュエリー】入力欄!H173=\"\",CONCATENATE(\" \",【ジュエリー】入力欄!G173),CONCATENATE(\" \",【ジュエリー】入力欄!G173,【ジュエリー】入力欄!H173,IF(【ジュエリー】入力欄!G173=\"パール\",\"mm\",\"ct\"))),IF(【ジュエリー】入力欄!J173=\"\",CONCATENATE(\" \",【ジュエリー】入力欄!I173),CONCATENATE(\" \",【ジュエリー】入力欄!I173,【ジュエリー】入力欄!J173,IF(【ジュエリー】入力欄!I173=\"パール\",\"mm\",\"ct\"))))","v":"  "},{"$f":"IF(【ジュエリー】入力欄!L173=\"\",\"\",【ジュエリー】入力欄!L173&\"g\")","v":""},{"$f":"IF(【ジュエリー】入力欄!M173=\"\",\"\",【ジュエリー】入力欄!M173)","v":""},{"$f":"IF(【ジュエリー】入力欄!O173=\"\",\"\",【ジュエリー】入力欄!O173)","v":""}]
["９",{"$f":"IF(【ジュエリー】入力欄!K174=\"\",\"\",【ジュエリー】入力欄!K174)","v":""},{"$f":"IF(【ジュエリー】入力欄!E174=\"\",\"\",【ジュエリー】入力欄!E174)","v":""},{"$f":"CONCATENATE(IF(【ジュエリー】入力欄!F174=\"\",\"\",【ジュエリー】入力欄!F174),IF(【ジュエリー】入力欄!H174=\"\",CONCATENATE(\" \",【ジュエリー】入力欄!G174),CONCATENATE(\" \",【ジュエリー】入力欄!G174,【ジュエリー】入力欄!H174,IF(【ジュエリー】入力欄!G174=\"パール\",\"mm\",\"ct\"))),IF(【ジュエリー】入力欄!J174=\"\",CONCATENATE(\" \",【ジュエリー】入力欄!I174),CONCATENATE(\" \",【ジュエリー】入力欄!I174,【ジュエリー】入力欄!J174,IF(【ジュエリー】入力欄!I174=\"パール\",\"mm\",\"ct\"))))","v":"  "},{"$f":"IF(【ジュエリー】入力欄!L174=\"\",\"\",【ジュエリー】入力欄!L174&\"g\")","v":""},{"$f":"IF(【ジュエリー】入力欄!M174=\"\",\"\",【ジュエリー】入力欄!M174)","v":""},{"$f":"IF(【ジュエリー】入力欄!O174=\"\",\"\",【ジュエリー】入力欄!O174)","v":""}]
["１０",{"$f":"IF(【ジュエリー】入力欄!K175=\"\",\"\",【ジュエリー】入力欄!K175)","v":""},{"$f":"IF(【ジュエリー】入力欄!E175=\"\",\"\",【ジュエリー】入力欄!E175)","v":""},{"$f":"CONCATENATE(IF(【ジュエリー】入力欄!F175=\"\",\"\",【ジュエリー】入力欄!F175),IF(【ジュエリー】入力欄!H175=\"\",CONCATENATE(\" \",【ジュエリー】入力欄!G175),CONCATENATE(\" \",【ジュエリー】入力欄!G175,【ジュエリー】入力欄!H175,IF(【ジュエリー】入力欄!G175=\"パール\",\"mm\",\"ct\"))),IF(【ジュエリー】入力欄!J175=\"\",CONCATENATE(\" \",【ジュエリー】入力欄!I175),CONCATENATE(\" \",【ジュエリー】入力欄!I175,【ジュエリー】入力欄!J175,IF(【ジュエリー】入力欄!I175=\"パール\",\"mm\",\"ct\"))))","v":"  "},{"$f":"IF(【ジュエリー】入力欄!L175=\"\",\"\",【ジュエリー】入力欄!L175&\"g\")","v":""},{"$f":"IF(【ジュエリー】入力欄!M175=\"\",\"\",【ジュエリー】入力欄!M175)","v":""},{"$f":"IF(【ジュエリー】入力欄!O175=\"\",\"\",【ジュエリー】入力欄!O175)","v":""}]
[]
["   \n",{"$f":"CONCATENATE(\"出品表　（　\",【ジュエリー】入力欄!I$3,\"　大吉オークション　宝石・ジュエリー）\")","v":"出品表　（　　大吉オークション　宝石・ジュエリー）"}]
[]
[null,"箱番：",{"$f":"IF(【ジュエリー】入力欄!C176=\"\",\"\",【ジュエリー】入力欄!C176)","v":""},"※太枠の中をご記入ください",null,"会社名",{"$f":"IF(【ジュエリー】入力欄!C$3=\"\",\"\",【ジュエリー】入力欄!C$3)","v":""}]
[]
["番号","品目","金性","詳細・特徴","重量","付属品","指値\n（3万円以上）","発句"]
["１",{"$f":"IF(【ジュエリー】入力欄!K176=\"\",\"\",【ジュエリー】入力欄!K176)","v":""},{"$f":"IF(【ジュエリー】入力欄!E176=\"\",\"\",【ジュエリー】入力欄!E176)","v":""},{"$f":"CONCATENATE(IF(【ジュエリー】入力欄!F176=\"\",\"\",【ジュエリー】入力欄!F176),IF(【ジュエリー】入力欄!H176=\"\",CONCATENATE(\" \",【ジュエリー】入力欄!G176),CONCATENATE(\" \",【ジュエリー】入力欄!G176,【ジュエリー】入力欄!H176,IF(【ジュエリー】入力欄!G176=\"パール\",\"mm\",\"ct\"))),IF(【ジュエリー】入力欄!J176=\"\",CONCATENATE(\" \",【ジュエリー】入力欄!I176),CONCATENATE(\" \",【ジュエリー】入力欄!I176,【ジュエリー】入力欄!J176,IF(【ジュエリー】入力欄!I176=\"パール\",\"mm\",\"ct\"))))","v":"  "},{"$f":"IF(【ジュエリー】入力欄!L176=\"\",\"\",【ジュエリー】入力欄!L176&\"g\")","v":""},{"$f":"IF(【ジュエリー】入力欄!M176=\"\",\"\",【ジュエリー】入力欄!M176)","v":""},{"$f":"IF(【ジュエリー】入力欄!O176=\"\",\"\",【ジュエリー】入力欄!O176)","v":""}]
["２",{"$f":"IF(【ジュエリー】入力欄!K177=\"\",\"\",【ジュエリー】入力欄!K177)","v":""},{"$f":"IF(【ジュエリー】入力欄!E177=\"\",\"\",【ジュエリー】入力欄!E177)","v":""},{"$f":"CONCATENATE(IF(【ジュエリー】入力欄!F177=\"\",\"\",【ジュエリー】入力欄!F177),IF(【ジュエリー】入力欄!H177=\"\",CONCATENATE(\" \",【ジュエリー】入力欄!G177),CONCATENATE(\" \",【ジュエリー】入力欄!G177,【ジュエリー】入力欄!H177,IF(【ジュエリー】入力欄!G177=\"パール\",\"mm\",\"ct\"))),IF(【ジュエリー】入力欄!J177=\"\",CONCATENATE(\" \",【ジュエリー】入力欄!I177),CONCATENATE(\" \",【ジュエリー】入力欄!I177,【ジュエリー】入力欄!J177,IF(【ジュエリー】入力欄!I177=\"パール\",\"mm\",\"ct\"))))","v":"  "},{"$f":"IF(【ジュエリー】入力欄!L177=\"\",\"\",【ジュエリー】入力欄!L177&\"g\")","v":""},{"$f":"IF(【ジュエリー】入力欄!M177=\"\",\"\",【ジュエリー】入力欄!M177)","v":""},{"$f":"IF(【ジュエリー】入力欄!O177=\"\",\"\",【ジュエリー】入力欄!O177)","v":""}]
["３",{"$f":"IF(【ジュエリー】入力欄!K178=\"\",\"\",【ジュエリー】入力欄!K178)","v":""},{"$f":"IF(【ジュエリー】入力欄!E178=\"\",\"\",【ジュエリー】入力欄!E178)","v":""},{"$f":"CONCATENATE(IF(【ジュエリー】入力欄!F178=\"\",\"\",【ジュエリー】入力欄!F178),IF(【ジュエリー】入力欄!H178=\"\",CONCATENATE(\" \",【ジュエリー】入力欄!G178),CONCATENATE(\" \",【ジュエリー】入力欄!G178,【ジュエリー】入力欄!H178,IF(【ジュエリー】入力欄!G178=\"パール\",\"mm\",\"ct\"))),IF(【ジュエリー】入力欄!J178=\"\",CONCATENATE(\" \",【ジュエリー】入力欄!I178),CONCATENATE(\" \",【ジュエリー】入力欄!I178,【ジュエリー】入力欄!J178,IF(【ジュエリー】入力欄!I178=\"パール\",\"mm\",\"ct\"))))","v":"  "},{"$f":"IF(【ジュエリー】入力欄!L178=\"\",\"\",【ジュエリー】入力欄!L178&\"g\")","v":""},{"$f":"IF(【ジュエリー】入力欄!M178=\"\",\"\",【ジュエリー】入力欄!M178)","v":""},{"$f":"IF(【ジュエリー】入力欄!O178=\"\",\"\",【ジュエリー】入力欄!O178)","v":""}]
["４",{"$f":"IF(【ジュエリー】入力欄!K179=\"\",\"\",【ジュエリー】入力欄!K179)","v":""},{"$f":"IF(【ジュエリー】入力欄!E179=\"\",\"\",【ジュエリー】入力欄!E179)","v":""},{"$f":"CONCATENATE(IF(【ジュエリー】入力欄!F179=\"\",\"\",【ジュエリー】入力欄!F179),IF(【ジュエリー】入力欄!H179=\"\",CONCATENATE(\" \",【ジュエリー】入力欄!G179),CONCATENATE(\" \",【ジュエリー】入力欄!G179,【ジュエリー】入力欄!H179,IF(【ジュエリー】入力欄!G179=\"パール\",\"mm\",\"ct\"))),IF(【ジュエリー】入力欄!J179=\"\",CONCATENATE(\" \",【ジュエリー】入力欄!I179),CONCATENATE(\" \",【ジュエリー】入力欄!I179,【ジュエリー】入力欄!J179,IF(【ジュエリー】入力欄!I179=\"パール\",\"mm\",\"ct\"))))","v":"  "},{"$f":"IF(【ジュエリー】入力欄!L179=\"\",\"\",【ジュエリー】入力欄!L179&\"g\")","v":""},{"$f":"IF(【ジュエリー】入力欄!M179=\"\",\"\",【ジュエリー】入力欄!M179)","v":""},{"$f":"IF(【ジュエリー】入力欄!O179=\"\",\"\",【ジュエリー】入力欄!O179)","v":""}]
["５",{"$f":"IF(【ジュエリー】入力欄!K180=\"\",\"\",【ジュエリー】入力欄!K180)","v":""},{"$f":"IF(【ジュエリー】入力欄!E180=\"\",\"\",【ジュエリー】入力欄!E180)","v":""},{"$f":"CONCATENATE(IF(【ジュエリー】入力欄!F180=\"\",\"\",【ジュエリー】入力欄!F180),IF(【ジュエリー】入力欄!H180=\"\",CONCATENATE(\" \",【ジュエリー】入力欄!G180),CONCATENATE(\" \",【ジュエリー】入力欄!G180,【ジュエリー】入力欄!H180,IF(【ジュエリー】入力欄!G180=\"パール\",\"mm\",\"ct\"))),IF(【ジュエリー】入力欄!J180=\"\",CONCATENATE(\" \",【ジュエリー】入力欄!I180),CONCATENATE(\" \",【ジュエリー】入力欄!I180,【ジュエリー】入力欄!J180,IF(【ジュエリー】入力欄!I180=\"パール\",\"mm\",\"ct\"))))","v":"  "},{"$f":"IF(【ジュエリー】入力欄!L180=\"\",\"\",【ジュエリー】入力欄!L180&\"g\")","v":""},{"$f":"IF(【ジュエリー】入力欄!M180=\"\",\"\",【ジュエリー】入力欄!M180)","v":""},{"$f":"IF(【ジュエリー】入力欄!O180=\"\",\"\",【ジュエリー】入力欄!O180)","v":""}]
["６",{"$f":"IF(【ジュエリー】入力欄!K181=\"\",\"\",【ジュエリー】入力欄!K181)","v":""},{"$f":"IF(【ジュエリー】入力欄!E181=\"\",\"\",【ジュエリー】入力欄!E181)","v":""},{"$f":"CONCATENATE(IF(【ジュエリー】入力欄!F181=\"\",\"\",【ジュエリー】入力欄!F181),IF(【ジュエリー】入力欄!H181=\"\",CONCATENATE(\" \",【ジュエリー】入力欄!G181),CONCATENATE(\" \",【ジュエリー】入力欄!G181,【ジュエリー】入力欄!H181,IF(【ジュエリー】入力欄!G181=\"パール\",\"mm\",\"ct\"))),IF(【ジュエリー】入力欄!J181=\"\",CONCATENATE(\" \",【ジュエリー】入力欄!I181),CONCATENATE(\" \",【ジュエリー】入力欄!I181,【ジュエリー】入力欄!J181,IF(【ジュエリー】入力欄!I181=\"パール\",\"mm\",\"ct\"))))","v":"  "},{"$f":"IF(【ジュエリー】入力欄!L181=\"\",\"\",【ジュエリー】入力欄!L181&\"g\")","v":""},{"$f":"IF(【ジュエリー】入力欄!M181=\"\",\"\",【ジュエリー】入力欄!M181)","v":""},{"$f":"IF(【ジュエリー】入力欄!O181=\"\",\"\",【ジュエリー】入力欄!O181)","v":""}]
["７",{"$f":"IF(【ジュエリー】入力欄!K182=\"\",\"\",【ジュエリー】入力欄!K182)","v":""},{"$f":"IF(【ジュエリー】入力欄!E182=\"\",\"\",【ジュエリー】入力欄!E182)","v":""},{"$f":"CONCATENATE(IF(【ジュエリー】入力欄!F182=\"\",\"\",【ジュエリー】入力欄!F182),IF(【ジュエリー】入力欄!H182=\"\",CONCATENATE(\" \",【ジュエリー】入力欄!G182),CONCATENATE(\" \",【ジュエリー】入力欄!G182,【ジュエリー】入力欄!H182,IF(【ジュエリー】入力欄!G182=\"パール\",\"mm\",\"ct\"))),IF(【ジュエリー】入力欄!J182=\"\",CONCATENATE(\" \",【ジュエリー】入力欄!I182),CONCATENATE(\" \",【ジュエリー】入力欄!I182,【ジュエリー】入力欄!J182,IF(【ジュエリー】入力欄!I182=\"パール\",\"mm\",\"ct\"))))","v":"  "},{"$f":"IF(【ジュエリー】入力欄!L182=\"\",\"\",【ジュエリー】入力欄!L182&\"g\")","v":""},{"$f":"IF(【ジュエリー】入力欄!M182=\"\",\"\",【ジュエリー】入力欄!M182)","v":""},{"$f":"IF(【ジュエリー】入力欄!O182=\"\",\"\",【ジュエリー】入力欄!O182)","v":""}]
["８",{"$f":"IF(【ジュエリー】入力欄!K183=\"\",\"\",【ジュエリー】入力欄!K183)","v":""},{"$f":"IF(【ジュエリー】入力欄!E183=\"\",\"\",【ジュエリー】入力欄!E183)","v":""},{"$f":"CONCATENATE(IF(【ジュエリー】入力欄!F183=\"\",\"\",【ジュエリー】入力欄!F183),IF(【ジュエリー】入力欄!H183=\"\",CONCATENATE(\" \",【ジュエリー】入力欄!G183),CONCATENATE(\" \",【ジュエリー】入力欄!G183,【ジュエリー】入力欄!H183,IF(【ジュエリー】入力欄!G183=\"パール\",\"mm\",\"ct\"))),IF(【ジュエリー】入力欄!J183=\"\",CONCATENATE(\" \",【ジュエリー】入力欄!I183),CONCATENATE(\" \",【ジュエリー】入力欄!I183,【ジュエリー】入力欄!J183,IF(【ジュエリー】入力欄!I183=\"パール\",\"mm\",\"ct\"))))","v":"  "},{"$f":"IF(【ジュエリー】入力欄!L183=\"\",\"\",【ジュエリー】入力欄!L183&\"g\")","v":""},{"$f":"IF(【ジュエリー】入力欄!M183=\"\",\"\",【ジュエリー】入力欄!M183)","v":""},{"$f":"IF(【ジュエリー】入力欄!O183=\"\",\"\",【ジュエリー】入力欄!O183)","v":""}]
["９",{"$f":"IF(【ジュエリー】入力欄!K184=\"\",\"\",【ジュエリー】入力欄!K184)","v":""},{"$f":"IF(【ジュエリー】入力欄!E184=\"\",\"\",【ジュエリー】入力欄!E184)","v":""},{"$f":"CONCATENATE(IF(【ジュエリー】入力欄!F184=\"\",\"\",【ジュエリー】入力欄!F184),IF(【ジュエリー】入力欄!H184=\"\",CONCATENATE(\" \",【ジュエリー】入力欄!G184),CONCATENATE(\" \",【ジュエリー】入力欄!G184,【ジュエリー】入力欄!H184,IF(【ジュエリー】入力欄!G184=\"パール\",\"mm\",\"ct\"))),IF(【ジュエリー】入力欄!J184=\"\",CONCATENATE(\" \",【ジュエリー】入力欄!I184),CONCATENATE(\" \",【ジュエリー】入力欄!I184,【ジュエリー】入力欄!J184,IF(【ジュエリー】入力欄!I184=\"パール\",\"mm\",\"ct\"))))","v":"  "},{"$f":"IF(【ジュエリー】入力欄!L184=\"\",\"\",【ジュエリー】入力欄!L184&\"g\")","v":""},{"$f":"IF(【ジュエリー】入力欄!M184=\"\",\"\",【ジュエリー】入力欄!M184)","v":""},{"$f":"IF(【ジュエリー】入力欄!O184=\"\",\"\",【ジュエリー】入力欄!O184)","v":""}]
["１０",{"$f":"IF(【ジュエリー】入力欄!K185=\"\",\"\",【ジュエリー】入力欄!K185)","v":""},{"$f":"IF(【ジュエリー】入力欄!E185=\"\",\"\",【ジュエリー】入力欄!E185)","v":""},{"$f":"CONCATENATE(IF(【ジュエリー】入力欄!F185=\"\",\"\",【ジュエリー】入力欄!F185),IF(【ジュエリー】入力欄!H185=\"\",CONCATENATE(\" \",【ジュエリー】入力欄!G185),CONCATENATE(\" \",【ジュエリー】入力欄!G185,【ジュエリー】入力欄!H185,IF(【ジュエリー】入力欄!G185=\"パール\",\"mm\",\"ct\"))),IF(【ジュエリー】入力欄!J185=\"\",CONCATENATE(\" \",【ジュエリー】入力欄!I185),CONCATENATE(\" \",【ジュエリー】入力欄!I185,【ジュエリー】入力欄!J185,IF(【ジュエリー】入力欄!I185=\"パール\",\"mm\",\"ct\"))))","v":"  "},{"$f":"IF(【ジュエリー】入力欄!L185=\"\",\"\",【ジュエリー】入力欄!L185&\"g\")","v":""},{"$f":"IF(【ジュエリー】入力欄!M185=\"\",\"\",【ジュエリー】入力欄!M185)","v":""},{"$f":"IF(【ジュエリー】入力欄!O185=\"\",\"\",【ジュエリー】入力欄!O185)","v":""}]
[]
["   \n",{"$f":"CONCATENATE(\"出品表　（　\",【ジュエリー】入力欄!I$3,\"　大吉オークション　宝石・ジュエリー）\")","v":"出品表　（　　大吉オークション　宝石・ジュエリー）"}]
[]
[null,"箱番：",{"$f":"IF(【ジュエリー】入力欄!C186=\"\",\"\",【ジュエリー】入力欄!C186)","v":""},"※太枠の中をご記入ください",null,"会社名",{"$f":"IF(【ジュエリー】入力欄!C$3=\"\",\"\",【ジュエリー】入力欄!C$3)","v":""}]
[]
["番号","品目","金性","詳細・特徴","重量","付属品","指値\n（3万円以上）","発句"]
["１",{"$f":"IF(【ジュエリー】入力欄!K186=\"\",\"\",【ジュエリー】入力欄!K186)","v":""},{"$f":"IF(【ジュエリー】入力欄!E186=\"\",\"\",【ジュエリー】入力欄!E186)","v":""},{"$f":"CONCATENATE(IF(【ジュエリー】入力欄!F186=\"\",\"\",【ジュエリー】入力欄!F186),IF(【ジュエリー】入力欄!H186=\"\",CONCATENATE(\" \",【ジュエリー】入力欄!G186),CONCATENATE(\" \",【ジュエリー】入力欄!G186,【ジュエリー】入力欄!H186,IF(【ジュエリー】入力欄!G186=\"パール\",\"mm\",\"ct\"))),IF(【ジュエリー】入力欄!J186=\"\",CONCATENATE(\" \",【ジュエリー】入力欄!I186),CONCATENATE(\" \",【ジュエリー】入力欄!I186,【ジュエリー】入力欄!J186,IF(【ジュエリー】入力欄!I186=\"パール\",\"mm\",\"ct\"))))","v":"  "},{"$f":"IF(【ジュエリー】入力欄!L186=\"\",\"\",【ジュエリー】入力欄!L186&\"g\")","v":""},{"$f":"IF(【ジュエリー】入力欄!M186=\"\",\"\",【ジュエリー】入力欄!M186)","v":""},{"$f":"IF(【ジュエリー】入力欄!O186=\"\",\"\",【ジュエリー】入力欄!O186)","v":""}]
["２",{"$f":"IF(【ジュエリー】入力欄!K187=\"\",\"\",【ジュエリー】入力欄!K187)","v":""},{"$f":"IF(【ジュエリー】入力欄!E187=\"\",\"\",【ジュエリー】入力欄!E187)","v":""},{"$f":"CONCATENATE(IF(【ジュエリー】入力欄!F187=\"\",\"\",【ジュエリー】入力欄!F187),IF(【ジュエリー】入力欄!H187=\"\",CONCATENATE(\" \",【ジュエリー】入力欄!G187),CONCATENATE(\" \",【ジュエリー】入力欄!G187,【ジュエリー】入力欄!H187,IF(【ジュエリー】入力欄!G187=\"パール\",\"mm\",\"ct\"))),IF(【ジュエリー】入力欄!J187=\"\",CONCATENATE(\" \",【ジュエリー】入力欄!I187),CONCATENATE(\" \",【ジュエリー】入力欄!I187,【ジュエリー】入力欄!J187,IF(【ジュエリー】入力欄!I187=\"パール\",\"mm\",\"ct\"))))","v":"  "},{"$f":"IF(【ジュエリー】入力欄!L187=\"\",\"\",【ジュエリー】入力欄!L187&\"g\")","v":""},{"$f":"IF(【ジュエリー】入力欄!M187=\"\",\"\",【ジュエリー】入力欄!M187)","v":""},{"$f":"IF(【ジュエリー】入力欄!O187=\"\",\"\",【ジュエリー】入力欄!O187)","v":""}]
["３",{"$f":"IF(【ジュエリー】入力欄!K188=\"\",\"\",【ジュエリー】入力欄!K188)","v":""},{"$f":"IF(【ジュエリー】入力欄!E188=\"\",\"\",【ジュエリー】入力欄!E188)","v":""},{"$f":"CONCATENATE(IF(【ジュエリー】入力欄!F188=\"\",\"\",【ジュエリー】入力欄!F188),IF(【ジュエリー】入力欄!H188=\"\",CONCATENATE(\" \",【ジュエリー】入力欄!G188),CONCATENATE(\" \",【ジュエリー】入力欄!G188,【ジュエリー】入力欄!H188,IF(【ジュエリー】入力欄!G188=\"パール\",\"mm\",\"ct\"))),IF(【ジュエリー】入力欄!J188=\"\",CONCATENATE(\" \",【ジュエリー】入力欄!I188),CONCATENATE(\" \",【ジュエリー】入力欄!I188,【ジュエリー】入力欄!J188,IF(【ジュエリー】入力欄!I188=\"パール\",\"mm\",\"ct\"))))","v":"  "},{"$f":"IF(【ジュエリー】入力欄!L188=\"\",\"\",【ジュエリー】入力欄!L188&\"g\")","v":""},{"$f":"IF(【ジュエリー】入力欄!M188=\"\",\"\",【ジュエリー】入力欄!M188)","v":""},{"$f":"IF(【ジュエリー】入力欄!O188=\"\",\"\",【ジュエリー】入力欄!O188)","v":""}]
["４",{"$f":"IF(【ジュエリー】入力欄!K189=\"\",\"\",【ジュエリー】入力欄!K189)","v":""},{"$f":"IF(【ジュエリー】入力欄!E189=\"\",\"\",【ジュエリー】入力欄!E189)","v":""},{"$f":"CONCATENATE(IF(【ジュエリー】入力欄!F189=\"\",\"\",【ジュエリー】入力欄!F189),IF(【ジュエリー】入力欄!H189=\"\",CONCATENATE(\" \",【ジュエリー】入力欄!G189),CONCATENATE(\" \",【ジュエリー】入力欄!G189,【ジュエリー】入力欄!H189,IF(【ジュエリー】入力欄!G189=\"パール\",\"mm\",\"ct\"))),IF(【ジュエリー】入力欄!J189=\"\",CONCATENATE(\" \",【ジュエリー】入力欄!I189),CONCATENATE(\" \",【ジュエリー】入力欄!I189,【ジュエリー】入力欄!J189,IF(【ジュエリー】入力欄!I189=\"パール\",\"mm\",\"ct\"))))","v":"  "},{"$f":"IF(【ジュエリー】入力欄!L189=\"\",\"\",【ジュエリー】入力欄!L189&\"g\")","v":""},{"$f":"IF(【ジュエリー】入力欄!M189=\"\",\"\",【ジュエリー】入力欄!M189)","v":""},{"$f":"IF(【ジュエリー】入力欄!O189=\"\",\"\",【ジュエリー】入力欄!O189)","v":""}]
["５",{"$f":"IF(【ジュエリー】入力欄!K190=\"\",\"\",【ジュエリー】入力欄!K190)","v":""},{"$f":"IF(【ジュエリー】入力欄!E190=\"\",\"\",【ジュエリー】入力欄!E190)","v":""},{"$f":"CONCATENATE(IF(【ジュエリー】入力欄!F190=\"\",\"\",【ジュエリー】入力欄!F190),IF(【ジュエリー】入力欄!H190=\"\",CONCATENATE(\" \",【ジュエリー】入力欄!G190),CONCATENATE(\" \",【ジュエリー】入力欄!G190,【ジュエリー】入力欄!H190,IF(【ジュエリー】入力欄!G190=\"パール\",\"mm\",\"ct\"))),IF(【ジュエリー】入力欄!J190=\"\",CONCATENATE(\" \",【ジュエリー】入力欄!I190),CONCATENATE(\" \",【ジュエリー】入力欄!I190,【ジュエリー】入力欄!J190,IF(【ジュエリー】入力欄!I190=\"パール\",\"mm\",\"ct\"))))","v":"  "},{"$f":"IF(【ジュエリー】入力欄!L190=\"\",\"\",【ジュエリー】入力欄!L190&\"g\")","v":""},{"$f":"IF(【ジュエリー】入力欄!M190=\"\",\"\",【ジュエリー】入力欄!M190)","v":""},{"$f":"IF(【ジュエリー】入力欄!O190=\"\",\"\",【ジュエリー】入力欄!O190)","v":""}]
["６",{"$f":"IF(【ジュエリー】入力欄!K191=\"\",\"\",【ジュエリー】入力欄!K191)","v":""},{"$f":"IF(【ジュエリー】入力欄!E191=\"\",\"\",【ジュエリー】入力欄!E191)","v":""},{"$f":"CONCATENATE(IF(【ジュエリー】入力欄!F191=\"\",\"\",【ジュエリー】入力欄!F191),IF(【ジュエリー】入力欄!H191=\"\",CONCATENATE(\" \",【ジュエリー】入力欄!G191),CONCATENATE(\" \",【ジュエリー】入力欄!G191,【ジュエリー】入力欄!H191,IF(【ジュエリー】入力欄!G191=\"パール\",\"mm\",\"ct\"))),IF(【ジュエリー】入力欄!J191=\"\",CONCATENATE(\" \",【ジュエリー】入力欄!I191),CONCATENATE(\" \",【ジュエリー】入力欄!I191,【ジュエリー】入力欄!J191,IF(【ジュエリー】入力欄!I191=\"パール\",\"mm\",\"ct\"))))","v":"  "},{"$f":"IF(【ジュエリー】入力欄!L191=\"\",\"\",【ジュエリー】入力欄!L191&\"g\")","v":""},{"$f":"IF(【ジュエリー】入力欄!M191=\"\",\"\",【ジュエリー】入力欄!M191)","v":""},{"$f":"IF(【ジュエリー】入力欄!O191=\"\",\"\",【ジュエリー】入力欄!O191)","v":""}]
["７",{"$f":"IF(【ジュエリー】入力欄!K192=\"\",\"\",【ジュエリー】入力欄!K192)","v":""},{"$f":"IF(【ジュエリー】入力欄!E192=\"\",\"\",【ジュエリー】入力欄!E192)","v":""},{"$f":"CONCATENATE(IF(【ジュエリー】入力欄!F192=\"\",\"\",【ジュエリー】入力欄!F192),IF(【ジュエリー】入力欄!H192=\"\",CONCATENATE(\" \",【ジュエリー】入力欄!G192),CONCATENATE(\" \",【ジュエリー】入力欄!G192,【ジュエリー】入力欄!H192,IF(【ジュエリー】入力欄!G192=\"パール\",\"mm\",\"ct\"))),IF(【ジュエリー】入力欄!J192=\"\",CONCATENATE(\" \",【ジュエリー】入力欄!I192),CONCATENATE(\" \",【ジュエリー】入力欄!I192,【ジュエリー】入力欄!J192,IF(【ジュエリー】入力欄!I192=\"パール\",\"mm\",\"ct\"))))","v":"  "},{"$f":"IF(【ジュエリー】入力欄!L192=\"\",\"\",【ジュエリー】入力欄!L192&\"g\")","v":""},{"$f":"IF(【ジュエリー】入力欄!M192=\"\",\"\",【ジュエリー】入力欄!M192)","v":""},{"$f":"IF(【ジュエリー】入力欄!O192=\"\",\"\",【ジュエリー】入力欄!O192)","v":""}]
["８",{"$f":"IF(【ジュエリー】入力欄!K193=\"\",\"\",【ジュエリー】入力欄!K193)","v":""},{"$f":"IF(【ジュエリー】入力欄!E193=\"\",\"\",【ジュエリー】入力欄!E193)","v":""},{"$f":"CONCATENATE(IF(【ジュエリー】入力欄!F193=\"\",\"\",【ジュエリー】入力欄!F193),IF(【ジュエリー】入力欄!H193=\"\",CONCATENATE(\" \",【ジュエリー】入力欄!G193),CONCATENATE(\" \",【ジュエリー】入力欄!G193,【ジュエリー】入力欄!H193,IF(【ジュエリー】入力欄!G193=\"パール\",\"mm\",\"ct\"))),IF(【ジュエリー】入力欄!J193=\"\",CONCATENATE(\" \",【ジュエリー】入力欄!I193),CONCATENATE(\" \",【ジュエリー】入力欄!I193,【ジュエリー】入力欄!J193,IF(【ジュエリー】入力欄!I193=\"パール\",\"mm\",\"ct\"))))","v":"  "},{"$f":"IF(【ジュエリー】入力欄!L193=\"\",\"\",【ジュエリー】入力欄!L193&\"g\")","v":""},{"$f":"IF(【ジュエリー】入力欄!M193=\"\",\"\",【ジュエリー】入力欄!M193)","v":""},{"$f":"IF(【ジュエリー】入力欄!O193=\"\",\"\",【ジュエリー】入力欄!O193)","v":""}]
["９",{"$f":"IF(【ジュエリー】入力欄!K194=\"\",\"\",【ジュエリー】入力欄!K194)","v":""},{"$f":"IF(【ジュエリー】入力欄!E194=\"\",\"\",【ジュエリー】入力欄!E194)","v":""},{"$f":"CONCATENATE(IF(【ジュエリー】入力欄!F194=\"\",\"\",【ジュエリー】入力欄!F194),IF(【ジュエリー】入力欄!H194=\"\",CONCATENATE(\" \",【ジュエリー】入力欄!G194),CONCATENATE(\" \",【ジュエリー】入力欄!G194,【ジュエリー】入力欄!H194,IF(【ジュエリー】入力欄!G194=\"パール\",\"mm\",\"ct\"))),IF(【ジュエリー】入力欄!J194=\"\",CONCATENATE(\" \",【ジュエリー】入力欄!I194),CONCATENATE(\" \",【ジュエリー】入力欄!I194,【ジュエリー】入力欄!J194,IF(【ジュエリー】入力欄!I194=\"パール\",\"mm\",\"ct\"))))","v":"  "},{"$f":"IF(【ジュエリー】入力欄!L194=\"\",\"\",【ジュエリー】入力欄!L194&\"g\")","v":""},{"$f":"IF(【ジュエリー】入力欄!M194=\"\",\"\",【ジュエリー】入力欄!M194)","v":""},{"$f":"IF(【ジュエリー】入力欄!O194=\"\",\"\",【ジュエリー】入力欄!O194)","v":""}]
["１０",{"$f":"IF(【ジュエリー】入力欄!K195=\"\",\"\",【ジュエリー】入力欄!K195)","v":""},{"$f":"IF(【ジュエリー】入力欄!E195=\"\",\"\",【ジュエリー】入力欄!E195)","v":""},{"$f":"CONCATENATE(IF(【ジュエリー】入力欄!F195=\"\",\"\",【ジュエリー】入力欄!F195),IF(【ジュエリー】入力欄!H195=\"\",CONCATENATE(\" \",【ジュエリー】入力欄!G195),CONCATENATE(\" \",【ジュエリー】入力欄!G195,【ジュエリー】入力欄!H195,IF(【ジュエリー】入力欄!G195=\"パール\",\"mm\",\"ct\"))),IF(【ジュエリー】入力欄!J195=\"\",CONCATENATE(\" \",【ジュエリー】入力欄!I195),CONCATENATE(\" \",【ジュエリー】入力欄!I195,【ジュエリー】入力欄!J195,IF(【ジュエリー】入力欄!I195=\"パール\",\"mm\",\"ct\"))))","v":"  "},{"$f":"IF(【ジュエリー】入力欄!L195=\"\",\"\",【ジュエリー】入力欄!L195&\"g\")","v":""},{"$f":"IF(【ジュエリー】入力欄!M195=\"\",\"\",【ジュエリー】入力欄!M195)","v":""},{"$f":"IF(【ジュエリー】入力欄!O195=\"\",\"\",【ジュエリー】入力欄!O195)","v":""}]
[]
["   \n",{"$f":"CONCATENATE(\"出品表　（　\",【ジュエリー】入力欄!I$3,\"　大吉オークション　宝石・ジュエリー）\")","v":"出品表　（　　大吉オークション　宝石・ジュエリー）"}]
[]
[null,"箱番：",{"$f":"IF(【ジュエリー】入力欄!C196=\"\",\"\",【ジュエリー】入力欄!C196)","v":""},"※太枠の中をご記入ください",null,"会社名",{"$f":"IF(【ジュエリー】入力欄!C$3=\"\",\"\",【ジュエリー】入力欄!C$3)","v":""}]
[]
["番号","品目","金性","詳細・特徴","重量","付属品","指値\n（3万円以上）","発句"]
["１",{"$f":"IF(【ジュエリー】入力欄!K196=\"\",\"\",【ジュエリー】入力欄!K196)","v":""},{"$f":"IF(【ジュエリー】入力欄!E196=\"\",\"\",【ジュエリー】入力欄!E196)","v":""},{"$f":"CONCATENATE(IF(【ジュエリー】入力欄!F196=\"\",\"\",【ジュエリー】入力欄!F196),IF(【ジュエリー】入力欄!H196=\"\",CONCATENATE(\" \",【ジュエリー】入力欄!G196),CONCATENATE(\" \",【ジュエリー】入力欄!G196,【ジュエリー】入力欄!H196,IF(【ジュエリー】入力欄!G196=\"パール\",\"mm\",\"ct\"))),IF(【ジュエリー】入力欄!J196=\"\",CONCATENATE(\" \",【ジュエリー】入力欄!I196),CONCATENATE(\" \",【ジュエリー】入力欄!I196,【ジュエリー】入力欄!J196,IF(【ジュエリー】入力欄!I196=\"パール\",\"mm\",\"ct\"))))","v":"  "},{"$f":"IF(【ジュエリー】入力欄!L196=\"\",\"\",【ジュエリー】入力欄!L196&\"g\")","v":""},{"$f":"IF(【ジュエリー】入力欄!M196=\"\",\"\",【ジュエリー】入力欄!M196)","v":""},{"$f":"IF(【ジュエリー】入力欄!O196=\"\",\"\",【ジュエリー】入力欄!O196)","v":""}]
["２",{"$f":"IF(【ジュエリー】入力欄!K197=\"\",\"\",【ジュエリー】入力欄!K197)","v":""},{"$f":"IF(【ジュエリー】入力欄!E197=\"\",\"\",【ジュエリー】入力欄!E197)","v":""},{"$f":"CONCATENATE(IF(【ジュエリー】入力欄!F197=\"\",\"\",【ジュエリー】入力欄!F197),IF(【ジュエリー】入力欄!H197=\"\",CONCATENATE(\" \",【ジュエリー】入力欄!G197),CONCATENATE(\" \",【ジュエリー】入力欄!G197,【ジュエリー】入力欄!H197,IF(【ジュエリー】入力欄!G197=\"パール\",\"mm\",\"ct\"))),IF(【ジュエリー】入力欄!J197=\"\",CONCATENATE(\" \",【ジュエリー】入力欄!I197),CONCATENATE(\" \",【ジュエリー】入力欄!I197,【ジュエリー】入力欄!J197,IF(【ジュエリー】入力欄!I197=\"パール\",\"mm\",\"ct\"))))","v":"  "},{"$f":"IF(【ジュエリー】入力欄!L197=\"\",\"\",【ジュエリー】入力欄!L197&\"g\")","v":""},{"$f":"IF(【ジュエリー】入力欄!M197=\"\",\"\",【ジュエリー】入力欄!M197)","v":""},{"$f":"IF(【ジュエリー】入力欄!O197=\"\",\"\",【ジュエリー】入力欄!O197)","v":""}]
["３",{"$f":"IF(【ジュエリー】入力欄!K198=\"\",\"\",【ジュエリー】入力欄!K198)","v":""},{"$f":"IF(【ジュエリー】入力欄!E198=\"\",\"\",【ジュエリー】入力欄!E198)","v":""},{"$f":"CONCATENATE(IF(【ジュエリー】入力欄!F198=\"\",\"\",【ジュエリー】入力欄!F198),IF(【ジュエリー】入力欄!H198=\"\",CONCATENATE(\" \",【ジュエリー】入力欄!G198),CONCATENATE(\" \",【ジュエリー】入力欄!G198,【ジュエリー】入力欄!H198,IF(【ジュエリー】入力欄!G198=\"パール\",\"mm\",\"ct\"))),IF(【ジュエリー】入力欄!J198=\"\",CONCATENATE(\" \",【ジュエリー】入力欄!I198),CONCATENATE(\" \",【ジュエリー】入力欄!I198,【ジュエリー】入力欄!J198,IF(【ジュエリー】入力欄!I198=\"パール\",\"mm\",\"ct\"))))","v":"  "},{"$f":"IF(【ジュエリー】入力欄!L198=\"\",\"\",【ジュエリー】入力欄!L198&\"g\")","v":""},{"$f":"IF(【ジュエリー】入力欄!M198=\"\",\"\",【ジュエリー】入力欄!M198)","v":""},{"$f":"IF(【ジュエリー】入力欄!O198=\"\",\"\",【ジュエリー】入力欄!O198)","v":""}]
["４",{"$f":"IF(【ジュエリー】入力欄!K199=\"\",\"\",【ジュエリー】入力欄!K199)","v":""},{"$f":"IF(【ジュエリー】入力欄!E199=\"\",\"\",【ジュエリー】入力欄!E199)","v":""},{"$f":"CONCATENATE(IF(【ジュエリー】入力欄!F199=\"\",\"\",【ジュエリー】入力欄!F199),IF(【ジュエリー】入力欄!H199=\"\",CONCATENATE(\" \",【ジュエリー】入力欄!G199),CONCATENATE(\" \",【ジュエリー】入力欄!G199,【ジュエリー】入力欄!H199,IF(【ジュエリー】入力欄!G199=\"パール\",\"mm\",\"ct\"))),IF(【ジュエリー】入力欄!J199=\"\",CONCATENATE(\" \",【ジュエリー】入力欄!I199),CONCATENATE(\" \",【ジュエリー】入力欄!I199,【ジュエリー】入力欄!J199,IF(【ジュエリー】入力欄!I199=\"パール\",\"mm\",\"ct\"))))","v":"  "},{"$f":"IF(【ジュエリー】入力欄!L199=\"\",\"\",【ジュエリー】入力欄!L199&\"g\")","v":""},{"$f":"IF(【ジュエリー】入力欄!M199=\"\",\"\",【ジュエリー】入力欄!M199)","v":""},{"$f":"IF(【ジュエリー】入力欄!O199=\"\",\"\",【ジュエリー】入力欄!O199)","v":""}]
["５",{"$f":"IF(【ジュエリー】入力欄!K200=\"\",\"\",【ジュエリー】入力欄!K200)","v":""},{"$f":"IF(【ジュエリー】入力欄!E200=\"\",\"\",【ジュエリー】入力欄!E200)","v":""},{"$f":"CONCATENATE(IF(【ジュエリー】入力欄!F200=\"\",\"\",【ジュエリー】入力欄!F200),IF(【ジュエリー】入力欄!H200=\"\",CONCATENATE(\" \",【ジュエリー】入力欄!G200),CONCATENATE(\" \",【ジュエリー】入力欄!G200,【ジュエリー】入力欄!H200,IF(【ジュエリー】入力欄!G200=\"パール\",\"mm\",\"ct\"))),IF(【ジュエリー】入力欄!J200=\"\",CONCATENATE(\" \",【ジュエリー】入力欄!I200),CONCATENATE(\" \",【ジュエリー】入力欄!I200,【ジュエリー】入力欄!J200,IF(【ジュエリー】入力欄!I200=\"パール\",\"mm\",\"ct\"))))","v":"  "},{"$f":"IF(【ジュエリー】入力欄!L200=\"\",\"\",【ジュエリー】入力欄!L200&\"g\")","v":""},{"$f":"IF(【ジュエリー】入力欄!M200=\"\",\"\",【ジュエリー】入力欄!M200)","v":""},{"$f":"IF(【ジュエリー】入力欄!O200=\"\",\"\",【ジュエリー】入力欄!O200)","v":""}]
["６",{"$f":"IF(【ジュエリー】入力欄!K201=\"\",\"\",【ジュエリー】入力欄!K201)","v":""},{"$f":"IF(【ジュエリー】入力欄!E201=\"\",\"\",【ジュエリー】入力欄!E201)","v":""},{"$f":"CONCATENATE(IF(【ジュエリー】入力欄!F201=\"\",\"\",【ジュエリー】入力欄!F201),IF(【ジュエリー】入力欄!H201=\"\",CONCATENATE(\" \",【ジュエリー】入力欄!G201),CONCATENATE(\" \",【ジュエリー】入力欄!G201,【ジュエリー】入力欄!H201,IF(【ジュエリー】入力欄!G201=\"パール\",\"mm\",\"ct\"))),IF(【ジュエリー】入力欄!J201=\"\",CONCATENATE(\" \",【ジュエリー】入力欄!I201),CONCATENATE(\" \",【ジュエリー】入力欄!I201,【ジュエリー】入力欄!J201,IF(【ジュエリー】入力欄!I201=\"パール\",\"mm\",\"ct\"))))","v":"  "},{"$f":"IF(【ジュエリー】入力欄!L201=\"\",\"\",【ジュエリー】入力欄!L201&\"g\")","v":""},{"$f":"IF(【ジュエリー】入力欄!M201=\"\",\"\",【ジュエリー】入力欄!M201)","v":""},{"$f":"IF(【ジュエリー】入力欄!O201=\"\",\"\",【ジュエリー】入力欄!O201)","v":""}]
["７",{"$f":"IF(【ジュエリー】入力欄!K202=\"\",\"\",【ジュエリー】入力欄!K202)","v":""},{"$f":"IF(【ジュエリー】入力欄!E202=\"\",\"\",【ジュエリー】入力欄!E202)","v":""},{"$f":"CONCATENATE(IF(【ジュエリー】入力欄!F202=\"\",\"\",【ジュエリー】入力欄!F202),IF(【ジュエリー】入力欄!H202=\"\",CONCATENATE(\" \",【ジュエリー】入力欄!G202),CONCATENATE(\" \",【ジュエリー】入力欄!G202,【ジュエリー】入力欄!H202,IF(【ジュエリー】入力欄!G202=\"パール\",\"mm\",\"ct\"))),IF(【ジュエリー】入力欄!J202=\"\",CONCATENATE(\" \",【ジュエリー】入力欄!I202),CONCATENATE(\" \",【ジュエリー】入力欄!I202,【ジュエリー】入力欄!J202,IF(【ジュエリー】入力欄!I202=\"パール\",\"mm\",\"ct\"))))","v":"  "},{"$f":"IF(【ジュエリー】入力欄!L202=\"\",\"\",【ジュエリー】入力欄!L202&\"g\")","v":""},{"$f":"IF(【ジュエリー】入力欄!M202=\"\",\"\",【ジュエリー】入力欄!M202)","v":""},{"$f":"IF(【ジュエリー】入力欄!O202=\"\",\"\",【ジュエリー】入力欄!O202)","v":""}]
["８",{"$f":"IF(【ジュエリー】入力欄!K203=\"\",\"\",【ジュエリー】入力欄!K203)","v":""},{"$f":"IF(【ジュエリー】入力欄!E203=\"\",\"\",【ジュエリー】入力欄!E203)","v":""},{"$f":"CONCATENATE(IF(【ジュエリー】入力欄!F203=\"\",\"\",【ジュエリー】入力欄!F203),IF(【ジュエリー】入力欄!H203=\"\",CONCATENATE(\" \",【ジュエリー】入力欄!G203),CONCATENATE(\" \",【ジュエリー】入力欄!G203,【ジュエリー】入力欄!H203,IF(【ジュエリー】入力欄!G203=\"パール\",\"mm\",\"ct\"))),IF(【ジュエリー】入力欄!J203=\"\",CONCATENATE(\" \",【ジュエリー】入力欄!I203),CONCATENATE(\" \",【ジュエリー】入力欄!I203,【ジュエリー】入力欄!J203,IF(【ジュエリー】入力欄!I203=\"パール\",\"mm\",\"ct\"))))","v":"  "},{"$f":"IF(【ジュエリー】入力欄!L203=\"\",\"\",【ジュエリー】入力欄!L203&\"g\")","v":""},{"$f":"IF(【ジュエリー】入力欄!M203=\"\",\"\",【ジュエリー】入力欄!M203)","v":""},{"$f":"IF(【ジュエリー】入力欄!O203=\"\",\"\",【ジュエリー】入力欄!O203)","v":""}]
["９",{"$f":"IF(【ジュエリー】入力欄!K204=\"\",\"\",【ジュエリー】入力欄!K204)","v":""},{"$f":"IF(【ジュエリー】入力欄!E204=\"\",\"\",【ジュエリー】入力欄!E204)","v":""},{"$f":"CONCATENATE(IF(【ジュエリー】入力欄!F204=\"\",\"\",【ジュエリー】入力欄!F204),IF(【ジュエリー】入力欄!H204=\"\",CONCATENATE(\" \",【ジュエリー】入力欄!G204),CONCATENATE(\" \",【ジュエリー】入力欄!G204,【ジュエリー】入力欄!H204,IF(【ジュエリー】入力欄!G204=\"パール\",\"mm\",\"ct\"))),IF(【ジュエリー】入力欄!J204=\"\",CONCATENATE(\" \",【ジュエリー】入力欄!I204),CONCATENATE(\" \",【ジュエリー】入力欄!I204,【ジュエリー】入力欄!J204,IF(【ジュエリー】入力欄!I204=\"パール\",\"mm\",\"ct\"))))","v":"  "},{"$f":"IF(【ジュエリー】入力欄!L204=\"\",\"\",【ジュエリー】入力欄!L204&\"g\")","v":""},{"$f":"IF(【ジュエリー】入力欄!M204=\"\",\"\",【ジュエリー】入力欄!M204)","v":""},{"$f":"IF(【ジュエリー】入力欄!O204=\"\",\"\",【ジュエリー】入力欄!O204)","v":""}]
["１０",{"$f":"IF(【ジュエリー】入力欄!K205=\"\",\"\",【ジュエリー】入力欄!K205)","v":""},{"$f":"IF(【ジュエリー】入力欄!E205=\"\",\"\",【ジュエリー】入力欄!E205)","v":""},{"$f":"CONCATENATE(IF(【ジュエリー】入力欄!F205=\"\",\"\",【ジュエリー】入力欄!F205),IF(【ジュエリー】入力欄!H205=\"\",CONCATENATE(\" \",【ジュエリー】入力欄!G205),CONCATENATE(\" \",【ジュエリー】入力欄!G205,【ジュエリー】入力欄!H205,IF(【ジュエリー】入力欄!G205=\"パール\",\"mm\",\"ct\"))),IF(【ジュエリー】入力欄!J205=\"\",CONCATENATE(\" \",【ジュエリー】入力欄!I205),CONCATENATE(\" \",【ジュエリー】入力欄!I205,【ジュエリー】入力欄!J205,IF(【ジュエリー】入力欄!I205=\"パール\",\"mm\",\"ct\"))))","v":"  "},{"$f":"IF(【ジュエリー】入力欄!L205=\"\",\"\",【ジュエリー】入力欄!L205&\"g\")","v":""},{"$f":"IF(【ジュエリー】入力欄!M205=\"\",\"\",【ジュエリー】入力欄!M205)","v":""},{"$f":"IF(【ジュエリー】入力欄!O205=\"\",\"\",【ジュエリー】入力欄!O205)","v":""}]
[]
["   \n",{"$f":"CONCATENATE(\"出品表　（　\",【ジュエリー】入力欄!I$3,\"　大吉オークション　宝石・ジュエリー）\")","v":"出品表　（　　大吉オークション　宝石・ジュエリー）"}]
[]
[null,"箱番：",{"$f":"IF(【ジュエリー】入力欄!C206=\"\",\"\",【ジュエリー】入力欄!C206)","v":""},"※太枠の中をご記入ください",null,"会社名",{"$f":"IF(【ジュエリー】入力欄!C$3=\"\",\"\",【ジュエリー】入力欄!C$3)","v":""}]
[]
["番号","品目","金性","詳細・特徴","重量","付属品","指値\n（3万円以上）","発句"]
["１",{"$f":"IF(【ジュエリー】入力欄!K206=\"\",\"\",【ジュエリー】入力欄!K206)","v":""},{"$f":"IF(【ジュエリー】入力欄!E206=\"\",\"\",【ジュエリー】入力欄!E206)","v":""},{"$f":"CONCATENATE(IF(【ジュエリー】入力欄!F206=\"\",\"\",【ジュエリー】入力欄!F206),IF(【ジュエリー】入力欄!H206=\"\",CONCATENATE(\" \",【ジュエリー】入力欄!G206),CONCATENATE(\" \",【ジュエリー】入力欄!G206,【ジュエリー】入力欄!H206,IF(【ジュエリー】入力欄!G206=\"パール\",\"mm\",\"ct\"))),IF(【ジュエリー】入力欄!J206=\"\",CONCATENATE(\" \",【ジュエリー】入力欄!I206),CONCATENATE(\" \",【ジュエリー】入力欄!I206,【ジュエリー】入力欄!J206,IF(【ジュエリー】入力欄!I206=\"パール\",\"mm\",\"ct\"))))","v":"  "},{"$f":"IF(【ジュエリー】入力欄!L206=\"\",\"\",【ジュエリー】入力欄!L206&\"g\")","v":""},{"$f":"IF(【ジュエリー】入力欄!M206=\"\",\"\",【ジュエリー】入力欄!M206)","v":""},{"$f":"IF(【ジュエリー】入力欄!O206=\"\",\"\",【ジュエリー】入力欄!O206)","v":""}]
["２",{"$f":"IF(【ジュエリー】入力欄!K207=\"\",\"\",【ジュエリー】入力欄!K207)","v":""},{"$f":"IF(【ジュエリー】入力欄!E207=\"\",\"\",【ジュエリー】入力欄!E207)","v":""},{"$f":"CONCATENATE(IF(【ジュエリー】入力欄!F207=\"\",\"\",【ジュエリー】入力欄!F207),IF(【ジュエリー】入力欄!H207=\"\",CONCATENATE(\" \",【ジュエリー】入力欄!G207),CONCATENATE(\" \",【ジュエリー】入力欄!G207,【ジュエリー】入力欄!H207,IF(【ジュエリー】入力欄!G207=\"パール\",\"mm\",\"ct\"))),IF(【ジュエリー】入力欄!J207=\"\",CONCATENATE(\" \",【ジュエリー】入力欄!I207),CONCATENATE(\" \",【ジュエリー】入力欄!I207,【ジュエリー】入力欄!J207,IF(【ジュエリー】入力欄!I207=\"パール\",\"mm\",\"ct\"))))","v":"  "},{"$f":"IF(【ジュエリー】入力欄!L207=\"\",\"\",【ジュエリー】入力欄!L207&\"g\")","v":""},{"$f":"IF(【ジュエリー】入力欄!M207=\"\",\"\",【ジュエリー】入力欄!M207)","v":""},{"$f":"IF(【ジュエリー】入力欄!O207=\"\",\"\",【ジュエリー】入力欄!O207)","v":""}]
["３",{"$f":"IF(【ジュエリー】入力欄!K208=\"\",\"\",【ジュエリー】入力欄!K208)","v":""},{"$f":"IF(【ジュエリー】入力欄!E208=\"\",\"\",【ジュエリー】入力欄!E208)","v":""},{"$f":"CONCATENATE(IF(【ジュエリー】入力欄!F208=\"\",\"\",【ジュエリー】入力欄!F208),IF(【ジュエリー】入力欄!H208=\"\",CONCATENATE(\" \",【ジュエリー】入力欄!G208),CONCATENATE(\" \",【ジュエリー】入力欄!G208,【ジュエリー】入力欄!H208,IF(【ジュエリー】入力欄!G208=\"パール\",\"mm\",\"ct\"))),IF(【ジュエリー】入力欄!J208=\"\",CONCATENATE(\" \",【ジュエリー】入力欄!I208),CONCATENATE(\" \",【ジュエリー】入力欄!I208,【ジュエリー】入力欄!J208,IF(【ジュエリー】入力欄!I208=\"パール\",\"mm\",\"ct\"))))","v":"  "},{"$f":"IF(【ジュエリー】入力欄!L208=\"\",\"\",【ジュエリー】入力欄!L208&\"g\")","v":""},{"$f":"IF(【ジュエリー】入力欄!M208=\"\",\"\",【ジュエリー】入力欄!M208)","v":""},{"$f":"IF(【ジュエリー】入力欄!O208=\"\",\"\",【ジュエリー】入力欄!O208)","v":""}]
["４",{"$f":"IF(【ジュエリー】入力欄!K209=\"\",\"\",【ジュエリー】入力欄!K209)","v":""},{"$f":"IF(【ジュエリー】入力欄!E209=\"\",\"\",【ジュエリー】入力欄!E209)","v":""},{"$f":"CONCATENATE(IF(【ジュエリー】入力欄!F209=\"\",\"\",【ジュエリー】入力欄!F209),IF(【ジュエリー】入力欄!H209=\"\",CONCATENATE(\" \",【ジュエリー】入力欄!G209),CONCATENATE(\" \",【ジュエリー】入力欄!G209,【ジュエリー】入力欄!H209,IF(【ジュエリー】入力欄!G209=\"パール\",\"mm\",\"ct\"))),IF(【ジュエリー】入力欄!J209=\"\",CONCATENATE(\" \",【ジュエリー】入力欄!I209),CONCATENATE(\" \",【ジュエリー】入力欄!I209,【ジュエリー】入力欄!J209,IF(【ジュエリー】入力欄!I209=\"パール\",\"mm\",\"ct\"))))","v":"  "},{"$f":"IF(【ジュエリー】入力欄!L209=\"\",\"\",【ジュエリー】入力欄!L209&\"g\")","v":""},{"$f":"IF(【ジュエリー】入力欄!M209=\"\",\"\",【ジュエリー】入力欄!M209)","v":""},{"$f":"IF(【ジュエリー】入力欄!O209=\"\",\"\",【ジュエリー】入力欄!O209)","v":""}]
["５",{"$f":"IF(【ジュエリー】入力欄!K210=\"\",\"\",【ジュエリー】入力欄!K210)","v":""},{"$f":"IF(【ジュエリー】入力欄!E210=\"\",\"\",【ジュエリー】入力欄!E210)","v":""},{"$f":"CONCATENATE(IF(【ジュエリー】入力欄!F210=\"\",\"\",【ジュエリー】入力欄!F210),IF(【ジュエリー】入力欄!H210=\"\",CONCATENATE(\" \",【ジュエリー】入力欄!G210),CONCATENATE(\" \",【ジュエリー】入力欄!G210,【ジュエリー】入力欄!H210,IF(【ジュエリー】入力欄!G210=\"パール\",\"mm\",\"ct\"))),IF(【ジュエリー】入力欄!J210=\"\",CONCATENATE(\" \",【ジュエリー】入力欄!I210),CONCATENATE(\" \",【ジュエリー】入力欄!I210,【ジュエリー】入力欄!J210,IF(【ジュエリー】入力欄!I210=\"パール\",\"mm\",\"ct\"))))","v":"  "},{"$f":"IF(【ジュエリー】入力欄!L210=\"\",\"\",【ジュエリー】入力欄!L210&\"g\")","v":""},{"$f":"IF(【ジュエリー】入力欄!M210=\"\",\"\",【ジュエリー】入力欄!M210)","v":""},{"$f":"IF(【ジュエリー】入力欄!O210=\"\",\"\",【ジュエリー】入力欄!O210)","v":""}]
["６",{"$f":"IF(【ジュエリー】入力欄!K211=\"\",\"\",【ジュエリー】入力欄!K211)","v":""},{"$f":"IF(【ジュエリー】入力欄!E211=\"\",\"\",【ジュエリー】入力欄!E211)","v":""},{"$f":"CONCATENATE(IF(【ジュエリー】入力欄!F211=\"\",\"\",【ジュエリー】入力欄!F211),IF(【ジュエリー】入力欄!H211=\"\",CONCATENATE(\" \",【ジュエリー】入力欄!G211),CONCATENATE(\" \",【ジュエリー】入力欄!G211,【ジュエリー】入力欄!H211,IF(【ジュエリー】入力欄!G211=\"パール\",\"mm\",\"ct\"))),IF(【ジュエリー】入力欄!J211=\"\",CONCATENATE(\" \",【ジュエリー】入力欄!I211),CONCATENATE(\" \",【ジュエリー】入力欄!I211,【ジュエリー】入力欄!J211,IF(【ジュエリー】入力欄!I211=\"パール\",\"mm\",\"ct\"))))","v":"  "},{"$f":"IF(【ジュエリー】入力欄!L211=\"\",\"\",【ジュエリー】入力欄!L211&\"g\")","v":""},{"$f":"IF(【ジュエリー】入力欄!M211=\"\",\"\",【ジュエリー】入力欄!M211)","v":""},{"$f":"IF(【ジュエリー】入力欄!O211=\"\",\"\",【ジュエリー】入力欄!O211)","v":""}]
["７",{"$f":"IF(【ジュエリー】入力欄!K212=\"\",\"\",【ジュエリー】入力欄!K212)","v":""},{"$f":"IF(【ジュエリー】入力欄!E212=\"\",\"\",【ジュエリー】入力欄!E212)","v":""},{"$f":"CONCATENATE(IF(【ジュエリー】入力欄!F212=\"\",\"\",【ジュエリー】入力欄!F212),IF(【ジュエリー】入力欄!H212=\"\",CONCATENATE(\" \",【ジュエリー】入力欄!G212),CONCATENATE(\" \",【ジュエリー】入力欄!G212,【ジュエリー】入力欄!H212,IF(【ジュエリー】入力欄!G212=\"パール\",\"mm\",\"ct\"))),IF(【ジュエリー】入力欄!J212=\"\",CONCATENATE(\" \",【ジュエリー】入力欄!I212),CONCATENATE(\" \",【ジュエリー】入力欄!I212,【ジュエリー】入力欄!J212,IF(【ジュエリー】入力欄!I212=\"パール\",\"mm\",\"ct\"))))","v":"  "},{"$f":"IF(【ジュエリー】入力欄!L212=\"\",\"\",【ジュエリー】入力欄!L212&\"g\")","v":""},{"$f":"IF(【ジュエリー】入力欄!M212=\"\",\"\",【ジュエリー】入力欄!M212)","v":""},{"$f":"IF(【ジュエリー】入力欄!O212=\"\",\"\",【ジュエリー】入力欄!O212)","v":""}]
["８",{"$f":"IF(【ジュエリー】入力欄!K213=\"\",\"\",【ジュエリー】入力欄!K213)","v":""},{"$f":"IF(【ジュエリー】入力欄!E213=\"\",\"\",【ジュエリー】入力欄!E213)","v":""},{"$f":"CONCATENATE(IF(【ジュエリー】入力欄!F213=\"\",\"\",【ジュエリー】入力欄!F213),IF(【ジュエリー】入力欄!H213=\"\",CONCATENATE(\" \",【ジュエリー】入力欄!G213),CONCATENATE(\" \",【ジュエリー】入力欄!G213,【ジュエリー】入力欄!H213,IF(【ジュエリー】入力欄!G213=\"パール\",\"mm\",\"ct\"))),IF(【ジュエリー】入力欄!J213=\"\",CONCATENATE(\" \",【ジュエリー】入力欄!I213),CONCATENATE(\" \",【ジュエリー】入力欄!I213,【ジュエリー】入力欄!J213,IF(【ジュエリー】入力欄!I213=\"パール\",\"mm\",\"ct\"))))","v":"  "},{"$f":"IF(【ジュエリー】入力欄!L213=\"\",\"\",【ジュエリー】入力欄!L213&\"g\")","v":""},{"$f":"IF(【ジュエリー】入力欄!M213=\"\",\"\",【ジュエリー】入力欄!M213)","v":""},{"$f":"IF(【ジュエリー】入力欄!O213=\"\",\"\",【ジュエリー】入力欄!O213)","v":""}]
["９",{"$f":"IF(【ジュエリー】入力欄!K214=\"\",\"\",【ジュエリー】入力欄!K214)","v":""},{"$f":"IF(【ジュエリー】入力欄!E214=\"\",\"\",【ジュエリー】入力欄!E214)","v":""},{"$f":"CONCATENATE(IF(【ジュエリー】入力欄!F214=\"\",\"\",【ジュエリー】入力欄!F214),IF(【ジュエリー】入力欄!H214=\"\",CONCATENATE(\" \",【ジュエリー】入力欄!G214),CONCATENATE(\" \",【ジュエリー】入力欄!G214,【ジュエリー】入力欄!H214,IF(【ジュエリー】入力欄!G214=\"パール\",\"mm\",\"ct\"))),IF(【ジュエリー】入力欄!J214=\"\",CONCATENATE(\" \",【ジュエリー】入力欄!I214),CONCATENATE(\" \",【ジュエリー】入力欄!I214,【ジュエリー】入力欄!J214,IF(【ジュエリー】入力欄!I214=\"パール\",\"mm\",\"ct\"))))","v":"  "},{"$f":"IF(【ジュエリー】入力欄!L214=\"\",\"\",【ジュエリー】入力欄!L214&\"g\")","v":""},{"$f":"IF(【ジュエリー】入力欄!M214=\"\",\"\",【ジュエリー】入力欄!M214)","v":""},{"$f":"IF(【ジュエリー】入力欄!O214=\"\",\"\",【ジュエリー】入力欄!O214)","v":""}]
["１０",{"$f":"IF(【ジュエリー】入力欄!K215=\"\",\"\",【ジュエリー】入力欄!K215)","v":""},{"$f":"IF(【ジュエリー】入力欄!E215=\"\",\"\",【ジュエリー】入力欄!E215)","v":""},{"$f":"CONCATENATE(IF(【ジュエリー】入力欄!F215=\"\",\"\",【ジュエリー】入力欄!F215),IF(【ジュエリー】入力欄!H215=\"\",CONCATENATE(\" \",【ジュエリー】入力欄!G215),CONCATENATE(\" \",【ジュエリー】入力欄!G215,【ジュエリー】入力欄!H215,IF(【ジュエリー】入力欄!G215=\"パール\",\"mm\",\"ct\"))),IF(【ジュエリー】入力欄!J215=\"\",CONCATENATE(\" \",【ジュエリー】入力欄!I215),CONCATENATE(\" \",【ジュエリー】入力欄!I215,【ジュエリー】入力欄!J215,IF(【ジュエリー】入力欄!I215=\"パール\",\"mm\",\"ct\"))))","v":"  "},{"$f":"IF(【ジュエリー】入力欄!L215=\"\",\"\",【ジュエリー】入力欄!L215&\"g\")","v":""},{"$f":"IF(【ジュエリー】入力欄!M215=\"\",\"\",【ジュエリー】入力欄!M215)","v":""},{"$f":"IF(【ジュエリー】入力欄!O215=\"\",\"\",【ジュエリー】入力欄!O215)","v":""}]
[]
["   \n",{"$f":"CONCATENATE(\"出品表　（　\",【ジュエリー】入力欄!I$3,\"　大吉オークション　宝石・ジュエリー）\")","v":"出品表　（　　大吉オークション　宝石・ジュエリー）"}]
[]
[null,"箱番：",{"$f":"IF(【ジュエリー】入力欄!C216=\"\",\"\",【ジュエリー】入力欄!C216)","v":""},"※太枠の中をご記入ください",null,"会社名",{"$f":"IF(【ジュエリー】入力欄!C$3=\"\",\"\",【ジュエリー】入力欄!C$3)","v":""}]
[]
["番号","品目","金性","詳細・特徴","重量","付属品","指値\n（3万円以上）","発句"]
["１",{"$f":"IF(【ジュエリー】入力欄!K216=\"\",\"\",【ジュエリー】入力欄!K216)","v":""},{"$f":"IF(【ジュエリー】入力欄!E216=\"\",\"\",【ジュエリー】入力欄!E216)","v":""},{"$f":"CONCATENATE(IF(【ジュエリー】入力欄!F216=\"\",\"\",【ジュエリー】入力欄!F216),IF(【ジュエリー】入力欄!H216=\"\",CONCATENATE(\" \",【ジュエリー】入力欄!G216),CONCATENATE(\" \",【ジュエリー】入力欄!G216,【ジュエリー】入力欄!H216,IF(【ジュエリー】入力欄!G216=\"パール\",\"mm\",\"ct\"))),IF(【ジュエリー】入力欄!J216=\"\",CONCATENATE(\" \",【ジュエリー】入力欄!I216),CONCATENATE(\" \",【ジュエリー】入力欄!I216,【ジュエリー】入力欄!J216,IF(【ジュエリー】入力欄!I216=\"パール\",\"mm\",\"ct\"))))","v":"  "},{"$f":"IF(【ジュエリー】入力欄!L216=\"\",\"\",【ジュエリー】入力欄!L216&\"g\")","v":""},{"$f":"IF(【ジュエリー】入力欄!M216=\"\",\"\",【ジュエリー】入力欄!M216)","v":""},{"$f":"IF(【ジュエリー】入力欄!O216=\"\",\"\",【ジュエリー】入力欄!O216)","v":""}]
["２",{"$f":"IF(【ジュエリー】入力欄!K217=\"\",\"\",【ジュエリー】入力欄!K217)","v":""},{"$f":"IF(【ジュエリー】入力欄!E217=\"\",\"\",【ジュエリー】入力欄!E217)","v":""},{"$f":"CONCATENATE(IF(【ジュエリー】入力欄!F217=\"\",\"\",【ジュエリー】入力欄!F217),IF(【ジュエリー】入力欄!H217=\"\",CONCATENATE(\" \",【ジュエリー】入力欄!G217),CONCATENATE(\" \",【ジュエリー】入力欄!G217,【ジュエリー】入力欄!H217,IF(【ジュエリー】入力欄!G217=\"パール\",\"mm\",\"ct\"))),IF(【ジュエリー】入力欄!J217=\"\",CONCATENATE(\" \",【ジュエリー】入力欄!I217),CONCATENATE(\" \",【ジュエリー】入力欄!I217,【ジュエリー】入力欄!J217,IF(【ジュエリー】入力欄!I217=\"パール\",\"mm\",\"ct\"))))","v":"  "},{"$f":"IF(【ジュエリー】入力欄!L217=\"\",\"\",【ジュエリー】入力欄!L217&\"g\")","v":""},{"$f":"IF(【ジュエリー】入力欄!M217=\"\",\"\",【ジュエリー】入力欄!M217)","v":""},{"$f":"IF(【ジュエリー】入力欄!O217=\"\",\"\",【ジュエリー】入力欄!O217)","v":""}]
["３",{"$f":"IF(【ジュエリー】入力欄!K218=\"\",\"\",【ジュエリー】入力欄!K218)","v":""},{"$f":"IF(【ジュエリー】入力欄!E218=\"\",\"\",【ジュエリー】入力欄!E218)","v":""},{"$f":"CONCATENATE(IF(【ジュエリー】入力欄!F218=\"\",\"\",【ジュエリー】入力欄!F218),IF(【ジュエリー】入力欄!H218=\"\",CONCATENATE(\" \",【ジュエリー】入力欄!G218),CONCATENATE(\" \",【ジュエリー】入力欄!G218,【ジュエリー】入力欄!H218,IF(【ジュエリー】入力欄!G218=\"パール\",\"mm\",\"ct\"))),IF(【ジュエリー】入力欄!J218=\"\",CONCATENATE(\" \",【ジュエリー】入力欄!I218),CONCATENATE(\" \",【ジュエリー】入力欄!I218,【ジュエリー】入力欄!J218,IF(【ジュエリー】入力欄!I218=\"パール\",\"mm\",\"ct\"))))","v":"  "},{"$f":"IF(【ジュエリー】入力欄!L218=\"\",\"\",【ジュエリー】入力欄!L218&\"g\")","v":""},{"$f":"IF(【ジュエリー】入力欄!M218=\"\",\"\",【ジュエリー】入力欄!M218)","v":""},{"$f":"IF(【ジュエリー】入力欄!O218=\"\",\"\",【ジュエリー】入力欄!O218)","v":""}]
["４",{"$f":"IF(【ジュエリー】入力欄!K219=\"\",\"\",【ジュエリー】入力欄!K219)","v":""},{"$f":"IF(【ジュエリー】入力欄!E219=\"\",\"\",【ジュエリー】入力欄!E219)","v":""},{"$f":"CONCATENATE(IF(【ジュエリー】入力欄!F219=\"\",\"\",【ジュエリー】入力欄!F219),IF(【ジュエリー】入力欄!H219=\"\",CONCATENATE(\" \",【ジュエリー】入力欄!G219),CONCATENATE(\" \",【ジュエリー】入力欄!G219,【ジュエリー】入力欄!H219,IF(【ジュエリー】入力欄!G219=\"パール\",\"mm\",\"ct\"))),IF(【ジュエリー】入力欄!J219=\"\",CONCATENATE(\" \",【ジュエリー】入力欄!I219),CONCATENATE(\" \",【ジュエリー】入力欄!I219,【ジュエリー】入力欄!J219,IF(【ジュエリー】入力欄!I219=\"パール\",\"mm\",\"ct\"))))","v":"  "},{"$f":"IF(【ジュエリー】入力欄!L219=\"\",\"\",【ジュエリー】入力欄!L219&\"g\")","v":""},{"$f":"IF(【ジュエリー】入力欄!M219=\"\",\"\",【ジュエリー】入力欄!M219)","v":""},{"$f":"IF(【ジュエリー】入力欄!O219=\"\",\"\",【ジュエリー】入力欄!O219)","v":""}]
["５",{"$f":"IF(【ジュエリー】入力欄!K220=\"\",\"\",【ジュエリー】入力欄!K220)","v":""},{"$f":"IF(【ジュエリー】入力欄!E220=\"\",\"\",【ジュエリー】入力欄!E220)","v":""},{"$f":"CONCATENATE(IF(【ジュエリー】入力欄!F220=\"\",\"\",【ジュエリー】入力欄!F220),IF(【ジュエリー】入力欄!H220=\"\",CONCATENATE(\" \",【ジュエリー】入力欄!G220),CONCATENATE(\" \",【ジュエリー】入力欄!G220,【ジュエリー】入力欄!H220,IF(【ジュエリー】入力欄!G220=\"パール\",\"mm\",\"ct\"))),IF(【ジュエリー】入力欄!J220=\"\",CONCATENATE(\" \",【ジュエリー】入力欄!I220),CONCATENATE(\" \",【ジュエリー】入力欄!I220,【ジュエリー】入力欄!J220,IF(【ジュエリー】入力欄!I220=\"パール\",\"mm\",\"ct\"))))","v":"  "},{"$f":"IF(【ジュエリー】入力欄!L220=\"\",\"\",【ジュエリー】入力欄!L220&\"g\")","v":""},{"$f":"IF(【ジュエリー】入力欄!M220=\"\",\"\",【ジュエリー】入力欄!M220)","v":""},{"$f":"IF(【ジュエリー】入力欄!O220=\"\",\"\",【ジュエリー】入力欄!O220)","v":""}]
["６",{"$f":"IF(【ジュエリー】入力欄!K221=\"\",\"\",【ジュエリー】入力欄!K221)","v":""},{"$f":"IF(【ジュエリー】入力欄!E221=\"\",\"\",【ジュエリー】入力欄!E221)","v":""},{"$f":"CONCATENATE(IF(【ジュエリー】入力欄!F221=\"\",\"\",【ジュエリー】入力欄!F221),IF(【ジュエリー】入力欄!H221=\"\",CONCATENATE(\" \",【ジュエリー】入力欄!G221),CONCATENATE(\" \",【ジュエリー】入力欄!G221,【ジュエリー】入力欄!H221,IF(【ジュエリー】入力欄!G221=\"パール\",\"mm\",\"ct\"))),IF(【ジュエリー】入力欄!J221=\"\",CONCATENATE(\" \",【ジュエリー】入力欄!I221),CONCATENATE(\" \",【ジュエリー】入力欄!I221,【ジュエリー】入力欄!J221,IF(【ジュエリー】入力欄!I221=\"パール\",\"mm\",\"ct\"))))","v":"  "},{"$f":"IF(【ジュエリー】入力欄!L221=\"\",\"\",【ジュエリー】入力欄!L221&\"g\")","v":""},{"$f":"IF(【ジュエリー】入力欄!M221=\"\",\"\",【ジュエリー】入力欄!M221)","v":""},{"$f":"IF(【ジュエリー】入力欄!O221=\"\",\"\",【ジュエリー】入力欄!O221)","v":""}]
["７",{"$f":"IF(【ジュエリー】入力欄!K222=\"\",\"\",【ジュエリー】入力欄!K222)","v":""},{"$f":"IF(【ジュエリー】入力欄!E222=\"\",\"\",【ジュエリー】入力欄!E222)","v":""},{"$f":"CONCATENATE(IF(【ジュエリー】入力欄!F222=\"\",\"\",【ジュエリー】入力欄!F222),IF(【ジュエリー】入力欄!H222=\"\",CONCATENATE(\" \",【ジュエリー】入力欄!G222),CONCATENATE(\" \",【ジュエリー】入力欄!G222,【ジュエリー】入力欄!H222,IF(【ジュエリー】入力欄!G222=\"パール\",\"mm\",\"ct\"))),IF(【ジュエリー】入力欄!J222=\"\",CONCATENATE(\" \",【ジュエリー】入力欄!I222),CONCATENATE(\" \",【ジュエリー】入力欄!I222,【ジュエリー】入力欄!J222,IF(【ジュエリー】入力欄!I222=\"パール\",\"mm\",\"ct\"))))","v":"  "},{"$f":"IF(【ジュエリー】入力欄!L222=\"\",\"\",【ジュエリー】入力欄!L222&\"g\")","v":""},{"$f":"IF(【ジュエリー】入力欄!M222=\"\",\"\",【ジュエリー】入力欄!M222)","v":""},{"$f":"IF(【ジュエリー】入力欄!O222=\"\",\"\",【ジュエリー】入力欄!O222)","v":""}]
["８",{"$f":"IF(【ジュエリー】入力欄!K223=\"\",\"\",【ジュエリー】入力欄!K223)","v":""},{"$f":"IF(【ジュエリー】入力欄!E223=\"\",\"\",【ジュエリー】入力欄!E223)","v":""},{"$f":"CONCATENATE(IF(【ジュエリー】入力欄!F223=\"\",\"\",【ジュエリー】入力欄!F223),IF(【ジュエリー】入力欄!H223=\"\",CONCATENATE(\" \",【ジュエリー】入力欄!G223),CONCATENATE(\" \",【ジュエリー】入力欄!G223,【ジュエリー】入力欄!H223,IF(【ジュエリー】入力欄!G223=\"パール\",\"mm\",\"ct\"))),IF(【ジュエリー】入力欄!J223=\"\",CONCATENATE(\" \",【ジュエリー】入力欄!I223),CONCATENATE(\" \",【ジュエリー】入力欄!I223,【ジュエリー】入力欄!J223,IF(【ジュエリー】入力欄!I223=\"パール\",\"mm\",\"ct\"))))","v":"  "},{"$f":"IF(【ジュエリー】入力欄!L223=\"\",\"\",【ジュエリー】入力欄!L223&\"g\")","v":""},{"$f":"IF(【ジュエリー】入力欄!M223=\"\",\"\",【ジュエリー】入力欄!M223)","v":""},{"$f":"IF(【ジュエリー】入力欄!O223=\"\",\"\",【ジュエリー】入力欄!O223)","v":""}]
["９",{"$f":"IF(【ジュエリー】入力欄!K224=\"\",\"\",【ジュエリー】入力欄!K224)","v":""},{"$f":"IF(【ジュエリー】入力欄!E224=\"\",\"\",【ジュエリー】入力欄!E224)","v":""},{"$f":"CONCATENATE(IF(【ジュエリー】入力欄!F224=\"\",\"\",【ジュエリー】入力欄!F224),IF(【ジュエリー】入力欄!H224=\"\",CONCATENATE(\" \",【ジュエリー】入力欄!G224),CONCATENATE(\" \",【ジュエリー】入力欄!G224,【ジュエリー】入力欄!H224,IF(【ジュエリー】入力欄!G224=\"パール\",\"mm\",\"ct\"))),IF(【ジュエリー】入力欄!J224=\"\",CONCATENATE(\" \",【ジュエリー】入力欄!I224),CONCATENATE(\" \",【ジュエリー】入力欄!I224,【ジュエリー】入力欄!J224,IF(【ジュエリー】入力欄!I224=\"パール\",\"mm\",\"ct\"))))","v":"  "},{"$f":"IF(【ジュエリー】入力欄!L224=\"\",\"\",【ジュエリー】入力欄!L224&\"g\")","v":""},{"$f":"IF(【ジュエリー】入力欄!M224=\"\",\"\",【ジュエリー】入力欄!M224)","v":""},{"$f":"IF(【ジュエリー】入力欄!O224=\"\",\"\",【ジュエリー】入力欄!O224)","v":""}]
["１０",{"$f":"IF(【ジュエリー】入力欄!K225=\"\",\"\",【ジュエリー】入力欄!K225)","v":""},{"$f":"IF(【ジュエリー】入力欄!E225=\"\",\"\",【ジュエリー】入力欄!E225)","v":""},{"$f":"CONCATENATE(IF(【ジュエリー】入力欄!F225=\"\",\"\",【ジュエリー】入力欄!F225),IF(【ジュエリー】入力欄!H225=\"\",CONCATENATE(\" \",【ジュエリー】入力欄!G225),CONCATENATE(\" \",【ジュエリー】入力欄!G225,【ジュエリー】入力欄!H225,IF(【ジュエリー】入力欄!G225=\"パール\",\"mm\",\"ct\"))),IF(【ジュエリー】入力欄!J225=\"\",CONCATENATE(\" \",【ジュエリー】入力欄!I225),CONCATENATE(\" \",【ジュエリー】入力欄!I225,【ジュエリー】入力欄!J225,IF(【ジュエリー】入力欄!I225=\"パール\",\"mm\",\"ct\"))))","v":"  "},{"$f":"IF(【ジュエリー】入力欄!L225=\"\",\"\",【ジュエリー】入力欄!L225&\"g\")","v":""},{"$f":"IF(【ジュエリー】入力欄!M225=\"\",\"\",【ジュエリー】入力欄!M225)","v":""},{"$f":"IF(【ジュエリー】入力欄!O225=\"\",\"\",【ジュエリー】入力欄!O225)","v":""}]
[]
["   \n",{"$f":"CONCATENATE(\"出品表　（　\",【ジュエリー】入力欄!I$3,\"　大吉オークション　宝石・ジュエリー）\")","v":"出品表　（　　大吉オークション　宝石・ジュエリー）"}]
[]
[null,"箱番：",{"$f":"IF(【ジュエリー】入力欄!C226=\"\",\"\",【ジュエリー】入力欄!C226)","v":""},"※太枠の中をご記入ください",null,"会社名",{"$f":"IF(【ジュエリー】入力欄!C$3=\"\",\"\",【ジュエリー】入力欄!C$3)","v":""}]
[]
["番号","品目","金性","詳細・特徴","重量","付属品","指値\n（3万円以上）","発句"]
["１",{"$f":"IF(【ジュエリー】入力欄!K226=\"\",\"\",【ジュエリー】入力欄!K226)","v":""},{"$f":"IF(【ジュエリー】入力欄!E226=\"\",\"\",【ジュエリー】入力欄!E226)","v":""},{"$f":"CONCATENATE(IF(【ジュエリー】入力欄!F226=\"\",\"\",【ジュエリー】入力欄!F226),IF(【ジュエリー】入力欄!H226=\"\",CONCATENATE(\" \",【ジュエリー】入力欄!G226),CONCATENATE(\" \",【ジュエリー】入力欄!G226,【ジュエリー】入力欄!H226,IF(【ジュエリー】入力欄!G226=\"パール\",\"mm\",\"ct\"))),IF(【ジュエリー】入力欄!J226=\"\",CONCATENATE(\" \",【ジュエリー】入力欄!I226),CONCATENATE(\" \",【ジュエリー】入力欄!I226,【ジュエリー】入力欄!J226,IF(【ジュエリー】入力欄!I226=\"パール\",\"mm\",\"ct\"))))","v":"  "},{"$f":"IF(【ジュエリー】入力欄!L226=\"\",\"\",【ジュエリー】入力欄!L226&\"g\")","v":""},{"$f":"IF(【ジュエリー】入力欄!M226=\"\",\"\",【ジュエリー】入力欄!M226)","v":""},{"$f":"IF(【ジュエリー】入力欄!O226=\"\",\"\",【ジュエリー】入力欄!O226)","v":""}]
["２",{"$f":"IF(【ジュエリー】入力欄!K227=\"\",\"\",【ジュエリー】入力欄!K227)","v":""},{"$f":"IF(【ジュエリー】入力欄!E227=\"\",\"\",【ジュエリー】入力欄!E227)","v":""},{"$f":"CONCATENATE(IF(【ジュエリー】入力欄!F227=\"\",\"\",【ジュエリー】入力欄!F227),IF(【ジュエリー】入力欄!H227=\"\",CONCATENATE(\" \",【ジュエリー】入力欄!G227),CONCATENATE(\" \",【ジュエリー】入力欄!G227,【ジュエリー】入力欄!H227,IF(【ジュエリー】入力欄!G227=\"パール\",\"mm\",\"ct\"))),IF(【ジュエリー】入力欄!J227=\"\",CONCATENATE(\" \",【ジュエリー】入力欄!I227),CONCATENATE(\" \",【ジュエリー】入力欄!I227,【ジュエリー】入力欄!J227,IF(【ジュエリー】入力欄!I227=\"パール\",\"mm\",\"ct\"))))","v":"  "},{"$f":"IF(【ジュエリー】入力欄!L227=\"\",\"\",【ジュエリー】入力欄!L227&\"g\")","v":""},{"$f":"IF(【ジュエリー】入力欄!M227=\"\",\"\",【ジュエリー】入力欄!M227)","v":""},{"$f":"IF(【ジュエリー】入力欄!O227=\"\",\"\",【ジュエリー】入力欄!O227)","v":""}]
["３",{"$f":"IF(【ジュエリー】入力欄!K228=\"\",\"\",【ジュエリー】入力欄!K228)","v":""},{"$f":"IF(【ジュエリー】入力欄!E228=\"\",\"\",【ジュエリー】入力欄!E228)","v":""},{"$f":"CONCATENATE(IF(【ジュエリー】入力欄!F228=\"\",\"\",【ジュエリー】入力欄!F228),IF(【ジュエリー】入力欄!H228=\"\",CONCATENATE(\" \",【ジュエリー】入力欄!G228),CONCATENATE(\" \",【ジュエリー】入力欄!G228,【ジュエリー】入力欄!H228,IF(【ジュエリー】入力欄!G228=\"パール\",\"mm\",\"ct\"))),IF(【ジュエリー】入力欄!J228=\"\",CONCATENATE(\" \",【ジュエリー】入力欄!I228),CONCATENATE(\" \",【ジュエリー】入力欄!I228,【ジュエリー】入力欄!J228,IF(【ジュエリー】入力欄!I228=\"パール\",\"mm\",\"ct\"))))","v":"  "},{"$f":"IF(【ジュエリー】入力欄!L228=\"\",\"\",【ジュエリー】入力欄!L228&\"g\")","v":""},{"$f":"IF(【ジュエリー】入力欄!M228=\"\",\"\",【ジュエリー】入力欄!M228)","v":""},{"$f":"IF(【ジュエリー】入力欄!O228=\"\",\"\",【ジュエリー】入力欄!O228)","v":""}]
["４",{"$f":"IF(【ジュエリー】入力欄!K229=\"\",\"\",【ジュエリー】入力欄!K229)","v":""},{"$f":"IF(【ジュエリー】入力欄!E229=\"\",\"\",【ジュエリー】入力欄!E229)","v":""},{"$f":"CONCATENATE(IF(【ジュエリー】入力欄!F229=\"\",\"\",【ジュエリー】入力欄!F229),IF(【ジュエリー】入力欄!H229=\"\",CONCATENATE(\" \",【ジュエリー】入力欄!G229),CONCATENATE(\" \",【ジュエリー】入力欄!G229,【ジュエリー】入力欄!H229,IF(【ジュエリー】入力欄!G229=\"パール\",\"mm\",\"ct\"))),IF(【ジュエリー】入力欄!J229=\"\",CONCATENATE(\" \",【ジュエリー】入力欄!I229),CONCATENATE(\" \",【ジュエリー】入力欄!I229,【ジュエリー】入力欄!J229,IF(【ジュエリー】入力欄!I229=\"パール\",\"mm\",\"ct\"))))","v":"  "},{"$f":"IF(【ジュエリー】入力欄!L229=\"\",\"\",【ジュエリー】入力欄!L229&\"g\")","v":""},{"$f":"IF(【ジュエリー】入力欄!M229=\"\",\"\",【ジュエリー】入力欄!M229)","v":""},{"$f":"IF(【ジュエリー】入力欄!O229=\"\",\"\",【ジュエリー】入力欄!O229)","v":""}]
["５",{"$f":"IF(【ジュエリー】入力欄!K230=\"\",\"\",【ジュエリー】入力欄!K230)","v":""},{"$f":"IF(【ジュエリー】入力欄!E230=\"\",\"\",【ジュエリー】入力欄!E230)","v":""},{"$f":"CONCATENATE(IF(【ジュエリー】入力欄!F230=\"\",\"\",【ジュエリー】入力欄!F230),IF(【ジュエリー】入力欄!H230=\"\",CONCATENATE(\" \",【ジュエリー】入力欄!G230),CONCATENATE(\" \",【ジュエリー】入力欄!G230,【ジュエリー】入力欄!H230,IF(【ジュエリー】入力欄!G230=\"パール\",\"mm\",\"ct\"))),IF(【ジュエリー】入力欄!J230=\"\",CONCATENATE(\" \",【ジュエリー】入力欄!I230),CONCATENATE(\" \",【ジュエリー】入力欄!I230,【ジュエリー】入力欄!J230,IF(【ジュエリー】入力欄!I230=\"パール\",\"mm\",\"ct\"))))","v":"  "},{"$f":"IF(【ジュエリー】入力欄!L230=\"\",\"\",【ジュエリー】入力欄!L230&\"g\")","v":""},{"$f":"IF(【ジュエリー】入力欄!M230=\"\",\"\",【ジュエリー】入力欄!M230)","v":""},{"$f":"IF(【ジュエリー】入力欄!O230=\"\",\"\",【ジュエリー】入力欄!O230)","v":""}]
["６",{"$f":"IF(【ジュエリー】入力欄!K231=\"\",\"\",【ジュエリー】入力欄!K231)","v":""},{"$f":"IF(【ジュエリー】入力欄!E231=\"\",\"\",【ジュエリー】入力欄!E231)","v":""},{"$f":"CONCATENATE(IF(【ジュエリー】入力欄!F231=\"\",\"\",【ジュエリー】入力欄!F231),IF(【ジュエリー】入力欄!H231=\"\",CONCATENATE(\" \",【ジュエリー】入力欄!G231),CONCATENATE(\" \",【ジュエリー】入力欄!G231,【ジュエリー】入力欄!H231,IF(【ジュエリー】入力欄!G231=\"パール\",\"mm\",\"ct\"))),IF(【ジュエリー】入力欄!J231=\"\",CONCATENATE(\" \",【ジュエリー】入力欄!I231),CONCATENATE(\" \",【ジュエリー】入力欄!I231,【ジュエリー】入力欄!J231,IF(【ジュエリー】入力欄!I231=\"パール\",\"mm\",\"ct\"))))","v":"  "},{"$f":"IF(【ジュエリー】入力欄!L231=\"\",\"\",【ジュエリー】入力欄!L231&\"g\")","v":""},{"$f":"IF(【ジュエリー】入力欄!M231=\"\",\"\",【ジュエリー】入力欄!M231)","v":""},{"$f":"IF(【ジュエリー】入力欄!O231=\"\",\"\",【ジュエリー】入力欄!O231)","v":""}]
["７",{"$f":"IF(【ジュエリー】入力欄!K232=\"\",\"\",【ジュエリー】入力欄!K232)","v":""},{"$f":"IF(【ジュエリー】入力欄!E232=\"\",\"\",【ジュエリー】入力欄!E232)","v":""},{"$f":"CONCATENATE(IF(【ジュエリー】入力欄!F232=\"\",\"\",【ジュエリー】入力欄!F232),IF(【ジュエリー】入力欄!H232=\"\",CONCATENATE(\" \",【ジュエリー】入力欄!G232),CONCATENATE(\" \",【ジュエリー】入力欄!G232,【ジュエリー】入力欄!H232,IF(【ジュエリー】入力欄!G232=\"パール\",\"mm\",\"ct\"))),IF(【ジュエリー】入力欄!J232=\"\",CONCATENATE(\" \",【ジュエリー】入力欄!I232),CONCATENATE(\" \",【ジュエリー】入力欄!I232,【ジュエリー】入力欄!J232,IF(【ジュエリー】入力欄!I232=\"パール\",\"mm\",\"ct\"))))","v":"  "},{"$f":"IF(【ジュエリー】入力欄!L232=\"\",\"\",【ジュエリー】入力欄!L232&\"g\")","v":""},{"$f":"IF(【ジュエリー】入力欄!M232=\"\",\"\",【ジュエリー】入力欄!M232)","v":""},{"$f":"IF(【ジュエリー】入力欄!O232=\"\",\"\",【ジュエリー】入力欄!O232)","v":""}]
["８",{"$f":"IF(【ジュエリー】入力欄!K233=\"\",\"\",【ジュエリー】入力欄!K233)","v":""},{"$f":"IF(【ジュエリー】入力欄!E233=\"\",\"\",【ジュエリー】入力欄!E233)","v":""},{"$f":"CONCATENATE(IF(【ジュエリー】入力欄!F233=\"\",\"\",【ジュエリー】入力欄!F233),IF(【ジュエリー】入力欄!H233=\"\",CONCATENATE(\" \",【ジュエリー】入力欄!G233),CONCATENATE(\" \",【ジュエリー】入力欄!G233,【ジュエリー】入力欄!H233,IF(【ジュエリー】入力欄!G233=\"パール\",\"mm\",\"ct\"))),IF(【ジュエリー】入力欄!J233=\"\",CONCATENATE(\" \",【ジュエリー】入力欄!I233),CONCATENATE(\" \",【ジュエリー】入力欄!I233,【ジュエリー】入力欄!J233,IF(【ジュエリー】入力欄!I233=\"パール\",\"mm\",\"ct\"))))","v":"  "},{"$f":"IF(【ジュエリー】入力欄!L233=\"\",\"\",【ジュエリー】入力欄!L233&\"g\")","v":""},{"$f":"IF(【ジュエリー】入力欄!M233=\"\",\"\",【ジュエリー】入力欄!M233)","v":""},{"$f":"IF(【ジュエリー】入力欄!O233=\"\",\"\",【ジュエリー】入力欄!O233)","v":""}]
["９",{"$f":"IF(【ジュエリー】入力欄!K234=\"\",\"\",【ジュエリー】入力欄!K234)","v":""},{"$f":"IF(【ジュエリー】入力欄!E234=\"\",\"\",【ジュエリー】入力欄!E234)","v":""},{"$f":"CONCATENATE(IF(【ジュエリー】入力欄!F234=\"\",\"\",【ジュエリー】入力欄!F234),IF(【ジュエリー】入力欄!H234=\"\",CONCATENATE(\" \",【ジュエリー】入力欄!G234),CONCATENATE(\" \",【ジュエリー】入力欄!G234,【ジュエリー】入力欄!H234,IF(【ジュエリー】入力欄!G234=\"パール\",\"mm\",\"ct\"))),IF(【ジュエリー】入力欄!J234=\"\",CONCATENATE(\" \",【ジュエリー】入力欄!I234),CONCATENATE(\" \",【ジュエリー】入力欄!I234,【ジュエリー】入力欄!J234,IF(【ジュエリー】入力欄!I234=\"パール\",\"mm\",\"ct\"))))","v":"  "},{"$f":"IF(【ジュエリー】入力欄!L234=\"\",\"\",【ジュエリー】入力欄!L234&\"g\")","v":""},{"$f":"IF(【ジュエリー】入力欄!M234=\"\",\"\",【ジュエリー】入力欄!M234)","v":""},{"$f":"IF(【ジュエリー】入力欄!O234=\"\",\"\",【ジュエリー】入力欄!O234)","v":""}]
["１０",{"$f":"IF(【ジュエリー】入力欄!K235=\"\",\"\",【ジュエリー】入力欄!K235)","v":""},{"$f":"IF(【ジュエリー】入力欄!E235=\"\",\"\",【ジュエリー】入力欄!E235)","v":""},{"$f":"CONCATENATE(IF(【ジュエリー】入力欄!F235=\"\",\"\",【ジュエリー】入力欄!F235),IF(【ジュエリー】入力欄!H235=\"\",CONCATENATE(\" \",【ジュエリー】入力欄!G235),CONCATENATE(\" \",【ジュエリー】入力欄!G235,【ジュエリー】入力欄!H235,IF(【ジュエリー】入力欄!G235=\"パール\",\"mm\",\"ct\"))),IF(【ジュエリー】入力欄!J235=\"\",CONCATENATE(\" \",【ジュエリー】入力欄!I235),CONCATENATE(\" \",【ジュエリー】入力欄!I235,【ジュエリー】入力欄!J235,IF(【ジュエリー】入力欄!I235=\"パール\",\"mm\",\"ct\"))))","v":"  "},{"$f":"IF(【ジュエリー】入力欄!L235=\"\",\"\",【ジュエリー】入力欄!L235&\"g\")","v":""},{"$f":"IF(【ジュエリー】入力欄!M235=\"\",\"\",【ジュエリー】入力欄!M235)","v":""},{"$f":"IF(【ジュエリー】入力欄!O235=\"\",\"\",【ジュエリー】入力欄!O235)","v":""}]
[]
["   \n",{"$f":"CONCATENATE(\"出品表　（　\",【ジュエリー】入力欄!I$3,\"　大吉オークション　宝石・ジュエリー）\")","v":"出品表　（　　大吉オークション　宝石・ジュエリー）"}]
[]
[null,"箱番：",{"$f":"IF(【ジュエリー】入力欄!C236=\"\",\"\",【ジュエリー】入力欄!C236)","v":""},"※太枠の中をご記入ください",null,"会社名",{"$f":"IF(【ジュエリー】入力欄!C$3=\"\",\"\",【ジュエリー】入力欄!C$3)","v":""}]
[]
["番号","品目","金性","詳細・特徴","重量","付属品","指値\n（3万円以上）","発句"]
["１",{"$f":"IF(【ジュエリー】入力欄!K236=\"\",\"\",【ジュエリー】入力欄!K236)","v":""},{"$f":"IF(【ジュエリー】入力欄!E236=\"\",\"\",【ジュエリー】入力欄!E236)","v":""},{"$f":"CONCATENATE(IF(【ジュエリー】入力欄!F236=\"\",\"\",【ジュエリー】入力欄!F236),IF(【ジュエリー】入力欄!H236=\"\",CONCATENATE(\" \",【ジュエリー】入力欄!G236),CONCATENATE(\" \",【ジュエリー】入力欄!G236,【ジュエリー】入力欄!H236,IF(【ジュエリー】入力欄!G236=\"パール\",\"mm\",\"ct\"))),IF(【ジュエリー】入力欄!J236=\"\",CONCATENATE(\" \",【ジュエリー】入力欄!I236),CONCATENATE(\" \",【ジュエリー】入力欄!I236,【ジュエリー】入力欄!J236,IF(【ジュエリー】入力欄!I236=\"パール\",\"mm\",\"ct\"))))","v":"  "},{"$f":"IF(【ジュエリー】入力欄!L236=\"\",\"\",【ジュエリー】入力欄!L236&\"g\")","v":""},{"$f":"IF(【ジュエリー】入力欄!M236=\"\",\"\",【ジュエリー】入力欄!M236)","v":""},{"$f":"IF(【ジュエリー】入力欄!O236=\"\",\"\",【ジュエリー】入力欄!O236)","v":""}]
["２",{"$f":"IF(【ジュエリー】入力欄!K237=\"\",\"\",【ジュエリー】入力欄!K237)","v":""},{"$f":"IF(【ジュエリー】入力欄!E237=\"\",\"\",【ジュエリー】入力欄!E237)","v":""},{"$f":"CONCATENATE(IF(【ジュエリー】入力欄!F237=\"\",\"\",【ジュエリー】入力欄!F237),IF(【ジュエリー】入力欄!H237=\"\",CONCATENATE(\" \",【ジュエリー】入力欄!G237),CONCATENATE(\" \",【ジュエリー】入力欄!G237,【ジュエリー】入力欄!H237,IF(【ジュエリー】入力欄!G237=\"パール\",\"mm\",\"ct\"))),IF(【ジュエリー】入力欄!J237=\"\",CONCATENATE(\" \",【ジュエリー】入力欄!I237),CONCATENATE(\" \",【ジュエリー】入力欄!I237,【ジュエリー】入力欄!J237,IF(【ジュエリー】入力欄!I237=\"パール\",\"mm\",\"ct\"))))","v":"  "},{"$f":"IF(【ジュエリー】入力欄!L237=\"\",\"\",【ジュエリー】入力欄!L237&\"g\")","v":""},{"$f":"IF(【ジュエリー】入力欄!M237=\"\",\"\",【ジュエリー】入力欄!M237)","v":""},{"$f":"IF(【ジュエリー】入力欄!O237=\"\",\"\",【ジュエリー】入力欄!O237)","v":""}]
["３",{"$f":"IF(【ジュエリー】入力欄!K238=\"\",\"\",【ジュエリー】入力欄!K238)","v":""},{"$f":"IF(【ジュエリー】入力欄!E238=\"\",\"\",【ジュエリー】入力欄!E238)","v":""},{"$f":"CONCATENATE(IF(【ジュエリー】入力欄!F238=\"\",\"\",【ジュエリー】入力欄!F238),IF(【ジュエリー】入力欄!H238=\"\",CONCATENATE(\" \",【ジュエリー】入力欄!G238),CONCATENATE(\" \",【ジュエリー】入力欄!G238,【ジュエリー】入力欄!H238,IF(【ジュエリー】入力欄!G238=\"パール\",\"mm\",\"ct\"))),IF(【ジュエリー】入力欄!J238=\"\",CONCATENATE(\" \",【ジュエリー】入力欄!I238),CONCATENATE(\" \",【ジュエリー】入力欄!I238,【ジュエリー】入力欄!J238,IF(【ジュエリー】入力欄!I238=\"パール\",\"mm\",\"ct\"))))","v":"  "},{"$f":"IF(【ジュエリー】入力欄!L238=\"\",\"\",【ジュエリー】入力欄!L238&\"g\")","v":""},{"$f":"IF(【ジュエリー】入力欄!M238=\"\",\"\",【ジュエリー】入力欄!M238)","v":""},{"$f":"IF(【ジュエリー】入力欄!O238=\"\",\"\",【ジュエリー】入力欄!O238)","v":""}]
["４",{"$f":"IF(【ジュエリー】入力欄!K239=\"\",\"\",【ジュエリー】入力欄!K239)","v":""},{"$f":"IF(【ジュエリー】入力欄!E239=\"\",\"\",【ジュエリー】入力欄!E239)","v":""},{"$f":"CONCATENATE(IF(【ジュエリー】入力欄!F239=\"\",\"\",【ジュエリー】入力欄!F239),IF(【ジュエリー】入力欄!H239=\"\",CONCATENATE(\" \",【ジュエリー】入力欄!G239),CONCATENATE(\" \",【ジュエリー】入力欄!G239,【ジュエリー】入力欄!H239,IF(【ジュエリー】入力欄!G239=\"パール\",\"mm\",\"ct\"))),IF(【ジュエリー】入力欄!J239=\"\",CONCATENATE(\" \",【ジュエリー】入力欄!I239),CONCATENATE(\" \",【ジュエリー】入力欄!I239,【ジュエリー】入力欄!J239,IF(【ジュエリー】入力欄!I239=\"パール\",\"mm\",\"ct\"))))","v":"  "},{"$f":"IF(【ジュエリー】入力欄!L239=\"\",\"\",【ジュエリー】入力欄!L239&\"g\")","v":""},{"$f":"IF(【ジュエリー】入力欄!M239=\"\",\"\",【ジュエリー】入力欄!M239)","v":""},{"$f":"IF(【ジュエリー】入力欄!O239=\"\",\"\",【ジュエリー】入力欄!O239)","v":""}]
["５",{"$f":"IF(【ジュエリー】入力欄!K240=\"\",\"\",【ジュエリー】入力欄!K240)","v":""},{"$f":"IF(【ジュエリー】入力欄!E240=\"\",\"\",【ジュエリー】入力欄!E240)","v":""},{"$f":"CONCATENATE(IF(【ジュエリー】入力欄!F240=\"\",\"\",【ジュエリー】入力欄!F240),IF(【ジュエリー】入力欄!H240=\"\",CONCATENATE(\" \",【ジュエリー】入力欄!G240),CONCATENATE(\" \",【ジュエリー】入力欄!G240,【ジュエリー】入力欄!H240,IF(【ジュエリー】入力欄!G240=\"パール\",\"mm\",\"ct\"))),IF(【ジュエリー】入力欄!J240=\"\",CONCATENATE(\" \",【ジュエリー】入力欄!I240),CONCATENATE(\" \",【ジュエリー】入力欄!I240,【ジュエリー】入力欄!J240,IF(【ジュエリー】入力欄!I240=\"パール\",\"mm\",\"ct\"))))","v":"  "},{"$f":"IF(【ジュエリー】入力欄!L240=\"\",\"\",【ジュエリー】入力欄!L240&\"g\")","v":""},{"$f":"IF(【ジュエリー】入力欄!M240=\"\",\"\",【ジュエリー】入力欄!M240)","v":""},{"$f":"IF(【ジュエリー】入力欄!O240=\"\",\"\",【ジュエリー】入力欄!O240)","v":""}]
["６",{"$f":"IF(【ジュエリー】入力欄!K241=\"\",\"\",【ジュエリー】入力欄!K241)","v":""},{"$f":"IF(【ジュエリー】入力欄!E241=\"\",\"\",【ジュエリー】入力欄!E241)","v":""},{"$f":"CONCATENATE(IF(【ジュエリー】入力欄!F241=\"\",\"\",【ジュエリー】入力欄!F241),IF(【ジュエリー】入力欄!H241=\"\",CONCATENATE(\" \",【ジュエリー】入力欄!G241),CONCATENATE(\" \",【ジュエリー】入力欄!G241,【ジュエリー】入力欄!H241,IF(【ジュエリー】入力欄!G241=\"パール\",\"mm\",\"ct\"))),IF(【ジュエリー】入力欄!J241=\"\",CONCATENATE(\" \",【ジュエリー】入力欄!I241),CONCATENATE(\" \",【ジュエリー】入力欄!I241,【ジュエリー】入力欄!J241,IF(【ジュエリー】入力欄!I241=\"パール\",\"mm\",\"ct\"))))","v":"  "},{"$f":"IF(【ジュエリー】入力欄!L241=\"\",\"\",【ジュエリー】入力欄!L241&\"g\")","v":""},{"$f":"IF(【ジュエリー】入力欄!M241=\"\",\"\",【ジュエリー】入力欄!M241)","v":""},{"$f":"IF(【ジュエリー】入力欄!O241=\"\",\"\",【ジュエリー】入力欄!O241)","v":""}]
["７",{"$f":"IF(【ジュエリー】入力欄!K242=\"\",\"\",【ジュエリー】入力欄!K242)","v":""},{"$f":"IF(【ジュエリー】入力欄!E242=\"\",\"\",【ジュエリー】入力欄!E242)","v":""},{"$f":"CONCATENATE(IF(【ジュエリー】入力欄!F242=\"\",\"\",【ジュエリー】入力欄!F242),IF(【ジュエリー】入力欄!H242=\"\",CONCATENATE(\" \",【ジュエリー】入力欄!G242),CONCATENATE(\" \",【ジュエリー】入力欄!G242,【ジュエリー】入力欄!H242,IF(【ジュエリー】入力欄!G242=\"パール\",\"mm\",\"ct\"))),IF(【ジュエリー】入力欄!J242=\"\",CONCATENATE(\" \",【ジュエリー】入力欄!I242),CONCATENATE(\" \",【ジュエリー】入力欄!I242,【ジュエリー】入力欄!J242,IF(【ジュエリー】入力欄!I242=\"パール\",\"mm\",\"ct\"))))","v":"  "},{"$f":"IF(【ジュエリー】入力欄!L242=\"\",\"\",【ジュエリー】入力欄!L242&\"g\")","v":""},{"$f":"IF(【ジュエリー】入力欄!M242=\"\",\"\",【ジュエリー】入力欄!M242)","v":""},{"$f":"IF(【ジュエリー】入力欄!O242=\"\",\"\",【ジュエリー】入力欄!O242)","v":""}]
["８",{"$f":"IF(【ジュエリー】入力欄!K243=\"\",\"\",【ジュエリー】入力欄!K243)","v":""},{"$f":"IF(【ジュエリー】入力欄!E243=\"\",\"\",【ジュエリー】入力欄!E243)","v":""},{"$f":"CONCATENATE(IF(【ジュエリー】入力欄!F243=\"\",\"\",【ジュエリー】入力欄!F243),IF(【ジュエリー】入力欄!H243=\"\",CONCATENATE(\" \",【ジュエリー】入力欄!G243),CONCATENATE(\" \",【ジュエリー】入力欄!G243,【ジュエリー】入力欄!H243,IF(【ジュエリー】入力欄!G243=\"パール\",\"mm\",\"ct\"))),IF(【ジュエリー】入力欄!J243=\"\",CONCATENATE(\" \",【ジュエリー】入力欄!I243),CONCATENATE(\" \",【ジュエリー】入力欄!I243,【ジュエリー】入力欄!J243,IF(【ジュエリー】入力欄!I243=\"パール\",\"mm\",\"ct\"))))","v":"  "},{"$f":"IF(【ジュエリー】入力欄!L243=\"\",\"\",【ジュエリー】入力欄!L243&\"g\")","v":""},{"$f":"IF(【ジュエリー】入力欄!M243=\"\",\"\",【ジュエリー】入力欄!M243)","v":""},{"$f":"IF(【ジュエリー】入力欄!O243=\"\",\"\",【ジュエリー】入力欄!O243)","v":""}]
["９",{"$f":"IF(【ジュエリー】入力欄!K244=\"\",\"\",【ジュエリー】入力欄!K244)","v":""},{"$f":"IF(【ジュエリー】入力欄!E244=\"\",\"\",【ジュエリー】入力欄!E244)","v":""},{"$f":"CONCATENATE(IF(【ジュエリー】入力欄!F244=\"\",\"\",【ジュエリー】入力欄!F244),IF(【ジュエリー】入力欄!H244=\"\",CONCATENATE(\" \",【ジュエリー】入力欄!G244),CONCATENATE(\" \",【ジュエリー】入力欄!G244,【ジュエリー】入力欄!H244,IF(【ジュエリー】入力欄!G244=\"パール\",\"mm\",\"ct\"))),IF(【ジュエリー】入力欄!J244=\"\",CONCATENATE(\" \",【ジュエリー】入力欄!I244),CONCATENATE(\" \",【ジュエリー】入力欄!I244,【ジュエリー】入力欄!J244,IF(【ジュエリー】入力欄!I244=\"パール\",\"mm\",\"ct\"))))","v":"  "},{"$f":"IF(【ジュエリー】入力欄!L244=\"\",\"\",【ジュエリー】入力欄!L244&\"g\")","v":""},{"$f":"IF(【ジュエリー】入力欄!M244=\"\",\"\",【ジュエリー】入力欄!M244)","v":""},{"$f":"IF(【ジュエリー】入力欄!O244=\"\",\"\",【ジュエリー】入力欄!O244)","v":""}]
["１０",{"$f":"IF(【ジュエリー】入力欄!K245=\"\",\"\",【ジュエリー】入力欄!K245)","v":""},{"$f":"IF(【ジュエリー】入力欄!E245=\"\",\"\",【ジュエリー】入力欄!E245)","v":""},{"$f":"CONCATENATE(IF(【ジュエリー】入力欄!F245=\"\",\"\",【ジュエリー】入力欄!F245),IF(【ジュエリー】入力欄!H245=\"\",CONCATENATE(\" \",【ジュエリー】入力欄!G245),CONCATENATE(\" \",【ジュエリー】入力欄!G245,【ジュエリー】入力欄!H245,IF(【ジュエリー】入力欄!G245=\"パール\",\"mm\",\"ct\"))),IF(【ジュエリー】入力欄!J245=\"\",CONCATENATE(\" \",【ジュエリー】入力欄!I245),CONCATENATE(\" \",【ジュエリー】入力欄!I245,【ジュエリー】入力欄!J245,IF(【ジュエリー】入力欄!I245=\"パール\",\"mm\",\"ct\"))))","v":"  "},{"$f":"IF(【ジュエリー】入力欄!L245=\"\",\"\",【ジュエリー】入力欄!L245&\"g\")","v":""},{"$f":"IF(【ジュエリー】入力欄!M245=\"\",\"\",【ジュエリー】入力欄!M245)","v":""},{"$f":"IF(【ジュエリー】入力欄!O245=\"\",\"\",【ジュエリー】入力欄!O245)","v":""}]
[]
["   \n",{"$f":"CONCATENATE(\"出品表　（　\",【ジュエリー】入力欄!I$3,\"　大吉オークション　宝石・ジュエリー）\")","v":"出品表　（　　大吉オークション　宝石・ジュエリー）"}]
[]
[null,"箱番：",{"$f":"IF(【ジュエリー】入力欄!C246=\"\",\"\",【ジュエリー】入力欄!C246)","v":""},"※太枠の中をご記入ください",null,"会社名",{"$f":"IF(【ジュエリー】入力欄!C$3=\"\",\"\",【ジュエリー】入力欄!C$3)","v":""}]
[]
["番号","品目","金性","詳細・特徴","重量","付属品","指値\n（3万円以上）","発句"]
["１",{"$f":"IF(【ジュエリー】入力欄!K246=\"\",\"\",【ジュエリー】入力欄!K246)","v":""},{"$f":"IF(【ジュエリー】入力欄!E246=\"\",\"\",【ジュエリー】入力欄!E246)","v":""},{"$f":"CONCATENATE(IF(【ジュエリー】入力欄!F246=\"\",\"\",【ジュエリー】入力欄!F246),IF(【ジュエリー】入力欄!H246=\"\",CONCATENATE(\" \",【ジュエリー】入力欄!G246),CONCATENATE(\" \",【ジュエリー】入力欄!G246,【ジュエリー】入力欄!H246,IF(【ジュエリー】入力欄!G246=\"パール\",\"mm\",\"ct\"))),IF(【ジュエリー】入力欄!J246=\"\",CONCATENATE(\" \",【ジュエリー】入力欄!I246),CONCATENATE(\" \",【ジュエリー】入力欄!I246,【ジュエリー】入力欄!J246,IF(【ジュエリー】入力欄!I246=\"パール\",\"mm\",\"ct\"))))","v":"  "},{"$f":"IF(【ジュエリー】入力欄!L246=\"\",\"\",【ジュエリー】入力欄!L246&\"g\")","v":""},{"$f":"IF(【ジュエリー】入力欄!M246=\"\",\"\",【ジュエリー】入力欄!M246)","v":""},{"$f":"IF(【ジュエリー】入力欄!O246=\"\",\"\",【ジュエリー】入力欄!O246)","v":""}]
["２",{"$f":"IF(【ジュエリー】入力欄!K247=\"\",\"\",【ジュエリー】入力欄!K247)","v":""},{"$f":"IF(【ジュエリー】入力欄!E247=\"\",\"\",【ジュエリー】入力欄!E247)","v":""},{"$f":"CONCATENATE(IF(【ジュエリー】入力欄!F247=\"\",\"\",【ジュエリー】入力欄!F247),IF(【ジュエリー】入力欄!H247=\"\",CONCATENATE(\" \",【ジュエリー】入力欄!G247),CONCATENATE(\" \",【ジュエリー】入力欄!G247,【ジュエリー】入力欄!H247,IF(【ジュエリー】入力欄!G247=\"パール\",\"mm\",\"ct\"))),IF(【ジュエリー】入力欄!J247=\"\",CONCATENATE(\" \",【ジュエリー】入力欄!I247),CONCATENATE(\" \",【ジュエリー】入力欄!I247,【ジュエリー】入力欄!J247,IF(【ジュエリー】入力欄!I247=\"パール\",\"mm\",\"ct\"))))","v":"  "},{"$f":"IF(【ジュエリー】入力欄!L247=\"\",\"\",【ジュエリー】入力欄!L247&\"g\")","v":""},{"$f":"IF(【ジュエリー】入力欄!M247=\"\",\"\",【ジュエリー】入力欄!M247)","v":""},{"$f":"IF(【ジュエリー】入力欄!O247=\"\",\"\",【ジュエリー】入力欄!O247)","v":""}]
["３",{"$f":"IF(【ジュエリー】入力欄!K248=\"\",\"\",【ジュエリー】入力欄!K248)","v":""},{"$f":"IF(【ジュエリー】入力欄!E248=\"\",\"\",【ジュエリー】入力欄!E248)","v":""},{"$f":"CONCATENATE(IF(【ジュエリー】入力欄!F248=\"\",\"\",【ジュエリー】入力欄!F248),IF(【ジュエリー】入力欄!H248=\"\",CONCATENATE(\" \",【ジュエリー】入力欄!G248),CONCATENATE(\" \",【ジュエリー】入力欄!G248,【ジュエリー】入力欄!H248,IF(【ジュエリー】入力欄!G248=\"パール\",\"mm\",\"ct\"))),IF(【ジュエリー】入力欄!J248=\"\",CONCATENATE(\" \",【ジュエリー】入力欄!I248),CONCATENATE(\" \",【ジュエリー】入力欄!I248,【ジュエリー】入力欄!J248,IF(【ジュエリー】入力欄!I248=\"パール\",\"mm\",\"ct\"))))","v":"  "},{"$f":"IF(【ジュエリー】入力欄!L248=\"\",\"\",【ジュエリー】入力欄!L248&\"g\")","v":""},{"$f":"IF(【ジュエリー】入力欄!M248=\"\",\"\",【ジュエリー】入力欄!M248)","v":""},{"$f":"IF(【ジュエリー】入力欄!O248=\"\",\"\",【ジュエリー】入力欄!O248)","v":""}]
["４",{"$f":"IF(【ジュエリー】入力欄!K249=\"\",\"\",【ジュエリー】入力欄!K249)","v":""},{"$f":"IF(【ジュエリー】入力欄!E249=\"\",\"\",【ジュエリー】入力欄!E249)","v":""},{"$f":"CONCATENATE(IF(【ジュエリー】入力欄!F249=\"\",\"\",【ジュエリー】入力欄!F249),IF(【ジュエリー】入力欄!H249=\"\",CONCATENATE(\" \",【ジュエリー】入力欄!G249),CONCATENATE(\" \",【ジュエリー】入力欄!G249,【ジュエリー】入力欄!H249,IF(【ジュエリー】入力欄!G249=\"パール\",\"mm\",\"ct\"))),IF(【ジュエリー】入力欄!J249=\"\",CONCATENATE(\" \",【ジュエリー】入力欄!I249),CONCATENATE(\" \",【ジュエリー】入力欄!I249,【ジュエリー】入力欄!J249,IF(【ジュエリー】入力欄!I249=\"パール\",\"mm\",\"ct\"))))","v":"  "},{"$f":"IF(【ジュエリー】入力欄!L249=\"\",\"\",【ジュエリー】入力欄!L249&\"g\")","v":""},{"$f":"IF(【ジュエリー】入力欄!M249=\"\",\"\",【ジュエリー】入力欄!M249)","v":""},{"$f":"IF(【ジュエリー】入力欄!O249=\"\",\"\",【ジュエリー】入力欄!O249)","v":""}]
["５",{"$f":"IF(【ジュエリー】入力欄!K250=\"\",\"\",【ジュエリー】入力欄!K250)","v":""},{"$f":"IF(【ジュエリー】入力欄!E250=\"\",\"\",【ジュエリー】入力欄!E250)","v":""},{"$f":"CONCATENATE(IF(【ジュエリー】入力欄!F250=\"\",\"\",【ジュエリー】入力欄!F250),IF(【ジュエリー】入力欄!H250=\"\",CONCATENATE(\" \",【ジュエリー】入力欄!G250),CONCATENATE(\" \",【ジュエリー】入力欄!G250,【ジュエリー】入力欄!H250,IF(【ジュエリー】入力欄!G250=\"パール\",\"mm\",\"ct\"))),IF(【ジュエリー】入力欄!J250=\"\",CONCATENATE(\" \",【ジュエリー】入力欄!I250),CONCATENATE(\" \",【ジュエリー】入力欄!I250,【ジュエリー】入力欄!J250,IF(【ジュエリー】入力欄!I250=\"パール\",\"mm\",\"ct\"))))","v":"  "},{"$f":"IF(【ジュエリー】入力欄!L250=\"\",\"\",【ジュエリー】入力欄!L250&\"g\")","v":""},{"$f":"IF(【ジュエリー】入力欄!M250=\"\",\"\",【ジュエリー】入力欄!M250)","v":""},{"$f":"IF(【ジュエリー】入力欄!O250=\"\",\"\",【ジュエリー】入力欄!O250)","v":""}]
["６",{"$f":"IF(【ジュエリー】入力欄!K251=\"\",\"\",【ジュエリー】入力欄!K251)","v":""},{"$f":"IF(【ジュエリー】入力欄!E251=\"\",\"\",【ジュエリー】入力欄!E251)","v":""},{"$f":"CONCATENATE(IF(【ジュエリー】入力欄!F251=\"\",\"\",【ジュエリー】入力欄!F251),IF(【ジュエリー】入力欄!H251=\"\",CONCATENATE(\" \",【ジュエリー】入力欄!G251),CONCATENATE(\" \",【ジュエリー】入力欄!G251,【ジュエリー】入力欄!H251,IF(【ジュエリー】入力欄!G251=\"パール\",\"mm\",\"ct\"))),IF(【ジュエリー】入力欄!J251=\"\",CONCATENATE(\" \",【ジュエリー】入力欄!I251),CONCATENATE(\" \",【ジュエリー】入力欄!I251,【ジュエリー】入力欄!J251,IF(【ジュエリー】入力欄!I251=\"パール\",\"mm\",\"ct\"))))","v":"  "},{"$f":"IF(【ジュエリー】入力欄!L251=\"\",\"\",【ジュエリー】入力欄!L251&\"g\")","v":""},{"$f":"IF(【ジュエリー】入力欄!M251=\"\",\"\",【ジュエリー】入力欄!M251)","v":""},{"$f":"IF(【ジュエリー】入力欄!O251=\"\",\"\",【ジュエリー】入力欄!O251)","v":""}]
["７",{"$f":"IF(【ジュエリー】入力欄!K252=\"\",\"\",【ジュエリー】入力欄!K252)","v":""},{"$f":"IF(【ジュエリー】入力欄!E252=\"\",\"\",【ジュエリー】入力欄!E252)","v":""},{"$f":"CONCATENATE(IF(【ジュエリー】入力欄!F252=\"\",\"\",【ジュエリー】入力欄!F252),IF(【ジュエリー】入力欄!H252=\"\",CONCATENATE(\" \",【ジュエリー】入力欄!G252),CONCATENATE(\" \",【ジュエリー】入力欄!G252,【ジュエリー】入力欄!H252,IF(【ジュエリー】入力欄!G252=\"パール\",\"mm\",\"ct\"))),IF(【ジュエリー】入力欄!J252=\"\",CONCATENATE(\" \",【ジュエリー】入力欄!I252),CONCATENATE(\" \",【ジュエリー】入力欄!I252,【ジュエリー】入力欄!J252,IF(【ジュエリー】入力欄!I252=\"パール\",\"mm\",\"ct\"))))","v":"  "},{"$f":"IF(【ジュエリー】入力欄!L252=\"\",\"\",【ジュエリー】入力欄!L252&\"g\")","v":""},{"$f":"IF(【ジュエリー】入力欄!M252=\"\",\"\",【ジュエリー】入力欄!M252)","v":""},{"$f":"IF(【ジュエリー】入力欄!O252=\"\",\"\",【ジュエリー】入力欄!O252)","v":""}]
["８",{"$f":"IF(【ジュエリー】入力欄!K253=\"\",\"\",【ジュエリー】入力欄!K253)","v":""},{"$f":"IF(【ジュエリー】入力欄!E253=\"\",\"\",【ジュエリー】入力欄!E253)","v":""},{"$f":"CONCATENATE(IF(【ジュエリー】入力欄!F253=\"\",\"\",【ジュエリー】入力欄!F253),IF(【ジュエリー】入力欄!H253=\"\",CONCATENATE(\" \",【ジュエリー】入力欄!G253),CONCATENATE(\" \",【ジュエリー】入力欄!G253,【ジュエリー】入力欄!H253,IF(【ジュエリー】入力欄!G253=\"パール\",\"mm\",\"ct\"))),IF(【ジュエリー】入力欄!J253=\"\",CONCATENATE(\" \",【ジュエリー】入力欄!I253),CONCATENATE(\" \",【ジュエリー】入力欄!I253,【ジュエリー】入力欄!J253,IF(【ジュエリー】入力欄!I253=\"パール\",\"mm\",\"ct\"))))","v":"  "},{"$f":"IF(【ジュエリー】入力欄!L253=\"\",\"\",【ジュエリー】入力欄!L253&\"g\")","v":""},{"$f":"IF(【ジュエリー】入力欄!M253=\"\",\"\",【ジュエリー】入力欄!M253)","v":""},{"$f":"IF(【ジュエリー】入力欄!O253=\"\",\"\",【ジュエリー】入力欄!O253)","v":""}]
["９",{"$f":"IF(【ジュエリー】入力欄!K254=\"\",\"\",【ジュエリー】入力欄!K254)","v":""},{"$f":"IF(【ジュエリー】入力欄!E254=\"\",\"\",【ジュエリー】入力欄!E254)","v":""},{"$f":"CONCATENATE(IF(【ジュエリー】入力欄!F254=\"\",\"\",【ジュエリー】入力欄!F254),IF(【ジュエリー】入力欄!H254=\"\",CONCATENATE(\" \",【ジュエリー】入力欄!G254),CONCATENATE(\" \",【ジュエリー】入力欄!G254,【ジュエリー】入力欄!H254,IF(【ジュエリー】入力欄!G254=\"パール\",\"mm\",\"ct\"))),IF(【ジュエリー】入力欄!J254=\"\",CONCATENATE(\" \",【ジュエリー】入力欄!I254),CONCATENATE(\" \",【ジュエリー】入力欄!I254,【ジュエリー】入力欄!J254,IF(【ジュエリー】入力欄!I254=\"パール\",\"mm\",\"ct\"))))","v":"  "},{"$f":"IF(【ジュエリー】入力欄!L254=\"\",\"\",【ジュエリー】入力欄!L254&\"g\")","v":""},{"$f":"IF(【ジュエリー】入力欄!M254=\"\",\"\",【ジュエリー】入力欄!M254)","v":""},{"$f":"IF(【ジュエリー】入力欄!O254=\"\",\"\",【ジュエリー】入力欄!O254)","v":""}]
["１０",{"$f":"IF(【ジュエリー】入力欄!K255=\"\",\"\",【ジュエリー】入力欄!K255)","v":""},{"$f":"IF(【ジュエリー】入力欄!E255=\"\",\"\",【ジュエリー】入力欄!E255)","v":""},{"$f":"CONCATENATE(IF(【ジュエリー】入力欄!F255=\"\",\"\",【ジュエリー】入力欄!F255),IF(【ジュエリー】入力欄!H255=\"\",CONCATENATE(\" \",【ジュエリー】入力欄!G255),CONCATENATE(\" \",【ジュエリー】入力欄!G255,【ジュエリー】入力欄!H255,IF(【ジュエリー】入力欄!G255=\"パール\",\"mm\",\"ct\"))),IF(【ジュエリー】入力欄!J255=\"\",CONCATENATE(\" \",【ジュエリー】入力欄!I255),CONCATENATE(\" \",【ジュエリー】入力欄!I255,【ジュエリー】入力欄!J255,IF(【ジュエリー】入力欄!I255=\"パール\",\"mm\",\"ct\"))))","v":"  "},{"$f":"IF(【ジュエリー】入力欄!L255=\"\",\"\",【ジュエリー】入力欄!L255&\"g\")","v":""},{"$f":"IF(【ジュエリー】入力欄!M255=\"\",\"\",【ジュエリー】入力欄!M255)","v":""},{"$f":"IF(【ジュエリー】入力欄!O255=\"\",\"\",【ジュエリー】入力欄!O255)","v":""}]
[]
["   \n",{"$f":"CONCATENATE(\"出品表　（　\",【ジュエリー】入力欄!I$3,\"　大吉オークション　宝石・ジュエリー）\")","v":"出品表　（　　大吉オークション　宝石・ジュエリー）"}]
[]
[null,"箱番：",{"$f":"IF(【ジュエリー】入力欄!C256=\"\",\"\",【ジュエリー】入力欄!C256)","v":""},"※太枠の中をご記入ください",null,"会社名",{"$f":"IF(【ジュエリー】入力欄!C$3=\"\",\"\",【ジュエリー】入力欄!C$3)","v":""}]
[]
["番号","品目","金性","詳細・特徴","重量","付属品","指値\n（3万円以上）","発句"]
["１",{"$f":"IF(【ジュエリー】入力欄!K256=\"\",\"\",【ジュエリー】入力欄!K256)","v":""},{"$f":"IF(【ジュエリー】入力欄!E256=\"\",\"\",【ジュエリー】入力欄!E256)","v":""},{"$f":"CONCATENATE(IF(【ジュエリー】入力欄!F256=\"\",\"\",【ジュエリー】入力欄!F256),IF(【ジュエリー】入力欄!H256=\"\",CONCATENATE(\" \",【ジュエリー】入力欄!G256),CONCATENATE(\" \",【ジュエリー】入力欄!G256,【ジュエリー】入力欄!H256,IF(【ジュエリー】入力欄!G256=\"パール\",\"mm\",\"ct\"))),IF(【ジュエリー】入力欄!J256=\"\",CONCATENATE(\" \",【ジュエリー】入力欄!I256),CONCATENATE(\" \",【ジュエリー】入力欄!I256,【ジュエリー】入力欄!J256,IF(【ジュエリー】入力欄!I256=\"パール\",\"mm\",\"ct\"))))","v":"  "},{"$f":"IF(【ジュエリー】入力欄!L256=\"\",\"\",【ジュエリー】入力欄!L256&\"g\")","v":""},{"$f":"IF(【ジュエリー】入力欄!M256=\"\",\"\",【ジュエリー】入力欄!M256)","v":""},{"$f":"IF(【ジュエリー】入力欄!O256=\"\",\"\",【ジュエリー】入力欄!O256)","v":""}]
["２",{"$f":"IF(【ジュエリー】入力欄!K257=\"\",\"\",【ジュエリー】入力欄!K257)","v":""},{"$f":"IF(【ジュエリー】入力欄!E257=\"\",\"\",【ジュエリー】入力欄!E257)","v":""},{"$f":"CONCATENATE(IF(【ジュエリー】入力欄!F257=\"\",\"\",【ジュエリー】入力欄!F257),IF(【ジュエリー】入力欄!H257=\"\",CONCATENATE(\" \",【ジュエリー】入力欄!G257),CONCATENATE(\" \",【ジュエリー】入力欄!G257,【ジュエリー】入力欄!H257,IF(【ジュエリー】入力欄!G257=\"パール\",\"mm\",\"ct\"))),IF(【ジュエリー】入力欄!J257=\"\",CONCATENATE(\" \",【ジュエリー】入力欄!I257),CONCATENATE(\" \",【ジュエリー】入力欄!I257,【ジュエリー】入力欄!J257,IF(【ジュエリー】入力欄!I257=\"パール\",\"mm\",\"ct\"))))","v":"  "},{"$f":"IF(【ジュエリー】入力欄!L257=\"\",\"\",【ジュエリー】入力欄!L257&\"g\")","v":""},{"$f":"IF(【ジュエリー】入力欄!M257=\"\",\"\",【ジュエリー】入力欄!M257)","v":""},{"$f":"IF(【ジュエリー】入力欄!O257=\"\",\"\",【ジュエリー】入力欄!O257)","v":""}]
["３",{"$f":"IF(【ジュエリー】入力欄!K258=\"\",\"\",【ジュエリー】入力欄!K258)","v":""},{"$f":"IF(【ジュエリー】入力欄!E258=\"\",\"\",【ジュエリー】入力欄!E258)","v":""},{"$f":"CONCATENATE(IF(【ジュエリー】入力欄!F258=\"\",\"\",【ジュエリー】入力欄!F258),IF(【ジュエリー】入力欄!H258=\"\",CONCATENATE(\" \",【ジュエリー】入力欄!G258),CONCATENATE(\" \",【ジュエリー】入力欄!G258,【ジュエリー】入力欄!H258,IF(【ジュエリー】入力欄!G258=\"パール\",\"mm\",\"ct\"))),IF(【ジュエリー】入力欄!J258=\"\",CONCATENATE(\" \",【ジュエリー】入力欄!I258),CONCATENATE(\" \",【ジュエリー】入力欄!I258,【ジュエリー】入力欄!J258,IF(【ジュエリー】入力欄!I258=\"パール\",\"mm\",\"ct\"))))","v":"  "},{"$f":"IF(【ジュエリー】入力欄!L258=\"\",\"\",【ジュエリー】入力欄!L258&\"g\")","v":""},{"$f":"IF(【ジュエリー】入力欄!M258=\"\",\"\",【ジュエリー】入力欄!M258)","v":""},{"$f":"IF(【ジュエリー】入力欄!O258=\"\",\"\",【ジュエリー】入力欄!O258)","v":""}]
["４",{"$f":"IF(【ジュエリー】入力欄!K259=\"\",\"\",【ジュエリー】入力欄!K259)","v":""},{"$f":"IF(【ジュエリー】入力欄!E259=\"\",\"\",【ジュエリー】入力欄!E259)","v":""},{"$f":"CONCATENATE(IF(【ジュエリー】入力欄!F259=\"\",\"\",【ジュエリー】入力欄!F259),IF(【ジュエリー】入力欄!H259=\"\",CONCATENATE(\" \",【ジュエリー】入力欄!G259),CONCATENATE(\" \",【ジュエリー】入力欄!G259,【ジュエリー】入力欄!H259,IF(【ジュエリー】入力欄!G259=\"パール\",\"mm\",\"ct\"))),IF(【ジュエリー】入力欄!J259=\"\",CONCATENATE(\" \",【ジュエリー】入力欄!I259),CONCATENATE(\" \",【ジュエリー】入力欄!I259,【ジュエリー】入力欄!J259,IF(【ジュエリー】入力欄!I259=\"パール\",\"mm\",\"ct\"))))","v":"  "},{"$f":"IF(【ジュエリー】入力欄!L259=\"\",\"\",【ジュエリー】入力欄!L259&\"g\")","v":""},{"$f":"IF(【ジュエリー】入力欄!M259=\"\",\"\",【ジュエリー】入力欄!M259)","v":""},{"$f":"IF(【ジュエリー】入力欄!O259=\"\",\"\",【ジュエリー】入力欄!O259)","v":""}]
["５",{"$f":"IF(【ジュエリー】入力欄!K260=\"\",\"\",【ジュエリー】入力欄!K260)","v":""},{"$f":"IF(【ジュエリー】入力欄!E260=\"\",\"\",【ジュエリー】入力欄!E260)","v":""},{"$f":"CONCATENATE(IF(【ジュエリー】入力欄!F260=\"\",\"\",【ジュエリー】入力欄!F260),IF(【ジュエリー】入力欄!H260=\"\",CONCATENATE(\" \",【ジュエリー】入力欄!G260),CONCATENATE(\" \",【ジュエリー】入力欄!G260,【ジュエリー】入力欄!H260,IF(【ジュエリー】入力欄!G260=\"パール\",\"mm\",\"ct\"))),IF(【ジュエリー】入力欄!J260=\"\",CONCATENATE(\" \",【ジュエリー】入力欄!I260),CONCATENATE(\" \",【ジュエリー】入力欄!I260,【ジュエリー】入力欄!J260,IF(【ジュエリー】入力欄!I260=\"パール\",\"mm\",\"ct\"))))","v":"  "},{"$f":"IF(【ジュエリー】入力欄!L260=\"\",\"\",【ジュエリー】入力欄!L260&\"g\")","v":""},{"$f":"IF(【ジュエリー】入力欄!M260=\"\",\"\",【ジュエリー】入力欄!M260)","v":""},{"$f":"IF(【ジュエリー】入力欄!O260=\"\",\"\",【ジュエリー】入力欄!O260)","v":""}]
["６",{"$f":"IF(【ジュエリー】入力欄!K261=\"\",\"\",【ジュエリー】入力欄!K261)","v":""},{"$f":"IF(【ジュエリー】入力欄!E261=\"\",\"\",【ジュエリー】入力欄!E261)","v":""},{"$f":"CONCATENATE(IF(【ジュエリー】入力欄!F261=\"\",\"\",【ジュエリー】入力欄!F261),IF(【ジュエリー】入力欄!H261=\"\",CONCATENATE(\" \",【ジュエリー】入力欄!G261),CONCATENATE(\" \",【ジュエリー】入力欄!G261,【ジュエリー】入力欄!H261,IF(【ジュエリー】入力欄!G261=\"パール\",\"mm\",\"ct\"))),IF(【ジュエリー】入力欄!J261=\"\",CONCATENATE(\" \",【ジュエリー】入力欄!I261),CONCATENATE(\" \",【ジュエリー】入力欄!I261,【ジュエリー】入力欄!J261,IF(【ジュエリー】入力欄!I261=\"パール\",\"mm\",\"ct\"))))","v":"  "},{"$f":"IF(【ジュエリー】入力欄!L261=\"\",\"\",【ジュエリー】入力欄!L261&\"g\")","v":""},{"$f":"IF(【ジュエリー】入力欄!M261=\"\",\"\",【ジュエリー】入力欄!M261)","v":""},{"$f":"IF(【ジュエリー】入力欄!O261=\"\",\"\",【ジュエリー】入力欄!O261)","v":""}]
["７",{"$f":"IF(【ジュエリー】入力欄!K262=\"\",\"\",【ジュエリー】入力欄!K262)","v":""},{"$f":"IF(【ジュエリー】入力欄!E262=\"\",\"\",【ジュエリー】入力欄!E262)","v":""},{"$f":"CONCATENATE(IF(【ジュエリー】入力欄!F262=\"\",\"\",【ジュエリー】入力欄!F262),IF(【ジュエリー】入力欄!H262=\"\",CONCATENATE(\" \",【ジュエリー】入力欄!G262),CONCATENATE(\" \",【ジュエリー】入力欄!G262,【ジュエリー】入力欄!H262,IF(【ジュエリー】入力欄!G262=\"パール\",\"mm\",\"ct\"))),IF(【ジュエリー】入力欄!J262=\"\",CONCATENATE(\" \",【ジュエリー】入力欄!I262),CONCATENATE(\" \",【ジュエリー】入力欄!I262,【ジュエリー】入力欄!J262,IF(【ジュエリー】入力欄!I262=\"パール\",\"mm\",\"ct\"))))","v":"  "},{"$f":"IF(【ジュエリー】入力欄!L262=\"\",\"\",【ジュエリー】入力欄!L262&\"g\")","v":""},{"$f":"IF(【ジュエリー】入力欄!M262=\"\",\"\",【ジュエリー】入力欄!M262)","v":""},{"$f":"IF(【ジュエリー】入力欄!O262=\"\",\"\",【ジュエリー】入力欄!O262)","v":""}]
["８",{"$f":"IF(【ジュエリー】入力欄!K263=\"\",\"\",【ジュエリー】入力欄!K263)","v":""},{"$f":"IF(【ジュエリー】入力欄!E263=\"\",\"\",【ジュエリー】入力欄!E263)","v":""},{"$f":"CONCATENATE(IF(【ジュエリー】入力欄!F263=\"\",\"\",【ジュエリー】入力欄!F263),IF(【ジュエリー】入力欄!H263=\"\",CONCATENATE(\" \",【ジュエリー】入力欄!G263),CONCATENATE(\" \",【ジュエリー】入力欄!G263,【ジュエリー】入力欄!H263,IF(【ジュエリー】入力欄!G263=\"パール\",\"mm\",\"ct\"))),IF(【ジュエリー】入力欄!J263=\"\",CONCATENATE(\" \",【ジュエリー】入力欄!I263),CONCATENATE(\" \",【ジュエリー】入力欄!I263,【ジュエリー】入力欄!J263,IF(【ジュエリー】入力欄!I263=\"パール\",\"mm\",\"ct\"))))","v":"  "},{"$f":"IF(【ジュエリー】入力欄!L263=\"\",\"\",【ジュエリー】入力欄!L263&\"g\")","v":""},{"$f":"IF(【ジュエリー】入力欄!M263=\"\",\"\",【ジュエリー】入力欄!M263)","v":""},{"$f":"IF(【ジュエリー】入力欄!O263=\"\",\"\",【ジュエリー】入力欄!O263)","v":""}]
["９",{"$f":"IF(【ジュエリー】入力欄!K264=\"\",\"\",【ジュエリー】入力欄!K264)","v":""},{"$f":"IF(【ジュエリー】入力欄!E264=\"\",\"\",【ジュエリー】入力欄!E264)","v":""},{"$f":"CONCATENATE(IF(【ジュエリー】入力欄!F264=\"\",\"\",【ジュエリー】入力欄!F264),IF(【ジュエリー】入力欄!H264=\"\",CONCATENATE(\" \",【ジュエリー】入力欄!G264),CONCATENATE(\" \",【ジュエリー】入力欄!G264,【ジュエリー】入力欄!H264,IF(【ジュエリー】入力欄!G264=\"パール\",\"mm\",\"ct\"))),IF(【ジュエリー】入力欄!J264=\"\",CONCATENATE(\" \",【ジュエリー】入力欄!I264),CONCATENATE(\" \",【ジュエリー】入力欄!I264,【ジュエリー】入力欄!J264,IF(【ジュエリー】入力欄!I264=\"パール\",\"mm\",\"ct\"))))","v":"  "},{"$f":"IF(【ジュエリー】入力欄!L264=\"\",\"\",【ジュエリー】入力欄!L264&\"g\")","v":""},{"$f":"IF(【ジュエリー】入力欄!M264=\"\",\"\",【ジュエリー】入力欄!M264)","v":""},{"$f":"IF(【ジュエリー】入力欄!O264=\"\",\"\",【ジュエリー】入力欄!O264)","v":""}]
["１０",{"$f":"IF(【ジュエリー】入力欄!K265=\"\",\"\",【ジュエリー】入力欄!K265)","v":""},{"$f":"IF(【ジュエリー】入力欄!E265=\"\",\"\",【ジュエリー】入力欄!E265)","v":""},{"$f":"CONCATENATE(IF(【ジュエリー】入力欄!F265=\"\",\"\",【ジュエリー】入力欄!F265),IF(【ジュエリー】入力欄!H265=\"\",CONCATENATE(\" \",【ジュエリー】入力欄!G265),CONCATENATE(\" \",【ジュエリー】入力欄!G265,【ジュエリー】入力欄!H265,IF(【ジュエリー】入力欄!G265=\"パール\",\"mm\",\"ct\"))),IF(【ジュエリー】入力欄!J265=\"\",CONCATENATE(\" \",【ジュエリー】入力欄!I265),CONCATENATE(\" \",【ジュエリー】入力欄!I265,【ジュエリー】入力欄!J265,IF(【ジュエリー】入力欄!I265=\"パール\",\"mm\",\"ct\"))))","v":"  "},{"$f":"IF(【ジュエリー】入力欄!L265=\"\",\"\",【ジュエリー】入力欄!L265&\"g\")","v":""},{"$f":"IF(【ジュエリー】入力欄!M265=\"\",\"\",【ジュエリー】入力欄!M265)","v":""},{"$f":"IF(【ジュエリー】入力欄!O265=\"\",\"\",【ジュエリー】入力欄!O265)","v":""}]
[]
["   \n",{"$f":"CONCATENATE(\"出品表　（　\",【ジュエリー】入力欄!I$3,\"　大吉オークション　宝石・ジュエリー）\")","v":"出品表　（　　大吉オークション　宝石・ジュエリー）"}]
[]
[null,"箱番：",{"$f":"IF(【ジュエリー】入力欄!C266=\"\",\"\",【ジュエリー】入力欄!C266)","v":""},"※太枠の中をご記入ください",null,"会社名",{"$f":"IF(【ジュエリー】入力欄!C$3=\"\",\"\",【ジュエリー】入力欄!C$3)","v":""}]
[]
["番号","品目","金性","詳細・特徴","重量","付属品","指値\n（3万円以上）","発句"]
["１",{"$f":"IF(【ジュエリー】入力欄!K266=\"\",\"\",【ジュエリー】入力欄!K266)","v":""},{"$f":"IF(【ジュエリー】入力欄!E266=\"\",\"\",【ジュエリー】入力欄!E266)","v":""},{"$f":"CONCATENATE(IF(【ジュエリー】入力欄!F266=\"\",\"\",【ジュエリー】入力欄!F266),IF(【ジュエリー】入力欄!H266=\"\",CONCATENATE(\" \",【ジュエリー】入力欄!G266),CONCATENATE(\" \",【ジュエリー】入力欄!G266,【ジュエリー】入力欄!H266,IF(【ジュエリー】入力欄!G266=\"パール\",\"mm\",\"ct\"))),IF(【ジュエリー】入力欄!J266=\"\",CONCATENATE(\" \",【ジュエリー】入力欄!I266),CONCATENATE(\" \",【ジュエリー】入力欄!I266,【ジュエリー】入力欄!J266,IF(【ジュエリー】入力欄!I266=\"パール\",\"mm\",\"ct\"))))","v":"  "},{"$f":"IF(【ジュエリー】入力欄!L266=\"\",\"\",【ジュエリー】入力欄!L266&\"g\")","v":""},{"$f":"IF(【ジュエリー】入力欄!M266=\"\",\"\",【ジュエリー】入力欄!M266)","v":""},{"$f":"IF(【ジュエリー】入力欄!O266=\"\",\"\",【ジュエリー】入力欄!O266)","v":""}]
["２",{"$f":"IF(【ジュエリー】入力欄!K267=\"\",\"\",【ジュエリー】入力欄!K267)","v":""},{"$f":"IF(【ジュエリー】入力欄!E267=\"\",\"\",【ジュエリー】入力欄!E267)","v":""},{"$f":"CONCATENATE(IF(【ジュエリー】入力欄!F267=\"\",\"\",【ジュエリー】入力欄!F267),IF(【ジュエリー】入力欄!H267=\"\",CONCATENATE(\" \",【ジュエリー】入力欄!G267),CONCATENATE(\" \",【ジュエリー】入力欄!G267,【ジュエリー】入力欄!H267,IF(【ジュエリー】入力欄!G267=\"パール\",\"mm\",\"ct\"))),IF(【ジュエリー】入力欄!J267=\"\",CONCATENATE(\" \",【ジュエリー】入力欄!I267),CONCATENATE(\" \",【ジュエリー】入力欄!I267,【ジュエリー】入力欄!J267,IF(【ジュエリー】入力欄!I267=\"パール\",\"mm\",\"ct\"))))","v":"  "},{"$f":"IF(【ジュエリー】入力欄!L267=\"\",\"\",【ジュエリー】入力欄!L267&\"g\")","v":""},{"$f":"IF(【ジュエリー】入力欄!M267=\"\",\"\",【ジュエリー】入力欄!M267)","v":""},{"$f":"IF(【ジュエリー】入力欄!O267=\"\",\"\",【ジュエリー】入力欄!O267)","v":""}]
["３",{"$f":"IF(【ジュエリー】入力欄!K268=\"\",\"\",【ジュエリー】入力欄!K268)","v":""},{"$f":"IF(【ジュエリー】入力欄!E268=\"\",\"\",【ジュエリー】入力欄!E268)","v":""},{"$f":"CONCATENATE(IF(【ジュエリー】入力欄!F268=\"\",\"\",【ジュエリー】入力欄!F268),IF(【ジュエリー】入力欄!H268=\"\",CONCATENATE(\" \",【ジュエリー】入力欄!G268),CONCATENATE(\" \",【ジュエリー】入力欄!G268,【ジュエリー】入力欄!H268,IF(【ジュエリー】入力欄!G268=\"パール\",\"mm\",\"ct\"))),IF(【ジュエリー】入力欄!J268=\"\",CONCATENATE(\" \",【ジュエリー】入力欄!I268),CONCATENATE(\" \",【ジュエリー】入力欄!I268,【ジュエリー】入力欄!J268,IF(【ジュエリー】入力欄!I268=\"パール\",\"mm\",\"ct\"))))","v":"  "},{"$f":"IF(【ジュエリー】入力欄!L268=\"\",\"\",【ジュエリー】入力欄!L268&\"g\")","v":""},{"$f":"IF(【ジュエリー】入力欄!M268=\"\",\"\",【ジュエリー】入力欄!M268)","v":""},{"$f":"IF(【ジュエリー】入力欄!O268=\"\",\"\",【ジュエリー】入力欄!O268)","v":""}]
["４",{"$f":"IF(【ジュエリー】入力欄!K269=\"\",\"\",【ジュエリー】入力欄!K269)","v":""},{"$f":"IF(【ジュエリー】入力欄!E269=\"\",\"\",【ジュエリー】入力欄!E269)","v":""},{"$f":"CONCATENATE(IF(【ジュエリー】入力欄!F269=\"\",\"\",【ジュエリー】入力欄!F269),IF(【ジュエリー】入力欄!H269=\"\",CONCATENATE(\" \",【ジュエリー】入力欄!G269),CONCATENATE(\" \",【ジュエリー】入力欄!G269,【ジュエリー】入力欄!H269,IF(【ジュエリー】入力欄!G269=\"パール\",\"mm\",\"ct\"))),IF(【ジュエリー】入力欄!J269=\"\",CONCATENATE(\" \",【ジュエリー】入力欄!I269),CONCATENATE(\" \",【ジュエリー】入力欄!I269,【ジュエリー】入力欄!J269,IF(【ジュエリー】入力欄!I269=\"パール\",\"mm\",\"ct\"))))","v":"  "},{"$f":"IF(【ジュエリー】入力欄!L269=\"\",\"\",【ジュエリー】入力欄!L269&\"g\")","v":""},{"$f":"IF(【ジュエリー】入力欄!M269=\"\",\"\",【ジュエリー】入力欄!M269)","v":""},{"$f":"IF(【ジュエリー】入力欄!O269=\"\",\"\",【ジュエリー】入力欄!O269)","v":""}]
["５",{"$f":"IF(【ジュエリー】入力欄!K270=\"\",\"\",【ジュエリー】入力欄!K270)","v":""},{"$f":"IF(【ジュエリー】入力欄!E270=\"\",\"\",【ジュエリー】入力欄!E270)","v":""},{"$f":"CONCATENATE(IF(【ジュエリー】入力欄!F270=\"\",\"\",【ジュエリー】入力欄!F270),IF(【ジュエリー】入力欄!H270=\"\",CONCATENATE(\" \",【ジュエリー】入力欄!G270),CONCATENATE(\" \",【ジュエリー】入力欄!G270,【ジュエリー】入力欄!H270,IF(【ジュエリー】入力欄!G270=\"パール\",\"mm\",\"ct\"))),IF(【ジュエリー】入力欄!J270=\"\",CONCATENATE(\" \",【ジュエリー】入力欄!I270),CONCATENATE(\" \",【ジュエリー】入力欄!I270,【ジュエリー】入力欄!J270,IF(【ジュエリー】入力欄!I270=\"パール\",\"mm\",\"ct\"))))","v":"  "},{"$f":"IF(【ジュエリー】入力欄!L270=\"\",\"\",【ジュエリー】入力欄!L270&\"g\")","v":""},{"$f":"IF(【ジュエリー】入力欄!M270=\"\",\"\",【ジュエリー】入力欄!M270)","v":""},{"$f":"IF(【ジュエリー】入力欄!O270=\"\",\"\",【ジュエリー】入力欄!O270)","v":""}]
["６",{"$f":"IF(【ジュエリー】入力欄!K271=\"\",\"\",【ジュエリー】入力欄!K271)","v":""},{"$f":"IF(【ジュエリー】入力欄!E271=\"\",\"\",【ジュエリー】入力欄!E271)","v":""},{"$f":"CONCATENATE(IF(【ジュエリー】入力欄!F271=\"\",\"\",【ジュエリー】入力欄!F271),IF(【ジュエリー】入力欄!H271=\"\",CONCATENATE(\" \",【ジュエリー】入力欄!G271),CONCATENATE(\" \",【ジュエリー】入力欄!G271,【ジュエリー】入力欄!H271,IF(【ジュエリー】入力欄!G271=\"パール\",\"mm\",\"ct\"))),IF(【ジュエリー】入力欄!J271=\"\",CONCATENATE(\" \",【ジュエリー】入力欄!I271),CONCATENATE(\" \",【ジュエリー】入力欄!I271,【ジュエリー】入力欄!J271,IF(【ジュエリー】入力欄!I271=\"パール\",\"mm\",\"ct\"))))","v":"  "},{"$f":"IF(【ジュエリー】入力欄!L271=\"\",\"\",【ジュエリー】入力欄!L271&\"g\")","v":""},{"$f":"IF(【ジュエリー】入力欄!M271=\"\",\"\",【ジュエリー】入力欄!M271)","v":""},{"$f":"IF(【ジュエリー】入力欄!O271=\"\",\"\",【ジュエリー】入力欄!O271)","v":""}]
["７",{"$f":"IF(【ジュエリー】入力欄!K272=\"\",\"\",【ジュエリー】入力欄!K272)","v":""},{"$f":"IF(【ジュエリー】入力欄!E272=\"\",\"\",【ジュエリー】入力欄!E272)","v":""},{"$f":"CONCATENATE(IF(【ジュエリー】入力欄!F272=\"\",\"\",【ジュエリー】入力欄!F272),IF(【ジュエリー】入力欄!H272=\"\",CONCATENATE(\" \",【ジュエリー】入力欄!G272),CONCATENATE(\" \",【ジュエリー】入力欄!G272,【ジュエリー】入力欄!H272,IF(【ジュエリー】入力欄!G272=\"パール\",\"mm\",\"ct\"))),IF(【ジュエリー】入力欄!J272=\"\",CONCATENATE(\" \",【ジュエリー】入力欄!I272),CONCATENATE(\" \",【ジュエリー】入力欄!I272,【ジュエリー】入力欄!J272,IF(【ジュエリー】入力欄!I272=\"パール\",\"mm\",\"ct\"))))","v":"  "},{"$f":"IF(【ジュエリー】入力欄!L272=\"\",\"\",【ジュエリー】入力欄!L272&\"g\")","v":""},{"$f":"IF(【ジュエリー】入力欄!M272=\"\",\"\",【ジュエリー】入力欄!M272)","v":""},{"$f":"IF(【ジュエリー】入力欄!O272=\"\",\"\",【ジュエリー】入力欄!O272)","v":""}]
["８",{"$f":"IF(【ジュエリー】入力欄!K273=\"\",\"\",【ジュエリー】入力欄!K273)","v":""},{"$f":"IF(【ジュエリー】入力欄!E273=\"\",\"\",【ジュエリー】入力欄!E273)","v":""},{"$f":"CONCATENATE(IF(【ジュエリー】入力欄!F273=\"\",\"\",【ジュエリー】入力欄!F273),IF(【ジュエリー】入力欄!H273=\"\",CONCATENATE(\" \",【ジュエリー】入力欄!G273),CONCATENATE(\" \",【ジュエリー】入力欄!G273,【ジュエリー】入力欄!H273,IF(【ジュエリー】入力欄!G273=\"パール\",\"mm\",\"ct\"))),IF(【ジュエリー】入力欄!J273=\"\",CONCATENATE(\" \",【ジュエリー】入力欄!I273),CONCATENATE(\" \",【ジュエリー】入力欄!I273,【ジュエリー】入力欄!J273,IF(【ジュエリー】入力欄!I273=\"パール\",\"mm\",\"ct\"))))","v":"  "},{"$f":"IF(【ジュエリー】入力欄!L273=\"\",\"\",【ジュエリー】入力欄!L273&\"g\")","v":""},{"$f":"IF(【ジュエリー】入力欄!M273=\"\",\"\",【ジュエリー】入力欄!M273)","v":""},{"$f":"IF(【ジュエリー】入力欄!O273=\"\",\"\",【ジュエリー】入力欄!O273)","v":""}]
["９",{"$f":"IF(【ジュエリー】入力欄!K274=\"\",\"\",【ジュエリー】入力欄!K274)","v":""},{"$f":"IF(【ジュエリー】入力欄!E274=\"\",\"\",【ジュエリー】入力欄!E274)","v":""},{"$f":"CONCATENATE(IF(【ジュエリー】入力欄!F274=\"\",\"\",【ジュエリー】入力欄!F274),IF(【ジュエリー】入力欄!H274=\"\",CONCATENATE(\" \",【ジュエリー】入力欄!G274),CONCATENATE(\" \",【ジュエリー】入力欄!G274,【ジュエリー】入力欄!H274,IF(【ジュエリー】入力欄!G274=\"パール\",\"mm\",\"ct\"))),IF(【ジュエリー】入力欄!J274=\"\",CONCATENATE(\" \",【ジュエリー】入力欄!I274),CONCATENATE(\" \",【ジュエリー】入力欄!I274,【ジュエリー】入力欄!J274,IF(【ジュエリー】入力欄!I274=\"パール\",\"mm\",\"ct\"))))","v":"  "},{"$f":"IF(【ジュエリー】入力欄!L274=\"\",\"\",【ジュエリー】入力欄!L274&\"g\")","v":""},{"$f":"IF(【ジュエリー】入力欄!M274=\"\",\"\",【ジュエリー】入力欄!M274)","v":""},{"$f":"IF(【ジュエリー】入力欄!O274=\"\",\"\",【ジュエリー】入力欄!O274)","v":""}]
["１０",{"$f":"IF(【ジュエリー】入力欄!K275=\"\",\"\",【ジュエリー】入力欄!K275)","v":""},{"$f":"IF(【ジュエリー】入力欄!E275=\"\",\"\",【ジュエリー】入力欄!E275)","v":""},{"$f":"CONCATENATE(IF(【ジュエリー】入力欄!F275=\"\",\"\",【ジュエリー】入力欄!F275),IF(【ジュエリー】入力欄!H275=\"\",CONCATENATE(\" \",【ジュエリー】入力欄!G275),CONCATENATE(\" \",【ジュエリー】入力欄!G275,【ジュエリー】入力欄!H275,IF(【ジュエリー】入力欄!G275=\"パール\",\"mm\",\"ct\"))),IF(【ジュエリー】入力欄!J275=\"\",CONCATENATE(\" \",【ジュエリー】入力欄!I275),CONCATENATE(\" \",【ジュエリー】入力欄!I275,【ジュエリー】入力欄!J275,IF(【ジュエリー】入力欄!I275=\"パール\",\"mm\",\"ct\"))))","v":"  "},{"$f":"IF(【ジュエリー】入力欄!L275=\"\",\"\",【ジュエリー】入力欄!L275&\"g\")","v":""},{"$f":"IF(【ジュエリー】入力欄!M275=\"\",\"\",【ジュエリー】入力欄!M275)","v":""},{"$f":"IF(【ジュエリー】入力欄!O275=\"\",\"\",【ジュエリー】入力欄!O275)","v":""}]
[]
["   \n",{"$f":"CONCATENATE(\"出品表　（　\",【ジュエリー】入力欄!I$3,\"　大吉オークション　宝石・ジュエリー）\")","v":"出品表　（　　大吉オークション　宝石・ジュエリー）"}]
[]
[null,"箱番：",{"$f":"IF(【ジュエリー】入力欄!C276=\"\",\"\",【ジュエリー】入力欄!C276)","v":""},"※太枠の中をご記入ください",null,"会社名",{"$f":"IF(【ジュエリー】入力欄!C$3=\"\",\"\",【ジュエリー】入力欄!C$3)","v":""}]
[]
["番号","品目","金性","詳細・特徴","重量","付属品","指値\n（3万円以上）","発句"]
["１",{"$f":"IF(【ジュエリー】入力欄!K276=\"\",\"\",【ジュエリー】入力欄!K276)","v":""},{"$f":"IF(【ジュエリー】入力欄!E276=\"\",\"\",【ジュエリー】入力欄!E276)","v":""},{"$f":"CONCATENATE(IF(【ジュエリー】入力欄!F276=\"\",\"\",【ジュエリー】入力欄!F276),IF(【ジュエリー】入力欄!H276=\"\",CONCATENATE(\" \",【ジュエリー】入力欄!G276),CONCATENATE(\" \",【ジュエリー】入力欄!G276,【ジュエリー】入力欄!H276,IF(【ジュエリー】入力欄!G276=\"パール\",\"mm\",\"ct\"))),IF(【ジュエリー】入力欄!J276=\"\",CONCATENATE(\" \",【ジュエリー】入力欄!I276),CONCATENATE(\" \",【ジュエリー】入力欄!I276,【ジュエリー】入力欄!J276,IF(【ジュエリー】入力欄!I276=\"パール\",\"mm\",\"ct\"))))","v":"  "},{"$f":"IF(【ジュエリー】入力欄!L276=\"\",\"\",【ジュエリー】入力欄!L276&\"g\")","v":""},{"$f":"IF(【ジュエリー】入力欄!M276=\"\",\"\",【ジュエリー】入力欄!M276)","v":""},{"$f":"IF(【ジュエリー】入力欄!O276=\"\",\"\",【ジュエリー】入力欄!O276)","v":""}]
["２",{"$f":"IF(【ジュエリー】入力欄!K277=\"\",\"\",【ジュエリー】入力欄!K277)","v":""},{"$f":"IF(【ジュエリー】入力欄!E277=\"\",\"\",【ジュエリー】入力欄!E277)","v":""},{"$f":"CONCATENATE(IF(【ジュエリー】入力欄!F277=\"\",\"\",【ジュエリー】入力欄!F277),IF(【ジュエリー】入力欄!H277=\"\",CONCATENATE(\" \",【ジュエリー】入力欄!G277),CONCATENATE(\" \",【ジュエリー】入力欄!G277,【ジュエリー】入力欄!H277,IF(【ジュエリー】入力欄!G277=\"パール\",\"mm\",\"ct\"))),IF(【ジュエリー】入力欄!J277=\"\",CONCATENATE(\" \",【ジュエリー】入力欄!I277),CONCATENATE(\" \",【ジュエリー】入力欄!I277,【ジュエリー】入力欄!J277,IF(【ジュエリー】入力欄!I277=\"パール\",\"mm\",\"ct\"))))","v":"  "},{"$f":"IF(【ジュエリー】入力欄!L277=\"\",\"\",【ジュエリー】入力欄!L277&\"g\")","v":""},{"$f":"IF(【ジュエリー】入力欄!M277=\"\",\"\",【ジュエリー】入力欄!M277)","v":""},{"$f":"IF(【ジュエリー】入力欄!O277=\"\",\"\",【ジュエリー】入力欄!O277)","v":""}]
["３",{"$f":"IF(【ジュエリー】入力欄!K278=\"\",\"\",【ジュエリー】入力欄!K278)","v":""},{"$f":"IF(【ジュエリー】入力欄!E278=\"\",\"\",【ジュエリー】入力欄!E278)","v":""},{"$f":"CONCATENATE(IF(【ジュエリー】入力欄!F278=\"\",\"\",【ジュエリー】入力欄!F278),IF(【ジュエリー】入力欄!H278=\"\",CONCATENATE(\" \",【ジュエリー】入力欄!G278),CONCATENATE(\" \",【ジュエリー】入力欄!G278,【ジュエリー】入力欄!H278,IF(【ジュエリー】入力欄!G278=\"パール\",\"mm\",\"ct\"))),IF(【ジュエリー】入力欄!J278=\"\",CONCATENATE(\" \",【ジュエリー】入力欄!I278),CONCATENATE(\" \",【ジュエリー】入力欄!I278,【ジュエリー】入力欄!J278,IF(【ジュエリー】入力欄!I278=\"パール\",\"mm\",\"ct\"))))","v":"  "},{"$f":"IF(【ジュエリー】入力欄!L278=\"\",\"\",【ジュエリー】入力欄!L278&\"g\")","v":""},{"$f":"IF(【ジュエリー】入力欄!M278=\"\",\"\",【ジュエリー】入力欄!M278)","v":""},{"$f":"IF(【ジュエリー】入力欄!O278=\"\",\"\",【ジュエリー】入力欄!O278)","v":""}]
["４",{"$f":"IF(【ジュエリー】入力欄!K279=\"\",\"\",【ジュエリー】入力欄!K279)","v":""},{"$f":"IF(【ジュエリー】入力欄!E279=\"\",\"\",【ジュエリー】入力欄!E279)","v":""},{"$f":"CONCATENATE(IF(【ジュエリー】入力欄!F279=\"\",\"\",【ジュエリー】入力欄!F279),IF(【ジュエリー】入力欄!H279=\"\",CONCATENATE(\" \",【ジュエリー】入力欄!G279),CONCATENATE(\" \",【ジュエリー】入力欄!G279,【ジュエリー】入力欄!H279,IF(【ジュエリー】入力欄!G279=\"パール\",\"mm\",\"ct\"))),IF(【ジュエリー】入力欄!J279=\"\",CONCATENATE(\" \",【ジュエリー】入力欄!I279),CONCATENATE(\" \",【ジュエリー】入力欄!I279,【ジュエリー】入力欄!J279,IF(【ジュエリー】入力欄!I279=\"パール\",\"mm\",\"ct\"))))","v":"  "},{"$f":"IF(【ジュエリー】入力欄!L279=\"\",\"\",【ジュエリー】入力欄!L279&\"g\")","v":""},{"$f":"IF(【ジュエリー】入力欄!M279=\"\",\"\",【ジュエリー】入力欄!M279)","v":""},{"$f":"IF(【ジュエリー】入力欄!O279=\"\",\"\",【ジュエリー】入力欄!O279)","v":""}]
["５",{"$f":"IF(【ジュエリー】入力欄!K280=\"\",\"\",【ジュエリー】入力欄!K280)","v":""},{"$f":"IF(【ジュエリー】入力欄!E280=\"\",\"\",【ジュエリー】入力欄!E280)","v":""},{"$f":"CONCATENATE(IF(【ジュエリー】入力欄!F280=\"\",\"\",【ジュエリー】入力欄!F280),IF(【ジュエリー】入力欄!H280=\"\",CONCATENATE(\" \",【ジュエリー】入力欄!G280),CONCATENATE(\" \",【ジュエリー】入力欄!G280,【ジュエリー】入力欄!H280,IF(【ジュエリー】入力欄!G280=\"パール\",\"mm\",\"ct\"))),IF(【ジュエリー】入力欄!J280=\"\",CONCATENATE(\" \",【ジュエリー】入力欄!I280),CONCATENATE(\" \",【ジュエリー】入力欄!I280,【ジュエリー】入力欄!J280,IF(【ジュエリー】入力欄!I280=\"パール\",\"mm\",\"ct\"))))","v":"  "},{"$f":"IF(【ジュエリー】入力欄!L280=\"\",\"\",【ジュエリー】入力欄!L280&\"g\")","v":""},{"$f":"IF(【ジュエリー】入力欄!M280=\"\",\"\",【ジュエリー】入力欄!M280)","v":""},{"$f":"IF(【ジュエリー】入力欄!O280=\"\",\"\",【ジュエリー】入力欄!O280)","v":""}]
["６",{"$f":"IF(【ジュエリー】入力欄!K281=\"\",\"\",【ジュエリー】入力欄!K281)","v":""},{"$f":"IF(【ジュエリー】入力欄!E281=\"\",\"\",【ジュエリー】入力欄!E281)","v":""},{"$f":"CONCATENATE(IF(【ジュエリー】入力欄!F281=\"\",\"\",【ジュエリー】入力欄!F281),IF(【ジュエリー】入力欄!H281=\"\",CONCATENATE(\" \",【ジュエリー】入力欄!G281),CONCATENATE(\" \",【ジュエリー】入力欄!G281,【ジュエリー】入力欄!H281,IF(【ジュエリー】入力欄!G281=\"パール\",\"mm\",\"ct\"))),IF(【ジュエリー】入力欄!J281=\"\",CONCATENATE(\" \",【ジュエリー】入力欄!I281),CONCATENATE(\" \",【ジュエリー】入力欄!I281,【ジュエリー】入力欄!J281,IF(【ジュエリー】入力欄!I281=\"パール\",\"mm\",\"ct\"))))","v":"  "},{"$f":"IF(【ジュエリー】入力欄!L281=\"\",\"\",【ジュエリー】入力欄!L281&\"g\")","v":""},{"$f":"IF(【ジュエリー】入力欄!M281=\"\",\"\",【ジュエリー】入力欄!M281)","v":""},{"$f":"IF(【ジュエリー】入力欄!O281=\"\",\"\",【ジュエリー】入力欄!O281)","v":""}]
["７",{"$f":"IF(【ジュエリー】入力欄!K282=\"\",\"\",【ジュエリー】入力欄!K282)","v":""},{"$f":"IF(【ジュエリー】入力欄!E282=\"\",\"\",【ジュエリー】入力欄!E282)","v":""},{"$f":"CONCATENATE(IF(【ジュエリー】入力欄!F282=\"\",\"\",【ジュエリー】入力欄!F282),IF(【ジュエリー】入力欄!H282=\"\",CONCATENATE(\" \",【ジュエリー】入力欄!G282),CONCATENATE(\" \",【ジュエリー】入力欄!G282,【ジュエリー】入力欄!H282,IF(【ジュエリー】入力欄!G282=\"パール\",\"mm\",\"ct\"))),IF(【ジュエリー】入力欄!J282=\"\",CONCATENATE(\" \",【ジュエリー】入力欄!I282),CONCATENATE(\" \",【ジュエリー】入力欄!I282,【ジュエリー】入力欄!J282,IF(【ジュエリー】入力欄!I282=\"パール\",\"mm\",\"ct\"))))","v":"  "},{"$f":"IF(【ジュエリー】入力欄!L282=\"\",\"\",【ジュエリー】入力欄!L282&\"g\")","v":""},{"$f":"IF(【ジュエリー】入力欄!M282=\"\",\"\",【ジュエリー】入力欄!M282)","v":""},{"$f":"IF(【ジュエリー】入力欄!O282=\"\",\"\",【ジュエリー】入力欄!O282)","v":""}]
["８",{"$f":"IF(【ジュエリー】入力欄!K283=\"\",\"\",【ジュエリー】入力欄!K283)","v":""},{"$f":"IF(【ジュエリー】入力欄!E283=\"\",\"\",【ジュエリー】入力欄!E283)","v":""},{"$f":"CONCATENATE(IF(【ジュエリー】入力欄!F283=\"\",\"\",【ジュエリー】入力欄!F283),IF(【ジュエリー】入力欄!H283=\"\",CONCATENATE(\" \",【ジュエリー】入力欄!G283),CONCATENATE(\" \",【ジュエリー】入力欄!G283,【ジュエリー】入力欄!H283,IF(【ジュエリー】入力欄!G283=\"パール\",\"mm\",\"ct\"))),IF(【ジュエリー】入力欄!J283=\"\",CONCATENATE(\" \",【ジュエリー】入力欄!I283),CONCATENATE(\" \",【ジュエリー】入力欄!I283,【ジュエリー】入力欄!J283,IF(【ジュエリー】入力欄!I283=\"パール\",\"mm\",\"ct\"))))","v":"  "},{"$f":"IF(【ジュエリー】入力欄!L283=\"\",\"\",【ジュエリー】入力欄!L283&\"g\")","v":""},{"$f":"IF(【ジュエリー】入力欄!M283=\"\",\"\",【ジュエリー】入力欄!M283)","v":""},{"$f":"IF(【ジュエリー】入力欄!O283=\"\",\"\",【ジュエリー】入力欄!O283)","v":""}]
["９",{"$f":"IF(【ジュエリー】入力欄!K284=\"\",\"\",【ジュエリー】入力欄!K284)","v":""},{"$f":"IF(【ジュエリー】入力欄!E284=\"\",\"\",【ジュエリー】入力欄!E284)","v":""},{"$f":"CONCATENATE(IF(【ジュエリー】入力欄!F284=\"\",\"\",【ジュエリー】入力欄!F284),IF(【ジュエリー】入力欄!H284=\"\",CONCATENATE(\" \",【ジュエリー】入力欄!G284),CONCATENATE(\" \",【ジュエリー】入力欄!G284,【ジュエリー】入力欄!H284,IF(【ジュエリー】入力欄!G284=\"パール\",\"mm\",\"ct\"))),IF(【ジュエリー】入力欄!J284=\"\",CONCATENATE(\" \",【ジュエリー】入力欄!I284),CONCATENATE(\" \",【ジュエリー】入力欄!I284,【ジュエリー】入力欄!J284,IF(【ジュエリー】入力欄!I284=\"パール\",\"mm\",\"ct\"))))","v":"  "},{"$f":"IF(【ジュエリー】入力欄!L284=\"\",\"\",【ジュエリー】入力欄!L284&\"g\")","v":""},{"$f":"IF(【ジュエリー】入力欄!M284=\"\",\"\",【ジュエリー】入力欄!M284)","v":""},{"$f":"IF(【ジュエリー】入力欄!O284=\"\",\"\",【ジュエリー】入力欄!O284)","v":""}]
["１０",{"$f":"IF(【ジュエリー】入力欄!K285=\"\",\"\",【ジュエリー】入力欄!K285)","v":""},{"$f":"IF(【ジュエリー】入力欄!E285=\"\",\"\",【ジュエリー】入力欄!E285)","v":""},{"$f":"CONCATENATE(IF(【ジュエリー】入力欄!F285=\"\",\"\",【ジュエリー】入力欄!F285),IF(【ジュエリー】入力欄!H285=\"\",CONCATENATE(\" \",【ジュエリー】入力欄!G285),CONCATENATE(\" \",【ジュエリー】入力欄!G285,【ジュエリー】入力欄!H285,IF(【ジュエリー】入力欄!G285=\"パール\",\"mm\",\"ct\"))),IF(【ジュエリー】入力欄!J285=\"\",CONCATENATE(\" \",【ジュエリー】入力欄!I285),CONCATENATE(\" \",【ジュエリー】入力欄!I285,【ジュエリー】入力欄!J285,IF(【ジュエリー】入力欄!I285=\"パール\",\"mm\",\"ct\"))))","v":"  "},{"$f":"IF(【ジュエリー】入力欄!L285=\"\",\"\",【ジュエリー】入力欄!L285&\"g\")","v":""},{"$f":"IF(【ジュエリー】入力欄!M285=\"\",\"\",【ジュエリー】入力欄!M285)","v":""},{"$f":"IF(【ジュエリー】入力欄!O285=\"\",\"\",【ジュエリー】入力欄!O285)","v":""}]
[]
["   \n",{"$f":"CONCATENATE(\"出品表　（　\",【ジュエリー】入力欄!I$3,\"　大吉オークション　宝石・ジュエリー）\")","v":"出品表　（　　大吉オークション　宝石・ジュエリー）"}]
[]
[null,"箱番：",{"$f":"IF(【ジュエリー】入力欄!C286=\"\",\"\",【ジュエリー】入力欄!C286)","v":""},"※太枠の中をご記入ください",null,"会社名",{"$f":"IF(【ジュエリー】入力欄!C$3=\"\",\"\",【ジュエリー】入力欄!C$3)","v":""}]
[]
["番号","品目","金性","詳細・特徴","重量","付属品","指値\n（3万円以上）","発句"]
["１",{"$f":"IF(【ジュエリー】入力欄!K286=\"\",\"\",【ジュエリー】入力欄!K286)","v":""},{"$f":"IF(【ジュエリー】入力欄!E286=\"\",\"\",【ジュエリー】入力欄!E286)","v":""},{"$f":"CONCATENATE(IF(【ジュエリー】入力欄!F286=\"\",\"\",【ジュエリー】入力欄!F286),IF(【ジュエリー】入力欄!H286=\"\",CONCATENATE(\" \",【ジュエリー】入力欄!G286),CONCATENATE(\" \",【ジュエリー】入力欄!G286,【ジュエリー】入力欄!H286,IF(【ジュエリー】入力欄!G286=\"パール\",\"mm\",\"ct\"))),IF(【ジュエリー】入力欄!J286=\"\",CONCATENATE(\" \",【ジュエリー】入力欄!I286),CONCATENATE(\" \",【ジュエリー】入力欄!I286,【ジュエリー】入力欄!J286,IF(【ジュエリー】入力欄!I286=\"パール\",\"mm\",\"ct\"))))","v":"  "},{"$f":"IF(【ジュエリー】入力欄!L286=\"\",\"\",【ジュエリー】入力欄!L286&\"g\")","v":""},{"$f":"IF(【ジュエリー】入力欄!M286=\"\",\"\",【ジュエリー】入力欄!M286)","v":""},{"$f":"IF(【ジュエリー】入力欄!O286=\"\",\"\",【ジュエリー】入力欄!O286)","v":""}]
["２",{"$f":"IF(【ジュエリー】入力欄!K287=\"\",\"\",【ジュエリー】入力欄!K287)","v":""},{"$f":"IF(【ジュエリー】入力欄!E287=\"\",\"\",【ジュエリー】入力欄!E287)","v":""},{"$f":"CONCATENATE(IF(【ジュエリー】入力欄!F287=\"\",\"\",【ジュエリー】入力欄!F287),IF(【ジュエリー】入力欄!H287=\"\",CONCATENATE(\" \",【ジュエリー】入力欄!G287),CONCATENATE(\" \",【ジュエリー】入力欄!G287,【ジュエリー】入力欄!H287,IF(【ジュエリー】入力欄!G287=\"パール\",\"mm\",\"ct\"))),IF(【ジュエリー】入力欄!J287=\"\",CONCATENATE(\" \",【ジュエリー】入力欄!I287),CONCATENATE(\" \",【ジュエリー】入力欄!I287,【ジュエリー】入力欄!J287,IF(【ジュエリー】入力欄!I287=\"パール\",\"mm\",\"ct\"))))","v":"  "},{"$f":"IF(【ジュエリー】入力欄!L287=\"\",\"\",【ジュエリー】入力欄!L287&\"g\")","v":""},{"$f":"IF(【ジュエリー】入力欄!M287=\"\",\"\",【ジュエリー】入力欄!M287)","v":""},{"$f":"IF(【ジュエリー】入力欄!O287=\"\",\"\",【ジュエリー】入力欄!O287)","v":""}]
["３",{"$f":"IF(【ジュエリー】入力欄!K288=\"\",\"\",【ジュエリー】入力欄!K288)","v":""},{"$f":"IF(【ジュエリー】入力欄!E288=\"\",\"\",【ジュエリー】入力欄!E288)","v":""},{"$f":"CONCATENATE(IF(【ジュエリー】入力欄!F288=\"\",\"\",【ジュエリー】入力欄!F288),IF(【ジュエリー】入力欄!H288=\"\",CONCATENATE(\" \",【ジュエリー】入力欄!G288),CONCATENATE(\" \",【ジュエリー】入力欄!G288,【ジュエリー】入力欄!H288,IF(【ジュエリー】入力欄!G288=\"パール\",\"mm\",\"ct\"))),IF(【ジュエリー】入力欄!J288=\"\",CONCATENATE(\" \",【ジュエリー】入力欄!I288),CONCATENATE(\" \",【ジュエリー】入力欄!I288,【ジュエリー】入力欄!J288,IF(【ジュエリー】入力欄!I288=\"パール\",\"mm\",\"ct\"))))","v":"  "},{"$f":"IF(【ジュエリー】入力欄!L288=\"\",\"\",【ジュエリー】入力欄!L288&\"g\")","v":""},{"$f":"IF(【ジュエリー】入力欄!M288=\"\",\"\",【ジュエリー】入力欄!M288)","v":""},{"$f":"IF(【ジュエリー】入力欄!O288=\"\",\"\",【ジュエリー】入力欄!O288)","v":""}]
["４",{"$f":"IF(【ジュエリー】入力欄!K289=\"\",\"\",【ジュエリー】入力欄!K289)","v":""},{"$f":"IF(【ジュエリー】入力欄!E289=\"\",\"\",【ジュエリー】入力欄!E289)","v":""},{"$f":"CONCATENATE(IF(【ジュエリー】入力欄!F289=\"\",\"\",【ジュエリー】入力欄!F289),IF(【ジュエリー】入力欄!H289=\"\",CONCATENATE(\" \",【ジュエリー】入力欄!G289),CONCATENATE(\" \",【ジュエリー】入力欄!G289,【ジュエリー】入力欄!H289,IF(【ジュエリー】入力欄!G289=\"パール\",\"mm\",\"ct\"))),IF(【ジュエリー】入力欄!J289=\"\",CONCATENATE(\" \",【ジュエリー】入力欄!I289),CONCATENATE(\" \",【ジュエリー】入力欄!I289,【ジュエリー】入力欄!J289,IF(【ジュエリー】入力欄!I289=\"パール\",\"mm\",\"ct\"))))","v":"  "},{"$f":"IF(【ジュエリー】入力欄!L289=\"\",\"\",【ジュエリー】入力欄!L289&\"g\")","v":""},{"$f":"IF(【ジュエリー】入力欄!M289=\"\",\"\",【ジュエリー】入力欄!M289)","v":""},{"$f":"IF(【ジュエリー】入力欄!O289=\"\",\"\",【ジュエリー】入力欄!O289)","v":""}]
["５",{"$f":"IF(【ジュエリー】入力欄!K290=\"\",\"\",【ジュエリー】入力欄!K290)","v":""},{"$f":"IF(【ジュエリー】入力欄!E290=\"\",\"\",【ジュエリー】入力欄!E290)","v":""},{"$f":"CONCATENATE(IF(【ジュエリー】入力欄!F290=\"\",\"\",【ジュエリー】入力欄!F290),IF(【ジュエリー】入力欄!H290=\"\",CONCATENATE(\" \",【ジュエリー】入力欄!G290),CONCATENATE(\" \",【ジュエリー】入力欄!G290,【ジュエリー】入力欄!H290,IF(【ジュエリー】入力欄!G290=\"パール\",\"mm\",\"ct\"))),IF(【ジュエリー】入力欄!J290=\"\",CONCATENATE(\" \",【ジュエリー】入力欄!I290),CONCATENATE(\" \",【ジュエリー】入力欄!I290,【ジュエリー】入力欄!J290,IF(【ジュエリー】入力欄!I290=\"パール\",\"mm\",\"ct\"))))","v":"  "},{"$f":"IF(【ジュエリー】入力欄!L290=\"\",\"\",【ジュエリー】入力欄!L290&\"g\")","v":""},{"$f":"IF(【ジュエリー】入力欄!M290=\"\",\"\",【ジュエリー】入力欄!M290)","v":""},{"$f":"IF(【ジュエリー】入力欄!O290=\"\",\"\",【ジュエリー】入力欄!O290)","v":""}]
["６",{"$f":"IF(【ジュエリー】入力欄!K291=\"\",\"\",【ジュエリー】入力欄!K291)","v":""},{"$f":"IF(【ジュエリー】入力欄!E291=\"\",\"\",【ジュエリー】入力欄!E291)","v":""},{"$f":"CONCATENATE(IF(【ジュエリー】入力欄!F291=\"\",\"\",【ジュエリー】入力欄!F291),IF(【ジュエリー】入力欄!H291=\"\",CONCATENATE(\" \",【ジュエリー】入力欄!G291),CONCATENATE(\" \",【ジュエリー】入力欄!G291,【ジュエリー】入力欄!H291,IF(【ジュエリー】入力欄!G291=\"パール\",\"mm\",\"ct\"))),IF(【ジュエリー】入力欄!J291=\"\",CONCATENATE(\" \",【ジュエリー】入力欄!I291),CONCATENATE(\" \",【ジュエリー】入力欄!I291,【ジュエリー】入力欄!J291,IF(【ジュエリー】入力欄!I291=\"パール\",\"mm\",\"ct\"))))","v":"  "},{"$f":"IF(【ジュエリー】入力欄!L291=\"\",\"\",【ジュエリー】入力欄!L291&\"g\")","v":""},{"$f":"IF(【ジュエリー】入力欄!M291=\"\",\"\",【ジュエリー】入力欄!M291)","v":""},{"$f":"IF(【ジュエリー】入力欄!O291=\"\",\"\",【ジュエリー】入力欄!O291)","v":""}]
["７",{"$f":"IF(【ジュエリー】入力欄!K292=\"\",\"\",【ジュエリー】入力欄!K292)","v":""},{"$f":"IF(【ジュエリー】入力欄!E292=\"\",\"\",【ジュエリー】入力欄!E292)","v":""},{"$f":"CONCATENATE(IF(【ジュエリー】入力欄!F292=\"\",\"\",【ジュエリー】入力欄!F292),IF(【ジュエリー】入力欄!H292=\"\",CONCATENATE(\" \",【ジュエリー】入力欄!G292),CONCATENATE(\" \",【ジュエリー】入力欄!G292,【ジュエリー】入力欄!H292,IF(【ジュエリー】入力欄!G292=\"パール\",\"mm\",\"ct\"))),IF(【ジュエリー】入力欄!J292=\"\",CONCATENATE(\" \",【ジュエリー】入力欄!I292),CONCATENATE(\" \",【ジュエリー】入力欄!I292,【ジュエリー】入力欄!J292,IF(【ジュエリー】入力欄!I292=\"パール\",\"mm\",\"ct\"))))","v":"  "},{"$f":"IF(【ジュエリー】入力欄!L292=\"\",\"\",【ジュエリー】入力欄!L292&\"g\")","v":""},{"$f":"IF(【ジュエリー】入力欄!M292=\"\",\"\",【ジュエリー】入力欄!M292)","v":""},{"$f":"IF(【ジュエリー】入力欄!O292=\"\",\"\",【ジュエリー】入力欄!O292)","v":""}]
["８",{"$f":"IF(【ジュエリー】入力欄!K293=\"\",\"\",【ジュエリー】入力欄!K293)","v":""},{"$f":"IF(【ジュエリー】入力欄!E293=\"\",\"\",【ジュエリー】入力欄!E293)","v":""},{"$f":"CONCATENATE(IF(【ジュエリー】入力欄!F293=\"\",\"\",【ジュエリー】入力欄!F293),IF(【ジュエリー】入力欄!H293=\"\",CONCATENATE(\" \",【ジュエリー】入力欄!G293),CONCATENATE(\" \",【ジュエリー】入力欄!G293,【ジュエリー】入力欄!H293,IF(【ジュエリー】入力欄!G293=\"パール\",\"mm\",\"ct\"))),IF(【ジュエリー】入力欄!J293=\"\",CONCATENATE(\" \",【ジュエリー】入力欄!I293),CONCATENATE(\" \",【ジュエリー】入力欄!I293,【ジュエリー】入力欄!J293,IF(【ジュエリー】入力欄!I293=\"パール\",\"mm\",\"ct\"))))","v":"  "},{"$f":"IF(【ジュエリー】入力欄!L293=\"\",\"\",【ジュエリー】入力欄!L293&\"g\")","v":""},{"$f":"IF(【ジュエリー】入力欄!M293=\"\",\"\",【ジュエリー】入力欄!M293)","v":""},{"$f":"IF(【ジュエリー】入力欄!O293=\"\",\"\",【ジュエリー】入力欄!O293)","v":""}]
["９",{"$f":"IF(【ジュエリー】入力欄!K294=\"\",\"\",【ジュエリー】入力欄!K294)","v":""},{"$f":"IF(【ジュエリー】入力欄!E294=\"\",\"\",【ジュエリー】入力欄!E294)","v":""},{"$f":"CONCATENATE(IF(【ジュエリー】入力欄!F294=\"\",\"\",【ジュエリー】入力欄!F294),IF(【ジュエリー】入力欄!H294=\"\",CONCATENATE(\" \",【ジュエリー】入力欄!G294),CONCATENATE(\" \",【ジュエリー】入力欄!G294,【ジュエリー】入力欄!H294,IF(【ジュエリー】入力欄!G294=\"パール\",\"mm\",\"ct\"))),IF(【ジュエリー】入力欄!J294=\"\",CONCATENATE(\" \",【ジュエリー】入力欄!I294),CONCATENATE(\" \",【ジュエリー】入力欄!I294,【ジュエリー】入力欄!J294,IF(【ジュエリー】入力欄!I294=\"パール\",\"mm\",\"ct\"))))","v":"  "},{"$f":"IF(【ジュエリー】入力欄!L294=\"\",\"\",【ジュエリー】入力欄!L294&\"g\")","v":""},{"$f":"IF(【ジュエリー】入力欄!M294=\"\",\"\",【ジュエリー】入力欄!M294)","v":""},{"$f":"IF(【ジュエリー】入力欄!O294=\"\",\"\",【ジュエリー】入力欄!O294)","v":""}]
["１０",{"$f":"IF(【ジュエリー】入力欄!K295=\"\",\"\",【ジュエリー】入力欄!K295)","v":""},{"$f":"IF(【ジュエリー】入力欄!E295=\"\",\"\",【ジュエリー】入力欄!E295)","v":""},{"$f":"CONCATENATE(IF(【ジュエリー】入力欄!F295=\"\",\"\",【ジュエリー】入力欄!F295),IF(【ジュエリー】入力欄!H295=\"\",CONCATENATE(\" \",【ジュエリー】入力欄!G295),CONCATENATE(\" \",【ジュエリー】入力欄!G295,【ジュエリー】入力欄!H295,IF(【ジュエリー】入力欄!G295=\"パール\",\"mm\",\"ct\"))),IF(【ジュエリー】入力欄!J295=\"\",CONCATENATE(\" \",【ジュエリー】入力欄!I295),CONCATENATE(\" \",【ジュエリー】入力欄!I295,【ジュエリー】入力欄!J295,IF(【ジュエリー】入力欄!I295=\"パール\",\"mm\",\"ct\"))))","v":"  "},{"$f":"IF(【ジュエリー】入力欄!L295=\"\",\"\",【ジュエリー】入力欄!L295&\"g\")","v":""},{"$f":"IF(【ジュエリー】入力欄!M295=\"\",\"\",【ジュエリー】入力欄!M295)","v":""},{"$f":"IF(【ジュエリー】入力欄!O295=\"\",\"\",【ジュエリー】入力欄!O295)","v":""}]
[]
["   \n",{"$f":"CONCATENATE(\"出品表　（　\",【ジュエリー】入力欄!I$3,\"　大吉オークション　宝石・ジュエリー）\")","v":"出品表　（　　大吉オークション　宝石・ジュエリー）"}]
[]
[null,"箱番：",{"$f":"IF(【ジュエリー】入力欄!C296=\"\",\"\",【ジュエリー】入力欄!C296)","v":""},"※太枠の中をご記入ください",null,"会社名",{"$f":"IF(【ジュエリー】入力欄!C$3=\"\",\"\",【ジュエリー】入力欄!C$3)","v":""}]
[]
["番号","品目","金性","詳細・特徴","重量","付属品","指値\n（3万円以上）","発句"]
["１",{"$f":"IF(【ジュエリー】入力欄!K296=\"\",\"\",【ジュエリー】入力欄!K296)","v":""},{"$f":"IF(【ジュエリー】入力欄!E296=\"\",\"\",【ジュエリー】入力欄!E296)","v":""},{"$f":"CONCATENATE(IF(【ジュエリー】入力欄!F296=\"\",\"\",【ジュエリー】入力欄!F296),IF(【ジュエリー】入力欄!H296=\"\",CONCATENATE(\" \",【ジュエリー】入力欄!G296),CONCATENATE(\" \",【ジュエリー】入力欄!G296,【ジュエリー】入力欄!H296,IF(【ジュエリー】入力欄!G296=\"パール\",\"mm\",\"ct\"))),IF(【ジュエリー】入力欄!J296=\"\",CONCATENATE(\" \",【ジュエリー】入力欄!I296),CONCATENATE(\" \",【ジュエリー】入力欄!I296,【ジュエリー】入力欄!J296,IF(【ジュエリー】入力欄!I296=\"パール\",\"mm\",\"ct\"))))","v":"  "},{"$f":"IF(【ジュエリー】入力欄!L296=\"\",\"\",【ジュエリー】入力欄!L296&\"g\")","v":""},{"$f":"IF(【ジュエリー】入力欄!M296=\"\",\"\",【ジュエリー】入力欄!M296)","v":""},{"$f":"IF(【ジュエリー】入力欄!O296=\"\",\"\",【ジュエリー】入力欄!O296)","v":""}]
["２",{"$f":"IF(【ジュエリー】入力欄!K297=\"\",\"\",【ジュエリー】入力欄!K297)","v":""},{"$f":"IF(【ジュエリー】入力欄!E297=\"\",\"\",【ジュエリー】入力欄!E297)","v":""},{"$f":"CONCATENATE(IF(【ジュエリー】入力欄!F297=\"\",\"\",【ジュエリー】入力欄!F297),IF(【ジュエリー】入力欄!H297=\"\",CONCATENATE(\" \",【ジュエリー】入力欄!G297),CONCATENATE(\" \",【ジュエリー】入力欄!G297,【ジュエリー】入力欄!H297,IF(【ジュエリー】入力欄!G297=\"パール\",\"mm\",\"ct\"))),IF(【ジュエリー】入力欄!J297=\"\",CONCATENATE(\" \",【ジュエリー】入力欄!I297),CONCATENATE(\" \",【ジュエリー】入力欄!I297,【ジュエリー】入力欄!J297,IF(【ジュエリー】入力欄!I297=\"パール\",\"mm\",\"ct\"))))","v":"  "},{"$f":"IF(【ジュエリー】入力欄!L297=\"\",\"\",【ジュエリー】入力欄!L297&\"g\")","v":""},{"$f":"IF(【ジュエリー】入力欄!M297=\"\",\"\",【ジュエリー】入力欄!M297)","v":""},{"$f":"IF(【ジュエリー】入力欄!O297=\"\",\"\",【ジュエリー】入力欄!O297)","v":""}]
["３",{"$f":"IF(【ジュエリー】入力欄!K298=\"\",\"\",【ジュエリー】入力欄!K298)","v":""},{"$f":"IF(【ジュエリー】入力欄!E298=\"\",\"\",【ジュエリー】入力欄!E298)","v":""},{"$f":"CONCATENATE(IF(【ジュエリー】入力欄!F298=\"\",\"\",【ジュエリー】入力欄!F298),IF(【ジュエリー】入力欄!H298=\"\",CONCATENATE(\" \",【ジュエリー】入力欄!G298),CONCATENATE(\" \",【ジュエリー】入力欄!G298,【ジュエリー】入力欄!H298,IF(【ジュエリー】入力欄!G298=\"パール\",\"mm\",\"ct\"))),IF(【ジュエリー】入力欄!J298=\"\",CONCATENATE(\" \",【ジュエリー】入力欄!I298),CONCATENATE(\" \",【ジュエリー】入力欄!I298,【ジュエリー】入力欄!J298,IF(【ジュエリー】入力欄!I298=\"パール\",\"mm\",\"ct\"))))","v":"  "},{"$f":"IF(【ジュエリー】入力欄!L298=\"\",\"\",【ジュエリー】入力欄!L298&\"g\")","v":""},{"$f":"IF(【ジュエリー】入力欄!M298=\"\",\"\",【ジュエリー】入力欄!M298)","v":""},{"$f":"IF(【ジュエリー】入力欄!O298=\"\",\"\",【ジュエリー】入力欄!O298)","v":""}]
["４",{"$f":"IF(【ジュエリー】入力欄!K299=\"\",\"\",【ジュエリー】入力欄!K299)","v":""},{"$f":"IF(【ジュエリー】入力欄!E299=\"\",\"\",【ジュエリー】入力欄!E299)","v":""},{"$f":"CONCATENATE(IF(【ジュエリー】入力欄!F299=\"\",\"\",【ジュエリー】入力欄!F299),IF(【ジュエリー】入力欄!H299=\"\",CONCATENATE(\" \",【ジュエリー】入力欄!G299),CONCATENATE(\" \",【ジュエリー】入力欄!G299,【ジュエリー】入力欄!H299,IF(【ジュエリー】入力欄!G299=\"パール\",\"mm\",\"ct\"))),IF(【ジュエリー】入力欄!J299=\"\",CONCATENATE(\" \",【ジュエリー】入力欄!I299),CONCATENATE(\" \",【ジュエリー】入力欄!I299,【ジュエリー】入力欄!J299,IF(【ジュエリー】入力欄!I299=\"パール\",\"mm\",\"ct\"))))","v":"  "},{"$f":"IF(【ジュエリー】入力欄!L299=\"\",\"\",【ジュエリー】入力欄!L299&\"g\")","v":""},{"$f":"IF(【ジュエリー】入力欄!M299=\"\",\"\",【ジュエリー】入力欄!M299)","v":""},{"$f":"IF(【ジュエリー】入力欄!O299=\"\",\"\",【ジュエリー】入力欄!O299)","v":""}]
["５",{"$f":"IF(【ジュエリー】入力欄!K300=\"\",\"\",【ジュエリー】入力欄!K300)","v":""},{"$f":"IF(【ジュエリー】入力欄!E300=\"\",\"\",【ジュエリー】入力欄!E300)","v":""},{"$f":"CONCATENATE(IF(【ジュエリー】入力欄!F300=\"\",\"\",【ジュエリー】入力欄!F300),IF(【ジュエリー】入力欄!H300=\"\",CONCATENATE(\" \",【ジュエリー】入力欄!G300),CONCATENATE(\" \",【ジュエリー】入力欄!G300,【ジュエリー】入力欄!H300,IF(【ジュエリー】入力欄!G300=\"パール\",\"mm\",\"ct\"))),IF(【ジュエリー】入力欄!J300=\"\",CONCATENATE(\" \",【ジュエリー】入力欄!I300),CONCATENATE(\" \",【ジュエリー】入力欄!I300,【ジュエリー】入力欄!J300,IF(【ジュエリー】入力欄!I300=\"パール\",\"mm\",\"ct\"))))","v":"  "},{"$f":"IF(【ジュエリー】入力欄!L300=\"\",\"\",【ジュエリー】入力欄!L300&\"g\")","v":""},{"$f":"IF(【ジュエリー】入力欄!M300=\"\",\"\",【ジュエリー】入力欄!M300)","v":""},{"$f":"IF(【ジュエリー】入力欄!O300=\"\",\"\",【ジュエリー】入力欄!O300)","v":""}]
["６",{"$f":"IF(【ジュエリー】入力欄!K301=\"\",\"\",【ジュエリー】入力欄!K301)","v":""},{"$f":"IF(【ジュエリー】入力欄!E301=\"\",\"\",【ジュエリー】入力欄!E301)","v":""},{"$f":"CONCATENATE(IF(【ジュエリー】入力欄!F301=\"\",\"\",【ジュエリー】入力欄!F301),IF(【ジュエリー】入力欄!H301=\"\",CONCATENATE(\" \",【ジュエリー】入力欄!G301),CONCATENATE(\" \",【ジュエリー】入力欄!G301,【ジュエリー】入力欄!H301,IF(【ジュエリー】入力欄!G301=\"パール\",\"mm\",\"ct\"))),IF(【ジュエリー】入力欄!J301=\"\",CONCATENATE(\" \",【ジュエリー】入力欄!I301),CONCATENATE(\" \",【ジュエリー】入力欄!I301,【ジュエリー】入力欄!J301,IF(【ジュエリー】入力欄!I301=\"パール\",\"mm\",\"ct\"))))","v":"  "},{"$f":"IF(【ジュエリー】入力欄!L301=\"\",\"\",【ジュエリー】入力欄!L301&\"g\")","v":""},{"$f":"IF(【ジュエリー】入力欄!M301=\"\",\"\",【ジュエリー】入力欄!M301)","v":""},{"$f":"IF(【ジュエリー】入力欄!O301=\"\",\"\",【ジュエリー】入力欄!O301)","v":""}]
["７",{"$f":"IF(【ジュエリー】入力欄!K302=\"\",\"\",【ジュエリー】入力欄!K302)","v":""},{"$f":"IF(【ジュエリー】入力欄!E302=\"\",\"\",【ジュエリー】入力欄!E302)","v":""},{"$f":"CONCATENATE(IF(【ジュエリー】入力欄!F302=\"\",\"\",【ジュエリー】入力欄!F302),IF(【ジュエリー】入力欄!H302=\"\",CONCATENATE(\" \",【ジュエリー】入力欄!G302),CONCATENATE(\" \",【ジュエリー】入力欄!G302,【ジュエリー】入力欄!H302,IF(【ジュエリー】入力欄!G302=\"パール\",\"mm\",\"ct\"))),IF(【ジュエリー】入力欄!J302=\"\",CONCATENATE(\" \",【ジュエリー】入力欄!I302),CONCATENATE(\" \",【ジュエリー】入力欄!I302,【ジュエリー】入力欄!J302,IF(【ジュエリー】入力欄!I302=\"パール\",\"mm\",\"ct\"))))","v":"  "},{"$f":"IF(【ジュエリー】入力欄!L302=\"\",\"\",【ジュエリー】入力欄!L302&\"g\")","v":""},{"$f":"IF(【ジュエリー】入力欄!M302=\"\",\"\",【ジュエリー】入力欄!M302)","v":""},{"$f":"IF(【ジュエリー】入力欄!O302=\"\",\"\",【ジュエリー】入力欄!O302)","v":""}]
["８",{"$f":"IF(【ジュエリー】入力欄!K303=\"\",\"\",【ジュエリー】入力欄!K303)","v":""},{"$f":"IF(【ジュエリー】入力欄!E303=\"\",\"\",【ジュエリー】入力欄!E303)","v":""},{"$f":"CONCATENATE(IF(【ジュエリー】入力欄!F303=\"\",\"\",【ジュエリー】入力欄!F303),IF(【ジュエリー】入力欄!H303=\"\",CONCATENATE(\" \",【ジュエリー】入力欄!G303),CONCATENATE(\" \",【ジュエリー】入力欄!G303,【ジュエリー】入力欄!H303,IF(【ジュエリー】入力欄!G303=\"パール\",\"mm\",\"ct\"))),IF(【ジュエリー】入力欄!J303=\"\",CONCATENATE(\" \",【ジュエリー】入力欄!I303),CONCATENATE(\" \",【ジュエリー】入力欄!I303,【ジュエリー】入力欄!J303,IF(【ジュエリー】入力欄!I303=\"パール\",\"mm\",\"ct\"))))","v":"  "},{"$f":"IF(【ジュエリー】入力欄!L303=\"\",\"\",【ジュエリー】入力欄!L303&\"g\")","v":""},{"$f":"IF(【ジュエリー】入力欄!M303=\"\",\"\",【ジュエリー】入力欄!M303)","v":""},{"$f":"IF(【ジュエリー】入力欄!O303=\"\",\"\",【ジュエリー】入力欄!O303)","v":""}]
["９",{"$f":"IF(【ジュエリー】入力欄!K304=\"\",\"\",【ジュエリー】入力欄!K304)","v":""},{"$f":"IF(【ジュエリー】入力欄!E304=\"\",\"\",【ジュエリー】入力欄!E304)","v":""},{"$f":"CONCATENATE(IF(【ジュエリー】入力欄!F304=\"\",\"\",【ジュエリー】入力欄!F304),IF(【ジュエリー】入力欄!H304=\"\",CONCATENATE(\" \",【ジュエリー】入力欄!G304),CONCATENATE(\" \",【ジュエリー】入力欄!G304,【ジュエリー】入力欄!H304,IF(【ジュエリー】入力欄!G304=\"パール\",\"mm\",\"ct\"))),IF(【ジュエリー】入力欄!J304=\"\",CONCATENATE(\" \",【ジュエリー】入力欄!I304),CONCATENATE(\" \",【ジュエリー】入力欄!I304,【ジュエリー】入力欄!J304,IF(【ジュエリー】入力欄!I304=\"パール\",\"mm\",\"ct\"))))","v":"  "},{"$f":"IF(【ジュエリー】入力欄!L304=\"\",\"\",【ジュエリー】入力欄!L304&\"g\")","v":""},{"$f":"IF(【ジュエリー】入力欄!M304=\"\",\"\",【ジュエリー】入力欄!M304)","v":""},{"$f":"IF(【ジュエリー】入力欄!O304=\"\",\"\",【ジュエリー】入力欄!O304)","v":""}]
["１０",{"$f":"IF(【ジュエリー】入力欄!K305=\"\",\"\",【ジュエリー】入力欄!K305)","v":""},{"$f":"IF(【ジュエリー】入力欄!E305=\"\",\"\",【ジュエリー】入力欄!E305)","v":""},{"$f":"CONCATENATE(IF(【ジュエリー】入力欄!F305=\"\",\"\",【ジュエリー】入力欄!F305),IF(【ジュエリー】入力欄!H305=\"\",CONCATENATE(\" \",【ジュエリー】入力欄!G305),CONCATENATE(\" \",【ジュエリー】入力欄!G305,【ジュエリー】入力欄!H305,IF(【ジュエリー】入力欄!G305=\"パール\",\"mm\",\"ct\"))),IF(【ジュエリー】入力欄!J305=\"\",CONCATENATE(\" \",【ジュエリー】入力欄!I305),CONCATENATE(\" \",【ジュエリー】入力欄!I305,【ジュエリー】入力欄!J305,IF(【ジュエリー】入力欄!I305=\"パール\",\"mm\",\"ct\"))))","v":"  "},{"$f":"IF(【ジュエリー】入力欄!L305=\"\",\"\",【ジュエリー】入力欄!L305&\"g\")","v":""},{"$f":"IF(【ジュエリー】入力欄!M305=\"\",\"\",【ジュエリー】入力欄!M305)","v":""},{"$f":"IF(【ジュエリー】入力欄!O305=\"\",\"\",【ジュエリー】入力欄!O305)","v":""}]
[]
["   \n",{"$f":"CONCATENATE(\"出品表　（　\",【ジュエリー】入力欄!I$3,\"　大吉オークション　宝石・ジュエリー）\")","v":"出品表　（　　大吉オークション　宝石・ジュエリー）"}]
[]
[null,"箱番：",{"$f":"IF(【ジュエリー】入力欄!C306=\"\",\"\",【ジュエリー】入力欄!C306)","v":""},"※太枠の中をご記入ください",null,"会社名",{"$f":"IF(【ジュエリー】入力欄!C$3=\"\",\"\",【ジュエリー】入力欄!C$3)","v":""}]
[]
["番号","品目","金性","詳細・特徴","重量","付属品","指値\n（3万円以上）","発句"]
["１",{"$f":"IF(【ジュエリー】入力欄!K306=\"\",\"\",【ジュエリー】入力欄!K306)","v":""},{"$f":"IF(【ジュエリー】入力欄!E306=\"\",\"\",【ジュエリー】入力欄!E306)","v":""},{"$f":"CONCATENATE(IF(【ジュエリー】入力欄!F306=\"\",\"\",【ジュエリー】入力欄!F306),IF(【ジュエリー】入力欄!H306=\"\",CONCATENATE(\" \",【ジュエリー】入力欄!G306),CONCATENATE(\" \",【ジュエリー】入力欄!G306,【ジュエリー】入力欄!H306,IF(【ジュエリー】入力欄!G306=\"パール\",\"mm\",\"ct\"))),IF(【ジュエリー】入力欄!J306=\"\",CONCATENATE(\" \",【ジュエリー】入力欄!I306),CONCATENATE(\" \",【ジュエリー】入力欄!I306,【ジュエリー】入力欄!J306,IF(【ジュエリー】入力欄!I306=\"パール\",\"mm\",\"ct\"))))","v":"  "},{"$f":"IF(【ジュエリー】入力欄!L306=\"\",\"\",【ジュエリー】入力欄!L306&\"g\")","v":""},{"$f":"IF(【ジュエリー】入力欄!M306=\"\",\"\",【ジュエリー】入力欄!M306)","v":""},{"$f":"IF(【ジュエリー】入力欄!O306=\"\",\"\",【ジュエリー】入力欄!O306)","v":""}]
["２",{"$f":"IF(【ジュエリー】入力欄!K307=\"\",\"\",【ジュエリー】入力欄!K307)","v":""},{"$f":"IF(【ジュエリー】入力欄!E307=\"\",\"\",【ジュエリー】入力欄!E307)","v":""},{"$f":"CONCATENATE(IF(【ジュエリー】入力欄!F307=\"\",\"\",【ジュエリー】入力欄!F307),IF(【ジュエリー】入力欄!H307=\"\",CONCATENATE(\" \",【ジュエリー】入力欄!G307),CONCATENATE(\" \",【ジュエリー】入力欄!G307,【ジュエリー】入力欄!H307,IF(【ジュエリー】入力欄!G307=\"パール\",\"mm\",\"ct\"))),IF(【ジュエリー】入力欄!J307=\"\",CONCATENATE(\" \",【ジュエリー】入力欄!I307),CONCATENATE(\" \",【ジュエリー】入力欄!I307,【ジュエリー】入力欄!J307,IF(【ジュエリー】入力欄!I307=\"パール\",\"mm\",\"ct\"))))","v":"  "},{"$f":"IF(【ジュエリー】入力欄!L307=\"\",\"\",【ジュエリー】入力欄!L307&\"g\")","v":""},{"$f":"IF(【ジュエリー】入力欄!M307=\"\",\"\",【ジュエリー】入力欄!M307)","v":""},{"$f":"IF(【ジュエリー】入力欄!O307=\"\",\"\",【ジュエリー】入力欄!O307)","v":""}]
["３",{"$f":"IF(【ジュエリー】入力欄!K308=\"\",\"\",【ジュエリー】入力欄!K308)","v":""},{"$f":"IF(【ジュエリー】入力欄!E308=\"\",\"\",【ジュエリー】入力欄!E308)","v":""},{"$f":"CONCATENATE(IF(【ジュエリー】入力欄!F308=\"\",\"\",【ジュエリー】入力欄!F308),IF(【ジュエリー】入力欄!H308=\"\",CONCATENATE(\" \",【ジュエリー】入力欄!G308),CONCATENATE(\" \",【ジュエリー】入力欄!G308,【ジュエリー】入力欄!H308,IF(【ジュエリー】入力欄!G308=\"パール\",\"mm\",\"ct\"))),IF(【ジュエリー】入力欄!J308=\"\",CONCATENATE(\" \",【ジュエリー】入力欄!I308),CONCATENATE(\" \",【ジュエリー】入力欄!I308,【ジュエリー】入力欄!J308,IF(【ジュエリー】入力欄!I308=\"パール\",\"mm\",\"ct\"))))","v":"  "},{"$f":"IF(【ジュエリー】入力欄!L308=\"\",\"\",【ジュエリー】入力欄!L308&\"g\")","v":""},{"$f":"IF(【ジュエリー】入力欄!M308=\"\",\"\",【ジュエリー】入力欄!M308)","v":""},{"$f":"IF(【ジュエリー】入力欄!O308=\"\",\"\",【ジュエリー】入力欄!O308)","v":""}]
["４",{"$f":"IF(【ジュエリー】入力欄!K309=\"\",\"\",【ジュエリー】入力欄!K309)","v":""},{"$f":"IF(【ジュエリー】入力欄!E309=\"\",\"\",【ジュエリー】入力欄!E309)","v":""},{"$f":"CONCATENATE(IF(【ジュエリー】入力欄!F309=\"\",\"\",【ジュエリー】入力欄!F309),IF(【ジュエリー】入力欄!H309=\"\",CONCATENATE(\" \",【ジュエリー】入力欄!G309),CONCATENATE(\" \",【ジュエリー】入力欄!G309,【ジュエリー】入力欄!H309,IF(【ジュエリー】入力欄!G309=\"パール\",\"mm\",\"ct\"))),IF(【ジュエリー】入力欄!J309=\"\",CONCATENATE(\" \",【ジュエリー】入力欄!I309),CONCATENATE(\" \",【ジュエリー】入力欄!I309,【ジュエリー】入力欄!J309,IF(【ジュエリー】入力欄!I309=\"パール\",\"mm\",\"ct\"))))","v":"  "},{"$f":"IF(【ジュエリー】入力欄!L309=\"\",\"\",【ジュエリー】入力欄!L309&\"g\")","v":""},{"$f":"IF(【ジュエリー】入力欄!M309=\"\",\"\",【ジュエリー】入力欄!M309)","v":""},{"$f":"IF(【ジュエリー】入力欄!O309=\"\",\"\",【ジュエリー】入力欄!O309)","v":""}]
["５",{"$f":"IF(【ジュエリー】入力欄!K310=\"\",\"\",【ジュエリー】入力欄!K310)","v":""},{"$f":"IF(【ジュエリー】入力欄!E310=\"\",\"\",【ジュエリー】入力欄!E310)","v":""},{"$f":"CONCATENATE(IF(【ジュエリー】入力欄!F310=\"\",\"\",【ジュエリー】入力欄!F310),IF(【ジュエリー】入力欄!H310=\"\",CONCATENATE(\" \",【ジュエリー】入力欄!G310),CONCATENATE(\" \",【ジュエリー】入力欄!G310,【ジュエリー】入力欄!H310,IF(【ジュエリー】入力欄!G310=\"パール\",\"mm\",\"ct\"))),IF(【ジュエリー】入力欄!J310=\"\",CONCATENATE(\" \",【ジュエリー】入力欄!I310),CONCATENATE(\" \",【ジュエリー】入力欄!I310,【ジュエリー】入力欄!J310,IF(【ジュエリー】入力欄!I310=\"パール\",\"mm\",\"ct\"))))","v":"  "},{"$f":"IF(【ジュエリー】入力欄!L310=\"\",\"\",【ジュエリー】入力欄!L310&\"g\")","v":""},{"$f":"IF(【ジュエリー】入力欄!M310=\"\",\"\",【ジュエリー】入力欄!M310)","v":""},{"$f":"IF(【ジュエリー】入力欄!O310=\"\",\"\",【ジュエリー】入力欄!O310)","v":""}]
["６",{"$f":"IF(【ジュエリー】入力欄!K311=\"\",\"\",【ジュエリー】入力欄!K311)","v":""},{"$f":"IF(【ジュエリー】入力欄!E311=\"\",\"\",【ジュエリー】入力欄!E311)","v":""},{"$f":"CONCATENATE(IF(【ジュエリー】入力欄!F311=\"\",\"\",【ジュエリー】入力欄!F311),IF(【ジュエリー】入力欄!H311=\"\",CONCATENATE(\" \",【ジュエリー】入力欄!G311),CONCATENATE(\" \",【ジュエリー】入力欄!G311,【ジュエリー】入力欄!H311,IF(【ジュエリー】入力欄!G311=\"パール\",\"mm\",\"ct\"))),IF(【ジュエリー】入力欄!J311=\"\",CONCATENATE(\" \",【ジュエリー】入力欄!I311),CONCATENATE(\" \",【ジュエリー】入力欄!I311,【ジュエリー】入力欄!J311,IF(【ジュエリー】入力欄!I311=\"パール\",\"mm\",\"ct\"))))","v":"  "},{"$f":"IF(【ジュエリー】入力欄!L311=\"\",\"\",【ジュエリー】入力欄!L311&\"g\")","v":""},{"$f":"IF(【ジュエリー】入力欄!M311=\"\",\"\",【ジュエリー】入力欄!M311)","v":""},{"$f":"IF(【ジュエリー】入力欄!O311=\"\",\"\",【ジュエリー】入力欄!O311)","v":""}]
["７",{"$f":"IF(【ジュエリー】入力欄!K312=\"\",\"\",【ジュエリー】入力欄!K312)","v":""},{"$f":"IF(【ジュエリー】入力欄!E312=\"\",\"\",【ジュエリー】入力欄!E312)","v":""},{"$f":"CONCATENATE(IF(【ジュエリー】入力欄!F312=\"\",\"\",【ジュエリー】入力欄!F312),IF(【ジュエリー】入力欄!H312=\"\",CONCATENATE(\" \",【ジュエリー】入力欄!G312),CONCATENATE(\" \",【ジュエリー】入力欄!G312,【ジュエリー】入力欄!H312,IF(【ジュエリー】入力欄!G312=\"パール\",\"mm\",\"ct\"))),IF(【ジュエリー】入力欄!J312=\"\",CONCATENATE(\" \",【ジュエリー】入力欄!I312),CONCATENATE(\" \",【ジュエリー】入力欄!I312,【ジュエリー】入力欄!J312,IF(【ジュエリー】入力欄!I312=\"パール\",\"mm\",\"ct\"))))","v":"  "},{"$f":"IF(【ジュエリー】入力欄!L312=\"\",\"\",【ジュエリー】入力欄!L312&\"g\")","v":""},{"$f":"IF(【ジュエリー】入力欄!M312=\"\",\"\",【ジュエリー】入力欄!M312)","v":""},{"$f":"IF(【ジュエリー】入力欄!O312=\"\",\"\",【ジュエリー】入力欄!O312)","v":""}]
["８",{"$f":"IF(【ジュエリー】入力欄!K313=\"\",\"\",【ジュエリー】入力欄!K313)","v":""},{"$f":"IF(【ジュエリー】入力欄!E313=\"\",\"\",【ジュエリー】入力欄!E313)","v":""},{"$f":"CONCATENATE(IF(【ジュエリー】入力欄!F313=\"\",\"\",【ジュエリー】入力欄!F313),IF(【ジュエリー】入力欄!H313=\"\",CONCATENATE(\" \",【ジュエリー】入力欄!G313),CONCATENATE(\" \",【ジュエリー】入力欄!G313,【ジュエリー】入力欄!H313,IF(【ジュエリー】入力欄!G313=\"パール\",\"mm\",\"ct\"))),IF(【ジュエリー】入力欄!J313=\"\",CONCATENATE(\" \",【ジュエリー】入力欄!I313),CONCATENATE(\" \",【ジュエリー】入力欄!I313,【ジュエリー】入力欄!J313,IF(【ジュエリー】入力欄!I313=\"パール\",\"mm\",\"ct\"))))","v":"  "},{"$f":"IF(【ジュエリー】入力欄!L313=\"\",\"\",【ジュエリー】入力欄!L313&\"g\")","v":""},{"$f":"IF(【ジュエリー】入力欄!M313=\"\",\"\",【ジュエリー】入力欄!M313)","v":""},{"$f":"IF(【ジュエリー】入力欄!O313=\"\",\"\",【ジュエリー】入力欄!O313)","v":""}]
["９",{"$f":"IF(【ジュエリー】入力欄!K314=\"\",\"\",【ジュエリー】入力欄!K314)","v":""},{"$f":"IF(【ジュエリー】入力欄!E314=\"\",\"\",【ジュエリー】入力欄!E314)","v":""},{"$f":"CONCATENATE(IF(【ジュエリー】入力欄!F314=\"\",\"\",【ジュエリー】入力欄!F314),IF(【ジュエリー】入力欄!H314=\"\",CONCATENATE(\" \",【ジュエリー】入力欄!G314),CONCATENATE(\" \",【ジュエリー】入力欄!G314,【ジュエリー】入力欄!H314,IF(【ジュエリー】入力欄!G314=\"パール\",\"mm\",\"ct\"))),IF(【ジュエリー】入力欄!J314=\"\",CONCATENATE(\" \",【ジュエリー】入力欄!I314),CONCATENATE(\" \",【ジュエリー】入力欄!I314,【ジュエリー】入力欄!J314,IF(【ジュエリー】入力欄!I314=\"パール\",\"mm\",\"ct\"))))","v":"  "},{"$f":"IF(【ジュエリー】入力欄!L314=\"\",\"\",【ジュエリー】入力欄!L314&\"g\")","v":""},{"$f":"IF(【ジュエリー】入力欄!M314=\"\",\"\",【ジュエリー】入力欄!M314)","v":""},{"$f":"IF(【ジュエリー】入力欄!O314=\"\",\"\",【ジュエリー】入力欄!O314)","v":""}]
["１０",{"$f":"IF(【ジュエリー】入力欄!K315=\"\",\"\",【ジュエリー】入力欄!K315)","v":""},{"$f":"IF(【ジュエリー】入力欄!E315=\"\",\"\",【ジュエリー】入力欄!E315)","v":""},{"$f":"CONCATENATE(IF(【ジュエリー】入力欄!F315=\"\",\"\",【ジュエリー】入力欄!F315),IF(【ジュエリー】入力欄!H315=\"\",CONCATENATE(\" \",【ジュエリー】入力欄!G315),CONCATENATE(\" \",【ジュエリー】入力欄!G315,【ジュエリー】入力欄!H315,IF(【ジュエリー】入力欄!G315=\"パール\",\"mm\",\"ct\"))),IF(【ジュエリー】入力欄!J315=\"\",CONCATENATE(\" \",【ジュエリー】入力欄!I315),CONCATENATE(\" \",【ジュエリー】入力欄!I315,【ジュエリー】入力欄!J315,IF(【ジュエリー】入力欄!I315=\"パール\",\"mm\",\"ct\"))))","v":"  "},{"$f":"IF(【ジュエリー】入力欄!L315=\"\",\"\",【ジュエリー】入力欄!L315&\"g\")","v":""},{"$f":"IF(【ジュエリー】入力欄!M315=\"\",\"\",【ジュエリー】入力欄!M315)","v":""},{"$f":"IF(【ジュエリー】入力欄!O315=\"\",\"\",【ジュエリー】入力欄!O315)","v":""}]
[]
["   \n",{"$f":"CONCATENATE(\"出品表　（　\",【ジュエリー】入力欄!I$3,\"　大吉オークション　宝石・ジュエリー）\")","v":"出品表　（　　大吉オークション　宝石・ジュエリー）"}]
[]
[null,"箱番：",{"$f":"IF(【ジュエリー】入力欄!C316=\"\",\"\",【ジュエリー】入力欄!C316)","v":""},"※太枠の中をご記入ください",null,"会社名",{"$f":"IF(【ジュエリー】入力欄!C$3=\"\",\"\",【ジュエリー】入力欄!C$3)","v":""}]
[]
["番号","品目","金性","詳細・特徴","重量","付属品","指値\n（3万円以上）","発句"]
["１",{"$f":"IF(【ジュエリー】入力欄!K316=\"\",\"\",【ジュエリー】入力欄!K316)","v":""},{"$f":"IF(【ジュエリー】入力欄!E316=\"\",\"\",【ジュエリー】入力欄!E316)","v":""},{"$f":"CONCATENATE(IF(【ジュエリー】入力欄!F316=\"\",\"\",【ジュエリー】入力欄!F316),IF(【ジュエリー】入力欄!H316=\"\",CONCATENATE(\" \",【ジュエリー】入力欄!G316),CONCATENATE(\" \",【ジュエリー】入力欄!G316,【ジュエリー】入力欄!H316,IF(【ジュエリー】入力欄!G316=\"パール\",\"mm\",\"ct\"))),IF(【ジュエリー】入力欄!J316=\"\",CONCATENATE(\" \",【ジュエリー】入力欄!I316),CONCATENATE(\" \",【ジュエリー】入力欄!I316,【ジュエリー】入力欄!J316,IF(【ジュエリー】入力欄!I316=\"パール\",\"mm\",\"ct\"))))","v":"  "},{"$f":"IF(【ジュエリー】入力欄!L316=\"\",\"\",【ジュエリー】入力欄!L316&\"g\")","v":""},{"$f":"IF(【ジュエリー】入力欄!M316=\"\",\"\",【ジュエリー】入力欄!M316)","v":""},{"$f":"IF(【ジュエリー】入力欄!O316=\"\",\"\",【ジュエリー】入力欄!O316)","v":""}]
["２",{"$f":"IF(【ジュエリー】入力欄!K317=\"\",\"\",【ジュエリー】入力欄!K317)","v":""},{"$f":"IF(【ジュエリー】入力欄!E317=\"\",\"\",【ジュエリー】入力欄!E317)","v":""},{"$f":"CONCATENATE(IF(【ジュエリー】入力欄!F317=\"\",\"\",【ジュエリー】入力欄!F317),IF(【ジュエリー】入力欄!H317=\"\",CONCATENATE(\" \",【ジュエリー】入力欄!G317),CONCATENATE(\" \",【ジュエリー】入力欄!G317,【ジュエリー】入力欄!H317,IF(【ジュエリー】入力欄!G317=\"パール\",\"mm\",\"ct\"))),IF(【ジュエリー】入力欄!J317=\"\",CONCATENATE(\" \",【ジュエリー】入力欄!I317),CONCATENATE(\" \",【ジュエリー】入力欄!I317,【ジュエリー】入力欄!J317,IF(【ジュエリー】入力欄!I317=\"パール\",\"mm\",\"ct\"))))","v":"  "},{"$f":"IF(【ジュエリー】入力欄!L317=\"\",\"\",【ジュエリー】入力欄!L317&\"g\")","v":""},{"$f":"IF(【ジュエリー】入力欄!M317=\"\",\"\",【ジュエリー】入力欄!M317)","v":""},{"$f":"IF(【ジュエリー】入力欄!O317=\"\",\"\",【ジュエリー】入力欄!O317)","v":""}]
["３",{"$f":"IF(【ジュエリー】入力欄!K318=\"\",\"\",【ジュエリー】入力欄!K318)","v":""},{"$f":"IF(【ジュエリー】入力欄!E318=\"\",\"\",【ジュエリー】入力欄!E318)","v":""},{"$f":"CONCATENATE(IF(【ジュエリー】入力欄!F318=\"\",\"\",【ジュエリー】入力欄!F318),IF(【ジュエリー】入力欄!H318=\"\",CONCATENATE(\" \",【ジュエリー】入力欄!G318),CONCATENATE(\" \",【ジュエリー】入力欄!G318,【ジュエリー】入力欄!H318,IF(【ジュエリー】入力欄!G318=\"パール\",\"mm\",\"ct\"))),IF(【ジュエリー】入力欄!J318=\"\",CONCATENATE(\" \",【ジュエリー】入力欄!I318),CONCATENATE(\" \",【ジュエリー】入力欄!I318,【ジュエリー】入力欄!J318,IF(【ジュエリー】入力欄!I318=\"パール\",\"mm\",\"ct\"))))","v":"  "},{"$f":"IF(【ジュエリー】入力欄!L318=\"\",\"\",【ジュエリー】入力欄!L318&\"g\")","v":""},{"$f":"IF(【ジュエリー】入力欄!M318=\"\",\"\",【ジュエリー】入力欄!M318)","v":""},{"$f":"IF(【ジュエリー】入力欄!O318=\"\",\"\",【ジュエリー】入力欄!O318)","v":""}]
["４",{"$f":"IF(【ジュエリー】入力欄!K319=\"\",\"\",【ジュエリー】入力欄!K319)","v":""},{"$f":"IF(【ジュエリー】入力欄!E319=\"\",\"\",【ジュエリー】入力欄!E319)","v":""},{"$f":"CONCATENATE(IF(【ジュエリー】入力欄!F319=\"\",\"\",【ジュエリー】入力欄!F319),IF(【ジュエリー】入力欄!H319=\"\",CONCATENATE(\" \",【ジュエリー】入力欄!G319),CONCATENATE(\" \",【ジュエリー】入力欄!G319,【ジュエリー】入力欄!H319,IF(【ジュエリー】入力欄!G319=\"パール\",\"mm\",\"ct\"))),IF(【ジュエリー】入力欄!J319=\"\",CONCATENATE(\" \",【ジュエリー】入力欄!I319),CONCATENATE(\" \",【ジュエリー】入力欄!I319,【ジュエリー】入力欄!J319,IF(【ジュエリー】入力欄!I319=\"パール\",\"mm\",\"ct\"))))","v":"  "},{"$f":"IF(【ジュエリー】入力欄!L319=\"\",\"\",【ジュエリー】入力欄!L319&\"g\")","v":""},{"$f":"IF(【ジュエリー】入力欄!M319=\"\",\"\",【ジュエリー】入力欄!M319)","v":""},{"$f":"IF(【ジュエリー】入力欄!O319=\"\",\"\",【ジュエリー】入力欄!O319)","v":""}]
["５",{"$f":"IF(【ジュエリー】入力欄!K320=\"\",\"\",【ジュエリー】入力欄!K320)","v":""},{"$f":"IF(【ジュエリー】入力欄!E320=\"\",\"\",【ジュエリー】入力欄!E320)","v":""},{"$f":"CONCATENATE(IF(【ジュエリー】入力欄!F320=\"\",\"\",【ジュエリー】入力欄!F320),IF(【ジュエリー】入力欄!H320=\"\",CONCATENATE(\" \",【ジュエリー】入力欄!G320),CONCATENATE(\" \",【ジュエリー】入力欄!G320,【ジュエリー】入力欄!H320,IF(【ジュエリー】入力欄!G320=\"パール\",\"mm\",\"ct\"))),IF(【ジュエリー】入力欄!J320=\"\",CONCATENATE(\" \",【ジュエリー】入力欄!I320),CONCATENATE(\" \",【ジュエリー】入力欄!I320,【ジュエリー】入力欄!J320,IF(【ジュエリー】入力欄!I320=\"パール\",\"mm\",\"ct\"))))","v":"  "},{"$f":"IF(【ジュエリー】入力欄!L320=\"\",\"\",【ジュエリー】入力欄!L320&\"g\")","v":""},{"$f":"IF(【ジュエリー】入力欄!M320=\"\",\"\",【ジュエリー】入力欄!M320)","v":""},{"$f":"IF(【ジュエリー】入力欄!O320=\"\",\"\",【ジュエリー】入力欄!O320)","v":""}]
["６",{"$f":"IF(【ジュエリー】入力欄!K321=\"\",\"\",【ジュエリー】入力欄!K321)","v":""},{"$f":"IF(【ジュエリー】入力欄!E321=\"\",\"\",【ジュエリー】入力欄!E321)","v":""},{"$f":"CONCATENATE(IF(【ジュエリー】入力欄!F321=\"\",\"\",【ジュエリー】入力欄!F321),IF(【ジュエリー】入力欄!H321=\"\",CONCATENATE(\" \",【ジュエリー】入力欄!G321),CONCATENATE(\" \",【ジュエリー】入力欄!G321,【ジュエリー】入力欄!H321,IF(【ジュエリー】入力欄!G321=\"パール\",\"mm\",\"ct\"))),IF(【ジュエリー】入力欄!J321=\"\",CONCATENATE(\" \",【ジュエリー】入力欄!I321),CONCATENATE(\" \",【ジュエリー】入力欄!I321,【ジュエリー】入力欄!J321,IF(【ジュエリー】入力欄!I321=\"パール\",\"mm\",\"ct\"))))","v":"  "},{"$f":"IF(【ジュエリー】入力欄!L321=\"\",\"\",【ジュエリー】入力欄!L321&\"g\")","v":""},{"$f":"IF(【ジュエリー】入力欄!M321=\"\",\"\",【ジュエリー】入力欄!M321)","v":""},{"$f":"IF(【ジュエリー】入力欄!O321=\"\",\"\",【ジュエリー】入力欄!O321)","v":""}]
["７",{"$f":"IF(【ジュエリー】入力欄!K322=\"\",\"\",【ジュエリー】入力欄!K322)","v":""},{"$f":"IF(【ジュエリー】入力欄!E322=\"\",\"\",【ジュエリー】入力欄!E322)","v":""},{"$f":"CONCATENATE(IF(【ジュエリー】入力欄!F322=\"\",\"\",【ジュエリー】入力欄!F322),IF(【ジュエリー】入力欄!H322=\"\",CONCATENATE(\" \",【ジュエリー】入力欄!G322),CONCATENATE(\" \",【ジュエリー】入力欄!G322,【ジュエリー】入力欄!H322,IF(【ジュエリー】入力欄!G322=\"パール\",\"mm\",\"ct\"))),IF(【ジュエリー】入力欄!J322=\"\",CONCATENATE(\" \",【ジュエリー】入力欄!I322),CONCATENATE(\" \",【ジュエリー】入力欄!I322,【ジュエリー】入力欄!J322,IF(【ジュエリー】入力欄!I322=\"パール\",\"mm\",\"ct\"))))","v":"  "},{"$f":"IF(【ジュエリー】入力欄!L322=\"\",\"\",【ジュエリー】入力欄!L322&\"g\")","v":""},{"$f":"IF(【ジュエリー】入力欄!M322=\"\",\"\",【ジュエリー】入力欄!M322)","v":""},{"$f":"IF(【ジュエリー】入力欄!O322=\"\",\"\",【ジュエリー】入力欄!O322)","v":""}]
["８",{"$f":"IF(【ジュエリー】入力欄!K323=\"\",\"\",【ジュエリー】入力欄!K323)","v":""},{"$f":"IF(【ジュエリー】入力欄!E323=\"\",\"\",【ジュエリー】入力欄!E323)","v":""},{"$f":"CONCATENATE(IF(【ジュエリー】入力欄!F323=\"\",\"\",【ジュエリー】入力欄!F323),IF(【ジュエリー】入力欄!H323=\"\",CONCATENATE(\" \",【ジュエリー】入力欄!G323),CONCATENATE(\" \",【ジュエリー】入力欄!G323,【ジュエリー】入力欄!H323,IF(【ジュエリー】入力欄!G323=\"パール\",\"mm\",\"ct\"))),IF(【ジュエリー】入力欄!J323=\"\",CONCATENATE(\" \",【ジュエリー】入力欄!I323),CONCATENATE(\" \",【ジュエリー】入力欄!I323,【ジュエリー】入力欄!J323,IF(【ジュエリー】入力欄!I323=\"パール\",\"mm\",\"ct\"))))","v":"  "},{"$f":"IF(【ジュエリー】入力欄!L323=\"\",\"\",【ジュエリー】入力欄!L323&\"g\")","v":""},{"$f":"IF(【ジュエリー】入力欄!M323=\"\",\"\",【ジュエリー】入力欄!M323)","v":""},{"$f":"IF(【ジュエリー】入力欄!O323=\"\",\"\",【ジュエリー】入力欄!O323)","v":""}]
["９",{"$f":"IF(【ジュエリー】入力欄!K324=\"\",\"\",【ジュエリー】入力欄!K324)","v":""},{"$f":"IF(【ジュエリー】入力欄!E324=\"\",\"\",【ジュエリー】入力欄!E324)","v":""},{"$f":"CONCATENATE(IF(【ジュエリー】入力欄!F324=\"\",\"\",【ジュエリー】入力欄!F324),IF(【ジュエリー】入力欄!H324=\"\",CONCATENATE(\" \",【ジュエリー】入力欄!G324),CONCATENATE(\" \",【ジュエリー】入力欄!G324,【ジュエリー】入力欄!H324,IF(【ジュエリー】入力欄!G324=\"パール\",\"mm\",\"ct\"))),IF(【ジュエリー】入力欄!J324=\"\",CONCATENATE(\" \",【ジュエリー】入力欄!I324),CONCATENATE(\" \",【ジュエリー】入力欄!I324,【ジュエリー】入力欄!J324,IF(【ジュエリー】入力欄!I324=\"パール\",\"mm\",\"ct\"))))","v":"  "},{"$f":"IF(【ジュエリー】入力欄!L324=\"\",\"\",【ジュエリー】入力欄!L324&\"g\")","v":""},{"$f":"IF(【ジュエリー】入力欄!M324=\"\",\"\",【ジュエリー】入力欄!M324)","v":""},{"$f":"IF(【ジュエリー】入力欄!O324=\"\",\"\",【ジュエリー】入力欄!O324)","v":""}]
["１０",{"$f":"IF(【ジュエリー】入力欄!K325=\"\",\"\",【ジュエリー】入力欄!K325)","v":""},{"$f":"IF(【ジュエリー】入力欄!E325=\"\",\"\",【ジュエリー】入力欄!E325)","v":""},{"$f":"CONCATENATE(IF(【ジュエリー】入力欄!F325=\"\",\"\",【ジュエリー】入力欄!F325),IF(【ジュエリー】入力欄!H325=\"\",CONCATENATE(\" \",【ジュエリー】入力欄!G325),CONCATENATE(\" \",【ジュエリー】入力欄!G325,【ジュエリー】入力欄!H325,IF(【ジュエリー】入力欄!G325=\"パール\",\"mm\",\"ct\"))),IF(【ジュエリー】入力欄!J325=\"\",CONCATENATE(\" \",【ジュエリー】入力欄!I325),CONCATENATE(\" \",【ジュエリー】入力欄!I325,【ジュエリー】入力欄!J325,IF(【ジュエリー】入力欄!I325=\"パール\",\"mm\",\"ct\"))))","v":"  "},{"$f":"IF(【ジュエリー】入力欄!L325=\"\",\"\",【ジュエリー】入力欄!L325&\"g\")","v":""},{"$f":"IF(【ジュエリー】入力欄!M325=\"\",\"\",【ジュエリー】入力欄!M325)","v":""},{"$f":"IF(【ジュエリー】入力欄!O325=\"\",\"\",【ジュエリー】入力欄!O325)","v":""}]
[]
["   \n",{"$f":"CONCATENATE(\"出品表　（　\",【ジュエリー】入力欄!I$3,\"　大吉オークション　宝石・ジュエリー）\")","v":"出品表　（　　大吉オークション　宝石・ジュエリー）"}]
[]
[null,"箱番：",{"$f":"IF(【ジュエリー】入力欄!C326=\"\",\"\",【ジュエリー】入力欄!C326)","v":""},"※太枠の中をご記入ください",null,"会社名",{"$f":"IF(【ジュエリー】入力欄!C$3=\"\",\"\",【ジュエリー】入力欄!C$3)","v":""}]
[]
["番号","品目","金性","詳細・特徴","重量","付属品","指値\n（3万円以上）","発句"]
["１",{"$f":"IF(【ジュエリー】入力欄!K326=\"\",\"\",【ジュエリー】入力欄!K326)","v":""},{"$f":"IF(【ジュエリー】入力欄!E326=\"\",\"\",【ジュエリー】入力欄!E326)","v":""},{"$f":"CONCATENATE(IF(【ジュエリー】入力欄!F326=\"\",\"\",【ジュエリー】入力欄!F326),IF(【ジュエリー】入力欄!H326=\"\",CONCATENATE(\" \",【ジュエリー】入力欄!G326),CONCATENATE(\" \",【ジュエリー】入力欄!G326,【ジュエリー】入力欄!H326,IF(【ジュエリー】入力欄!G326=\"パール\",\"mm\",\"ct\"))),IF(【ジュエリー】入力欄!J326=\"\",CONCATENATE(\" \",【ジュエリー】入力欄!I326),CONCATENATE(\" \",【ジュエリー】入力欄!I326,【ジュエリー】入力欄!J326,IF(【ジュエリー】入力欄!I326=\"パール\",\"mm\",\"ct\"))))","v":"  "},{"$f":"IF(【ジュエリー】入力欄!L326=\"\",\"\",【ジュエリー】入力欄!L326&\"g\")","v":""},{"$f":"IF(【ジュエリー】入力欄!M326=\"\",\"\",【ジュエリー】入力欄!M326)","v":""},{"$f":"IF(【ジュエリー】入力欄!O326=\"\",\"\",【ジュエリー】入力欄!O326)","v":""}]
["２",{"$f":"IF(【ジュエリー】入力欄!K327=\"\",\"\",【ジュエリー】入力欄!K327)","v":""},{"$f":"IF(【ジュエリー】入力欄!E327=\"\",\"\",【ジュエリー】入力欄!E327)","v":""},{"$f":"CONCATENATE(IF(【ジュエリー】入力欄!F327=\"\",\"\",【ジュエリー】入力欄!F327),IF(【ジュエリー】入力欄!H327=\"\",CONCATENATE(\" \",【ジュエリー】入力欄!G327),CONCATENATE(\" \",【ジュエリー】入力欄!G327,【ジュエリー】入力欄!H327,IF(【ジュエリー】入力欄!G327=\"パール\",\"mm\",\"ct\"))),IF(【ジュエリー】入力欄!J327=\"\",CONCATENATE(\" \",【ジュエリー】入力欄!I327),CONCATENATE(\" \",【ジュエリー】入力欄!I327,【ジュエリー】入力欄!J327,IF(【ジュエリー】入力欄!I327=\"パール\",\"mm\",\"ct\"))))","v":"  "},{"$f":"IF(【ジュエリー】入力欄!L327=\"\",\"\",【ジュエリー】入力欄!L327&\"g\")","v":""},{"$f":"IF(【ジュエリー】入力欄!M327=\"\",\"\",【ジュエリー】入力欄!M327)","v":""},{"$f":"IF(【ジュエリー】入力欄!O327=\"\",\"\",【ジュエリー】入力欄!O327)","v":""}]
["３",{"$f":"IF(【ジュエリー】入力欄!K328=\"\",\"\",【ジュエリー】入力欄!K328)","v":""},{"$f":"IF(【ジュエリー】入力欄!E328=\"\",\"\",【ジュエリー】入力欄!E328)","v":""},{"$f":"CONCATENATE(IF(【ジュエリー】入力欄!F328=\"\",\"\",【ジュエリー】入力欄!F328),IF(【ジュエリー】入力欄!H328=\"\",CONCATENATE(\" \",【ジュエリー】入力欄!G328),CONCATENATE(\" \",【ジュエリー】入力欄!G328,【ジュエリー】入力欄!H328,IF(【ジュエリー】入力欄!G328=\"パール\",\"mm\",\"ct\"))),IF(【ジュエリー】入力欄!J328=\"\",CONCATENATE(\" \",【ジュエリー】入力欄!I328),CONCATENATE(\" \",【ジュエリー】入力欄!I328,【ジュエリー】入力欄!J328,IF(【ジュエリー】入力欄!I328=\"パール\",\"mm\",\"ct\"))))","v":"  "},{"$f":"IF(【ジュエリー】入力欄!L328=\"\",\"\",【ジュエリー】入力欄!L328&\"g\")","v":""},{"$f":"IF(【ジュエリー】入力欄!M328=\"\",\"\",【ジュエリー】入力欄!M328)","v":""},{"$f":"IF(【ジュエリー】入力欄!O328=\"\",\"\",【ジュエリー】入力欄!O328)","v":""}]
["４",{"$f":"IF(【ジュエリー】入力欄!K329=\"\",\"\",【ジュエリー】入力欄!K329)","v":""},{"$f":"IF(【ジュエリー】入力欄!E329=\"\",\"\",【ジュエリー】入力欄!E329)","v":""},{"$f":"CONCATENATE(IF(【ジュエリー】入力欄!F329=\"\",\"\",【ジュエリー】入力欄!F329),IF(【ジュエリー】入力欄!H329=\"\",CONCATENATE(\" \",【ジュエリー】入力欄!G329),CONCATENATE(\" \",【ジュエリー】入力欄!G329,【ジュエリー】入力欄!H329,IF(【ジュエリー】入力欄!G329=\"パール\",\"mm\",\"ct\"))),IF(【ジュエリー】入力欄!J329=\"\",CONCATENATE(\" \",【ジュエリー】入力欄!I329),CONCATENATE(\" \",【ジュエリー】入力欄!I329,【ジュエリー】入力欄!J329,IF(【ジュエリー】入力欄!I329=\"パール\",\"mm\",\"ct\"))))","v":"  "},{"$f":"IF(【ジュエリー】入力欄!L329=\"\",\"\",【ジュエリー】入力欄!L329&\"g\")","v":""},{"$f":"IF(【ジュエリー】入力欄!M329=\"\",\"\",【ジュエリー】入力欄!M329)","v":""},{"$f":"IF(【ジュエリー】入力欄!O329=\"\",\"\",【ジュエリー】入力欄!O329)","v":""}]
["５",{"$f":"IF(【ジュエリー】入力欄!K330=\"\",\"\",【ジュエリー】入力欄!K330)","v":""},{"$f":"IF(【ジュエリー】入力欄!E330=\"\",\"\",【ジュエリー】入力欄!E330)","v":""},{"$f":"CONCATENATE(IF(【ジュエリー】入力欄!F330=\"\",\"\",【ジュエリー】入力欄!F330),IF(【ジュエリー】入力欄!H330=\"\",CONCATENATE(\" \",【ジュエリー】入力欄!G330),CONCATENATE(\" \",【ジュエリー】入力欄!G330,【ジュエリー】入力欄!H330,IF(【ジュエリー】入力欄!G330=\"パール\",\"mm\",\"ct\"))),IF(【ジュエリー】入力欄!J330=\"\",CONCATENATE(\" \",【ジュエリー】入力欄!I330),CONCATENATE(\" \",【ジュエリー】入力欄!I330,【ジュエリー】入力欄!J330,IF(【ジュエリー】入力欄!I330=\"パール\",\"mm\",\"ct\"))))","v":"  "},{"$f":"IF(【ジュエリー】入力欄!L330=\"\",\"\",【ジュエリー】入力欄!L330&\"g\")","v":""},{"$f":"IF(【ジュエリー】入力欄!M330=\"\",\"\",【ジュエリー】入力欄!M330)","v":""},{"$f":"IF(【ジュエリー】入力欄!O330=\"\",\"\",【ジュエリー】入力欄!O330)","v":""}]
["６",{"$f":"IF(【ジュエリー】入力欄!K331=\"\",\"\",【ジュエリー】入力欄!K331)","v":""},{"$f":"IF(【ジュエリー】入力欄!E331=\"\",\"\",【ジュエリー】入力欄!E331)","v":""},{"$f":"CONCATENATE(IF(【ジュエリー】入力欄!F331=\"\",\"\",【ジュエリー】入力欄!F331),IF(【ジュエリー】入力欄!H331=\"\",CONCATENATE(\" \",【ジュエリー】入力欄!G331),CONCATENATE(\" \",【ジュエリー】入力欄!G331,【ジュエリー】入力欄!H331,IF(【ジュエリー】入力欄!G331=\"パール\",\"mm\",\"ct\"))),IF(【ジュエリー】入力欄!J331=\"\",CONCATENATE(\" \",【ジュエリー】入力欄!I331),CONCATENATE(\" \",【ジュエリー】入力欄!I331,【ジュエリー】入力欄!J331,IF(【ジュエリー】入力欄!I331=\"パール\",\"mm\",\"ct\"))))","v":"  "},{"$f":"IF(【ジュエリー】入力欄!L331=\"\",\"\",【ジュエリー】入力欄!L331&\"g\")","v":""},{"$f":"IF(【ジュエリー】入力欄!M331=\"\",\"\",【ジュエリー】入力欄!M331)","v":""},{"$f":"IF(【ジュエリー】入力欄!O331=\"\",\"\",【ジュエリー】入力欄!O331)","v":""}]
["７",{"$f":"IF(【ジュエリー】入力欄!K332=\"\",\"\",【ジュエリー】入力欄!K332)","v":""},{"$f":"IF(【ジュエリー】入力欄!E332=\"\",\"\",【ジュエリー】入力欄!E332)","v":""},{"$f":"CONCATENATE(IF(【ジュエリー】入力欄!F332=\"\",\"\",【ジュエリー】入力欄!F332),IF(【ジュエリー】入力欄!H332=\"\",CONCATENATE(\" \",【ジュエリー】入力欄!G332),CONCATENATE(\" \",【ジュエリー】入力欄!G332,【ジュエリー】入力欄!H332,IF(【ジュエリー】入力欄!G332=\"パール\",\"mm\",\"ct\"))),IF(【ジュエリー】入力欄!J332=\"\",CONCATENATE(\" \",【ジュエリー】入力欄!I332),CONCATENATE(\" \",【ジュエリー】入力欄!I332,【ジュエリー】入力欄!J332,IF(【ジュエリー】入力欄!I332=\"パール\",\"mm\",\"ct\"))))","v":"  "},{"$f":"IF(【ジュエリー】入力欄!L332=\"\",\"\",【ジュエリー】入力欄!L332&\"g\")","v":""},{"$f":"IF(【ジュエリー】入力欄!M332=\"\",\"\",【ジュエリー】入力欄!M332)","v":""},{"$f":"IF(【ジュエリー】入力欄!O332=\"\",\"\",【ジュエリー】入力欄!O332)","v":""}]
["８",{"$f":"IF(【ジュエリー】入力欄!K333=\"\",\"\",【ジュエリー】入力欄!K333)","v":""},{"$f":"IF(【ジュエリー】入力欄!E333=\"\",\"\",【ジュエリー】入力欄!E333)","v":""},{"$f":"CONCATENATE(IF(【ジュエリー】入力欄!F333=\"\",\"\",【ジュエリー】入力欄!F333),IF(【ジュエリー】入力欄!H333=\"\",CONCATENATE(\" \",【ジュエリー】入力欄!G333),CONCATENATE(\" \",【ジュエリー】入力欄!G333,【ジュエリー】入力欄!H333,IF(【ジュエリー】入力欄!G333=\"パール\",\"mm\",\"ct\"))),IF(【ジュエリー】入力欄!J333=\"\",CONCATENATE(\" \",【ジュエリー】入力欄!I333),CONCATENATE(\" \",【ジュエリー】入力欄!I333,【ジュエリー】入力欄!J333,IF(【ジュエリー】入力欄!I333=\"パール\",\"mm\",\"ct\"))))","v":"  "},{"$f":"IF(【ジュエリー】入力欄!L333=\"\",\"\",【ジュエリー】入力欄!L333&\"g\")","v":""},{"$f":"IF(【ジュエリー】入力欄!M333=\"\",\"\",【ジュエリー】入力欄!M333)","v":""},{"$f":"IF(【ジュエリー】入力欄!O333=\"\",\"\",【ジュエリー】入力欄!O333)","v":""}]
["９",{"$f":"IF(【ジュエリー】入力欄!K334=\"\",\"\",【ジュエリー】入力欄!K334)","v":""},{"$f":"IF(【ジュエリー】入力欄!E334=\"\",\"\",【ジュエリー】入力欄!E334)","v":""},{"$f":"CONCATENATE(IF(【ジュエリー】入力欄!F334=\"\",\"\",【ジュエリー】入力欄!F334),IF(【ジュエリー】入力欄!H334=\"\",CONCATENATE(\" \",【ジュエリー】入力欄!G334),CONCATENATE(\" \",【ジュエリー】入力欄!G334,【ジュエリー】入力欄!H334,IF(【ジュエリー】入力欄!G334=\"パール\",\"mm\",\"ct\"))),IF(【ジュエリー】入力欄!J334=\"\",CONCATENATE(\" \",【ジュエリー】入力欄!I334),CONCATENATE(\" \",【ジュエリー】入力欄!I334,【ジュエリー】入力欄!J334,IF(【ジュエリー】入力欄!I334=\"パール\",\"mm\",\"ct\"))))","v":"  "},{"$f":"IF(【ジュエリー】入力欄!L334=\"\",\"\",【ジュエリー】入力欄!L334&\"g\")","v":""},{"$f":"IF(【ジュエリー】入力欄!M334=\"\",\"\",【ジュエリー】入力欄!M334)","v":""},{"$f":"IF(【ジュエリー】入力欄!O334=\"\",\"\",【ジュエリー】入力欄!O334)","v":""}]
["１０",{"$f":"IF(【ジュエリー】入力欄!K335=\"\",\"\",【ジュエリー】入力欄!K335)","v":""},{"$f":"IF(【ジュエリー】入力欄!E335=\"\",\"\",【ジュエリー】入力欄!E335)","v":""},{"$f":"CONCATENATE(IF(【ジュエリー】入力欄!F335=\"\",\"\",【ジュエリー】入力欄!F335),IF(【ジュエリー】入力欄!H335=\"\",CONCATENATE(\" \",【ジュエリー】入力欄!G335),CONCATENATE(\" \",【ジュエリー】入力欄!G335,【ジュエリー】入力欄!H335,IF(【ジュエリー】入力欄!G335=\"パール\",\"mm\",\"ct\"))),IF(【ジュエリー】入力欄!J335=\"\",CONCATENATE(\" \",【ジュエリー】入力欄!I335),CONCATENATE(\" \",【ジュエリー】入力欄!I335,【ジュエリー】入力欄!J335,IF(【ジュエリー】入力欄!I335=\"パール\",\"mm\",\"ct\"))))","v":"  "},{"$f":"IF(【ジュエリー】入力欄!L335=\"\",\"\",【ジュエリー】入力欄!L335&\"g\")","v":""},{"$f":"IF(【ジュエリー】入力欄!M335=\"\",\"\",【ジュエリー】入力欄!M335)","v":""},{"$f":"IF(【ジュエリー】入力欄!O335=\"\",\"\",【ジュエリー】入力欄!O335)","v":""}]
[]
["   \n",{"$f":"CONCATENATE(\"出品表　（　\",【ジュエリー】入力欄!I$3,\"　大吉オークション　宝石・ジュエリー）\")","v":"出品表　（　　大吉オークション　宝石・ジュエリー）"}]
[]
[null,"箱番：",{"$f":"IF(【ジュエリー】入力欄!C336=\"\",\"\",【ジュエリー】入力欄!C336)","v":""},"※太枠の中をご記入ください",null,"会社名",{"$f":"IF(【ジュエリー】入力欄!C$3=\"\",\"\",【ジュエリー】入力欄!C$3)","v":""}]
[]
["番号","品目","金性","詳細・特徴","重量","付属品","指値\n（3万円以上）","発句"]
["１",{"$f":"IF(【ジュエリー】入力欄!K336=\"\",\"\",【ジュエリー】入力欄!K336)","v":""},{"$f":"IF(【ジュエリー】入力欄!E336=\"\",\"\",【ジュエリー】入力欄!E336)","v":""},{"$f":"CONCATENATE(IF(【ジュエリー】入力欄!F336=\"\",\"\",【ジュエリー】入力欄!F336),IF(【ジュエリー】入力欄!H336=\"\",CONCATENATE(\" \",【ジュエリー】入力欄!G336),CONCATENATE(\" \",【ジュエリー】入力欄!G336,【ジュエリー】入力欄!H336,IF(【ジュエリー】入力欄!G336=\"パール\",\"mm\",\"ct\"))),IF(【ジュエリー】入力欄!J336=\"\",CONCATENATE(\" \",【ジュエリー】入力欄!I336),CONCATENATE(\" \",【ジュエリー】入力欄!I336,【ジュエリー】入力欄!J336,IF(【ジュエリー】入力欄!I336=\"パール\",\"mm\",\"ct\"))))","v":"  "},{"$f":"IF(【ジュエリー】入力欄!L336=\"\",\"\",【ジュエリー】入力欄!L336&\"g\")","v":""},{"$f":"IF(【ジュエリー】入力欄!M336=\"\",\"\",【ジュエリー】入力欄!M336)","v":""},{"$f":"IF(【ジュエリー】入力欄!O336=\"\",\"\",【ジュエリー】入力欄!O336)","v":""}]
["２",{"$f":"IF(【ジュエリー】入力欄!K337=\"\",\"\",【ジュエリー】入力欄!K337)","v":""},{"$f":"IF(【ジュエリー】入力欄!E337=\"\",\"\",【ジュエリー】入力欄!E337)","v":""},{"$f":"CONCATENATE(IF(【ジュエリー】入力欄!F337=\"\",\"\",【ジュエリー】入力欄!F337),IF(【ジュエリー】入力欄!H337=\"\",CONCATENATE(\" \",【ジュエリー】入力欄!G337),CONCATENATE(\" \",【ジュエリー】入力欄!G337,【ジュエリー】入力欄!H337,IF(【ジュエリー】入力欄!G337=\"パール\",\"mm\",\"ct\"))),IF(【ジュエリー】入力欄!J337=\"\",CONCATENATE(\" \",【ジュエリー】入力欄!I337),CONCATENATE(\" \",【ジュエリー】入力欄!I337,【ジュエリー】入力欄!J337,IF(【ジュエリー】入力欄!I337=\"パール\",\"mm\",\"ct\"))))","v":"  "},{"$f":"IF(【ジュエリー】入力欄!L337=\"\",\"\",【ジュエリー】入力欄!L337&\"g\")","v":""},{"$f":"IF(【ジュエリー】入力欄!M337=\"\",\"\",【ジュエリー】入力欄!M337)","v":""},{"$f":"IF(【ジュエリー】入力欄!O337=\"\",\"\",【ジュエリー】入力欄!O337)","v":""}]
["３",{"$f":"IF(【ジュエリー】入力欄!K338=\"\",\"\",【ジュエリー】入力欄!K338)","v":""},{"$f":"IF(【ジュエリー】入力欄!E338=\"\",\"\",【ジュエリー】入力欄!E338)","v":""},{"$f":"CONCATENATE(IF(【ジュエリー】入力欄!F338=\"\",\"\",【ジュエリー】入力欄!F338),IF(【ジュエリー】入力欄!H338=\"\",CONCATENATE(\" \",【ジュエリー】入力欄!G338),CONCATENATE(\" \",【ジュエリー】入力欄!G338,【ジュエリー】入力欄!H338,IF(【ジュエリー】入力欄!G338=\"パール\",\"mm\",\"ct\"))),IF(【ジュエリー】入力欄!J338=\"\",CONCATENATE(\" \",【ジュエリー】入力欄!I338),CONCATENATE(\" \",【ジュエリー】入力欄!I338,【ジュエリー】入力欄!J338,IF(【ジュエリー】入力欄!I338=\"パール\",\"mm\",\"ct\"))))","v":"  "},{"$f":"IF(【ジュエリー】入力欄!L338=\"\",\"\",【ジュエリー】入力欄!L338&\"g\")","v":""},{"$f":"IF(【ジュエリー】入力欄!M338=\"\",\"\",【ジュエリー】入力欄!M338)","v":""},{"$f":"IF(【ジュエリー】入力欄!O338=\"\",\"\",【ジュエリー】入力欄!O338)","v":""}]
["４",{"$f":"IF(【ジュエリー】入力欄!K339=\"\",\"\",【ジュエリー】入力欄!K339)","v":""},{"$f":"IF(【ジュエリー】入力欄!E339=\"\",\"\",【ジュエリー】入力欄!E339)","v":""},{"$f":"CONCATENATE(IF(【ジュエリー】入力欄!F339=\"\",\"\",【ジュエリー】入力欄!F339),IF(【ジュエリー】入力欄!H339=\"\",CONCATENATE(\" \",【ジュエリー】入力欄!G339),CONCATENATE(\" \",【ジュエリー】入力欄!G339,【ジュエリー】入力欄!H339,IF(【ジュエリー】入力欄!G339=\"パール\",\"mm\",\"ct\"))),IF(【ジュエリー】入力欄!J339=\"\",CONCATENATE(\" \",【ジュエリー】入力欄!I339),CONCATENATE(\" \",【ジュエリー】入力欄!I339,【ジュエリー】入力欄!J339,IF(【ジュエリー】入力欄!I339=\"パール\",\"mm\",\"ct\"))))","v":"  "},{"$f":"IF(【ジュエリー】入力欄!L339=\"\",\"\",【ジュエリー】入力欄!L339&\"g\")","v":""},{"$f":"IF(【ジュエリー】入力欄!M339=\"\",\"\",【ジュエリー】入力欄!M339)","v":""},{"$f":"IF(【ジュエリー】入力欄!O339=\"\",\"\",【ジュエリー】入力欄!O339)","v":""}]
["５",{"$f":"IF(【ジュエリー】入力欄!K340=\"\",\"\",【ジュエリー】入力欄!K340)","v":""},{"$f":"IF(【ジュエリー】入力欄!E340=\"\",\"\",【ジュエリー】入力欄!E340)","v":""},{"$f":"CONCATENATE(IF(【ジュエリー】入力欄!F340=\"\",\"\",【ジュエリー】入力欄!F340),IF(【ジュエリー】入力欄!H340=\"\",CONCATENATE(\" \",【ジュエリー】入力欄!G340),CONCATENATE(\" \",【ジュエリー】入力欄!G340,【ジュエリー】入力欄!H340,IF(【ジュエリー】入力欄!G340=\"パール\",\"mm\",\"ct\"))),IF(【ジュエリー】入力欄!J340=\"\",CONCATENATE(\" \",【ジュエリー】入力欄!I340),CONCATENATE(\" \",【ジュエリー】入力欄!I340,【ジュエリー】入力欄!J340,IF(【ジュエリー】入力欄!I340=\"パール\",\"mm\",\"ct\"))))","v":"  "},{"$f":"IF(【ジュエリー】入力欄!L340=\"\",\"\",【ジュエリー】入力欄!L340&\"g\")","v":""},{"$f":"IF(【ジュエリー】入力欄!M340=\"\",\"\",【ジュエリー】入力欄!M340)","v":""},{"$f":"IF(【ジュエリー】入力欄!O340=\"\",\"\",【ジュエリー】入力欄!O340)","v":""}]
["６",{"$f":"IF(【ジュエリー】入力欄!K341=\"\",\"\",【ジュエリー】入力欄!K341)","v":""},{"$f":"IF(【ジュエリー】入力欄!E341=\"\",\"\",【ジュエリー】入力欄!E341)","v":""},{"$f":"CONCATENATE(IF(【ジュエリー】入力欄!F341=\"\",\"\",【ジュエリー】入力欄!F341),IF(【ジュエリー】入力欄!H341=\"\",CONCATENATE(\" \",【ジュエリー】入力欄!G341),CONCATENATE(\" \",【ジュエリー】入力欄!G341,【ジュエリー】入力欄!H341,IF(【ジュエリー】入力欄!G341=\"パール\",\"mm\",\"ct\"))),IF(【ジュエリー】入力欄!J341=\"\",CONCATENATE(\" \",【ジュエリー】入力欄!I341),CONCATENATE(\" \",【ジュエリー】入力欄!I341,【ジュエリー】入力欄!J341,IF(【ジュエリー】入力欄!I341=\"パール\",\"mm\",\"ct\"))))","v":"  "},{"$f":"IF(【ジュエリー】入力欄!L341=\"\",\"\",【ジュエリー】入力欄!L341&\"g\")","v":""},{"$f":"IF(【ジュエリー】入力欄!M341=\"\",\"\",【ジュエリー】入力欄!M341)","v":""},{"$f":"IF(【ジュエリー】入力欄!O341=\"\",\"\",【ジュエリー】入力欄!O341)","v":""}]
["７",{"$f":"IF(【ジュエリー】入力欄!K342=\"\",\"\",【ジュエリー】入力欄!K342)","v":""},{"$f":"IF(【ジュエリー】入力欄!E342=\"\",\"\",【ジュエリー】入力欄!E342)","v":""},{"$f":"CONCATENATE(IF(【ジュエリー】入力欄!F342=\"\",\"\",【ジュエリー】入力欄!F342),IF(【ジュエリー】入力欄!H342=\"\",CONCATENATE(\" \",【ジュエリー】入力欄!G342),CONCATENATE(\" \",【ジュエリー】入力欄!G342,【ジュエリー】入力欄!H342,IF(【ジュエリー】入力欄!G342=\"パール\",\"mm\",\"ct\"))),IF(【ジュエリー】入力欄!J342=\"\",CONCATENATE(\" \",【ジュエリー】入力欄!I342),CONCATENATE(\" \",【ジュエリー】入力欄!I342,【ジュエリー】入力欄!J342,IF(【ジュエリー】入力欄!I342=\"パール\",\"mm\",\"ct\"))))","v":"  "},{"$f":"IF(【ジュエリー】入力欄!L342=\"\",\"\",【ジュエリー】入力欄!L342&\"g\")","v":""},{"$f":"IF(【ジュエリー】入力欄!M342=\"\",\"\",【ジュエリー】入力欄!M342)","v":""},{"$f":"IF(【ジュエリー】入力欄!O342=\"\",\"\",【ジュエリー】入力欄!O342)","v":""}]
["８",{"$f":"IF(【ジュエリー】入力欄!K343=\"\",\"\",【ジュエリー】入力欄!K343)","v":""},{"$f":"IF(【ジュエリー】入力欄!E343=\"\",\"\",【ジュエリー】入力欄!E343)","v":""},{"$f":"CONCATENATE(IF(【ジュエリー】入力欄!F343=\"\",\"\",【ジュエリー】入力欄!F343),IF(【ジュエリー】入力欄!H343=\"\",CONCATENATE(\" \",【ジュエリー】入力欄!G343),CONCATENATE(\" \",【ジュエリー】入力欄!G343,【ジュエリー】入力欄!H343,IF(【ジュエリー】入力欄!G343=\"パール\",\"mm\",\"ct\"))),IF(【ジュエリー】入力欄!J343=\"\",CONCATENATE(\" \",【ジュエリー】入力欄!I343),CONCATENATE(\" \",【ジュエリー】入力欄!I343,【ジュエリー】入力欄!J343,IF(【ジュエリー】入力欄!I343=\"パール\",\"mm\",\"ct\"))))","v":"  "},{"$f":"IF(【ジュエリー】入力欄!L343=\"\",\"\",【ジュエリー】入力欄!L343&\"g\")","v":""},{"$f":"IF(【ジュエリー】入力欄!M343=\"\",\"\",【ジュエリー】入力欄!M343)","v":""},{"$f":"IF(【ジュエリー】入力欄!O343=\"\",\"\",【ジュエリー】入力欄!O343)","v":""}]
["９",{"$f":"IF(【ジュエリー】入力欄!K344=\"\",\"\",【ジュエリー】入力欄!K344)","v":""},{"$f":"IF(【ジュエリー】入力欄!E344=\"\",\"\",【ジュエリー】入力欄!E344)","v":""},{"$f":"CONCATENATE(IF(【ジュエリー】入力欄!F344=\"\",\"\",【ジュエリー】入力欄!F344),IF(【ジュエリー】入力欄!H344=\"\",CONCATENATE(\" \",【ジュエリー】入力欄!G344),CONCATENATE(\" \",【ジュエリー】入力欄!G344,【ジュエリー】入力欄!H344,IF(【ジュエリー】入力欄!G344=\"パール\",\"mm\",\"ct\"))),IF(【ジュエリー】入力欄!J344=\"\",CONCATENATE(\" \",【ジュエリー】入力欄!I344),CONCATENATE(\" \",【ジュエリー】入力欄!I344,【ジュエリー】入力欄!J344,IF(【ジュエリー】入力欄!I344=\"パール\",\"mm\",\"ct\"))))","v":"  "},{"$f":"IF(【ジュエリー】入力欄!L344=\"\",\"\",【ジュエリー】入力欄!L344&\"g\")","v":""},{"$f":"IF(【ジュエリー】入力欄!M344=\"\",\"\",【ジュエリー】入力欄!M344)","v":""},{"$f":"IF(【ジュエリー】入力欄!O344=\"\",\"\",【ジュエリー】入力欄!O344)","v":""}]
["１０",{"$f":"IF(【ジュエリー】入力欄!K345=\"\",\"\",【ジュエリー】入力欄!K345)","v":""},{"$f":"IF(【ジュエリー】入力欄!E345=\"\",\"\",【ジュエリー】入力欄!E345)","v":""},{"$f":"CONCATENATE(IF(【ジュエリー】入力欄!F345=\"\",\"\",【ジュエリー】入力欄!F345),IF(【ジュエリー】入力欄!H345=\"\",CONCATENATE(\" \",【ジュエリー】入力欄!G345),CONCATENATE(\" \",【ジュエリー】入力欄!G345,【ジュエリー】入力欄!H345,IF(【ジュエリー】入力欄!G345=\"パール\",\"mm\",\"ct\"))),IF(【ジュエリー】入力欄!J345=\"\",CONCATENATE(\" \",【ジュエリー】入力欄!I345),CONCATENATE(\" \",【ジュエリー】入力欄!I345,【ジュエリー】入力欄!J345,IF(【ジュエリー】入力欄!I345=\"パール\",\"mm\",\"ct\"))))","v":"  "},{"$f":"IF(【ジュエリー】入力欄!L345=\"\",\"\",【ジュエリー】入力欄!L345&\"g\")","v":""},{"$f":"IF(【ジュエリー】入力欄!M345=\"\",\"\",【ジュエリー】入力欄!M345)","v":""},{"$f":"IF(【ジュエリー】入力欄!O345=\"\",\"\",【ジュエリー】入力欄!O345)","v":""}]
[]
["   \n",{"$f":"CONCATENATE(\"出品表　（　\",【ジュエリー】入力欄!I$3,\"　大吉オークション　宝石・ジュエリー）\")","v":"出品表　（　　大吉オークション　宝石・ジュエリー）"}]
[]
[null,"箱番：",{"$f":"IF(【ジュエリー】入力欄!C346=\"\",\"\",【ジュエリー】入力欄!C346)","v":""},"※太枠の中をご記入ください",null,"会社名",{"$f":"IF(【ジュエリー】入力欄!C$3=\"\",\"\",【ジュエリー】入力欄!C$3)","v":""}]
[]
["番号","品目","金性","詳細・特徴","重量","付属品","指値\n（3万円以上）","発句"]
["１",{"$f":"IF(【ジュエリー】入力欄!K346=\"\",\"\",【ジュエリー】入力欄!K346)","v":""},{"$f":"IF(【ジュエリー】入力欄!E346=\"\",\"\",【ジュエリー】入力欄!E346)","v":""},{"$f":"CONCATENATE(IF(【ジュエリー】入力欄!F346=\"\",\"\",【ジュエリー】入力欄!F346),IF(【ジュエリー】入力欄!H346=\"\",CONCATENATE(\" \",【ジュエリー】入力欄!G346),CONCATENATE(\" \",【ジュエリー】入力欄!G346,【ジュエリー】入力欄!H346,IF(【ジュエリー】入力欄!G346=\"パール\",\"mm\",\"ct\"))),IF(【ジュエリー】入力欄!J346=\"\",CONCATENATE(\" \",【ジュエリー】入力欄!I346),CONCATENATE(\" \",【ジュエリー】入力欄!I346,【ジュエリー】入力欄!J346,IF(【ジュエリー】入力欄!I346=\"パール\",\"mm\",\"ct\"))))","v":"  "},{"$f":"IF(【ジュエリー】入力欄!L346=\"\",\"\",【ジュエリー】入力欄!L346&\"g\")","v":""},{"$f":"IF(【ジュエリー】入力欄!M346=\"\",\"\",【ジュエリー】入力欄!M346)","v":""},{"$f":"IF(【ジュエリー】入力欄!O346=\"\",\"\",【ジュエリー】入力欄!O346)","v":""}]
["２",{"$f":"IF(【ジュエリー】入力欄!K347=\"\",\"\",【ジュエリー】入力欄!K347)","v":""},{"$f":"IF(【ジュエリー】入力欄!E347=\"\",\"\",【ジュエリー】入力欄!E347)","v":""},{"$f":"CONCATENATE(IF(【ジュエリー】入力欄!F347=\"\",\"\",【ジュエリー】入力欄!F347),IF(【ジュエリー】入力欄!H347=\"\",CONCATENATE(\" \",【ジュエリー】入力欄!G347),CONCATENATE(\" \",【ジュエリー】入力欄!G347,【ジュエリー】入力欄!H347,IF(【ジュエリー】入力欄!G347=\"パール\",\"mm\",\"ct\"))),IF(【ジュエリー】入力欄!J347=\"\",CONCATENATE(\" \",【ジュエリー】入力欄!I347),CONCATENATE(\" \",【ジュエリー】入力欄!I347,【ジュエリー】入力欄!J347,IF(【ジュエリー】入力欄!I347=\"パール\",\"mm\",\"ct\"))))","v":"  "},{"$f":"IF(【ジュエリー】入力欄!L347=\"\",\"\",【ジュエリー】入力欄!L347&\"g\")","v":""},{"$f":"IF(【ジュエリー】入力欄!M347=\"\",\"\",【ジュエリー】入力欄!M347)","v":""},{"$f":"IF(【ジュエリー】入力欄!O347=\"\",\"\",【ジュエリー】入力欄!O347)","v":""}]
["３",{"$f":"IF(【ジュエリー】入力欄!K348=\"\",\"\",【ジュエリー】入力欄!K348)","v":""},{"$f":"IF(【ジュエリー】入力欄!E348=\"\",\"\",【ジュエリー】入力欄!E348)","v":""},{"$f":"CONCATENATE(IF(【ジュエリー】入力欄!F348=\"\",\"\",【ジュエリー】入力欄!F348),IF(【ジュエリー】入力欄!H348=\"\",CONCATENATE(\" \",【ジュエリー】入力欄!G348),CONCATENATE(\" \",【ジュエリー】入力欄!G348,【ジュエリー】入力欄!H348,IF(【ジュエリー】入力欄!G348=\"パール\",\"mm\",\"ct\"))),IF(【ジュエリー】入力欄!J348=\"\",CONCATENATE(\" \",【ジュエリー】入力欄!I348),CONCATENATE(\" \",【ジュエリー】入力欄!I348,【ジュエリー】入力欄!J348,IF(【ジュエリー】入力欄!I348=\"パール\",\"mm\",\"ct\"))))","v":"  "},{"$f":"IF(【ジュエリー】入力欄!L348=\"\",\"\",【ジュエリー】入力欄!L348&\"g\")","v":""},{"$f":"IF(【ジュエリー】入力欄!M348=\"\",\"\",【ジュエリー】入力欄!M348)","v":""},{"$f":"IF(【ジュエリー】入力欄!O348=\"\",\"\",【ジュエリー】入力欄!O348)","v":""}]
["４",{"$f":"IF(【ジュエリー】入力欄!K349=\"\",\"\",【ジュエリー】入力欄!K349)","v":""},{"$f":"IF(【ジュエリー】入力欄!E349=\"\",\"\",【ジュエリー】入力欄!E349)","v":""},{"$f":"CONCATENATE(IF(【ジュエリー】入力欄!F349=\"\",\"\",【ジュエリー】入力欄!F349),IF(【ジュエリー】入力欄!H349=\"\",CONCATENATE(\" \",【ジュエリー】入力欄!G349),CONCATENATE(\" \",【ジュエリー】入力欄!G349,【ジュエリー】入力欄!H349,IF(【ジュエリー】入力欄!G349=\"パール\",\"mm\",\"ct\"))),IF(【ジュエリー】入力欄!J349=\"\",CONCATENATE(\" \",【ジュエリー】入力欄!I349),CONCATENATE(\" \",【ジュエリー】入力欄!I349,【ジュエリー】入力欄!J349,IF(【ジュエリー】入力欄!I349=\"パール\",\"mm\",\"ct\"))))","v":"  "},{"$f":"IF(【ジュエリー】入力欄!L349=\"\",\"\",【ジュエリー】入力欄!L349&\"g\")","v":""},{"$f":"IF(【ジュエリー】入力欄!M349=\"\",\"\",【ジュエリー】入力欄!M349)","v":""},{"$f":"IF(【ジュエリー】入力欄!O349=\"\",\"\",【ジュエリー】入力欄!O349)","v":""}]
["５",{"$f":"IF(【ジュエリー】入力欄!K350=\"\",\"\",【ジュエリー】入力欄!K350)","v":""},{"$f":"IF(【ジュエリー】入力欄!E350=\"\",\"\",【ジュエリー】入力欄!E350)","v":""},{"$f":"CONCATENATE(IF(【ジュエリー】入力欄!F350=\"\",\"\",【ジュエリー】入力欄!F350),IF(【ジュエリー】入力欄!H350=\"\",CONCATENATE(\" \",【ジュエリー】入力欄!G350),CONCATENATE(\" \",【ジュエリー】入力欄!G350,【ジュエリー】入力欄!H350,IF(【ジュエリー】入力欄!G350=\"パール\",\"mm\",\"ct\"))),IF(【ジュエリー】入力欄!J350=\"\",CONCATENATE(\" \",【ジュエリー】入力欄!I350),CONCATENATE(\" \",【ジュエリー】入力欄!I350,【ジュエリー】入力欄!J350,IF(【ジュエリー】入力欄!I350=\"パール\",\"mm\",\"ct\"))))","v":"  "},{"$f":"IF(【ジュエリー】入力欄!L350=\"\",\"\",【ジュエリー】入力欄!L350&\"g\")","v":""},{"$f":"IF(【ジュエリー】入力欄!M350=\"\",\"\",【ジュエリー】入力欄!M350)","v":""},{"$f":"IF(【ジュエリー】入力欄!O350=\"\",\"\",【ジュエリー】入力欄!O350)","v":""}]
["６",{"$f":"IF(【ジュエリー】入力欄!K351=\"\",\"\",【ジュエリー】入力欄!K351)","v":""},{"$f":"IF(【ジュエリー】入力欄!E351=\"\",\"\",【ジュエリー】入力欄!E351)","v":""},{"$f":"CONCATENATE(IF(【ジュエリー】入力欄!F351=\"\",\"\",【ジュエリー】入力欄!F351),IF(【ジュエリー】入力欄!H351=\"\",CONCATENATE(\" \",【ジュエリー】入力欄!G351),CONCATENATE(\" \",【ジュエリー】入力欄!G351,【ジュエリー】入力欄!H351,IF(【ジュエリー】入力欄!G351=\"パール\",\"mm\",\"ct\"))),IF(【ジュエリー】入力欄!J351=\"\",CONCATENATE(\" \",【ジュエリー】入力欄!I351),CONCATENATE(\" \",【ジュエリー】入力欄!I351,【ジュエリー】入力欄!J351,IF(【ジュエリー】入力欄!I351=\"パール\",\"mm\",\"ct\"))))","v":"  "},{"$f":"IF(【ジュエリー】入力欄!L351=\"\",\"\",【ジュエリー】入力欄!L351&\"g\")","v":""},{"$f":"IF(【ジュエリー】入力欄!M351=\"\",\"\",【ジュエリー】入力欄!M351)","v":""},{"$f":"IF(【ジュエリー】入力欄!O351=\"\",\"\",【ジュエリー】入力欄!O351)","v":""}]
["７",{"$f":"IF(【ジュエリー】入力欄!K352=\"\",\"\",【ジュエリー】入力欄!K352)","v":""},{"$f":"IF(【ジュエリー】入力欄!E352=\"\",\"\",【ジュエリー】入力欄!E352)","v":""},{"$f":"CONCATENATE(IF(【ジュエリー】入力欄!F352=\"\",\"\",【ジュエリー】入力欄!F352),IF(【ジュエリー】入力欄!H352=\"\",CONCATENATE(\" \",【ジュエリー】入力欄!G352),CONCATENATE(\" \",【ジュエリー】入力欄!G352,【ジュエリー】入力欄!H352,IF(【ジュエリー】入力欄!G352=\"パール\",\"mm\",\"ct\"))),IF(【ジュエリー】入力欄!J352=\"\",CONCATENATE(\" \",【ジュエリー】入力欄!I352),CONCATENATE(\" \",【ジュエリー】入力欄!I352,【ジュエリー】入力欄!J352,IF(【ジュエリー】入力欄!I352=\"パール\",\"mm\",\"ct\"))))","v":"  "},{"$f":"IF(【ジュエリー】入力欄!L352=\"\",\"\",【ジュエリー】入力欄!L352&\"g\")","v":""},{"$f":"IF(【ジュエリー】入力欄!M352=\"\",\"\",【ジュエリー】入力欄!M352)","v":""},{"$f":"IF(【ジュエリー】入力欄!O352=\"\",\"\",【ジュエリー】入力欄!O352)","v":""}]
["８",{"$f":"IF(【ジュエリー】入力欄!K353=\"\",\"\",【ジュエリー】入力欄!K353)","v":""},{"$f":"IF(【ジュエリー】入力欄!E353=\"\",\"\",【ジュエリー】入力欄!E353)","v":""},{"$f":"CONCATENATE(IF(【ジュエリー】入力欄!F353=\"\",\"\",【ジュエリー】入力欄!F353),IF(【ジュエリー】入力欄!H353=\"\",CONCATENATE(\" \",【ジュエリー】入力欄!G353),CONCATENATE(\" \",【ジュエリー】入力欄!G353,【ジュエリー】入力欄!H353,IF(【ジュエリー】入力欄!G353=\"パール\",\"mm\",\"ct\"))),IF(【ジュエリー】入力欄!J353=\"\",CONCATENATE(\" \",【ジュエリー】入力欄!I353),CONCATENATE(\" \",【ジュエリー】入力欄!I353,【ジュエリー】入力欄!J353,IF(【ジュエリー】入力欄!I353=\"パール\",\"mm\",\"ct\"))))","v":"  "},{"$f":"IF(【ジュエリー】入力欄!L353=\"\",\"\",【ジュエリー】入力欄!L353&\"g\")","v":""},{"$f":"IF(【ジュエリー】入力欄!M353=\"\",\"\",【ジュエリー】入力欄!M353)","v":""},{"$f":"IF(【ジュエリー】入力欄!O353=\"\",\"\",【ジュエリー】入力欄!O353)","v":""}]
["９",{"$f":"IF(【ジュエリー】入力欄!K354=\"\",\"\",【ジュエリー】入力欄!K354)","v":""},{"$f":"IF(【ジュエリー】入力欄!E354=\"\",\"\",【ジュエリー】入力欄!E354)","v":""},{"$f":"CONCATENATE(IF(【ジュエリー】入力欄!F354=\"\",\"\",【ジュエリー】入力欄!F354),IF(【ジュエリー】入力欄!H354=\"\",CONCATENATE(\" \",【ジュエリー】入力欄!G354),CONCATENATE(\" \",【ジュエリー】入力欄!G354,【ジュエリー】入力欄!H354,IF(【ジュエリー】入力欄!G354=\"パール\",\"mm\",\"ct\"))),IF(【ジュエリー】入力欄!J354=\"\",CONCATENATE(\" \",【ジュエリー】入力欄!I354),CONCATENATE(\" \",【ジュエリー】入力欄!I354,【ジュエリー】入力欄!J354,IF(【ジュエリー】入力欄!I354=\"パール\",\"mm\",\"ct\"))))","v":"  "},{"$f":"IF(【ジュエリー】入力欄!L354=\"\",\"\",【ジュエリー】入力欄!L354&\"g\")","v":""},{"$f":"IF(【ジュエリー】入力欄!M354=\"\",\"\",【ジュエリー】入力欄!M354)","v":""},{"$f":"IF(【ジュエリー】入力欄!O354=\"\",\"\",【ジュエリー】入力欄!O354)","v":""}]
["１０",{"$f":"IF(【ジュエリー】入力欄!K355=\"\",\"\",【ジュエリー】入力欄!K355)","v":""},{"$f":"IF(【ジュエリー】入力欄!E355=\"\",\"\",【ジュエリー】入力欄!E355)","v":""},{"$f":"CONCATENATE(IF(【ジュエリー】入力欄!F355=\"\",\"\",【ジュエリー】入力欄!F355),IF(【ジュエリー】入力欄!H355=\"\",CONCATENATE(\" \",【ジュエリー】入力欄!G355),CONCATENATE(\" \",【ジュエリー】入力欄!G355,【ジュエリー】入力欄!H355,IF(【ジュエリー】入力欄!G355=\"パール\",\"mm\",\"ct\"))),IF(【ジュエリー】入力欄!J355=\"\",CONCATENATE(\" \",【ジュエリー】入力欄!I355),CONCATENATE(\" \",【ジュエリー】入力欄!I355,【ジュエリー】入力欄!J355,IF(【ジュエリー】入力欄!I355=\"パール\",\"mm\",\"ct\"))))","v":"  "},{"$f":"IF(【ジュエリー】入力欄!L355=\"\",\"\",【ジュエリー】入力欄!L355&\"g\")","v":""},{"$f":"IF(【ジュエリー】入力欄!M355=\"\",\"\",【ジュエリー】入力欄!M355)","v":""},{"$f":"IF(【ジュエリー】入力欄!O355=\"\",\"\",【ジュエリー】入力欄!O355)","v":""}]
[]
["   \n",{"$f":"CONCATENATE(\"出品表　（　\",【ジュエリー】入力欄!I$3,\"　大吉オークション　宝石・ジュエリー）\")","v":"出品表　（　　大吉オークション　宝石・ジュエリー）"}]
[]
[null,"箱番：",{"$f":"IF(【ジュエリー】入力欄!C356=\"\",\"\",【ジュエリー】入力欄!C356)","v":""},"※太枠の中をご記入ください",null,"会社名",{"$f":"IF(【ジュエリー】入力欄!C$3=\"\",\"\",【ジュエリー】入力欄!C$3)","v":""}]
[]
["番号","品目","金性","詳細・特徴","重量","付属品","指値\n（3万円以上）","発句"]
["１",{"$f":"IF(【ジュエリー】入力欄!K356=\"\",\"\",【ジュエリー】入力欄!K356)","v":""},{"$f":"IF(【ジュエリー】入力欄!E356=\"\",\"\",【ジュエリー】入力欄!E356)","v":""},{"$f":"CONCATENATE(IF(【ジュエリー】入力欄!F356=\"\",\"\",【ジュエリー】入力欄!F356),IF(【ジュエリー】入力欄!H356=\"\",CONCATENATE(\" \",【ジュエリー】入力欄!G356),CONCATENATE(\" \",【ジュエリー】入力欄!G356,【ジュエリー】入力欄!H356,IF(【ジュエリー】入力欄!G356=\"パール\",\"mm\",\"ct\"))),IF(【ジュエリー】入力欄!J356=\"\",CONCATENATE(\" \",【ジュエリー】入力欄!I356),CONCATENATE(\" \",【ジュエリー】入力欄!I356,【ジュエリー】入力欄!J356,IF(【ジュエリー】入力欄!I356=\"パール\",\"mm\",\"ct\"))))","v":"  "},{"$f":"IF(【ジュエリー】入力欄!L356=\"\",\"\",【ジュエリー】入力欄!L356&\"g\")","v":""},{"$f":"IF(【ジュエリー】入力欄!M356=\"\",\"\",【ジュエリー】入力欄!M356)","v":""},{"$f":"IF(【ジュエリー】入力欄!O356=\"\",\"\",【ジュエリー】入力欄!O356)","v":""}]
["２",{"$f":"IF(【ジュエリー】入力欄!K357=\"\",\"\",【ジュエリー】入力欄!K357)","v":""},{"$f":"IF(【ジュエリー】入力欄!E357=\"\",\"\",【ジュエリー】入力欄!E357)","v":""},{"$f":"CONCATENATE(IF(【ジュエリー】入力欄!F357=\"\",\"\",【ジュエリー】入力欄!F357),IF(【ジュエリー】入力欄!H357=\"\",CONCATENATE(\" \",【ジュエリー】入力欄!G357),CONCATENATE(\" \",【ジュエリー】入力欄!G357,【ジュエリー】入力欄!H357,IF(【ジュエリー】入力欄!G357=\"パール\",\"mm\",\"ct\"))),IF(【ジュエリー】入力欄!J357=\"\",CONCATENATE(\" \",【ジュエリー】入力欄!I357),CONCATENATE(\" \",【ジュエリー】入力欄!I357,【ジュエリー】入力欄!J357,IF(【ジュエリー】入力欄!I357=\"パール\",\"mm\",\"ct\"))))","v":"  "},{"$f":"IF(【ジュエリー】入力欄!L357=\"\",\"\",【ジュエリー】入力欄!L357&\"g\")","v":""},{"$f":"IF(【ジュエリー】入力欄!M357=\"\",\"\",【ジュエリー】入力欄!M357)","v":""},{"$f":"IF(【ジュエリー】入力欄!O357=\"\",\"\",【ジュエリー】入力欄!O357)","v":""}]
["３",{"$f":"IF(【ジュエリー】入力欄!K358=\"\",\"\",【ジュエリー】入力欄!K358)","v":""},{"$f":"IF(【ジュエリー】入力欄!E358=\"\",\"\",【ジュエリー】入力欄!E358)","v":""},{"$f":"CONCATENATE(IF(【ジュエリー】入力欄!F358=\"\",\"\",【ジュエリー】入力欄!F358),IF(【ジュエリー】入力欄!H358=\"\",CONCATENATE(\" \",【ジュエリー】入力欄!G358),CONCATENATE(\" \",【ジュエリー】入力欄!G358,【ジュエリー】入力欄!H358,IF(【ジュエリー】入力欄!G358=\"パール\",\"mm\",\"ct\"))),IF(【ジュエリー】入力欄!J358=\"\",CONCATENATE(\" \",【ジュエリー】入力欄!I358),CONCATENATE(\" \",【ジュエリー】入力欄!I358,【ジュエリー】入力欄!J358,IF(【ジュエリー】入力欄!I358=\"パール\",\"mm\",\"ct\"))))","v":"  "},{"$f":"IF(【ジュエリー】入力欄!L358=\"\",\"\",【ジュエリー】入力欄!L358&\"g\")","v":""},{"$f":"IF(【ジュエリー】入力欄!M358=\"\",\"\",【ジュエリー】入力欄!M358)","v":""},{"$f":"IF(【ジュエリー】入力欄!O358=\"\",\"\",【ジュエリー】入力欄!O358)","v":""}]
["４",{"$f":"IF(【ジュエリー】入力欄!K359=\"\",\"\",【ジュエリー】入力欄!K359)","v":""},{"$f":"IF(【ジュエリー】入力欄!E359=\"\",\"\",【ジュエリー】入力欄!E359)","v":""},{"$f":"CONCATENATE(IF(【ジュエリー】入力欄!F359=\"\",\"\",【ジュエリー】入力欄!F359),IF(【ジュエリー】入力欄!H359=\"\",CONCATENATE(\" \",【ジュエリー】入力欄!G359),CONCATENATE(\" \",【ジュエリー】入力欄!G359,【ジュエリー】入力欄!H359,IF(【ジュエリー】入力欄!G359=\"パール\",\"mm\",\"ct\"))),IF(【ジュエリー】入力欄!J359=\"\",CONCATENATE(\" \",【ジュエリー】入力欄!I359),CONCATENATE(\" \",【ジュエリー】入力欄!I359,【ジュエリー】入力欄!J359,IF(【ジュエリー】入力欄!I359=\"パール\",\"mm\",\"ct\"))))","v":"  "},{"$f":"IF(【ジュエリー】入力欄!L359=\"\",\"\",【ジュエリー】入力欄!L359&\"g\")","v":""},{"$f":"IF(【ジュエリー】入力欄!M359=\"\",\"\",【ジュエリー】入力欄!M359)","v":""},{"$f":"IF(【ジュエリー】入力欄!O359=\"\",\"\",【ジュエリー】入力欄!O359)","v":""}]
["５",{"$f":"IF(【ジュエリー】入力欄!K360=\"\",\"\",【ジュエリー】入力欄!K360)","v":""},{"$f":"IF(【ジュエリー】入力欄!E360=\"\",\"\",【ジュエリー】入力欄!E360)","v":""},{"$f":"CONCATENATE(IF(【ジュエリー】入力欄!F360=\"\",\"\",【ジュエリー】入力欄!F360),IF(【ジュエリー】入力欄!H360=\"\",CONCATENATE(\" \",【ジュエリー】入力欄!G360),CONCATENATE(\" \",【ジュエリー】入力欄!G360,【ジュエリー】入力欄!H360,IF(【ジュエリー】入力欄!G360=\"パール\",\"mm\",\"ct\"))),IF(【ジュエリー】入力欄!J360=\"\",CONCATENATE(\" \",【ジュエリー】入力欄!I360),CONCATENATE(\" \",【ジュエリー】入力欄!I360,【ジュエリー】入力欄!J360,IF(【ジュエリー】入力欄!I360=\"パール\",\"mm\",\"ct\"))))","v":"  "},{"$f":"IF(【ジュエリー】入力欄!L360=\"\",\"\",【ジュエリー】入力欄!L360&\"g\")","v":""},{"$f":"IF(【ジュエリー】入力欄!M360=\"\",\"\",【ジュエリー】入力欄!M360)","v":""},{"$f":"IF(【ジュエリー】入力欄!O360=\"\",\"\",【ジュエリー】入力欄!O360)","v":""}]
["６",{"$f":"IF(【ジュエリー】入力欄!K361=\"\",\"\",【ジュエリー】入力欄!K361)","v":""},{"$f":"IF(【ジュエリー】入力欄!E361=\"\",\"\",【ジュエリー】入力欄!E361)","v":""},{"$f":"CONCATENATE(IF(【ジュエリー】入力欄!F361=\"\",\"\",【ジュエリー】入力欄!F361),IF(【ジュエリー】入力欄!H361=\"\",CONCATENATE(\" \",【ジュエリー】入力欄!G361),CONCATENATE(\" \",【ジュエリー】入力欄!G361,【ジュエリー】入力欄!H361,IF(【ジュエリー】入力欄!G361=\"パール\",\"mm\",\"ct\"))),IF(【ジュエリー】入力欄!J361=\"\",CONCATENATE(\" \",【ジュエリー】入力欄!I361),CONCATENATE(\" \",【ジュエリー】入力欄!I361,【ジュエリー】入力欄!J361,IF(【ジュエリー】入力欄!I361=\"パール\",\"mm\",\"ct\"))))","v":"  "},{"$f":"IF(【ジュエリー】入力欄!L361=\"\",\"\",【ジュエリー】入力欄!L361&\"g\")","v":""},{"$f":"IF(【ジュエリー】入力欄!M361=\"\",\"\",【ジュエリー】入力欄!M361)","v":""},{"$f":"IF(【ジュエリー】入力欄!O361=\"\",\"\",【ジュエリー】入力欄!O361)","v":""}]
["７",{"$f":"IF(【ジュエリー】入力欄!K362=\"\",\"\",【ジュエリー】入力欄!K362)","v":""},{"$f":"IF(【ジュエリー】入力欄!E362=\"\",\"\",【ジュエリー】入力欄!E362)","v":""},{"$f":"CONCATENATE(IF(【ジュエリー】入力欄!F362=\"\",\"\",【ジュエリー】入力欄!F362),IF(【ジュエリー】入力欄!H362=\"\",CONCATENATE(\" \",【ジュエリー】入力欄!G362),CONCATENATE(\" \",【ジュエリー】入力欄!G362,【ジュエリー】入力欄!H362,IF(【ジュエリー】入力欄!G362=\"パール\",\"mm\",\"ct\"))),IF(【ジュエリー】入力欄!J362=\"\",CONCATENATE(\" \",【ジュエリー】入力欄!I362),CONCATENATE(\" \",【ジュエリー】入力欄!I362,【ジュエリー】入力欄!J362,IF(【ジュエリー】入力欄!I362=\"パール\",\"mm\",\"ct\"))))","v":"  "},{"$f":"IF(【ジュエリー】入力欄!L362=\"\",\"\",【ジュエリー】入力欄!L362&\"g\")","v":""},{"$f":"IF(【ジュエリー】入力欄!M362=\"\",\"\",【ジュエリー】入力欄!M362)","v":""},{"$f":"IF(【ジュエリー】入力欄!O362=\"\",\"\",【ジュエリー】入力欄!O362)","v":""}]
["８",{"$f":"IF(【ジュエリー】入力欄!K363=\"\",\"\",【ジュエリー】入力欄!K363)","v":""},{"$f":"IF(【ジュエリー】入力欄!E363=\"\",\"\",【ジュエリー】入力欄!E363)","v":""},{"$f":"CONCATENATE(IF(【ジュエリー】入力欄!F363=\"\",\"\",【ジュエリー】入力欄!F363),IF(【ジュエリー】入力欄!H363=\"\",CONCATENATE(\" \",【ジュエリー】入力欄!G363),CONCATENATE(\" \",【ジュエリー】入力欄!G363,【ジュエリー】入力欄!H363,IF(【ジュエリー】入力欄!G363=\"パール\",\"mm\",\"ct\"))),IF(【ジュエリー】入力欄!J363=\"\",CONCATENATE(\" \",【ジュエリー】入力欄!I363),CONCATENATE(\" \",【ジュエリー】入力欄!I363,【ジュエリー】入力欄!J363,IF(【ジュエリー】入力欄!I363=\"パール\",\"mm\",\"ct\"))))","v":"  "},{"$f":"IF(【ジュエリー】入力欄!L363=\"\",\"\",【ジュエリー】入力欄!L363&\"g\")","v":""},{"$f":"IF(【ジュエリー】入力欄!M363=\"\",\"\",【ジュエリー】入力欄!M363)","v":""},{"$f":"IF(【ジュエリー】入力欄!O363=\"\",\"\",【ジュエリー】入力欄!O363)","v":""}]
["９",{"$f":"IF(【ジュエリー】入力欄!K364=\"\",\"\",【ジュエリー】入力欄!K364)","v":""},{"$f":"IF(【ジュエリー】入力欄!E364=\"\",\"\",【ジュエリー】入力欄!E364)","v":""},{"$f":"CONCATENATE(IF(【ジュエリー】入力欄!F364=\"\",\"\",【ジュエリー】入力欄!F364),IF(【ジュエリー】入力欄!H364=\"\",CONCATENATE(\" \",【ジュエリー】入力欄!G364),CONCATENATE(\" \",【ジュエリー】入力欄!G364,【ジュエリー】入力欄!H364,IF(【ジュエリー】入力欄!G364=\"パール\",\"mm\",\"ct\"))),IF(【ジュエリー】入力欄!J364=\"\",CONCATENATE(\" \",【ジュエリー】入力欄!I364),CONCATENATE(\" \",【ジュエリー】入力欄!I364,【ジュエリー】入力欄!J364,IF(【ジュエリー】入力欄!I364=\"パール\",\"mm\",\"ct\"))))","v":"  "},{"$f":"IF(【ジュエリー】入力欄!L364=\"\",\"\",【ジュエリー】入力欄!L364&\"g\")","v":""},{"$f":"IF(【ジュエリー】入力欄!M364=\"\",\"\",【ジュエリー】入力欄!M364)","v":""},{"$f":"IF(【ジュエリー】入力欄!O364=\"\",\"\",【ジュエリー】入力欄!O364)","v":""}]
["１０",{"$f":"IF(【ジュエリー】入力欄!K365=\"\",\"\",【ジュエリー】入力欄!K365)","v":""},{"$f":"IF(【ジュエリー】入力欄!E365=\"\",\"\",【ジュエリー】入力欄!E365)","v":""},{"$f":"CONCATENATE(IF(【ジュエリー】入力欄!F365=\"\",\"\",【ジュエリー】入力欄!F365),IF(【ジュエリー】入力欄!H365=\"\",CONCATENATE(\" \",【ジュエリー】入力欄!G365),CONCATENATE(\" \",【ジュエリー】入力欄!G365,【ジュエリー】入力欄!H365,IF(【ジュエリー】入力欄!G365=\"パール\",\"mm\",\"ct\"))),IF(【ジュエリー】入力欄!J365=\"\",CONCATENATE(\" \",【ジュエリー】入力欄!I365),CONCATENATE(\" \",【ジュエリー】入力欄!I365,【ジュエリー】入力欄!J365,IF(【ジュエリー】入力欄!I365=\"パール\",\"mm\",\"ct\"))))","v":"  "},{"$f":"IF(【ジュエリー】入力欄!L365=\"\",\"\",【ジュエリー】入力欄!L365&\"g\")","v":""},{"$f":"IF(【ジュエリー】入力欄!M365=\"\",\"\",【ジュエリー】入力欄!M365)","v":""},{"$f":"IF(【ジュエリー】入力欄!O365=\"\",\"\",【ジュエリー】入力欄!O365)","v":""}]
[]
["   \n",{"$f":"CONCATENATE(\"出品表　（　\",【ジュエリー】入力欄!I$3,\"　大吉オークション　宝石・ジュエリー）\")","v":"出品表　（　　大吉オークション　宝石・ジュエリー）"}]
[]
[null,"箱番：",{"$f":"IF(【ジュエリー】入力欄!C366=\"\",\"\",【ジュエリー】入力欄!C366)","v":""},"※太枠の中をご記入ください",null,"会社名",{"$f":"IF(【ジュエリー】入力欄!C$3=\"\",\"\",【ジュエリー】入力欄!C$3)","v":""}]
[]
["番号","品目","金性","詳細・特徴","重量","付属品","指値\n（3万円以上）","発句"]
["１",{"$f":"IF(【ジュエリー】入力欄!K366=\"\",\"\",【ジュエリー】入力欄!K366)","v":""},{"$f":"IF(【ジュエリー】入力欄!E366=\"\",\"\",【ジュエリー】入力欄!E366)","v":""},{"$f":"CONCATENATE(IF(【ジュエリー】入力欄!F366=\"\",\"\",【ジュエリー】入力欄!F366),IF(【ジュエリー】入力欄!H366=\"\",CONCATENATE(\" \",【ジュエリー】入力欄!G366),CONCATENATE(\" \",【ジュエリー】入力欄!G366,【ジュエリー】入力欄!H366,IF(【ジュエリー】入力欄!G366=\"パール\",\"mm\",\"ct\"))),IF(【ジュエリー】入力欄!J366=\"\",CONCATENATE(\" \",【ジュエリー】入力欄!I366),CONCATENATE(\" \",【ジュエリー】入力欄!I366,【ジュエリー】入力欄!J366,IF(【ジュエリー】入力欄!I366=\"パール\",\"mm\",\"ct\"))))","v":"  "},{"$f":"IF(【ジュエリー】入力欄!L366=\"\",\"\",【ジュエリー】入力欄!L366&\"g\")","v":""},{"$f":"IF(【ジュエリー】入力欄!M366=\"\",\"\",【ジュエリー】入力欄!M366)","v":""},{"$f":"IF(【ジュエリー】入力欄!O366=\"\",\"\",【ジュエリー】入力欄!O366)","v":""}]
["２",{"$f":"IF(【ジュエリー】入力欄!K367=\"\",\"\",【ジュエリー】入力欄!K367)","v":""},{"$f":"IF(【ジュエリー】入力欄!E367=\"\",\"\",【ジュエリー】入力欄!E367)","v":""},{"$f":"CONCATENATE(IF(【ジュエリー】入力欄!F367=\"\",\"\",【ジュエリー】入力欄!F367),IF(【ジュエリー】入力欄!H367=\"\",CONCATENATE(\" \",【ジュエリー】入力欄!G367),CONCATENATE(\" \",【ジュエリー】入力欄!G367,【ジュエリー】入力欄!H367,IF(【ジュエリー】入力欄!G367=\"パール\",\"mm\",\"ct\"))),IF(【ジュエリー】入力欄!J367=\"\",CONCATENATE(\" \",【ジュエリー】入力欄!I367),CONCATENATE(\" \",【ジュエリー】入力欄!I367,【ジュエリー】入力欄!J367,IF(【ジュエリー】入力欄!I367=\"パール\",\"mm\",\"ct\"))))","v":"  "},{"$f":"IF(【ジュエリー】入力欄!L367=\"\",\"\",【ジュエリー】入力欄!L367&\"g\")","v":""},{"$f":"IF(【ジュエリー】入力欄!M367=\"\",\"\",【ジュエリー】入力欄!M367)","v":""},{"$f":"IF(【ジュエリー】入力欄!O367=\"\",\"\",【ジュエリー】入力欄!O367)","v":""}]
["３",{"$f":"IF(【ジュエリー】入力欄!K368=\"\",\"\",【ジュエリー】入力欄!K368)","v":""},{"$f":"IF(【ジュエリー】入力欄!E368=\"\",\"\",【ジュエリー】入力欄!E368)","v":""},{"$f":"CONCATENATE(IF(【ジュエリー】入力欄!F368=\"\",\"\",【ジュエリー】入力欄!F368),IF(【ジュエリー】入力欄!H368=\"\",CONCATENATE(\" \",【ジュエリー】入力欄!G368),CONCATENATE(\" \",【ジュエリー】入力欄!G368,【ジュエリー】入力欄!H368,IF(【ジュエリー】入力欄!G368=\"パール\",\"mm\",\"ct\"))),IF(【ジュエリー】入力欄!J368=\"\",CONCATENATE(\" \",【ジュエリー】入力欄!I368),CONCATENATE(\" \",【ジュエリー】入力欄!I368,【ジュエリー】入力欄!J368,IF(【ジュエリー】入力欄!I368=\"パール\",\"mm\",\"ct\"))))","v":"  "},{"$f":"IF(【ジュエリー】入力欄!L368=\"\",\"\",【ジュエリー】入力欄!L368&\"g\")","v":""},{"$f":"IF(【ジュエリー】入力欄!M368=\"\",\"\",【ジュエリー】入力欄!M368)","v":""},{"$f":"IF(【ジュエリー】入力欄!O368=\"\",\"\",【ジュエリー】入力欄!O368)","v":""}]
["４",{"$f":"IF(【ジュエリー】入力欄!K369=\"\",\"\",【ジュエリー】入力欄!K369)","v":""},{"$f":"IF(【ジュエリー】入力欄!E369=\"\",\"\",【ジュエリー】入力欄!E369)","v":""},{"$f":"CONCATENATE(IF(【ジュエリー】入力欄!F369=\"\",\"\",【ジュエリー】入力欄!F369),IF(【ジュエリー】入力欄!H369=\"\",CONCATENATE(\" \",【ジュエリー】入力欄!G369),CONCATENATE(\" \",【ジュエリー】入力欄!G369,【ジュエリー】入力欄!H369,IF(【ジュエリー】入力欄!G369=\"パール\",\"mm\",\"ct\"))),IF(【ジュエリー】入力欄!J369=\"\",CONCATENATE(\" \",【ジュエリー】入力欄!I369),CONCATENATE(\" \",【ジュエリー】入力欄!I369,【ジュエリー】入力欄!J369,IF(【ジュエリー】入力欄!I369=\"パール\",\"mm\",\"ct\"))))","v":"  "},{"$f":"IF(【ジュエリー】入力欄!L369=\"\",\"\",【ジュエリー】入力欄!L369&\"g\")","v":""},{"$f":"IF(【ジュエリー】入力欄!M369=\"\",\"\",【ジュエリー】入力欄!M369)","v":""},{"$f":"IF(【ジュエリー】入力欄!O369=\"\",\"\",【ジュエリー】入力欄!O369)","v":""}]
["５",{"$f":"IF(【ジュエリー】入力欄!K370=\"\",\"\",【ジュエリー】入力欄!K370)","v":""},{"$f":"IF(【ジュエリー】入力欄!E370=\"\",\"\",【ジュエリー】入力欄!E370)","v":""},{"$f":"CONCATENATE(IF(【ジュエリー】入力欄!F370=\"\",\"\",【ジュエリー】入力欄!F370),IF(【ジュエリー】入力欄!H370=\"\",CONCATENATE(\" \",【ジュエリー】入力欄!G370),CONCATENATE(\" \",【ジュエリー】入力欄!G370,【ジュエリー】入力欄!H370,IF(【ジュエリー】入力欄!G370=\"パール\",\"mm\",\"ct\"))),IF(【ジュエリー】入力欄!J370=\"\",CONCATENATE(\" \",【ジュエリー】入力欄!I370),CONCATENATE(\" \",【ジュエリー】入力欄!I370,【ジュエリー】入力欄!J370,IF(【ジュエリー】入力欄!I370=\"パール\",\"mm\",\"ct\"))))","v":"  "},{"$f":"IF(【ジュエリー】入力欄!L370=\"\",\"\",【ジュエリー】入力欄!L370&\"g\")","v":""},{"$f":"IF(【ジュエリー】入力欄!M370=\"\",\"\",【ジュエリー】入力欄!M370)","v":""},{"$f":"IF(【ジュエリー】入力欄!O370=\"\",\"\",【ジュエリー】入力欄!O370)","v":""}]
["６",{"$f":"IF(【ジュエリー】入力欄!K371=\"\",\"\",【ジュエリー】入力欄!K371)","v":""},{"$f":"IF(【ジュエリー】入力欄!E371=\"\",\"\",【ジュエリー】入力欄!E371)","v":""},{"$f":"CONCATENATE(IF(【ジュエリー】入力欄!F371=\"\",\"\",【ジュエリー】入力欄!F371),IF(【ジュエリー】入力欄!H371=\"\",CONCATENATE(\" \",【ジュエリー】入力欄!G371),CONCATENATE(\" \",【ジュエリー】入力欄!G371,【ジュエリー】入力欄!H371,IF(【ジュエリー】入力欄!G371=\"パール\",\"mm\",\"ct\"))),IF(【ジュエリー】入力欄!J371=\"\",CONCATENATE(\" \",【ジュエリー】入力欄!I371),CONCATENATE(\" \",【ジュエリー】入力欄!I371,【ジュエリー】入力欄!J371,IF(【ジュエリー】入力欄!I371=\"パール\",\"mm\",\"ct\"))))","v":"  "},{"$f":"IF(【ジュエリー】入力欄!L371=\"\",\"\",【ジュエリー】入力欄!L371&\"g\")","v":""},{"$f":"IF(【ジュエリー】入力欄!M371=\"\",\"\",【ジュエリー】入力欄!M371)","v":""},{"$f":"IF(【ジュエリー】入力欄!O371=\"\",\"\",【ジュエリー】入力欄!O371)","v":""}]
["７",{"$f":"IF(【ジュエリー】入力欄!K372=\"\",\"\",【ジュエリー】入力欄!K372)","v":""},{"$f":"IF(【ジュエリー】入力欄!E372=\"\",\"\",【ジュエリー】入力欄!E372)","v":""},{"$f":"CONCATENATE(IF(【ジュエリー】入力欄!F372=\"\",\"\",【ジュエリー】入力欄!F372),IF(【ジュエリー】入力欄!H372=\"\",CONCATENATE(\" \",【ジュエリー】入力欄!G372),CONCATENATE(\" \",【ジュエリー】入力欄!G372,【ジュエリー】入力欄!H372,IF(【ジュエリー】入力欄!G372=\"パール\",\"mm\",\"ct\"))),IF(【ジュエリー】入力欄!J372=\"\",CONCATENATE(\" \",【ジュエリー】入力欄!I372),CONCATENATE(\" \",【ジュエリー】入力欄!I372,【ジュエリー】入力欄!J372,IF(【ジュエリー】入力欄!I372=\"パール\",\"mm\",\"ct\"))))","v":"  "},{"$f":"IF(【ジュエリー】入力欄!L372=\"\",\"\",【ジュエリー】入力欄!L372&\"g\")","v":""},{"$f":"IF(【ジュエリー】入力欄!M372=\"\",\"\",【ジュエリー】入力欄!M372)","v":""},{"$f":"IF(【ジュエリー】入力欄!O372=\"\",\"\",【ジュエリー】入力欄!O372)","v":""}]
["８",{"$f":"IF(【ジュエリー】入力欄!K373=\"\",\"\",【ジュエリー】入力欄!K373)","v":""},{"$f":"IF(【ジュエリー】入力欄!E373=\"\",\"\",【ジュエリー】入力欄!E373)","v":""},{"$f":"CONCATENATE(IF(【ジュエリー】入力欄!F373=\"\",\"\",【ジュエリー】入力欄!F373),IF(【ジュエリー】入力欄!H373=\"\",CONCATENATE(\" \",【ジュエリー】入力欄!G373),CONCATENATE(\" \",【ジュエリー】入力欄!G373,【ジュエリー】入力欄!H373,IF(【ジュエリー】入力欄!G373=\"パール\",\"mm\",\"ct\"))),IF(【ジュエリー】入力欄!J373=\"\",CONCATENATE(\" \",【ジュエリー】入力欄!I373),CONCATENATE(\" \",【ジュエリー】入力欄!I373,【ジュエリー】入力欄!J373,IF(【ジュエリー】入力欄!I373=\"パール\",\"mm\",\"ct\"))))","v":"  "},{"$f":"IF(【ジュエリー】入力欄!L373=\"\",\"\",【ジュエリー】入力欄!L373&\"g\")","v":""},{"$f":"IF(【ジュエリー】入力欄!M373=\"\",\"\",【ジュエリー】入力欄!M373)","v":""},{"$f":"IF(【ジュエリー】入力欄!O373=\"\",\"\",【ジュエリー】入力欄!O373)","v":""}]
["９",{"$f":"IF(【ジュエリー】入力欄!K374=\"\",\"\",【ジュエリー】入力欄!K374)","v":""},{"$f":"IF(【ジュエリー】入力欄!E374=\"\",\"\",【ジュエリー】入力欄!E374)","v":""},{"$f":"CONCATENATE(IF(【ジュエリー】入力欄!F374=\"\",\"\",【ジュエリー】入力欄!F374),IF(【ジュエリー】入力欄!H374=\"\",CONCATENATE(\" \",【ジュエリー】入力欄!G374),CONCATENATE(\" \",【ジュエリー】入力欄!G374,【ジュエリー】入力欄!H374,IF(【ジュエリー】入力欄!G374=\"パール\",\"mm\",\"ct\"))),IF(【ジュエリー】入力欄!J374=\"\",CONCATENATE(\" \",【ジュエリー】入力欄!I374),CONCATENATE(\" \",【ジュエリー】入力欄!I374,【ジュエリー】入力欄!J374,IF(【ジュエリー】入力欄!I374=\"パール\",\"mm\",\"ct\"))))","v":"  "},{"$f":"IF(【ジュエリー】入力欄!L374=\"\",\"\",【ジュエリー】入力欄!L374&\"g\")","v":""},{"$f":"IF(【ジュエリー】入力欄!M374=\"\",\"\",【ジュエリー】入力欄!M374)","v":""},{"$f":"IF(【ジュエリー】入力欄!O374=\"\",\"\",【ジュエリー】入力欄!O374)","v":""}]
["１０",{"$f":"IF(【ジュエリー】入力欄!K375=\"\",\"\",【ジュエリー】入力欄!K375)","v":""},{"$f":"IF(【ジュエリー】入力欄!E375=\"\",\"\",【ジュエリー】入力欄!E375)","v":""},{"$f":"CONCATENATE(IF(【ジュエリー】入力欄!F375=\"\",\"\",【ジュエリー】入力欄!F375),IF(【ジュエリー】入力欄!H375=\"\",CONCATENATE(\" \",【ジュエリー】入力欄!G375),CONCATENATE(\" \",【ジュエリー】入力欄!G375,【ジュエリー】入力欄!H375,IF(【ジュエリー】入力欄!G375=\"パール\",\"mm\",\"ct\"))),IF(【ジュエリー】入力欄!J375=\"\",CONCATENATE(\" \",【ジュエリー】入力欄!I375),CONCATENATE(\" \",【ジュエリー】入力欄!I375,【ジュエリー】入力欄!J375,IF(【ジュエリー】入力欄!I375=\"パール\",\"mm\",\"ct\"))))","v":"  "},{"$f":"IF(【ジュエリー】入力欄!L375=\"\",\"\",【ジュエリー】入力欄!L375&\"g\")","v":""},{"$f":"IF(【ジュエリー】入力欄!M375=\"\",\"\",【ジュエリー】入力欄!M375)","v":""},{"$f":"IF(【ジュエリー】入力欄!O375=\"\",\"\",【ジュエリー】入力欄!O375)","v":""}]
[]
["   \n",{"$f":"CONCATENATE(\"出品表　（　\",【ジュエリー】入力欄!I$3,\"　大吉オークション　宝石・ジュエリー）\")","v":"出品表　（　　大吉オークション　宝石・ジュエリー）"}]
[]
[null,"箱番：",{"$f":"IF(【ジュエリー】入力欄!C376=\"\",\"\",【ジュエリー】入力欄!C376)","v":""},"※太枠の中をご記入ください",null,"会社名",{"$f":"IF(【ジュエリー】入力欄!C$3=\"\",\"\",【ジュエリー】入力欄!C$3)","v":""}]
[]
["番号","品目","金性","詳細・特徴","重量","付属品","指値\n（3万円以上）","発句"]
["１",{"$f":"IF(【ジュエリー】入力欄!K376=\"\",\"\",【ジュエリー】入力欄!K376)","v":""},{"$f":"IF(【ジュエリー】入力欄!E376=\"\",\"\",【ジュエリー】入力欄!E376)","v":""},{"$f":"CONCATENATE(IF(【ジュエリー】入力欄!F376=\"\",\"\",【ジュエリー】入力欄!F376),IF(【ジュエリー】入力欄!H376=\"\",CONCATENATE(\" \",【ジュエリー】入力欄!G376),CONCATENATE(\" \",【ジュエリー】入力欄!G376,【ジュエリー】入力欄!H376,IF(【ジュエリー】入力欄!G376=\"パール\",\"mm\",\"ct\"))),IF(【ジュエリー】入力欄!J376=\"\",CONCATENATE(\" \",【ジュエリー】入力欄!I376),CONCATENATE(\" \",【ジュエリー】入力欄!I376,【ジュエリー】入力欄!J376,IF(【ジュエリー】入力欄!I376=\"パール\",\"mm\",\"ct\"))))","v":"  "},{"$f":"IF(【ジュエリー】入力欄!L376=\"\",\"\",【ジュエリー】入力欄!L376&\"g\")","v":""},{"$f":"IF(【ジュエリー】入力欄!M376=\"\",\"\",【ジュエリー】入力欄!M376)","v":""},{"$f":"IF(【ジュエリー】入力欄!O376=\"\",\"\",【ジュエリー】入力欄!O376)","v":""}]
["２",{"$f":"IF(【ジュエリー】入力欄!K377=\"\",\"\",【ジュエリー】入力欄!K377)","v":""},{"$f":"IF(【ジュエリー】入力欄!E377=\"\",\"\",【ジュエリー】入力欄!E377)","v":""},{"$f":"CONCATENATE(IF(【ジュエリー】入力欄!F377=\"\",\"\",【ジュエリー】入力欄!F377),IF(【ジュエリー】入力欄!H377=\"\",CONCATENATE(\" \",【ジュエリー】入力欄!G377),CONCATENATE(\" \",【ジュエリー】入力欄!G377,【ジュエリー】入力欄!H377,IF(【ジュエリー】入力欄!G377=\"パール\",\"mm\",\"ct\"))),IF(【ジュエリー】入力欄!J377=\"\",CONCATENATE(\" \",【ジュエリー】入力欄!I377),CONCATENATE(\" \",【ジュエリー】入力欄!I377,【ジュエリー】入力欄!J377,IF(【ジュエリー】入力欄!I377=\"パール\",\"mm\",\"ct\"))))","v":"  "},{"$f":"IF(【ジュエリー】入力欄!L377=\"\",\"\",【ジュエリー】入力欄!L377&\"g\")","v":""},{"$f":"IF(【ジュエリー】入力欄!M377=\"\",\"\",【ジュエリー】入力欄!M377)","v":""},{"$f":"IF(【ジュエリー】入力欄!O377=\"\",\"\",【ジュエリー】入力欄!O377)","v":""}]
["３",{"$f":"IF(【ジュエリー】入力欄!K378=\"\",\"\",【ジュエリー】入力欄!K378)","v":""},{"$f":"IF(【ジュエリー】入力欄!E378=\"\",\"\",【ジュエリー】入力欄!E378)","v":""},{"$f":"CONCATENATE(IF(【ジュエリー】入力欄!F378=\"\",\"\",【ジュエリー】入力欄!F378),IF(【ジュエリー】入力欄!H378=\"\",CONCATENATE(\" \",【ジュエリー】入力欄!G378),CONCATENATE(\" \",【ジュエリー】入力欄!G378,【ジュエリー】入力欄!H378,IF(【ジュエリー】入力欄!G378=\"パール\",\"mm\",\"ct\"))),IF(【ジュエリー】入力欄!J378=\"\",CONCATENATE(\" \",【ジュエリー】入力欄!I378),CONCATENATE(\" \",【ジュエリー】入力欄!I378,【ジュエリー】入力欄!J378,IF(【ジュエリー】入力欄!I378=\"パール\",\"mm\",\"ct\"))))","v":"  "},{"$f":"IF(【ジュエリー】入力欄!L378=\"\",\"\",【ジュエリー】入力欄!L378&\"g\")","v":""},{"$f":"IF(【ジュエリー】入力欄!M378=\"\",\"\",【ジュエリー】入力欄!M378)","v":""},{"$f":"IF(【ジュエリー】入力欄!O378=\"\",\"\",【ジュエリー】入力欄!O378)","v":""}]
["４",{"$f":"IF(【ジュエリー】入力欄!K379=\"\",\"\",【ジュエリー】入力欄!K379)","v":""},{"$f":"IF(【ジュエリー】入力欄!E379=\"\",\"\",【ジュエリー】入力欄!E379)","v":""},{"$f":"CONCATENATE(IF(【ジュエリー】入力欄!F379=\"\",\"\",【ジュエリー】入力欄!F379),IF(【ジュエリー】入力欄!H379=\"\",CONCATENATE(\" \",【ジュエリー】入力欄!G379),CONCATENATE(\" \",【ジュエリー】入力欄!G379,【ジュエリー】入力欄!H379,IF(【ジュエリー】入力欄!G379=\"パール\",\"mm\",\"ct\"))),IF(【ジュエリー】入力欄!J379=\"\",CONCATENATE(\" \",【ジュエリー】入力欄!I379),CONCATENATE(\" \",【ジュエリー】入力欄!I379,【ジュエリー】入力欄!J379,IF(【ジュエリー】入力欄!I379=\"パール\",\"mm\",\"ct\"))))","v":"  "},{"$f":"IF(【ジュエリー】入力欄!L379=\"\",\"\",【ジュエリー】入力欄!L379&\"g\")","v":""},{"$f":"IF(【ジュエリー】入力欄!M379=\"\",\"\",【ジュエリー】入力欄!M379)","v":""},{"$f":"IF(【ジュエリー】入力欄!O379=\"\",\"\",【ジュエリー】入力欄!O379)","v":""}]
["５",{"$f":"IF(【ジュエリー】入力欄!K380=\"\",\"\",【ジュエリー】入力欄!K380)","v":""},{"$f":"IF(【ジュエリー】入力欄!E380=\"\",\"\",【ジュエリー】入力欄!E380)","v":""},{"$f":"CONCATENATE(IF(【ジュエリー】入力欄!F380=\"\",\"\",【ジュエリー】入力欄!F380),IF(【ジュエリー】入力欄!H380=\"\",CONCATENATE(\" \",【ジュエリー】入力欄!G380),CONCATENATE(\" \",【ジュエリー】入力欄!G380,【ジュエリー】入力欄!H380,IF(【ジュエリー】入力欄!G380=\"パール\",\"mm\",\"ct\"))),IF(【ジュエリー】入力欄!J380=\"\",CONCATENATE(\" \",【ジュエリー】入力欄!I380),CONCATENATE(\" \",【ジュエリー】入力欄!I380,【ジュエリー】入力欄!J380,IF(【ジュエリー】入力欄!I380=\"パール\",\"mm\",\"ct\"))))","v":"  "},{"$f":"IF(【ジュエリー】入力欄!L380=\"\",\"\",【ジュエリー】入力欄!L380&\"g\")","v":""},{"$f":"IF(【ジュエリー】入力欄!M380=\"\",\"\",【ジュエリー】入力欄!M380)","v":""},{"$f":"IF(【ジュエリー】入力欄!O380=\"\",\"\",【ジュエリー】入力欄!O380)","v":""}]
["６",{"$f":"IF(【ジュエリー】入力欄!K381=\"\",\"\",【ジュエリー】入力欄!K381)","v":""},{"$f":"IF(【ジュエリー】入力欄!E381=\"\",\"\",【ジュエリー】入力欄!E381)","v":""},{"$f":"CONCATENATE(IF(【ジュエリー】入力欄!F381=\"\",\"\",【ジュエリー】入力欄!F381),IF(【ジュエリー】入力欄!H381=\"\",CONCATENATE(\" \",【ジュエリー】入力欄!G381),CONCATENATE(\" \",【ジュエリー】入力欄!G381,【ジュエリー】入力欄!H381,IF(【ジュエリー】入力欄!G381=\"パール\",\"mm\",\"ct\"))),IF(【ジュエリー】入力欄!J381=\"\",CONCATENATE(\" \",【ジュエリー】入力欄!I381),CONCATENATE(\" \",【ジュエリー】入力欄!I381,【ジュエリー】入力欄!J381,IF(【ジュエリー】入力欄!I381=\"パール\",\"mm\",\"ct\"))))","v":"  "},{"$f":"IF(【ジュエリー】入力欄!L381=\"\",\"\",【ジュエリー】入力欄!L381&\"g\")","v":""},{"$f":"IF(【ジュエリー】入力欄!M381=\"\",\"\",【ジュエリー】入力欄!M381)","v":""},{"$f":"IF(【ジュエリー】入力欄!O381=\"\",\"\",【ジュエリー】入力欄!O381)","v":""}]
["７",{"$f":"IF(【ジュエリー】入力欄!K382=\"\",\"\",【ジュエリー】入力欄!K382)","v":""},{"$f":"IF(【ジュエリー】入力欄!E382=\"\",\"\",【ジュエリー】入力欄!E382)","v":""},{"$f":"CONCATENATE(IF(【ジュエリー】入力欄!F382=\"\",\"\",【ジュエリー】入力欄!F382),IF(【ジュエリー】入力欄!H382=\"\",CONCATENATE(\" \",【ジュエリー】入力欄!G382),CONCATENATE(\" \",【ジュエリー】入力欄!G382,【ジュエリー】入力欄!H382,IF(【ジュエリー】入力欄!G382=\"パール\",\"mm\",\"ct\"))),IF(【ジュエリー】入力欄!J382=\"\",CONCATENATE(\" \",【ジュエリー】入力欄!I382),CONCATENATE(\" \",【ジュエリー】入力欄!I382,【ジュエリー】入力欄!J382,IF(【ジュエリー】入力欄!I382=\"パール\",\"mm\",\"ct\"))))","v":"  "},{"$f":"IF(【ジュエリー】入力欄!L382=\"\",\"\",【ジュエリー】入力欄!L382&\"g\")","v":""},{"$f":"IF(【ジュエリー】入力欄!M382=\"\",\"\",【ジュエリー】入力欄!M382)","v":""},{"$f":"IF(【ジュエリー】入力欄!O382=\"\",\"\",【ジュエリー】入力欄!O382)","v":""}]
["８",{"$f":"IF(【ジュエリー】入力欄!K383=\"\",\"\",【ジュエリー】入力欄!K383)","v":""},{"$f":"IF(【ジュエリー】入力欄!E383=\"\",\"\",【ジュエリー】入力欄!E383)","v":""},{"$f":"CONCATENATE(IF(【ジュエリー】入力欄!F383=\"\",\"\",【ジュエリー】入力欄!F383),IF(【ジュエリー】入力欄!H383=\"\",CONCATENATE(\" \",【ジュエリー】入力欄!G383),CONCATENATE(\" \",【ジュエリー】入力欄!G383,【ジュエリー】入力欄!H383,IF(【ジュエリー】入力欄!G383=\"パール\",\"mm\",\"ct\"))),IF(【ジュエリー】入力欄!J383=\"\",CONCATENATE(\" \",【ジュエリー】入力欄!I383),CONCATENATE(\" \",【ジュエリー】入力欄!I383,【ジュエリー】入力欄!J383,IF(【ジュエリー】入力欄!I383=\"パール\",\"mm\",\"ct\"))))","v":"  "},{"$f":"IF(【ジュエリー】入力欄!L383=\"\",\"\",【ジュエリー】入力欄!L383&\"g\")","v":""},{"$f":"IF(【ジュエリー】入力欄!M383=\"\",\"\",【ジュエリー】入力欄!M383)","v":""},{"$f":"IF(【ジュエリー】入力欄!O383=\"\",\"\",【ジュエリー】入力欄!O383)","v":""}]
["９",{"$f":"IF(【ジュエリー】入力欄!K384=\"\",\"\",【ジュエリー】入力欄!K384)","v":""},{"$f":"IF(【ジュエリー】入力欄!E384=\"\",\"\",【ジュエリー】入力欄!E384)","v":""},{"$f":"CONCATENATE(IF(【ジュエリー】入力欄!F384=\"\",\"\",【ジュエリー】入力欄!F384),IF(【ジュエリー】入力欄!H384=\"\",CONCATENATE(\" \",【ジュエリー】入力欄!G384),CONCATENATE(\" \",【ジュエリー】入力欄!G384,【ジュエリー】入力欄!H384,IF(【ジュエリー】入力欄!G384=\"パール\",\"mm\",\"ct\"))),IF(【ジュエリー】入力欄!J384=\"\",CONCATENATE(\" \",【ジュエリー】入力欄!I384),CONCATENATE(\" \",【ジュエリー】入力欄!I384,【ジュエリー】入力欄!J384,IF(【ジュエリー】入力欄!I384=\"パール\",\"mm\",\"ct\"))))","v":"  "},{"$f":"IF(【ジュエリー】入力欄!L384=\"\",\"\",【ジュエリー】入力欄!L384&\"g\")","v":""},{"$f":"IF(【ジュエリー】入力欄!M384=\"\",\"\",【ジュエリー】入力欄!M384)","v":""},{"$f":"IF(【ジュエリー】入力欄!O384=\"\",\"\",【ジュエリー】入力欄!O384)","v":""}]
["１０",{"$f":"IF(【ジュエリー】入力欄!K385=\"\",\"\",【ジュエリー】入力欄!K385)","v":""},{"$f":"IF(【ジュエリー】入力欄!E385=\"\",\"\",【ジュエリー】入力欄!E385)","v":""},{"$f":"CONCATENATE(IF(【ジュエリー】入力欄!F385=\"\",\"\",【ジュエリー】入力欄!F385),IF(【ジュエリー】入力欄!H385=\"\",CONCATENATE(\" \",【ジュエリー】入力欄!G385),CONCATENATE(\" \",【ジュエリー】入力欄!G385,【ジュエリー】入力欄!H385,IF(【ジュエリー】入力欄!G385=\"パール\",\"mm\",\"ct\"))),IF(【ジュエリー】入力欄!J385=\"\",CONCATENATE(\" \",【ジュエリー】入力欄!I385),CONCATENATE(\" \",【ジュエリー】入力欄!I385,【ジュエリー】入力欄!J385,IF(【ジュエリー】入力欄!I385=\"パール\",\"mm\",\"ct\"))))","v":"  "},{"$f":"IF(【ジュエリー】入力欄!L385=\"\",\"\",【ジュエリー】入力欄!L385&\"g\")","v":""},{"$f":"IF(【ジュエリー】入力欄!M385=\"\",\"\",【ジュエリー】入力欄!M385)","v":""},{"$f":"IF(【ジュエリー】入力欄!O385=\"\",\"\",【ジュエリー】入力欄!O385)","v":""}]
[]
["   \n",{"$f":"CONCATENATE(\"出品表　（　\",【ジュエリー】入力欄!I$3,\"　大吉オークション　宝石・ジュエリー）\")","v":"出品表　（　　大吉オークション　宝石・ジュエリー）"}]
[]
[null,"箱番：",{"$f":"IF(【ジュエリー】入力欄!C386=\"\",\"\",【ジュエリー】入力欄!C386)","v":""},"※太枠の中をご記入ください",null,"会社名",{"$f":"IF(【ジュエリー】入力欄!C$3=\"\",\"\",【ジュエリー】入力欄!C$3)","v":""}]
[]
["番号","品目","金性","詳細・特徴","重量","付属品","指値\n（3万円以上）","発句"]
["１",{"$f":"IF(【ジュエリー】入力欄!K386=\"\",\"\",【ジュエリー】入力欄!K386)","v":""},{"$f":"IF(【ジュエリー】入力欄!E386=\"\",\"\",【ジュエリー】入力欄!E386)","v":""},{"$f":"CONCATENATE(IF(【ジュエリー】入力欄!F386=\"\",\"\",【ジュエリー】入力欄!F386),IF(【ジュエリー】入力欄!H386=\"\",CONCATENATE(\" \",【ジュエリー】入力欄!G386),CONCATENATE(\" \",【ジュエリー】入力欄!G386,【ジュエリー】入力欄!H386,IF(【ジュエリー】入力欄!G386=\"パール\",\"mm\",\"ct\"))),IF(【ジュエリー】入力欄!J386=\"\",CONCATENATE(\" \",【ジュエリー】入力欄!I386),CONCATENATE(\" \",【ジュエリー】入力欄!I386,【ジュエリー】入力欄!J386,IF(【ジュエリー】入力欄!I386=\"パール\",\"mm\",\"ct\"))))","v":"  "},{"$f":"IF(【ジュエリー】入力欄!L386=\"\",\"\",【ジュエリー】入力欄!L386&\"g\")","v":""},{"$f":"IF(【ジュエリー】入力欄!M386=\"\",\"\",【ジュエリー】入力欄!M386)","v":""},{"$f":"IF(【ジュエリー】入力欄!O386=\"\",\"\",【ジュエリー】入力欄!O386)","v":""}]
["２",{"$f":"IF(【ジュエリー】入力欄!K387=\"\",\"\",【ジュエリー】入力欄!K387)","v":""},{"$f":"IF(【ジュエリー】入力欄!E387=\"\",\"\",【ジュエリー】入力欄!E387)","v":""},{"$f":"CONCATENATE(IF(【ジュエリー】入力欄!F387=\"\",\"\",【ジュエリー】入力欄!F387),IF(【ジュエリー】入力欄!H387=\"\",CONCATENATE(\" \",【ジュエリー】入力欄!G387),CONCATENATE(\" \",【ジュエリー】入力欄!G387,【ジュエリー】入力欄!H387,IF(【ジュエリー】入力欄!G387=\"パール\",\"mm\",\"ct\"))),IF(【ジュエリー】入力欄!J387=\"\",CONCATENATE(\" \",【ジュエリー】入力欄!I387),CONCATENATE(\" \",【ジュエリー】入力欄!I387,【ジュエリー】入力欄!J387,IF(【ジュエリー】入力欄!I387=\"パール\",\"mm\",\"ct\"))))","v":"  "},{"$f":"IF(【ジュエリー】入力欄!L387=\"\",\"\",【ジュエリー】入力欄!L387&\"g\")","v":""},{"$f":"IF(【ジュエリー】入力欄!M387=\"\",\"\",【ジュエリー】入力欄!M387)","v":""},{"$f":"IF(【ジュエリー】入力欄!O387=\"\",\"\",【ジュエリー】入力欄!O387)","v":""}]
["３",{"$f":"IF(【ジュエリー】入力欄!K388=\"\",\"\",【ジュエリー】入力欄!K388)","v":""},{"$f":"IF(【ジュエリー】入力欄!E388=\"\",\"\",【ジュエリー】入力欄!E388)","v":""},{"$f":"CONCATENATE(IF(【ジュエリー】入力欄!F388=\"\",\"\",【ジュエリー】入力欄!F388),IF(【ジュエリー】入力欄!H388=\"\",CONCATENATE(\" \",【ジュエリー】入力欄!G388),CONCATENATE(\" \",【ジュエリー】入力欄!G388,【ジュエリー】入力欄!H388,IF(【ジュエリー】入力欄!G388=\"パール\",\"mm\",\"ct\"))),IF(【ジュエリー】入力欄!J388=\"\",CONCATENATE(\" \",【ジュエリー】入力欄!I388),CONCATENATE(\" \",【ジュエリー】入力欄!I388,【ジュエリー】入力欄!J388,IF(【ジュエリー】入力欄!I388=\"パール\",\"mm\",\"ct\"))))","v":"  "},{"$f":"IF(【ジュエリー】入力欄!L388=\"\",\"\",【ジュエリー】入力欄!L388&\"g\")","v":""},{"$f":"IF(【ジュエリー】入力欄!M388=\"\",\"\",【ジュエリー】入力欄!M388)","v":""},{"$f":"IF(【ジュエリー】入力欄!O388=\"\",\"\",【ジュエリー】入力欄!O388)","v":""}]
["４",{"$f":"IF(【ジュエリー】入力欄!K389=\"\",\"\",【ジュエリー】入力欄!K389)","v":""},{"$f":"IF(【ジュエリー】入力欄!E389=\"\",\"\",【ジュエリー】入力欄!E389)","v":""},{"$f":"CONCATENATE(IF(【ジュエリー】入力欄!F389=\"\",\"\",【ジュエリー】入力欄!F389),IF(【ジュエリー】入力欄!H389=\"\",CONCATENATE(\" \",【ジュエリー】入力欄!G389),CONCATENATE(\" \",【ジュエリー】入力欄!G389,【ジュエリー】入力欄!H389,IF(【ジュエリー】入力欄!G389=\"パール\",\"mm\",\"ct\"))),IF(【ジュエリー】入力欄!J389=\"\",CONCATENATE(\" \",【ジュエリー】入力欄!I389),CONCATENATE(\" \",【ジュエリー】入力欄!I389,【ジュエリー】入力欄!J389,IF(【ジュエリー】入力欄!I389=\"パール\",\"mm\",\"ct\"))))","v":"  "},{"$f":"IF(【ジュエリー】入力欄!L389=\"\",\"\",【ジュエリー】入力欄!L389&\"g\")","v":""},{"$f":"IF(【ジュエリー】入力欄!M389=\"\",\"\",【ジュエリー】入力欄!M389)","v":""},{"$f":"IF(【ジュエリー】入力欄!O389=\"\",\"\",【ジュエリー】入力欄!O389)","v":""}]
["５",{"$f":"IF(【ジュエリー】入力欄!K390=\"\",\"\",【ジュエリー】入力欄!K390)","v":""},{"$f":"IF(【ジュエリー】入力欄!E390=\"\",\"\",【ジュエリー】入力欄!E390)","v":""},{"$f":"CONCATENATE(IF(【ジュエリー】入力欄!F390=\"\",\"\",【ジュエリー】入力欄!F390),IF(【ジュエリー】入力欄!H390=\"\",CONCATENATE(\" \",【ジュエリー】入力欄!G390),CONCATENATE(\" \",【ジュエリー】入力欄!G390,【ジュエリー】入力欄!H390,IF(【ジュエリー】入力欄!G390=\"パール\",\"mm\",\"ct\"))),IF(【ジュエリー】入力欄!J390=\"\",CONCATENATE(\" \",【ジュエリー】入力欄!I390),CONCATENATE(\" \",【ジュエリー】入力欄!I390,【ジュエリー】入力欄!J390,IF(【ジュエリー】入力欄!I390=\"パール\",\"mm\",\"ct\"))))","v":"  "},{"$f":"IF(【ジュエリー】入力欄!L390=\"\",\"\",【ジュエリー】入力欄!L390&\"g\")","v":""},{"$f":"IF(【ジュエリー】入力欄!M390=\"\",\"\",【ジュエリー】入力欄!M390)","v":""},{"$f":"IF(【ジュエリー】入力欄!O390=\"\",\"\",【ジュエリー】入力欄!O390)","v":""}]
["６",{"$f":"IF(【ジュエリー】入力欄!K391=\"\",\"\",【ジュエリー】入力欄!K391)","v":""},{"$f":"IF(【ジュエリー】入力欄!E391=\"\",\"\",【ジュエリー】入力欄!E391)","v":""},{"$f":"CONCATENATE(IF(【ジュエリー】入力欄!F391=\"\",\"\",【ジュエリー】入力欄!F391),IF(【ジュエリー】入力欄!H391=\"\",CONCATENATE(\" \",【ジュエリー】入力欄!G391),CONCATENATE(\" \",【ジュエリー】入力欄!G391,【ジュエリー】入力欄!H391,IF(【ジュエリー】入力欄!G391=\"パール\",\"mm\",\"ct\"))),IF(【ジュエリー】入力欄!J391=\"\",CONCATENATE(\" \",【ジュエリー】入力欄!I391),CONCATENATE(\" \",【ジュエリー】入力欄!I391,【ジュエリー】入力欄!J391,IF(【ジュエリー】入力欄!I391=\"パール\",\"mm\",\"ct\"))))","v":"  "},{"$f":"IF(【ジュエリー】入力欄!L391=\"\",\"\",【ジュエリー】入力欄!L391&\"g\")","v":""},{"$f":"IF(【ジュエリー】入力欄!M391=\"\",\"\",【ジュエリー】入力欄!M391)","v":""},{"$f":"IF(【ジュエリー】入力欄!O391=\"\",\"\",【ジュエリー】入力欄!O391)","v":""}]
["７",{"$f":"IF(【ジュエリー】入力欄!K392=\"\",\"\",【ジュエリー】入力欄!K392)","v":""},{"$f":"IF(【ジュエリー】入力欄!E392=\"\",\"\",【ジュエリー】入力欄!E392)","v":""},{"$f":"CONCATENATE(IF(【ジュエリー】入力欄!F392=\"\",\"\",【ジュエリー】入力欄!F392),IF(【ジュエリー】入力欄!H392=\"\",CONCATENATE(\" \",【ジュエリー】入力欄!G392),CONCATENATE(\" \",【ジュエリー】入力欄!G392,【ジュエリー】入力欄!H392,IF(【ジュエリー】入力欄!G392=\"パール\",\"mm\",\"ct\"))),IF(【ジュエリー】入力欄!J392=\"\",CONCATENATE(\" \",【ジュエリー】入力欄!I392),CONCATENATE(\" \",【ジュエリー】入力欄!I392,【ジュエリー】入力欄!J392,IF(【ジュエリー】入力欄!I392=\"パール\",\"mm\",\"ct\"))))","v":"  "},{"$f":"IF(【ジュエリー】入力欄!L392=\"\",\"\",【ジュエリー】入力欄!L392&\"g\")","v":""},{"$f":"IF(【ジュエリー】入力欄!M392=\"\",\"\",【ジュエリー】入力欄!M392)","v":""},{"$f":"IF(【ジュエリー】入力欄!O392=\"\",\"\",【ジュエリー】入力欄!O392)","v":""}]
["８",{"$f":"IF(【ジュエリー】入力欄!K393=\"\",\"\",【ジュエリー】入力欄!K393)","v":""},{"$f":"IF(【ジュエリー】入力欄!E393=\"\",\"\",【ジュエリー】入力欄!E393)","v":""},{"$f":"CONCATENATE(IF(【ジュエリー】入力欄!F393=\"\",\"\",【ジュエリー】入力欄!F393),IF(【ジュエリー】入力欄!H393=\"\",CONCATENATE(\" \",【ジュエリー】入力欄!G393),CONCATENATE(\" \",【ジュエリー】入力欄!G393,【ジュエリー】入力欄!H393,IF(【ジュエリー】入力欄!G393=\"パール\",\"mm\",\"ct\"))),IF(【ジュエリー】入力欄!J393=\"\",CONCATENATE(\" \",【ジュエリー】入力欄!I393),CONCATENATE(\" \",【ジュエリー】入力欄!I393,【ジュエリー】入力欄!J393,IF(【ジュエリー】入力欄!I393=\"パール\",\"mm\",\"ct\"))))","v":"  "},{"$f":"IF(【ジュエリー】入力欄!L393=\"\",\"\",【ジュエリー】入力欄!L393&\"g\")","v":""},{"$f":"IF(【ジュエリー】入力欄!M393=\"\",\"\",【ジュエリー】入力欄!M393)","v":""},{"$f":"IF(【ジュエリー】入力欄!O393=\"\",\"\",【ジュエリー】入力欄!O393)","v":""}]
["９",{"$f":"IF(【ジュエリー】入力欄!K394=\"\",\"\",【ジュエリー】入力欄!K394)","v":""},{"$f":"IF(【ジュエリー】入力欄!E394=\"\",\"\",【ジュエリー】入力欄!E394)","v":""},{"$f":"CONCATENATE(IF(【ジュエリー】入力欄!F394=\"\",\"\",【ジュエリー】入力欄!F394),IF(【ジュエリー】入力欄!H394=\"\",CONCATENATE(\" \",【ジュエリー】入力欄!G394),CONCATENATE(\" \",【ジュエリー】入力欄!G394,【ジュエリー】入力欄!H394,IF(【ジュエリー】入力欄!G394=\"パール\",\"mm\",\"ct\"))),IF(【ジュエリー】入力欄!J394=\"\",CONCATENATE(\" \",【ジュエリー】入力欄!I394),CONCATENATE(\" \",【ジュエリー】入力欄!I394,【ジュエリー】入力欄!J394,IF(【ジュエリー】入力欄!I394=\"パール\",\"mm\",\"ct\"))))","v":"  "},{"$f":"IF(【ジュエリー】入力欄!L394=\"\",\"\",【ジュエリー】入力欄!L394&\"g\")","v":""},{"$f":"IF(【ジュエリー】入力欄!M394=\"\",\"\",【ジュエリー】入力欄!M394)","v":""},{"$f":"IF(【ジュエリー】入力欄!O394=\"\",\"\",【ジュエリー】入力欄!O394)","v":""}]
["１０",{"$f":"IF(【ジュエリー】入力欄!K395=\"\",\"\",【ジュエリー】入力欄!K395)","v":""},{"$f":"IF(【ジュエリー】入力欄!E395=\"\",\"\",【ジュエリー】入力欄!E395)","v":""},{"$f":"CONCATENATE(IF(【ジュエリー】入力欄!F395=\"\",\"\",【ジュエリー】入力欄!F395),IF(【ジュエリー】入力欄!H395=\"\",CONCATENATE(\" \",【ジュエリー】入力欄!G395),CONCATENATE(\" \",【ジュエリー】入力欄!G395,【ジュエリー】入力欄!H395,IF(【ジュエリー】入力欄!G395=\"パール\",\"mm\",\"ct\"))),IF(【ジュエリー】入力欄!J395=\"\",CONCATENATE(\" \",【ジュエリー】入力欄!I395),CONCATENATE(\" \",【ジュエリー】入力欄!I395,【ジュエリー】入力欄!J395,IF(【ジュエリー】入力欄!I395=\"パール\",\"mm\",\"ct\"))))","v":"  "},{"$f":"IF(【ジュエリー】入力欄!L395=\"\",\"\",【ジュエリー】入力欄!L395&\"g\")","v":""},{"$f":"IF(【ジュエリー】入力欄!M395=\"\",\"\",【ジュエリー】入力欄!M395)","v":""},{"$f":"IF(【ジュエリー】入力欄!O395=\"\",\"\",【ジュエリー】入力欄!O395)","v":""}]
[]
["   \n",{"$f":"CONCATENATE(\"出品表　（　\",【ジュエリー】入力欄!I$3,\"　大吉オークション　宝石・ジュエリー）\")","v":"出品表　（　　大吉オークション　宝石・ジュエリー）"}]
[]
[null,"箱番：",{"$f":"IF(【ジュエリー】入力欄!C396=\"\",\"\",【ジュエリー】入力欄!C396)","v":""},"※太枠の中をご記入ください",null,"会社名",{"$f":"IF(【ジュエリー】入力欄!C$3=\"\",\"\",【ジュエリー】入力欄!C$3)","v":""}]
[]
["番号","品目","金性","詳細・特徴","重量","付属品","指値\n（3万円以上）","発句"]
["１",{"$f":"IF(【ジュエリー】入力欄!K396=\"\",\"\",【ジュエリー】入力欄!K396)","v":""},{"$f":"IF(【ジュエリー】入力欄!E396=\"\",\"\",【ジュエリー】入力欄!E396)","v":""},{"$f":"CONCATENATE(IF(【ジュエリー】入力欄!F396=\"\",\"\",【ジュエリー】入力欄!F396),IF(【ジュエリー】入力欄!H396=\"\",CONCATENATE(\" \",【ジュエリー】入力欄!G396),CONCATENATE(\" \",【ジュエリー】入力欄!G396,【ジュエリー】入力欄!H396,IF(【ジュエリー】入力欄!G396=\"パール\",\"mm\",\"ct\"))),IF(【ジュエリー】入力欄!J396=\"\",CONCATENATE(\" \",【ジュエリー】入力欄!I396),CONCATENATE(\" \",【ジュエリー】入力欄!I396,【ジュエリー】入力欄!J396,IF(【ジュエリー】入力欄!I396=\"パール\",\"mm\",\"ct\"))))","v":"  "},{"$f":"IF(【ジュエリー】入力欄!L396=\"\",\"\",【ジュエリー】入力欄!L396&\"g\")","v":""},{"$f":"IF(【ジュエリー】入力欄!M396=\"\",\"\",【ジュエリー】入力欄!M396)","v":""},{"$f":"IF(【ジュエリー】入力欄!O396=\"\",\"\",【ジュエリー】入力欄!O396)","v":""}]
["２",{"$f":"IF(【ジュエリー】入力欄!K397=\"\",\"\",【ジュエリー】入力欄!K397)","v":""},{"$f":"IF(【ジュエリー】入力欄!E397=\"\",\"\",【ジュエリー】入力欄!E397)","v":""},{"$f":"CONCATENATE(IF(【ジュエリー】入力欄!F397=\"\",\"\",【ジュエリー】入力欄!F397),IF(【ジュエリー】入力欄!H397=\"\",CONCATENATE(\" \",【ジュエリー】入力欄!G397),CONCATENATE(\" \",【ジュエリー】入力欄!G397,【ジュエリー】入力欄!H397,IF(【ジュエリー】入力欄!G397=\"パール\",\"mm\",\"ct\"))),IF(【ジュエリー】入力欄!J397=\"\",CONCATENATE(\" \",【ジュエリー】入力欄!I397),CONCATENATE(\" \",【ジュエリー】入力欄!I397,【ジュエリー】入力欄!J397,IF(【ジュエリー】入力欄!I397=\"パール\",\"mm\",\"ct\"))))","v":"  "},{"$f":"IF(【ジュエリー】入力欄!L397=\"\",\"\",【ジュエリー】入力欄!L397&\"g\")","v":""},{"$f":"IF(【ジュエリー】入力欄!M397=\"\",\"\",【ジュエリー】入力欄!M397)","v":""},{"$f":"IF(【ジュエリー】入力欄!O397=\"\",\"\",【ジュエリー】入力欄!O397)","v":""}]
["３",{"$f":"IF(【ジュエリー】入力欄!K398=\"\",\"\",【ジュエリー】入力欄!K398)","v":""},{"$f":"IF(【ジュエリー】入力欄!E398=\"\",\"\",【ジュエリー】入力欄!E398)","v":""},{"$f":"CONCATENATE(IF(【ジュエリー】入力欄!F398=\"\",\"\",【ジュエリー】入力欄!F398),IF(【ジュエリー】入力欄!H398=\"\",CONCATENATE(\" \",【ジュエリー】入力欄!G398),CONCATENATE(\" \",【ジュエリー】入力欄!G398,【ジュエリー】入力欄!H398,IF(【ジュエリー】入力欄!G398=\"パール\",\"mm\",\"ct\"))),IF(【ジュエリー】入力欄!J398=\"\",CONCATENATE(\" \",【ジュエリー】入力欄!I398),CONCATENATE(\" \",【ジュエリー】入力欄!I398,【ジュエリー】入力欄!J398,IF(【ジュエリー】入力欄!I398=\"パール\",\"mm\",\"ct\"))))","v":"  "},{"$f":"IF(【ジュエリー】入力欄!L398=\"\",\"\",【ジュエリー】入力欄!L398&\"g\")","v":""},{"$f":"IF(【ジュエリー】入力欄!M398=\"\",\"\",【ジュエリー】入力欄!M398)","v":""},{"$f":"IF(【ジュエリー】入力欄!O398=\"\",\"\",【ジュエリー】入力欄!O398)","v":""}]
["４",{"$f":"IF(【ジュエリー】入力欄!K399=\"\",\"\",【ジュエリー】入力欄!K399)","v":""},{"$f":"IF(【ジュエリー】入力欄!E399=\"\",\"\",【ジュエリー】入力欄!E399)","v":""},{"$f":"CONCATENATE(IF(【ジュエリー】入力欄!F399=\"\",\"\",【ジュエリー】入力欄!F399),IF(【ジュエリー】入力欄!H399=\"\",CONCATENATE(\" \",【ジュエリー】入力欄!G399),CONCATENATE(\" \",【ジュエリー】入力欄!G399,【ジュエリー】入力欄!H399,IF(【ジュエリー】入力欄!G399=\"パール\",\"mm\",\"ct\"))),IF(【ジュエリー】入力欄!J399=\"\",CONCATENATE(\" \",【ジュエリー】入力欄!I399),CONCATENATE(\" \",【ジュエリー】入力欄!I399,【ジュエリー】入力欄!J399,IF(【ジュエリー】入力欄!I399=\"パール\",\"mm\",\"ct\"))))","v":"  "},{"$f":"IF(【ジュエリー】入力欄!L399=\"\",\"\",【ジュエリー】入力欄!L399&\"g\")","v":""},{"$f":"IF(【ジュエリー】入力欄!M399=\"\",\"\",【ジュエリー】入力欄!M399)","v":""},{"$f":"IF(【ジュエリー】入力欄!O399=\"\",\"\",【ジュエリー】入力欄!O399)","v":""}]
["５",{"$f":"IF(【ジュエリー】入力欄!K400=\"\",\"\",【ジュエリー】入力欄!K400)","v":""},{"$f":"IF(【ジュエリー】入力欄!E400=\"\",\"\",【ジュエリー】入力欄!E400)","v":""},{"$f":"CONCATENATE(IF(【ジュエリー】入力欄!F400=\"\",\"\",【ジュエリー】入力欄!F400),IF(【ジュエリー】入力欄!H400=\"\",CONCATENATE(\" \",【ジュエリー】入力欄!G400),CONCATENATE(\" \",【ジュエリー】入力欄!G400,【ジュエリー】入力欄!H400,IF(【ジュエリー】入力欄!G400=\"パール\",\"mm\",\"ct\"))),IF(【ジュエリー】入力欄!J400=\"\",CONCATENATE(\" \",【ジュエリー】入力欄!I400),CONCATENATE(\" \",【ジュエリー】入力欄!I400,【ジュエリー】入力欄!J400,IF(【ジュエリー】入力欄!I400=\"パール\",\"mm\",\"ct\"))))","v":"  "},{"$f":"IF(【ジュエリー】入力欄!L400=\"\",\"\",【ジュエリー】入力欄!L400&\"g\")","v":""},{"$f":"IF(【ジュエリー】入力欄!M400=\"\",\"\",【ジュエリー】入力欄!M400)","v":""},{"$f":"IF(【ジュエリー】入力欄!O400=\"\",\"\",【ジュエリー】入力欄!O400)","v":""}]
["６",{"$f":"IF(【ジュエリー】入力欄!K401=\"\",\"\",【ジュエリー】入力欄!K401)","v":""},{"$f":"IF(【ジュエリー】入力欄!E401=\"\",\"\",【ジュエリー】入力欄!E401)","v":""},{"$f":"CONCATENATE(IF(【ジュエリー】入力欄!F401=\"\",\"\",【ジュエリー】入力欄!F401),IF(【ジュエリー】入力欄!H401=\"\",CONCATENATE(\" \",【ジュエリー】入力欄!G401),CONCATENATE(\" \",【ジュエリー】入力欄!G401,【ジュエリー】入力欄!H401,IF(【ジュエリー】入力欄!G401=\"パール\",\"mm\",\"ct\"))),IF(【ジュエリー】入力欄!J401=\"\",CONCATENATE(\" \",【ジュエリー】入力欄!I401),CONCATENATE(\" \",【ジュエリー】入力欄!I401,【ジュエリー】入力欄!J401,IF(【ジュエリー】入力欄!I401=\"パール\",\"mm\",\"ct\"))))","v":"  "},{"$f":"IF(【ジュエリー】入力欄!L401=\"\",\"\",【ジュエリー】入力欄!L401&\"g\")","v":""},{"$f":"IF(【ジュエリー】入力欄!M401=\"\",\"\",【ジュエリー】入力欄!M401)","v":""},{"$f":"IF(【ジュエリー】入力欄!O401=\"\",\"\",【ジュエリー】入力欄!O401)","v":""}]
["７",{"$f":"IF(【ジュエリー】入力欄!K402=\"\",\"\",【ジュエリー】入力欄!K402)","v":""},{"$f":"IF(【ジュエリー】入力欄!E402=\"\",\"\",【ジュエリー】入力欄!E402)","v":""},{"$f":"CONCATENATE(IF(【ジュエリー】入力欄!F402=\"\",\"\",【ジュエリー】入力欄!F402),IF(【ジュエリー】入力欄!H402=\"\",CONCATENATE(\" \",【ジュエリー】入力欄!G402),CONCATENATE(\" \",【ジュエリー】入力欄!G402,【ジュエリー】入力欄!H402,IF(【ジュエリー】入力欄!G402=\"パール\",\"mm\",\"ct\"))),IF(【ジュエリー】入力欄!J402=\"\",CONCATENATE(\" \",【ジュエリー】入力欄!I402),CONCATENATE(\" \",【ジュエリー】入力欄!I402,【ジュエリー】入力欄!J402,IF(【ジュエリー】入力欄!I402=\"パール\",\"mm\",\"ct\"))))","v":"  "},{"$f":"IF(【ジュエリー】入力欄!L402=\"\",\"\",【ジュエリー】入力欄!L402&\"g\")","v":""},{"$f":"IF(【ジュエリー】入力欄!M402=\"\",\"\",【ジュエリー】入力欄!M402)","v":""},{"$f":"IF(【ジュエリー】入力欄!O402=\"\",\"\",【ジュエリー】入力欄!O402)","v":""}]
["８",{"$f":"IF(【ジュエリー】入力欄!K403=\"\",\"\",【ジュエリー】入力欄!K403)","v":""},{"$f":"IF(【ジュエリー】入力欄!E403=\"\",\"\",【ジュエリー】入力欄!E403)","v":""},{"$f":"CONCATENATE(IF(【ジュエリー】入力欄!F403=\"\",\"\",【ジュエリー】入力欄!F403),IF(【ジュエリー】入力欄!H403=\"\",CONCATENATE(\" \",【ジュエリー】入力欄!G403),CONCATENATE(\" \",【ジュエリー】入力欄!G403,【ジュエリー】入力欄!H403,IF(【ジュエリー】入力欄!G403=\"パール\",\"mm\",\"ct\"))),IF(【ジュエリー】入力欄!J403=\"\",CONCATENATE(\" \",【ジュエリー】入力欄!I403),CONCATENATE(\" \",【ジュエリー】入力欄!I403,【ジュエリー】入力欄!J403,IF(【ジュエリー】入力欄!I403=\"パール\",\"mm\",\"ct\"))))","v":"  "},{"$f":"IF(【ジュエリー】入力欄!L403=\"\",\"\",【ジュエリー】入力欄!L403&\"g\")","v":""},{"$f":"IF(【ジュエリー】入力欄!M403=\"\",\"\",【ジュエリー】入力欄!M403)","v":""},{"$f":"IF(【ジュエリー】入力欄!O403=\"\",\"\",【ジュエリー】入力欄!O403)","v":""}]
["９",{"$f":"IF(【ジュエリー】入力欄!K404=\"\",\"\",【ジュエリー】入力欄!K404)","v":""},{"$f":"IF(【ジュエリー】入力欄!E404=\"\",\"\",【ジュエリー】入力欄!E404)","v":""},{"$f":"CONCATENATE(IF(【ジュエリー】入力欄!F404=\"\",\"\",【ジュエリー】入力欄!F404),IF(【ジュエリー】入力欄!H404=\"\",CONCATENATE(\" \",【ジュエリー】入力欄!G404),CONCATENATE(\" \",【ジュエリー】入力欄!G404,【ジュエリー】入力欄!H404,IF(【ジュエリー】入力欄!G404=\"パール\",\"mm\",\"ct\"))),IF(【ジュエリー】入力欄!J404=\"\",CONCATENATE(\" \",【ジュエリー】入力欄!I404),CONCATENATE(\" \",【ジュエリー】入力欄!I404,【ジュエリー】入力欄!J404,IF(【ジュエリー】入力欄!I404=\"パール\",\"mm\",\"ct\"))))","v":"  "},{"$f":"IF(【ジュエリー】入力欄!L404=\"\",\"\",【ジュエリー】入力欄!L404&\"g\")","v":""},{"$f":"IF(【ジュエリー】入力欄!M404=\"\",\"\",【ジュエリー】入力欄!M404)","v":""},{"$f":"IF(【ジュエリー】入力欄!O404=\"\",\"\",【ジュエリー】入力欄!O404)","v":""}]
["１０",{"$f":"IF(【ジュエリー】入力欄!K405=\"\",\"\",【ジュエリー】入力欄!K405)","v":""},{"$f":"IF(【ジュエリー】入力欄!E405=\"\",\"\",【ジュエリー】入力欄!E405)","v":""},{"$f":"CONCATENATE(IF(【ジュエリー】入力欄!F405=\"\",\"\",【ジュエリー】入力欄!F405),IF(【ジュエリー】入力欄!H405=\"\",CONCATENATE(\" \",【ジュエリー】入力欄!G405),CONCATENATE(\" \",【ジュエリー】入力欄!G405,【ジュエリー】入力欄!H405,IF(【ジュエリー】入力欄!G405=\"パール\",\"mm\",\"ct\"))),IF(【ジュエリー】入力欄!J405=\"\",CONCATENATE(\" \",【ジュエリー】入力欄!I405),CONCATENATE(\" \",【ジュエリー】入力欄!I405,【ジュエリー】入力欄!J405,IF(【ジュエリー】入力欄!I405=\"パール\",\"mm\",\"ct\"))))","v":"  "},{"$f":"IF(【ジュエリー】入力欄!L405=\"\",\"\",【ジュエリー】入力欄!L405&\"g\")","v":""},{"$f":"IF(【ジュエリー】入力欄!M405=\"\",\"\",【ジュエリー】入力欄!M405)","v":""},{"$f":"IF(【ジュエリー】入力欄!O405=\"\",\"\",【ジュエリー】入力欄!O405)","v":""}]
[]
["   \n",{"$f":"CONCATENATE(\"出品表　（　\",【ジュエリー】入力欄!I$3,\"　大吉オークション　宝石・ジュエリー）\")","v":"出品表　（　　大吉オークション　宝石・ジュエリー）"}]
[]
[null,"箱番：",{"$f":"IF(【ジュエリー】入力欄!C406=\"\",\"\",【ジュエリー】入力欄!C406)","v":""},"※太枠の中をご記入ください",null,"会社名",{"$f":"IF(【ジュエリー】入力欄!C$3=\"\",\"\",【ジュエリー】入力欄!C$3)","v":""}]
[]
["番号","品目","金性","詳細・特徴","重量","付属品","指値\n（3万円以上）","発句"]
["１",{"$f":"IF(【ジュエリー】入力欄!K406=\"\",\"\",【ジュエリー】入力欄!K406)","v":""},{"$f":"IF(【ジュエリー】入力欄!E406=\"\",\"\",【ジュエリー】入力欄!E406)","v":""},{"$f":"CONCATENATE(IF(【ジュエリー】入力欄!F406=\"\",\"\",【ジュエリー】入力欄!F406),IF(【ジュエリー】入力欄!H406=\"\",CONCATENATE(\" \",【ジュエリー】入力欄!G406),CONCATENATE(\" \",【ジュエリー】入力欄!G406,【ジュエリー】入力欄!H406,IF(【ジュエリー】入力欄!G406=\"パール\",\"mm\",\"ct\"))),IF(【ジュエリー】入力欄!J406=\"\",CONCATENATE(\" \",【ジュエリー】入力欄!I406),CONCATENATE(\" \",【ジュエリー】入力欄!I406,【ジュエリー】入力欄!J406,IF(【ジュエリー】入力欄!I406=\"パール\",\"mm\",\"ct\"))))","v":"  "},{"$f":"IF(【ジュエリー】入力欄!L406=\"\",\"\",【ジュエリー】入力欄!L406&\"g\")","v":""},{"$f":"IF(【ジュエリー】入力欄!M406=\"\",\"\",【ジュエリー】入力欄!M406)","v":""},{"$f":"IF(【ジュエリー】入力欄!O406=\"\",\"\",【ジュエリー】入力欄!O406)","v":""}]
["２",{"$f":"IF(【ジュエリー】入力欄!K407=\"\",\"\",【ジュエリー】入力欄!K407)","v":""},{"$f":"IF(【ジュエリー】入力欄!E407=\"\",\"\",【ジュエリー】入力欄!E407)","v":""},{"$f":"CONCATENATE(IF(【ジュエリー】入力欄!F407=\"\",\"\",【ジュエリー】入力欄!F407),IF(【ジュエリー】入力欄!H407=\"\",CONCATENATE(\" \",【ジュエリー】入力欄!G407),CONCATENATE(\" \",【ジュエリー】入力欄!G407,【ジュエリー】入力欄!H407,IF(【ジュエリー】入力欄!G407=\"パール\",\"mm\",\"ct\"))),IF(【ジュエリー】入力欄!J407=\"\",CONCATENATE(\" \",【ジュエリー】入力欄!I407),CONCATENATE(\" \",【ジュエリー】入力欄!I407,【ジュエリー】入力欄!J407,IF(【ジュエリー】入力欄!I407=\"パール\",\"mm\",\"ct\"))))","v":"  "},{"$f":"IF(【ジュエリー】入力欄!L407=\"\",\"\",【ジュエリー】入力欄!L407&\"g\")","v":""},{"$f":"IF(【ジュエリー】入力欄!M407=\"\",\"\",【ジュエリー】入力欄!M407)","v":""},{"$f":"IF(【ジュエリー】入力欄!O407=\"\",\"\",【ジュエリー】入力欄!O407)","v":""}]
["３",{"$f":"IF(【ジュエリー】入力欄!K408=\"\",\"\",【ジュエリー】入力欄!K408)","v":""},{"$f":"IF(【ジュエリー】入力欄!E408=\"\",\"\",【ジュエリー】入力欄!E408)","v":""},{"$f":"CONCATENATE(IF(【ジュエリー】入力欄!F408=\"\",\"\",【ジュエリー】入力欄!F408),IF(【ジュエリー】入力欄!H408=\"\",CONCATENATE(\" \",【ジュエリー】入力欄!G408),CONCATENATE(\" \",【ジュエリー】入力欄!G408,【ジュエリー】入力欄!H408,IF(【ジュエリー】入力欄!G408=\"パール\",\"mm\",\"ct\"))),IF(【ジュエリー】入力欄!J408=\"\",CONCATENATE(\" \",【ジュエリー】入力欄!I408),CONCATENATE(\" \",【ジュエリー】入力欄!I408,【ジュエリー】入力欄!J408,IF(【ジュエリー】入力欄!I408=\"パール\",\"mm\",\"ct\"))))","v":"  "},{"$f":"IF(【ジュエリー】入力欄!L408=\"\",\"\",【ジュエリー】入力欄!L408&\"g\")","v":""},{"$f":"IF(【ジュエリー】入力欄!M408=\"\",\"\",【ジュエリー】入力欄!M408)","v":""},{"$f":"IF(【ジュエリー】入力欄!O408=\"\",\"\",【ジュエリー】入力欄!O408)","v":""}]
["４",{"$f":"IF(【ジュエリー】入力欄!K409=\"\",\"\",【ジュエリー】入力欄!K409)","v":""},{"$f":"IF(【ジュエリー】入力欄!E409=\"\",\"\",【ジュエリー】入力欄!E409)","v":""},{"$f":"CONCATENATE(IF(【ジュエリー】入力欄!F409=\"\",\"\",【ジュエリー】入力欄!F409),IF(【ジュエリー】入力欄!H409=\"\",CONCATENATE(\" \",【ジュエリー】入力欄!G409),CONCATENATE(\" \",【ジュエリー】入力欄!G409,【ジュエリー】入力欄!H409,IF(【ジュエリー】入力欄!G409=\"パール\",\"mm\",\"ct\"))),IF(【ジュエリー】入力欄!J409=\"\",CONCATENATE(\" \",【ジュエリー】入力欄!I409),CONCATENATE(\" \",【ジュエリー】入力欄!I409,【ジュエリー】入力欄!J409,IF(【ジュエリー】入力欄!I409=\"パール\",\"mm\",\"ct\"))))","v":"  "},{"$f":"IF(【ジュエリー】入力欄!L409=\"\",\"\",【ジュエリー】入力欄!L409&\"g\")","v":""},{"$f":"IF(【ジュエリー】入力欄!M409=\"\",\"\",【ジュエリー】入力欄!M409)","v":""},{"$f":"IF(【ジュエリー】入力欄!O409=\"\",\"\",【ジュエリー】入力欄!O409)","v":""}]
["５",{"$f":"IF(【ジュエリー】入力欄!K410=\"\",\"\",【ジュエリー】入力欄!K410)","v":""},{"$f":"IF(【ジュエリー】入力欄!E410=\"\",\"\",【ジュエリー】入力欄!E410)","v":""},{"$f":"CONCATENATE(IF(【ジュエリー】入力欄!F410=\"\",\"\",【ジュエリー】入力欄!F410),IF(【ジュエリー】入力欄!H410=\"\",CONCATENATE(\" \",【ジュエリー】入力欄!G410),CONCATENATE(\" \",【ジュエリー】入力欄!G410,【ジュエリー】入力欄!H410,IF(【ジュエリー】入力欄!G410=\"パール\",\"mm\",\"ct\"))),IF(【ジュエリー】入力欄!J410=\"\",CONCATENATE(\" \",【ジュエリー】入力欄!I410),CONCATENATE(\" \",【ジュエリー】入力欄!I410,【ジュエリー】入力欄!J410,IF(【ジュエリー】入力欄!I410=\"パール\",\"mm\",\"ct\"))))","v":"  "},{"$f":"IF(【ジュエリー】入力欄!L410=\"\",\"\",【ジュエリー】入力欄!L410&\"g\")","v":""},{"$f":"IF(【ジュエリー】入力欄!M410=\"\",\"\",【ジュエリー】入力欄!M410)","v":""},{"$f":"IF(【ジュエリー】入力欄!O410=\"\",\"\",【ジュエリー】入力欄!O410)","v":""}]
["６",{"$f":"IF(【ジュエリー】入力欄!K411=\"\",\"\",【ジュエリー】入力欄!K411)","v":""},{"$f":"IF(【ジュエリー】入力欄!E411=\"\",\"\",【ジュエリー】入力欄!E411)","v":""},{"$f":"CONCATENATE(IF(【ジュエリー】入力欄!F411=\"\",\"\",【ジュエリー】入力欄!F411),IF(【ジュエリー】入力欄!H411=\"\",CONCATENATE(\" \",【ジュエリー】入力欄!G411),CONCATENATE(\" \",【ジュエリー】入力欄!G411,【ジュエリー】入力欄!H411,IF(【ジュエリー】入力欄!G411=\"パール\",\"mm\",\"ct\"))),IF(【ジュエリー】入力欄!J411=\"\",CONCATENATE(\" \",【ジュエリー】入力欄!I411),CONCATENATE(\" \",【ジュエリー】入力欄!I411,【ジュエリー】入力欄!J411,IF(【ジュエリー】入力欄!I411=\"パール\",\"mm\",\"ct\"))))","v":"  "},{"$f":"IF(【ジュエリー】入力欄!L411=\"\",\"\",【ジュエリー】入力欄!L411&\"g\")","v":""},{"$f":"IF(【ジュエリー】入力欄!M411=\"\",\"\",【ジュエリー】入力欄!M411)","v":""},{"$f":"IF(【ジュエリー】入力欄!O411=\"\",\"\",【ジュエリー】入力欄!O411)","v":""}]
["７",{"$f":"IF(【ジュエリー】入力欄!K412=\"\",\"\",【ジュエリー】入力欄!K412)","v":""},{"$f":"IF(【ジュエリー】入力欄!E412=\"\",\"\",【ジュエリー】入力欄!E412)","v":""},{"$f":"CONCATENATE(IF(【ジュエリー】入力欄!F412=\"\",\"\",【ジュエリー】入力欄!F412),IF(【ジュエリー】入力欄!H412=\"\",CONCATENATE(\" \",【ジュエリー】入力欄!G412),CONCATENATE(\" \",【ジュエリー】入力欄!G412,【ジュエリー】入力欄!H412,IF(【ジュエリー】入力欄!G412=\"パール\",\"mm\",\"ct\"))),IF(【ジュエリー】入力欄!J412=\"\",CONCATENATE(\" \",【ジュエリー】入力欄!I412),CONCATENATE(\" \",【ジュエリー】入力欄!I412,【ジュエリー】入力欄!J412,IF(【ジュエリー】入力欄!I412=\"パール\",\"mm\",\"ct\"))))","v":"  "},{"$f":"IF(【ジュエリー】入力欄!L412=\"\",\"\",【ジュエリー】入力欄!L412&\"g\")","v":""},{"$f":"IF(【ジュエリー】入力欄!M412=\"\",\"\",【ジュエリー】入力欄!M412)","v":""},{"$f":"IF(【ジュエリー】入力欄!O412=\"\",\"\",【ジュエリー】入力欄!O412)","v":""}]
["８",{"$f":"IF(【ジュエリー】入力欄!K413=\"\",\"\",【ジュエリー】入力欄!K413)","v":""},{"$f":"IF(【ジュエリー】入力欄!E413=\"\",\"\",【ジュエリー】入力欄!E413)","v":""},{"$f":"CONCATENATE(IF(【ジュエリー】入力欄!F413=\"\",\"\",【ジュエリー】入力欄!F413),IF(【ジュエリー】入力欄!H413=\"\",CONCATENATE(\" \",【ジュエリー】入力欄!G413),CONCATENATE(\" \",【ジュエリー】入力欄!G413,【ジュエリー】入力欄!H413,IF(【ジュエリー】入力欄!G413=\"パール\",\"mm\",\"ct\"))),IF(【ジュエリー】入力欄!J413=\"\",CONCATENATE(\" \",【ジュエリー】入力欄!I413),CONCATENATE(\" \",【ジュエリー】入力欄!I413,【ジュエリー】入力欄!J413,IF(【ジュエリー】入力欄!I413=\"パール\",\"mm\",\"ct\"))))","v":"  "},{"$f":"IF(【ジュエリー】入力欄!L413=\"\",\"\",【ジュエリー】入力欄!L413&\"g\")","v":""},{"$f":"IF(【ジュエリー】入力欄!M413=\"\",\"\",【ジュエリー】入力欄!M413)","v":""},{"$f":"IF(【ジュエリー】入力欄!O413=\"\",\"\",【ジュエリー】入力欄!O413)","v":""}]
["９",{"$f":"IF(【ジュエリー】入力欄!K414=\"\",\"\",【ジュエリー】入力欄!K414)","v":""},{"$f":"IF(【ジュエリー】入力欄!E414=\"\",\"\",【ジュエリー】入力欄!E414)","v":""},{"$f":"CONCATENATE(IF(【ジュエリー】入力欄!F414=\"\",\"\",【ジュエリー】入力欄!F414),IF(【ジュエリー】入力欄!H414=\"\",CONCATENATE(\" \",【ジュエリー】入力欄!G414),CONCATENATE(\" \",【ジュエリー】入力欄!G414,【ジュエリー】入力欄!H414,IF(【ジュエリー】入力欄!G414=\"パール\",\"mm\",\"ct\"))),IF(【ジュエリー】入力欄!J414=\"\",CONCATENATE(\" \",【ジュエリー】入力欄!I414),CONCATENATE(\" \",【ジュエリー】入力欄!I414,【ジュエリー】入力欄!J414,IF(【ジュエリー】入力欄!I414=\"パール\",\"mm\",\"ct\"))))","v":"  "},{"$f":"IF(【ジュエリー】入力欄!L414=\"\",\"\",【ジュエリー】入力欄!L414&\"g\")","v":""},{"$f":"IF(【ジュエリー】入力欄!M414=\"\",\"\",【ジュエリー】入力欄!M414)","v":""},{"$f":"IF(【ジュエリー】入力欄!O414=\"\",\"\",【ジュエリー】入力欄!O414)","v":""}]
["１０",{"$f":"IF(【ジュエリー】入力欄!K415=\"\",\"\",【ジュエリー】入力欄!K415)","v":""},{"$f":"IF(【ジュエリー】入力欄!E415=\"\",\"\",【ジュエリー】入力欄!E415)","v":""},{"$f":"CONCATENATE(IF(【ジュエリー】入力欄!F415=\"\",\"\",【ジュエリー】入力欄!F415),IF(【ジュエリー】入力欄!H415=\"\",CONCATENATE(\" \",【ジュエリー】入力欄!G415),CONCATENATE(\" \",【ジュエリー】入力欄!G415,【ジュエリー】入力欄!H415,IF(【ジュエリー】入力欄!G415=\"パール\",\"mm\",\"ct\"))),IF(【ジュエリー】入力欄!J415=\"\",CONCATENATE(\" \",【ジュエリー】入力欄!I415),CONCATENATE(\" \",【ジュエリー】入力欄!I415,【ジュエリー】入力欄!J415,IF(【ジュエリー】入力欄!I415=\"パール\",\"mm\",\"ct\"))))","v":"  "},{"$f":"IF(【ジュエリー】入力欄!L415=\"\",\"\",【ジュエリー】入力欄!L415&\"g\")","v":""},{"$f":"IF(【ジュエリー】入力欄!M415=\"\",\"\",【ジュエリー】入力欄!M415)","v":""},{"$f":"IF(【ジュエリー】入力欄!O415=\"\",\"\",【ジュエリー】入力欄!O415)","v":""}]
[]
["   \n",{"$f":"CONCATENATE(\"出品表　（　\",【ジュエリー】入力欄!I$3,\"　大吉オークション　宝石・ジュエリー）\")","v":"出品表　（　　大吉オークション　宝石・ジュエリー）"}]
[]
[null,"箱番：",{"$f":"IF(【ジュエリー】入力欄!C416=\"\",\"\",【ジュエリー】入力欄!C416)","v":""},"※太枠の中をご記入ください",null,"会社名",{"$f":"IF(【ジュエリー】入力欄!C$3=\"\",\"\",【ジュエリー】入力欄!C$3)","v":""}]
[]
["番号","品目","金性","詳細・特徴","重量","付属品","指値\n（3万円以上）","発句"]
["１",{"$f":"IF(【ジュエリー】入力欄!K416=\"\",\"\",【ジュエリー】入力欄!K416)","v":""},{"$f":"IF(【ジュエリー】入力欄!E416=\"\",\"\",【ジュエリー】入力欄!E416)","v":""},{"$f":"CONCATENATE(IF(【ジュエリー】入力欄!F416=\"\",\"\",【ジュエリー】入力欄!F416),IF(【ジュエリー】入力欄!H416=\"\",CONCATENATE(\" \",【ジュエリー】入力欄!G416),CONCATENATE(\" \",【ジュエリー】入力欄!G416,【ジュエリー】入力欄!H416,IF(【ジュエリー】入力欄!G416=\"パール\",\"mm\",\"ct\"))),IF(【ジュエリー】入力欄!J416=\"\",CONCATENATE(\" \",【ジュエリー】入力欄!I416),CONCATENATE(\" \",【ジュエリー】入力欄!I416,【ジュエリー】入力欄!J416,IF(【ジュエリー】入力欄!I416=\"パール\",\"mm\",\"ct\"))))","v":"  "},{"$f":"IF(【ジュエリー】入力欄!L416=\"\",\"\",【ジュエリー】入力欄!L416&\"g\")","v":""},{"$f":"IF(【ジュエリー】入力欄!M416=\"\",\"\",【ジュエリー】入力欄!M416)","v":""},{"$f":"IF(【ジュエリー】入力欄!O416=\"\",\"\",【ジュエリー】入力欄!O416)","v":""}]
["２",{"$f":"IF(【ジュエリー】入力欄!K417=\"\",\"\",【ジュエリー】入力欄!K417)","v":""},{"$f":"IF(【ジュエリー】入力欄!E417=\"\",\"\",【ジュエリー】入力欄!E417)","v":""},{"$f":"CONCATENATE(IF(【ジュエリー】入力欄!F417=\"\",\"\",【ジュエリー】入力欄!F417),IF(【ジュエリー】入力欄!H417=\"\",CONCATENATE(\" \",【ジュエリー】入力欄!G417),CONCATENATE(\" \",【ジュエリー】入力欄!G417,【ジュエリー】入力欄!H417,IF(【ジュエリー】入力欄!G417=\"パール\",\"mm\",\"ct\"))),IF(【ジュエリー】入力欄!J417=\"\",CONCATENATE(\" \",【ジュエリー】入力欄!I417),CONCATENATE(\" \",【ジュエリー】入力欄!I417,【ジュエリー】入力欄!J417,IF(【ジュエリー】入力欄!I417=\"パール\",\"mm\",\"ct\"))))","v":"  "},{"$f":"IF(【ジュエリー】入力欄!L417=\"\",\"\",【ジュエリー】入力欄!L417&\"g\")","v":""},{"$f":"IF(【ジュエリー】入力欄!M417=\"\",\"\",【ジュエリー】入力欄!M417)","v":""},{"$f":"IF(【ジュエリー】入力欄!O417=\"\",\"\",【ジュエリー】入力欄!O417)","v":""}]
["３",{"$f":"IF(【ジュエリー】入力欄!K418=\"\",\"\",【ジュエリー】入力欄!K418)","v":""},{"$f":"IF(【ジュエリー】入力欄!E418=\"\",\"\",【ジュエリー】入力欄!E418)","v":""},{"$f":"CONCATENATE(IF(【ジュエリー】入力欄!F418=\"\",\"\",【ジュエリー】入力欄!F418),IF(【ジュエリー】入力欄!H418=\"\",CONCATENATE(\" \",【ジュエリー】入力欄!G418),CONCATENATE(\" \",【ジュエリー】入力欄!G418,【ジュエリー】入力欄!H418,IF(【ジュエリー】入力欄!G418=\"パール\",\"mm\",\"ct\"))),IF(【ジュエリー】入力欄!J418=\"\",CONCATENATE(\" \",【ジュエリー】入力欄!I418),CONCATENATE(\" \",【ジュエリー】入力欄!I418,【ジュエリー】入力欄!J418,IF(【ジュエリー】入力欄!I418=\"パール\",\"mm\",\"ct\"))))","v":"  "},{"$f":"IF(【ジュエリー】入力欄!L418=\"\",\"\",【ジュエリー】入力欄!L418&\"g\")","v":""},{"$f":"IF(【ジュエリー】入力欄!M418=\"\",\"\",【ジュエリー】入力欄!M418)","v":""},{"$f":"IF(【ジュエリー】入力欄!O418=\"\",\"\",【ジュエリー】入力欄!O418)","v":""}]
["４",{"$f":"IF(【ジュエリー】入力欄!K419=\"\",\"\",【ジュエリー】入力欄!K419)","v":""},{"$f":"IF(【ジュエリー】入力欄!E419=\"\",\"\",【ジュエリー】入力欄!E419)","v":""},{"$f":"CONCATENATE(IF(【ジュエリー】入力欄!F419=\"\",\"\",【ジュエリー】入力欄!F419),IF(【ジュエリー】入力欄!H419=\"\",CONCATENATE(\" \",【ジュエリー】入力欄!G419),CONCATENATE(\" \",【ジュエリー】入力欄!G419,【ジュエリー】入力欄!H419,IF(【ジュエリー】入力欄!G419=\"パール\",\"mm\",\"ct\"))),IF(【ジュエリー】入力欄!J419=\"\",CONCATENATE(\" \",【ジュエリー】入力欄!I419),CONCATENATE(\" \",【ジュエリー】入力欄!I419,【ジュエリー】入力欄!J419,IF(【ジュエリー】入力欄!I419=\"パール\",\"mm\",\"ct\"))))","v":"  "},{"$f":"IF(【ジュエリー】入力欄!L419=\"\",\"\",【ジュエリー】入力欄!L419&\"g\")","v":""},{"$f":"IF(【ジュエリー】入力欄!M419=\"\",\"\",【ジュエリー】入力欄!M419)","v":""},{"$f":"IF(【ジュエリー】入力欄!O419=\"\",\"\",【ジュエリー】入力欄!O419)","v":""}]
["５",{"$f":"IF(【ジュエリー】入力欄!K420=\"\",\"\",【ジュエリー】入力欄!K420)","v":""},{"$f":"IF(【ジュエリー】入力欄!E420=\"\",\"\",【ジュエリー】入力欄!E420)","v":""},{"$f":"CONCATENATE(IF(【ジュエリー】入力欄!F420=\"\",\"\",【ジュエリー】入力欄!F420),IF(【ジュエリー】入力欄!H420=\"\",CONCATENATE(\" \",【ジュエリー】入力欄!G420),CONCATENATE(\" \",【ジュエリー】入力欄!G420,【ジュエリー】入力欄!H420,IF(【ジュエリー】入力欄!G420=\"パール\",\"mm\",\"ct\"))),IF(【ジュエリー】入力欄!J420=\"\",CONCATENATE(\" \",【ジュエリー】入力欄!I420),CONCATENATE(\" \",【ジュエリー】入力欄!I420,【ジュエリー】入力欄!J420,IF(【ジュエリー】入力欄!I420=\"パール\",\"mm\",\"ct\"))))","v":"  "},{"$f":"IF(【ジュエリー】入力欄!L420=\"\",\"\",【ジュエリー】入力欄!L420&\"g\")","v":""},{"$f":"IF(【ジュエリー】入力欄!M420=\"\",\"\",【ジュエリー】入力欄!M420)","v":""},{"$f":"IF(【ジュエリー】入力欄!O420=\"\",\"\",【ジュエリー】入力欄!O420)","v":""}]
["６",{"$f":"IF(【ジュエリー】入力欄!K421=\"\",\"\",【ジュエリー】入力欄!K421)","v":""},{"$f":"IF(【ジュエリー】入力欄!E421=\"\",\"\",【ジュエリー】入力欄!E421)","v":""},{"$f":"CONCATENATE(IF(【ジュエリー】入力欄!F421=\"\",\"\",【ジュエリー】入力欄!F421),IF(【ジュエリー】入力欄!H421=\"\",CONCATENATE(\" \",【ジュエリー】入力欄!G421),CONCATENATE(\" \",【ジュエリー】入力欄!G421,【ジュエリー】入力欄!H421,IF(【ジュエリー】入力欄!G421=\"パール\",\"mm\",\"ct\"))),IF(【ジュエリー】入力欄!J421=\"\",CONCATENATE(\" \",【ジュエリー】入力欄!I421),CONCATENATE(\" \",【ジュエリー】入力欄!I421,【ジュエリー】入力欄!J421,IF(【ジュエリー】入力欄!I421=\"パール\",\"mm\",\"ct\"))))","v":"  "},{"$f":"IF(【ジュエリー】入力欄!L421=\"\",\"\",【ジュエリー】入力欄!L421&\"g\")","v":""},{"$f":"IF(【ジュエリー】入力欄!M421=\"\",\"\",【ジュエリー】入力欄!M421)","v":""},{"$f":"IF(【ジュエリー】入力欄!O421=\"\",\"\",【ジュエリー】入力欄!O421)","v":""}]
["７",{"$f":"IF(【ジュエリー】入力欄!K422=\"\",\"\",【ジュエリー】入力欄!K422)","v":""},{"$f":"IF(【ジュエリー】入力欄!E422=\"\",\"\",【ジュエリー】入力欄!E422)","v":""},{"$f":"CONCATENATE(IF(【ジュエリー】入力欄!F422=\"\",\"\",【ジュエリー】入力欄!F422),IF(【ジュエリー】入力欄!H422=\"\",CONCATENATE(\" \",【ジュエリー】入力欄!G422),CONCATENATE(\" \",【ジュエリー】入力欄!G422,【ジュエリー】入力欄!H422,IF(【ジュエリー】入力欄!G422=\"パール\",\"mm\",\"ct\"))),IF(【ジュエリー】入力欄!J422=\"\",CONCATENATE(\" \",【ジュエリー】入力欄!I422),CONCATENATE(\" \",【ジュエリー】入力欄!I422,【ジュエリー】入力欄!J422,IF(【ジュエリー】入力欄!I422=\"パール\",\"mm\",\"ct\"))))","v":"  "},{"$f":"IF(【ジュエリー】入力欄!L422=\"\",\"\",【ジュエリー】入力欄!L422&\"g\")","v":""},{"$f":"IF(【ジュエリー】入力欄!M422=\"\",\"\",【ジュエリー】入力欄!M422)","v":""},{"$f":"IF(【ジュエリー】入力欄!O422=\"\",\"\",【ジュエリー】入力欄!O422)","v":""}]
["８",{"$f":"IF(【ジュエリー】入力欄!K423=\"\",\"\",【ジュエリー】入力欄!K423)","v":""},{"$f":"IF(【ジュエリー】入力欄!E423=\"\",\"\",【ジュエリー】入力欄!E423)","v":""},{"$f":"CONCATENATE(IF(【ジュエリー】入力欄!F423=\"\",\"\",【ジュエリー】入力欄!F423),IF(【ジュエリー】入力欄!H423=\"\",CONCATENATE(\" \",【ジュエリー】入力欄!G423),CONCATENATE(\" \",【ジュエリー】入力欄!G423,【ジュエリー】入力欄!H423,IF(【ジュエリー】入力欄!G423=\"パール\",\"mm\",\"ct\"))),IF(【ジュエリー】入力欄!J423=\"\",CONCATENATE(\" \",【ジュエリー】入力欄!I423),CONCATENATE(\" \",【ジュエリー】入力欄!I423,【ジュエリー】入力欄!J423,IF(【ジュエリー】入力欄!I423=\"パール\",\"mm\",\"ct\"))))","v":"  "},{"$f":"IF(【ジュエリー】入力欄!L423=\"\",\"\",【ジュエリー】入力欄!L423&\"g\")","v":""},{"$f":"IF(【ジュエリー】入力欄!M423=\"\",\"\",【ジュエリー】入力欄!M423)","v":""},{"$f":"IF(【ジュエリー】入力欄!O423=\"\",\"\",【ジュエリー】入力欄!O423)","v":""}]
["９",{"$f":"IF(【ジュエリー】入力欄!K424=\"\",\"\",【ジュエリー】入力欄!K424)","v":""},{"$f":"IF(【ジュエリー】入力欄!E424=\"\",\"\",【ジュエリー】入力欄!E424)","v":""},{"$f":"CONCATENATE(IF(【ジュエリー】入力欄!F424=\"\",\"\",【ジュエリー】入力欄!F424),IF(【ジュエリー】入力欄!H424=\"\",CONCATENATE(\" \",【ジュエリー】入力欄!G424),CONCATENATE(\" \",【ジュエリー】入力欄!G424,【ジュエリー】入力欄!H424,IF(【ジュエリー】入力欄!G424=\"パール\",\"mm\",\"ct\"))),IF(【ジュエリー】入力欄!J424=\"\",CONCATENATE(\" \",【ジュエリー】入力欄!I424),CONCATENATE(\" \",【ジュエリー】入力欄!I424,【ジュエリー】入力欄!J424,IF(【ジュエリー】入力欄!I424=\"パール\",\"mm\",\"ct\"))))","v":"  "},{"$f":"IF(【ジュエリー】入力欄!L424=\"\",\"\",【ジュエリー】入力欄!L424&\"g\")","v":""},{"$f":"IF(【ジュエリー】入力欄!M424=\"\",\"\",【ジュエリー】入力欄!M424)","v":""},{"$f":"IF(【ジュエリー】入力欄!O424=\"\",\"\",【ジュエリー】入力欄!O424)","v":""}]
["１０",{"$f":"IF(【ジュエリー】入力欄!K425=\"\",\"\",【ジュエリー】入力欄!K425)","v":""},{"$f":"IF(【ジュエリー】入力欄!E425=\"\",\"\",【ジュエリー】入力欄!E425)","v":""},{"$f":"CONCATENATE(IF(【ジュエリー】入力欄!F425=\"\",\"\",【ジュエリー】入力欄!F425),IF(【ジュエリー】入力欄!H425=\"\",CONCATENATE(\" \",【ジュエリー】入力欄!G425),CONCATENATE(\" \",【ジュエリー】入力欄!G425,【ジュエリー】入力欄!H425,IF(【ジュエリー】入力欄!G425=\"パール\",\"mm\",\"ct\"))),IF(【ジュエリー】入力欄!J425=\"\",CONCATENATE(\" \",【ジュエリー】入力欄!I425),CONCATENATE(\" \",【ジュエリー】入力欄!I425,【ジュエリー】入力欄!J425,IF(【ジュエリー】入力欄!I425=\"パール\",\"mm\",\"ct\"))))","v":"  "},{"$f":"IF(【ジュエリー】入力欄!L425=\"\",\"\",【ジュエリー】入力欄!L425&\"g\")","v":""},{"$f":"IF(【ジュエリー】入力欄!M425=\"\",\"\",【ジュエリー】入力欄!M425)","v":""},{"$f":"IF(【ジュエリー】入力欄!O425=\"\",\"\",【ジュエリー】入力欄!O425)","v":""}]
[]
["   \n",{"$f":"CONCATENATE(\"出品表　（　\",【ジュエリー】入力欄!I$3,\"　大吉オークション　宝石・ジュエリー）\")","v":"出品表　（　　大吉オークション　宝石・ジュエリー）"}]
[]
[null,"箱番：",{"$f":"IF(【ジュエリー】入力欄!C426=\"\",\"\",【ジュエリー】入力欄!C426)","v":""},"※太枠の中をご記入ください",null,"会社名",{"$f":"IF(【ジュエリー】入力欄!C$3=\"\",\"\",【ジュエリー】入力欄!C$3)","v":""}]
[]
["番号","品目","金性","詳細・特徴","重量","付属品","指値\n（3万円以上）","発句"]
["１",{"$f":"IF(【ジュエリー】入力欄!K426=\"\",\"\",【ジュエリー】入力欄!K426)","v":""},{"$f":"IF(【ジュエリー】入力欄!E426=\"\",\"\",【ジュエリー】入力欄!E426)","v":""},{"$f":"CONCATENATE(IF(【ジュエリー】入力欄!F426=\"\",\"\",【ジュエリー】入力欄!F426),IF(【ジュエリー】入力欄!H426=\"\",CONCATENATE(\" \",【ジュエリー】入力欄!G426),CONCATENATE(\" \",【ジュエリー】入力欄!G426,【ジュエリー】入力欄!H426,IF(【ジュエリー】入力欄!G426=\"パール\",\"mm\",\"ct\"))),IF(【ジュエリー】入力欄!J426=\"\",CONCATENATE(\" \",【ジュエリー】入力欄!I426),CONCATENATE(\" \",【ジュエリー】入力欄!I426,【ジュエリー】入力欄!J426,IF(【ジュエリー】入力欄!I426=\"パール\",\"mm\",\"ct\"))))","v":"  "},{"$f":"IF(【ジュエリー】入力欄!L426=\"\",\"\",【ジュエリー】入力欄!L426&\"g\")","v":""},{"$f":"IF(【ジュエリー】入力欄!M426=\"\",\"\",【ジュエリー】入力欄!M426)","v":""},{"$f":"IF(【ジュエリー】入力欄!O426=\"\",\"\",【ジュエリー】入力欄!O426)","v":""}]
["２",{"$f":"IF(【ジュエリー】入力欄!K427=\"\",\"\",【ジュエリー】入力欄!K427)","v":""},{"$f":"IF(【ジュエリー】入力欄!E427=\"\",\"\",【ジュエリー】入力欄!E427)","v":""},{"$f":"CONCATENATE(IF(【ジュエリー】入力欄!F427=\"\",\"\",【ジュエリー】入力欄!F427),IF(【ジュエリー】入力欄!H427=\"\",CONCATENATE(\" \",【ジュエリー】入力欄!G427),CONCATENATE(\" \",【ジュエリー】入力欄!G427,【ジュエリー】入力欄!H427,IF(【ジュエリー】入力欄!G427=\"パール\",\"mm\",\"ct\"))),IF(【ジュエリー】入力欄!J427=\"\",CONCATENATE(\" \",【ジュエリー】入力欄!I427),CONCATENATE(\" \",【ジュエリー】入力欄!I427,【ジュエリー】入力欄!J427,IF(【ジュエリー】入力欄!I427=\"パール\",\"mm\",\"ct\"))))","v":"  "},{"$f":"IF(【ジュエリー】入力欄!L427=\"\",\"\",【ジュエリー】入力欄!L427&\"g\")","v":""},{"$f":"IF(【ジュエリー】入力欄!M427=\"\",\"\",【ジュエリー】入力欄!M427)","v":""},{"$f":"IF(【ジュエリー】入力欄!O427=\"\",\"\",【ジュエリー】入力欄!O427)","v":""}]
["３",{"$f":"IF(【ジュエリー】入力欄!K428=\"\",\"\",【ジュエリー】入力欄!K428)","v":""},{"$f":"IF(【ジュエリー】入力欄!E428=\"\",\"\",【ジュエリー】入力欄!E428)","v":""},{"$f":"CONCATENATE(IF(【ジュエリー】入力欄!F428=\"\",\"\",【ジュエリー】入力欄!F428),IF(【ジュエリー】入力欄!H428=\"\",CONCATENATE(\" \",【ジュエリー】入力欄!G428),CONCATENATE(\" \",【ジュエリー】入力欄!G428,【ジュエリー】入力欄!H428,IF(【ジュエリー】入力欄!G428=\"パール\",\"mm\",\"ct\"))),IF(【ジュエリー】入力欄!J428=\"\",CONCATENATE(\" \",【ジュエリー】入力欄!I428),CONCATENATE(\" \",【ジュエリー】入力欄!I428,【ジュエリー】入力欄!J428,IF(【ジュエリー】入力欄!I428=\"パール\",\"mm\",\"ct\"))))","v":"  "},{"$f":"IF(【ジュエリー】入力欄!L428=\"\",\"\",【ジュエリー】入力欄!L428&\"g\")","v":""},{"$f":"IF(【ジュエリー】入力欄!M428=\"\",\"\",【ジュエリー】入力欄!M428)","v":""},{"$f":"IF(【ジュエリー】入力欄!O428=\"\",\"\",【ジュエリー】入力欄!O428)","v":""}]
["４",{"$f":"IF(【ジュエリー】入力欄!K429=\"\",\"\",【ジュエリー】入力欄!K429)","v":""},{"$f":"IF(【ジュエリー】入力欄!E429=\"\",\"\",【ジュエリー】入力欄!E429)","v":""},{"$f":"CONCATENATE(IF(【ジュエリー】入力欄!F429=\"\",\"\",【ジュエリー】入力欄!F429),IF(【ジュエリー】入力欄!H429=\"\",CONCATENATE(\" \",【ジュエリー】入力欄!G429),CONCATENATE(\" \",【ジュエリー】入力欄!G429,【ジュエリー】入力欄!H429,IF(【ジュエリー】入力欄!G429=\"パール\",\"mm\",\"ct\"))),IF(【ジュエリー】入力欄!J429=\"\",CONCATENATE(\" \",【ジュエリー】入力欄!I429),CONCATENATE(\" \",【ジュエリー】入力欄!I429,【ジュエリー】入力欄!J429,IF(【ジュエリー】入力欄!I429=\"パール\",\"mm\",\"ct\"))))","v":"  "},{"$f":"IF(【ジュエリー】入力欄!L429=\"\",\"\",【ジュエリー】入力欄!L429&\"g\")","v":""},{"$f":"IF(【ジュエリー】入力欄!M429=\"\",\"\",【ジュエリー】入力欄!M429)","v":""},{"$f":"IF(【ジュエリー】入力欄!O429=\"\",\"\",【ジュエリー】入力欄!O429)","v":""}]
["５",{"$f":"IF(【ジュエリー】入力欄!K430=\"\",\"\",【ジュエリー】入力欄!K430)","v":""},{"$f":"IF(【ジュエリー】入力欄!E430=\"\",\"\",【ジュエリー】入力欄!E430)","v":""},{"$f":"CONCATENATE(IF(【ジュエリー】入力欄!F430=\"\",\"\",【ジュエリー】入力欄!F430),IF(【ジュエリー】入力欄!H430=\"\",CONCATENATE(\" \",【ジュエリー】入力欄!G430),CONCATENATE(\" \",【ジュエリー】入力欄!G430,【ジュエリー】入力欄!H430,IF(【ジュエリー】入力欄!G430=\"パール\",\"mm\",\"ct\"))),IF(【ジュエリー】入力欄!J430=\"\",CONCATENATE(\" \",【ジュエリー】入力欄!I430),CONCATENATE(\" \",【ジュエリー】入力欄!I430,【ジュエリー】入力欄!J430,IF(【ジュエリー】入力欄!I430=\"パール\",\"mm\",\"ct\"))))","v":"  "},{"$f":"IF(【ジュエリー】入力欄!L430=\"\",\"\",【ジュエリー】入力欄!L430&\"g\")","v":""},{"$f":"IF(【ジュエリー】入力欄!M430=\"\",\"\",【ジュエリー】入力欄!M430)","v":""},{"$f":"IF(【ジュエリー】入力欄!O430=\"\",\"\",【ジュエリー】入力欄!O430)","v":""}]
["６",{"$f":"IF(【ジュエリー】入力欄!K431=\"\",\"\",【ジュエリー】入力欄!K431)","v":""},{"$f":"IF(【ジュエリー】入力欄!E431=\"\",\"\",【ジュエリー】入力欄!E431)","v":""},{"$f":"CONCATENATE(IF(【ジュエリー】入力欄!F431=\"\",\"\",【ジュエリー】入力欄!F431),IF(【ジュエリー】入力欄!H431=\"\",CONCATENATE(\" \",【ジュエリー】入力欄!G431),CONCATENATE(\" \",【ジュエリー】入力欄!G431,【ジュエリー】入力欄!H431,IF(【ジュエリー】入力欄!G431=\"パール\",\"mm\",\"ct\"))),IF(【ジュエリー】入力欄!J431=\"\",CONCATENATE(\" \",【ジュエリー】入力欄!I431),CONCATENATE(\" \",【ジュエリー】入力欄!I431,【ジュエリー】入力欄!J431,IF(【ジュエリー】入力欄!I431=\"パール\",\"mm\",\"ct\"))))","v":"  "},{"$f":"IF(【ジュエリー】入力欄!L431=\"\",\"\",【ジュエリー】入力欄!L431&\"g\")","v":""},{"$f":"IF(【ジュエリー】入力欄!M431=\"\",\"\",【ジュエリー】入力欄!M431)","v":""},{"$f":"IF(【ジュエリー】入力欄!O431=\"\",\"\",【ジュエリー】入力欄!O431)","v":""}]
["７",{"$f":"IF(【ジュエリー】入力欄!K432=\"\",\"\",【ジュエリー】入力欄!K432)","v":""},{"$f":"IF(【ジュエリー】入力欄!E432=\"\",\"\",【ジュエリー】入力欄!E432)","v":""},{"$f":"CONCATENATE(IF(【ジュエリー】入力欄!F432=\"\",\"\",【ジュエリー】入力欄!F432),IF(【ジュエリー】入力欄!H432=\"\",CONCATENATE(\" \",【ジュエリー】入力欄!G432),CONCATENATE(\" \",【ジュエリー】入力欄!G432,【ジュエリー】入力欄!H432,IF(【ジュエリー】入力欄!G432=\"パール\",\"mm\",\"ct\"))),IF(【ジュエリー】入力欄!J432=\"\",CONCATENATE(\" \",【ジュエリー】入力欄!I432),CONCATENATE(\" \",【ジュエリー】入力欄!I432,【ジュエリー】入力欄!J432,IF(【ジュエリー】入力欄!I432=\"パール\",\"mm\",\"ct\"))))","v":"  "},{"$f":"IF(【ジュエリー】入力欄!L432=\"\",\"\",【ジュエリー】入力欄!L432&\"g\")","v":""},{"$f":"IF(【ジュエリー】入力欄!M432=\"\",\"\",【ジュエリー】入力欄!M432)","v":""},{"$f":"IF(【ジュエリー】入力欄!O432=\"\",\"\",【ジュエリー】入力欄!O432)","v":""}]
["８",{"$f":"IF(【ジュエリー】入力欄!K433=\"\",\"\",【ジュエリー】入力欄!K433)","v":""},{"$f":"IF(【ジュエリー】入力欄!E433=\"\",\"\",【ジュエリー】入力欄!E433)","v":""},{"$f":"CONCATENATE(IF(【ジュエリー】入力欄!F433=\"\",\"\",【ジュエリー】入力欄!F433),IF(【ジュエリー】入力欄!H433=\"\",CONCATENATE(\" \",【ジュエリー】入力欄!G433),CONCATENATE(\" \",【ジュエリー】入力欄!G433,【ジュエリー】入力欄!H433,IF(【ジュエリー】入力欄!G433=\"パール\",\"mm\",\"ct\"))),IF(【ジュエリー】入力欄!J433=\"\",CONCATENATE(\" \",【ジュエリー】入力欄!I433),CONCATENATE(\" \",【ジュエリー】入力欄!I433,【ジュエリー】入力欄!J433,IF(【ジュエリー】入力欄!I433=\"パール\",\"mm\",\"ct\"))))","v":"  "},{"$f":"IF(【ジュエリー】入力欄!L433=\"\",\"\",【ジュエリー】入力欄!L433&\"g\")","v":""},{"$f":"IF(【ジュエリー】入力欄!M433=\"\",\"\",【ジュエリー】入力欄!M433)","v":""},{"$f":"IF(【ジュエリー】入力欄!O433=\"\",\"\",【ジュエリー】入力欄!O433)","v":""}]
["９",{"$f":"IF(【ジュエリー】入力欄!K434=\"\",\"\",【ジュエリー】入力欄!K434)","v":""},{"$f":"IF(【ジュエリー】入力欄!E434=\"\",\"\",【ジュエリー】入力欄!E434)","v":""},{"$f":"CONCATENATE(IF(【ジュエリー】入力欄!F434=\"\",\"\",【ジュエリー】入力欄!F434),IF(【ジュエリー】入力欄!H434=\"\",CONCATENATE(\" \",【ジュエリー】入力欄!G434),CONCATENATE(\" \",【ジュエリー】入力欄!G434,【ジュエリー】入力欄!H434,IF(【ジュエリー】入力欄!G434=\"パール\",\"mm\",\"ct\"))),IF(【ジュエリー】入力欄!J434=\"\",CONCATENATE(\" \",【ジュエリー】入力欄!I434),CONCATENATE(\" \",【ジュエリー】入力欄!I434,【ジュエリー】入力欄!J434,IF(【ジュエリー】入力欄!I434=\"パール\",\"mm\",\"ct\"))))","v":"  "},{"$f":"IF(【ジュエリー】入力欄!L434=\"\",\"\",【ジュエリー】入力欄!L434&\"g\")","v":""},{"$f":"IF(【ジュエリー】入力欄!M434=\"\",\"\",【ジュエリー】入力欄!M434)","v":""},{"$f":"IF(【ジュエリー】入力欄!O434=\"\",\"\",【ジュエリー】入力欄!O434)","v":""}]
["１０",{"$f":"IF(【ジュエリー】入力欄!K435=\"\",\"\",【ジュエリー】入力欄!K435)","v":""},{"$f":"IF(【ジュエリー】入力欄!E435=\"\",\"\",【ジュエリー】入力欄!E435)","v":""},{"$f":"CONCATENATE(IF(【ジュエリー】入力欄!F435=\"\",\"\",【ジュエリー】入力欄!F435),IF(【ジュエリー】入力欄!H435=\"\",CONCATENATE(\" \",【ジュエリー】入力欄!G435),CONCATENATE(\" \",【ジュエリー】入力欄!G435,【ジュエリー】入力欄!H435,IF(【ジュエリー】入力欄!G435=\"パール\",\"mm\",\"ct\"))),IF(【ジュエリー】入力欄!J435=\"\",CONCATENATE(\" \",【ジュエリー】入力欄!I435),CONCATENATE(\" \",【ジュエリー】入力欄!I435,【ジュエリー】入力欄!J435,IF(【ジュエリー】入力欄!I435=\"パール\",\"mm\",\"ct\"))))","v":"  "},{"$f":"IF(【ジュエリー】入力欄!L435=\"\",\"\",【ジュエリー】入力欄!L435&\"g\")","v":""},{"$f":"IF(【ジュエリー】入力欄!M435=\"\",\"\",【ジュエリー】入力欄!M435)","v":""},{"$f":"IF(【ジュエリー】入力欄!O435=\"\",\"\",【ジュエリー】入力欄!O435)","v":""}]
[]
["   \n",{"$f":"CONCATENATE(\"出品表　（　\",【ジュエリー】入力欄!I$3,\"　大吉オークション　宝石・ジュエリー）\")","v":"出品表　（　　大吉オークション　宝石・ジュエリー）"}]
[]
[null,"箱番：",{"$f":"IF(【ジュエリー】入力欄!C436=\"\",\"\",【ジュエリー】入力欄!C436)","v":""},"※太枠の中をご記入ください",null,"会社名",{"$f":"IF(【ジュエリー】入力欄!C$3=\"\",\"\",【ジュエリー】入力欄!C$3)","v":""}]
[]
["番号","品目","金性","詳細・特徴","重量","付属品","指値\n（3万円以上）","発句"]
["１",{"$f":"IF(【ジュエリー】入力欄!K436=\"\",\"\",【ジュエリー】入力欄!K436)","v":""},{"$f":"IF(【ジュエリー】入力欄!E436=\"\",\"\",【ジュエリー】入力欄!E436)","v":""},{"$f":"CONCATENATE(IF(【ジュエリー】入力欄!F436=\"\",\"\",【ジュエリー】入力欄!F436),IF(【ジュエリー】入力欄!H436=\"\",CONCATENATE(\" \",【ジュエリー】入力欄!G436),CONCATENATE(\" \",【ジュエリー】入力欄!G436,【ジュエリー】入力欄!H436,IF(【ジュエリー】入力欄!G436=\"パール\",\"mm\",\"ct\"))),IF(【ジュエリー】入力欄!J436=\"\",CONCATENATE(\" \",【ジュエリー】入力欄!I436),CONCATENATE(\" \",【ジュエリー】入力欄!I436,【ジュエリー】入力欄!J436,IF(【ジュエリー】入力欄!I436=\"パール\",\"mm\",\"ct\"))))","v":"  "},{"$f":"IF(【ジュエリー】入力欄!L436=\"\",\"\",【ジュエリー】入力欄!L436&\"g\")","v":""},{"$f":"IF(【ジュエリー】入力欄!M436=\"\",\"\",【ジュエリー】入力欄!M436)","v":""},{"$f":"IF(【ジュエリー】入力欄!O436=\"\",\"\",【ジュエリー】入力欄!O436)","v":""}]
["２",{"$f":"IF(【ジュエリー】入力欄!K437=\"\",\"\",【ジュエリー】入力欄!K437)","v":""},{"$f":"IF(【ジュエリー】入力欄!E437=\"\",\"\",【ジュエリー】入力欄!E437)","v":""},{"$f":"CONCATENATE(IF(【ジュエリー】入力欄!F437=\"\",\"\",【ジュエリー】入力欄!F437),IF(【ジュエリー】入力欄!H437=\"\",CONCATENATE(\" \",【ジュエリー】入力欄!G437),CONCATENATE(\" \",【ジュエリー】入力欄!G437,【ジュエリー】入力欄!H437,IF(【ジュエリー】入力欄!G437=\"パール\",\"mm\",\"ct\"))),IF(【ジュエリー】入力欄!J437=\"\",CONCATENATE(\" \",【ジュエリー】入力欄!I437),CONCATENATE(\" \",【ジュエリー】入力欄!I437,【ジュエリー】入力欄!J437,IF(【ジュエリー】入力欄!I437=\"パール\",\"mm\",\"ct\"))))","v":"  "},{"$f":"IF(【ジュエリー】入力欄!L437=\"\",\"\",【ジュエリー】入力欄!L437&\"g\")","v":""},{"$f":"IF(【ジュエリー】入力欄!M437=\"\",\"\",【ジュエリー】入力欄!M437)","v":""},{"$f":"IF(【ジュエリー】入力欄!O437=\"\",\"\",【ジュエリー】入力欄!O437)","v":""}]
["３",{"$f":"IF(【ジュエリー】入力欄!K438=\"\",\"\",【ジュエリー】入力欄!K438)","v":""},{"$f":"IF(【ジュエリー】入力欄!E438=\"\",\"\",【ジュエリー】入力欄!E438)","v":""},{"$f":"CONCATENATE(IF(【ジュエリー】入力欄!F438=\"\",\"\",【ジュエリー】入力欄!F438),IF(【ジュエリー】入力欄!H438=\"\",CONCATENATE(\" \",【ジュエリー】入力欄!G438),CONCATENATE(\" \",【ジュエリー】入力欄!G438,【ジュエリー】入力欄!H438,IF(【ジュエリー】入力欄!G438=\"パール\",\"mm\",\"ct\"))),IF(【ジュエリー】入力欄!J438=\"\",CONCATENATE(\" \",【ジュエリー】入力欄!I438),CONCATENATE(\" \",【ジュエリー】入力欄!I438,【ジュエリー】入力欄!J438,IF(【ジュエリー】入力欄!I438=\"パール\",\"mm\",\"ct\"))))","v":"  "},{"$f":"IF(【ジュエリー】入力欄!L438=\"\",\"\",【ジュエリー】入力欄!L438&\"g\")","v":""},{"$f":"IF(【ジュエリー】入力欄!M438=\"\",\"\",【ジュエリー】入力欄!M438)","v":""},{"$f":"IF(【ジュエリー】入力欄!O438=\"\",\"\",【ジュエリー】入力欄!O438)","v":""}]
["４",{"$f":"IF(【ジュエリー】入力欄!K439=\"\",\"\",【ジュエリー】入力欄!K439)","v":""},{"$f":"IF(【ジュエリー】入力欄!E439=\"\",\"\",【ジュエリー】入力欄!E439)","v":""},{"$f":"CONCATENATE(IF(【ジュエリー】入力欄!F439=\"\",\"\",【ジュエリー】入力欄!F439),IF(【ジュエリー】入力欄!H439=\"\",CONCATENATE(\" \",【ジュエリー】入力欄!G439),CONCATENATE(\" \",【ジュエリー】入力欄!G439,【ジュエリー】入力欄!H439,IF(【ジュエリー】入力欄!G439=\"パール\",\"mm\",\"ct\"))),IF(【ジュエリー】入力欄!J439=\"\",CONCATENATE(\" \",【ジュエリー】入力欄!I439),CONCATENATE(\" \",【ジュエリー】入力欄!I439,【ジュエリー】入力欄!J439,IF(【ジュエリー】入力欄!I439=\"パール\",\"mm\",\"ct\"))))","v":"  "},{"$f":"IF(【ジュエリー】入力欄!L439=\"\",\"\",【ジュエリー】入力欄!L439&\"g\")","v":""},{"$f":"IF(【ジュエリー】入力欄!M439=\"\",\"\",【ジュエリー】入力欄!M439)","v":""},{"$f":"IF(【ジュエリー】入力欄!O439=\"\",\"\",【ジュエリー】入力欄!O439)","v":""}]
["５",{"$f":"IF(【ジュエリー】入力欄!K440=\"\",\"\",【ジュエリー】入力欄!K440)","v":""},{"$f":"IF(【ジュエリー】入力欄!E440=\"\",\"\",【ジュエリー】入力欄!E440)","v":""},{"$f":"CONCATENATE(IF(【ジュエリー】入力欄!F440=\"\",\"\",【ジュエリー】入力欄!F440),IF(【ジュエリー】入力欄!H440=\"\",CONCATENATE(\" \",【ジュエリー】入力欄!G440),CONCATENATE(\" \",【ジュエリー】入力欄!G440,【ジュエリー】入力欄!H440,IF(【ジュエリー】入力欄!G440=\"パール\",\"mm\",\"ct\"))),IF(【ジュエリー】入力欄!J440=\"\",CONCATENATE(\" \",【ジュエリー】入力欄!I440),CONCATENATE(\" \",【ジュエリー】入力欄!I440,【ジュエリー】入力欄!J440,IF(【ジュエリー】入力欄!I440=\"パール\",\"mm\",\"ct\"))))","v":"  "},{"$f":"IF(【ジュエリー】入力欄!L440=\"\",\"\",【ジュエリー】入力欄!L440&\"g\")","v":""},{"$f":"IF(【ジュエリー】入力欄!M440=\"\",\"\",【ジュエリー】入力欄!M440)","v":""},{"$f":"IF(【ジュエリー】入力欄!O440=\"\",\"\",【ジュエリー】入力欄!O440)","v":""}]
["６",{"$f":"IF(【ジュエリー】入力欄!K441=\"\",\"\",【ジュエリー】入力欄!K441)","v":""},{"$f":"IF(【ジュエリー】入力欄!E441=\"\",\"\",【ジュエリー】入力欄!E441)","v":""},{"$f":"CONCATENATE(IF(【ジュエリー】入力欄!F441=\"\",\"\",【ジュエリー】入力欄!F441),IF(【ジュエリー】入力欄!H441=\"\",CONCATENATE(\" \",【ジュエリー】入力欄!G441),CONCATENATE(\" \",【ジュエリー】入力欄!G441,【ジュエリー】入力欄!H441,IF(【ジュエリー】入力欄!G441=\"パール\",\"mm\",\"ct\"))),IF(【ジュエリー】入力欄!J441=\"\",CONCATENATE(\" \",【ジュエリー】入力欄!I441),CONCATENATE(\" \",【ジュエリー】入力欄!I441,【ジュエリー】入力欄!J441,IF(【ジュエリー】入力欄!I441=\"パール\",\"mm\",\"ct\"))))","v":"  "},{"$f":"IF(【ジュエリー】入力欄!L441=\"\",\"\",【ジュエリー】入力欄!L441&\"g\")","v":""},{"$f":"IF(【ジュエリー】入力欄!M441=\"\",\"\",【ジュエリー】入力欄!M441)","v":""},{"$f":"IF(【ジュエリー】入力欄!O441=\"\",\"\",【ジュエリー】入力欄!O441)","v":""}]
["７",{"$f":"IF(【ジュエリー】入力欄!K442=\"\",\"\",【ジュエリー】入力欄!K442)","v":""},{"$f":"IF(【ジュエリー】入力欄!E442=\"\",\"\",【ジュエリー】入力欄!E442)","v":""},{"$f":"CONCATENATE(IF(【ジュエリー】入力欄!F442=\"\",\"\",【ジュエリー】入力欄!F442),IF(【ジュエリー】入力欄!H442=\"\",CONCATENATE(\" \",【ジュエリー】入力欄!G442),CONCATENATE(\" \",【ジュエリー】入力欄!G442,【ジュエリー】入力欄!H442,IF(【ジュエリー】入力欄!G442=\"パール\",\"mm\",\"ct\"))),IF(【ジュエリー】入力欄!J442=\"\",CONCATENATE(\" \",【ジュエリー】入力欄!I442),CONCATENATE(\" \",【ジュエリー】入力欄!I442,【ジュエリー】入力欄!J442,IF(【ジュエリー】入力欄!I442=\"パール\",\"mm\",\"ct\"))))","v":"  "},{"$f":"IF(【ジュエリー】入力欄!L442=\"\",\"\",【ジュエリー】入力欄!L442&\"g\")","v":""},{"$f":"IF(【ジュエリー】入力欄!M442=\"\",\"\",【ジュエリー】入力欄!M442)","v":""},{"$f":"IF(【ジュエリー】入力欄!O442=\"\",\"\",【ジュエリー】入力欄!O442)","v":""}]
["８",{"$f":"IF(【ジュエリー】入力欄!K443=\"\",\"\",【ジュエリー】入力欄!K443)","v":""},{"$f":"IF(【ジュエリー】入力欄!E443=\"\",\"\",【ジュエリー】入力欄!E443)","v":""},{"$f":"CONCATENATE(IF(【ジュエリー】入力欄!F443=\"\",\"\",【ジュエリー】入力欄!F443),IF(【ジュエリー】入力欄!H443=\"\",CONCATENATE(\" \",【ジュエリー】入力欄!G443),CONCATENATE(\" \",【ジュエリー】入力欄!G443,【ジュエリー】入力欄!H443,IF(【ジュエリー】入力欄!G443=\"パール\",\"mm\",\"ct\"))),IF(【ジュエリー】入力欄!J443=\"\",CONCATENATE(\" \",【ジュエリー】入力欄!I443),CONCATENATE(\" \",【ジュエリー】入力欄!I443,【ジュエリー】入力欄!J443,IF(【ジュエリー】入力欄!I443=\"パール\",\"mm\",\"ct\"))))","v":"  "},{"$f":"IF(【ジュエリー】入力欄!L443=\"\",\"\",【ジュエリー】入力欄!L443&\"g\")","v":""},{"$f":"IF(【ジュエリー】入力欄!M443=\"\",\"\",【ジュエリー】入力欄!M443)","v":""},{"$f":"IF(【ジュエリー】入力欄!O443=\"\",\"\",【ジュエリー】入力欄!O443)","v":""}]
["９",{"$f":"IF(【ジュエリー】入力欄!K444=\"\",\"\",【ジュエリー】入力欄!K444)","v":""},{"$f":"IF(【ジュエリー】入力欄!E444=\"\",\"\",【ジュエリー】入力欄!E444)","v":""},{"$f":"CONCATENATE(IF(【ジュエリー】入力欄!F444=\"\",\"\",【ジュエリー】入力欄!F444),IF(【ジュエリー】入力欄!H444=\"\",CONCATENATE(\" \",【ジュエリー】入力欄!G444),CONCATENATE(\" \",【ジュエリー】入力欄!G444,【ジュエリー】入力欄!H444,IF(【ジュエリー】入力欄!G444=\"パール\",\"mm\",\"ct\"))),IF(【ジュエリー】入力欄!J444=\"\",CONCATENATE(\" \",【ジュエリー】入力欄!I444),CONCATENATE(\" \",【ジュエリー】入力欄!I444,【ジュエリー】入力欄!J444,IF(【ジュエリー】入力欄!I444=\"パール\",\"mm\",\"ct\"))))","v":"  "},{"$f":"IF(【ジュエリー】入力欄!L444=\"\",\"\",【ジュエリー】入力欄!L444&\"g\")","v":""},{"$f":"IF(【ジュエリー】入力欄!M444=\"\",\"\",【ジュエリー】入力欄!M444)","v":""},{"$f":"IF(【ジュエリー】入力欄!O444=\"\",\"\",【ジュエリー】入力欄!O444)","v":""}]
["１０",{"$f":"IF(【ジュエリー】入力欄!K445=\"\",\"\",【ジュエリー】入力欄!K445)","v":""},{"$f":"IF(【ジュエリー】入力欄!E445=\"\",\"\",【ジュエリー】入力欄!E445)","v":""},{"$f":"CONCATENATE(IF(【ジュエリー】入力欄!F445=\"\",\"\",【ジュエリー】入力欄!F445),IF(【ジュエリー】入力欄!H445=\"\",CONCATENATE(\" \",【ジュエリー】入力欄!G445),CONCATENATE(\" \",【ジュエリー】入力欄!G445,【ジュエリー】入力欄!H445,IF(【ジュエリー】入力欄!G445=\"パール\",\"mm\",\"ct\"))),IF(【ジュエリー】入力欄!J445=\"\",CONCATENATE(\" \",【ジュエリー】入力欄!I445),CONCATENATE(\" \",【ジュエリー】入力欄!I445,【ジュエリー】入力欄!J445,IF(【ジュエリー】入力欄!I445=\"パール\",\"mm\",\"ct\"))))","v":"  "},{"$f":"IF(【ジュエリー】入力欄!L445=\"\",\"\",【ジュエリー】入力欄!L445&\"g\")","v":""},{"$f":"IF(【ジュエリー】入力欄!M445=\"\",\"\",【ジュエリー】入力欄!M445)","v":""},{"$f":"IF(【ジュエリー】入力欄!O445=\"\",\"\",【ジュエリー】入力欄!O445)","v":""}]
[]
["   \n",{"$f":"CONCATENATE(\"出品表　（　\",【ジュエリー】入力欄!I$3,\"　大吉オークション　宝石・ジュエリー）\")","v":"出品表　（　　大吉オークション　宝石・ジュエリー）"}]
[]
[null,"箱番：",{"$f":"IF(【ジュエリー】入力欄!C446=\"\",\"\",【ジュエリー】入力欄!C446)","v":""},"※太枠の中をご記入ください",null,"会社名",{"$f":"IF(【ジュエリー】入力欄!C$3=\"\",\"\",【ジュエリー】入力欄!C$3)","v":""}]
[]
["番号","品目","金性","詳細・特徴","重量","付属品","指値\n（3万円以上）","発句"]
["１",{"$f":"IF(【ジュエリー】入力欄!K446=\"\",\"\",【ジュエリー】入力欄!K446)","v":""},{"$f":"IF(【ジュエリー】入力欄!E446=\"\",\"\",【ジュエリー】入力欄!E446)","v":""},{"$f":"CONCATENATE(IF(【ジュエリー】入力欄!F446=\"\",\"\",【ジュエリー】入力欄!F446),IF(【ジュエリー】入力欄!H446=\"\",CONCATENATE(\" \",【ジュエリー】入力欄!G446),CONCATENATE(\" \",【ジュエリー】入力欄!G446,【ジュエリー】入力欄!H446,IF(【ジュエリー】入力欄!G446=\"パール\",\"mm\",\"ct\"))),IF(【ジュエリー】入力欄!J446=\"\",CONCATENATE(\" \",【ジュエリー】入力欄!I446),CONCATENATE(\" \",【ジュエリー】入力欄!I446,【ジュエリー】入力欄!J446,IF(【ジュエリー】入力欄!I446=\"パール\",\"mm\",\"ct\"))))","v":"  "},{"$f":"IF(【ジュエリー】入力欄!L446=\"\",\"\",【ジュエリー】入力欄!L446&\"g\")","v":""},{"$f":"IF(【ジュエリー】入力欄!M446=\"\",\"\",【ジュエリー】入力欄!M446)","v":""},{"$f":"IF(【ジュエリー】入力欄!O446=\"\",\"\",【ジュエリー】入力欄!O446)","v":""}]
["２",{"$f":"IF(【ジュエリー】入力欄!K447=\"\",\"\",【ジュエリー】入力欄!K447)","v":""},{"$f":"IF(【ジュエリー】入力欄!E447=\"\",\"\",【ジュエリー】入力欄!E447)","v":""},{"$f":"CONCATENATE(IF(【ジュエリー】入力欄!F447=\"\",\"\",【ジュエリー】入力欄!F447),IF(【ジュエリー】入力欄!H447=\"\",CONCATENATE(\" \",【ジュエリー】入力欄!G447),CONCATENATE(\" \",【ジュエリー】入力欄!G447,【ジュエリー】入力欄!H447,IF(【ジュエリー】入力欄!G447=\"パール\",\"mm\",\"ct\"))),IF(【ジュエリー】入力欄!J447=\"\",CONCATENATE(\" \",【ジュエリー】入力欄!I447),CONCATENATE(\" \",【ジュエリー】入力欄!I447,【ジュエリー】入力欄!J447,IF(【ジュエリー】入力欄!I447=\"パール\",\"mm\",\"ct\"))))","v":"  "},{"$f":"IF(【ジュエリー】入力欄!L447=\"\",\"\",【ジュエリー】入力欄!L447&\"g\")","v":""},{"$f":"IF(【ジュエリー】入力欄!M447=\"\",\"\",【ジュエリー】入力欄!M447)","v":""},{"$f":"IF(【ジュエリー】入力欄!O447=\"\",\"\",【ジュエリー】入力欄!O447)","v":""}]
["３",{"$f":"IF(【ジュエリー】入力欄!K448=\"\",\"\",【ジュエリー】入力欄!K448)","v":""},{"$f":"IF(【ジュエリー】入力欄!E448=\"\",\"\",【ジュエリー】入力欄!E448)","v":""},{"$f":"CONCATENATE(IF(【ジュエリー】入力欄!F448=\"\",\"\",【ジュエリー】入力欄!F448),IF(【ジュエリー】入力欄!H448=\"\",CONCATENATE(\" \",【ジュエリー】入力欄!G448),CONCATENATE(\" \",【ジュエリー】入力欄!G448,【ジュエリー】入力欄!H448,IF(【ジュエリー】入力欄!G448=\"パール\",\"mm\",\"ct\"))),IF(【ジュエリー】入力欄!J448=\"\",CONCATENATE(\" \",【ジュエリー】入力欄!I448),CONCATENATE(\" \",【ジュエリー】入力欄!I448,【ジュエリー】入力欄!J448,IF(【ジュエリー】入力欄!I448=\"パール\",\"mm\",\"ct\"))))","v":"  "},{"$f":"IF(【ジュエリー】入力欄!L448=\"\",\"\",【ジュエリー】入力欄!L448&\"g\")","v":""},{"$f":"IF(【ジュエリー】入力欄!M448=\"\",\"\",【ジュエリー】入力欄!M448)","v":""},{"$f":"IF(【ジュエリー】入力欄!O448=\"\",\"\",【ジュエリー】入力欄!O448)","v":""}]
["４",{"$f":"IF(【ジュエリー】入力欄!K449=\"\",\"\",【ジュエリー】入力欄!K449)","v":""},{"$f":"IF(【ジュエリー】入力欄!E449=\"\",\"\",【ジュエリー】入力欄!E449)","v":""},{"$f":"CONCATENATE(IF(【ジュエリー】入力欄!F449=\"\",\"\",【ジュエリー】入力欄!F449),IF(【ジュエリー】入力欄!H449=\"\",CONCATENATE(\" \",【ジュエリー】入力欄!G449),CONCATENATE(\" \",【ジュエリー】入力欄!G449,【ジュエリー】入力欄!H449,IF(【ジュエリー】入力欄!G449=\"パール\",\"mm\",\"ct\"))),IF(【ジュエリー】入力欄!J449=\"\",CONCATENATE(\" \",【ジュエリー】入力欄!I449),CONCATENATE(\" \",【ジュエリー】入力欄!I449,【ジュエリー】入力欄!J449,IF(【ジュエリー】入力欄!I449=\"パール\",\"mm\",\"ct\"))))","v":"  "},{"$f":"IF(【ジュエリー】入力欄!L449=\"\",\"\",【ジュエリー】入力欄!L449&\"g\")","v":""},{"$f":"IF(【ジュエリー】入力欄!M449=\"\",\"\",【ジュエリー】入力欄!M449)","v":""},{"$f":"IF(【ジュエリー】入力欄!O449=\"\",\"\",【ジュエリー】入力欄!O449)","v":""}]
["５",{"$f":"IF(【ジュエリー】入力欄!K450=\"\",\"\",【ジュエリー】入力欄!K450)","v":""},{"$f":"IF(【ジュエリー】入力欄!E450=\"\",\"\",【ジュエリー】入力欄!E450)","v":""},{"$f":"CONCATENATE(IF(【ジュエリー】入力欄!F450=\"\",\"\",【ジュエリー】入力欄!F450),IF(【ジュエリー】入力欄!H450=\"\",CONCATENATE(\" \",【ジュエリー】入力欄!G450),CONCATENATE(\" \",【ジュエリー】入力欄!G450,【ジュエリー】入力欄!H450,IF(【ジュエリー】入力欄!G450=\"パール\",\"mm\",\"ct\"))),IF(【ジュエリー】入力欄!J450=\"\",CONCATENATE(\" \",【ジュエリー】入力欄!I450),CONCATENATE(\" \",【ジュエリー】入力欄!I450,【ジュエリー】入力欄!J450,IF(【ジュエリー】入力欄!I450=\"パール\",\"mm\",\"ct\"))))","v":"  "},{"$f":"IF(【ジュエリー】入力欄!L450=\"\",\"\",【ジュエリー】入力欄!L450&\"g\")","v":""},{"$f":"IF(【ジュエリー】入力欄!M450=\"\",\"\",【ジュエリー】入力欄!M450)","v":""},{"$f":"IF(【ジュエリー】入力欄!O450=\"\",\"\",【ジュエリー】入力欄!O450)","v":""}]
["６",{"$f":"IF(【ジュエリー】入力欄!K451=\"\",\"\",【ジュエリー】入力欄!K451)","v":""},{"$f":"IF(【ジュエリー】入力欄!E451=\"\",\"\",【ジュエリー】入力欄!E451)","v":""},{"$f":"CONCATENATE(IF(【ジュエリー】入力欄!F451=\"\",\"\",【ジュエリー】入力欄!F451),IF(【ジュエリー】入力欄!H451=\"\",CONCATENATE(\" \",【ジュエリー】入力欄!G451),CONCATENATE(\" \",【ジュエリー】入力欄!G451,【ジュエリー】入力欄!H451,IF(【ジュエリー】入力欄!G451=\"パール\",\"mm\",\"ct\"))),IF(【ジュエリー】入力欄!J451=\"\",CONCATENATE(\" \",【ジュエリー】入力欄!I451),CONCATENATE(\" \",【ジュエリー】入力欄!I451,【ジュエリー】入力欄!J451,IF(【ジュエリー】入力欄!I451=\"パール\",\"mm\",\"ct\"))))","v":"  "},{"$f":"IF(【ジュエリー】入力欄!L451=\"\",\"\",【ジュエリー】入力欄!L451&\"g\")","v":""},{"$f":"IF(【ジュエリー】入力欄!M451=\"\",\"\",【ジュエリー】入力欄!M451)","v":""},{"$f":"IF(【ジュエリー】入力欄!O451=\"\",\"\",【ジュエリー】入力欄!O451)","v":""}]
["７",{"$f":"IF(【ジュエリー】入力欄!K452=\"\",\"\",【ジュエリー】入力欄!K452)","v":""},{"$f":"IF(【ジュエリー】入力欄!E452=\"\",\"\",【ジュエリー】入力欄!E452)","v":""},{"$f":"CONCATENATE(IF(【ジュエリー】入力欄!F452=\"\",\"\",【ジュエリー】入力欄!F452),IF(【ジュエリー】入力欄!H452=\"\",CONCATENATE(\" \",【ジュエリー】入力欄!G452),CONCATENATE(\" \",【ジュエリー】入力欄!G452,【ジュエリー】入力欄!H452,IF(【ジュエリー】入力欄!G452=\"パール\",\"mm\",\"ct\"))),IF(【ジュエリー】入力欄!J452=\"\",CONCATENATE(\" \",【ジュエリー】入力欄!I452),CONCATENATE(\" \",【ジュエリー】入力欄!I452,【ジュエリー】入力欄!J452,IF(【ジュエリー】入力欄!I452=\"パール\",\"mm\",\"ct\"))))","v":"  "},{"$f":"IF(【ジュエリー】入力欄!L452=\"\",\"\",【ジュエリー】入力欄!L452&\"g\")","v":""},{"$f":"IF(【ジュエリー】入力欄!M452=\"\",\"\",【ジュエリー】入力欄!M452)","v":""},{"$f":"IF(【ジュエリー】入力欄!O452=\"\",\"\",【ジュエリー】入力欄!O452)","v":""}]
["８",{"$f":"IF(【ジュエリー】入力欄!K453=\"\",\"\",【ジュエリー】入力欄!K453)","v":""},{"$f":"IF(【ジュエリー】入力欄!E453=\"\",\"\",【ジュエリー】入力欄!E453)","v":""},{"$f":"CONCATENATE(IF(【ジュエリー】入力欄!F453=\"\",\"\",【ジュエリー】入力欄!F453),IF(【ジュエリー】入力欄!H453=\"\",CONCATENATE(\" \",【ジュエリー】入力欄!G453),CONCATENATE(\" \",【ジュエリー】入力欄!G453,【ジュエリー】入力欄!H453,IF(【ジュエリー】入力欄!G453=\"パール\",\"mm\",\"ct\"))),IF(【ジュエリー】入力欄!J453=\"\",CONCATENATE(\" \",【ジュエリー】入力欄!I453),CONCATENATE(\" \",【ジュエリー】入力欄!I453,【ジュエリー】入力欄!J453,IF(【ジュエリー】入力欄!I453=\"パール\",\"mm\",\"ct\"))))","v":"  "},{"$f":"IF(【ジュエリー】入力欄!L453=\"\",\"\",【ジュエリー】入力欄!L453&\"g\")","v":""},{"$f":"IF(【ジュエリー】入力欄!M453=\"\",\"\",【ジュエリー】入力欄!M453)","v":""},{"$f":"IF(【ジュエリー】入力欄!O453=\"\",\"\",【ジュエリー】入力欄!O453)","v":""}]
["９",{"$f":"IF(【ジュエリー】入力欄!K454=\"\",\"\",【ジュエリー】入力欄!K454)","v":""},{"$f":"IF(【ジュエリー】入力欄!E454=\"\",\"\",【ジュエリー】入力欄!E454)","v":""},{"$f":"CONCATENATE(IF(【ジュエリー】入力欄!F454=\"\",\"\",【ジュエリー】入力欄!F454),IF(【ジュエリー】入力欄!H454=\"\",CONCATENATE(\" \",【ジュエリー】入力欄!G454),CONCATENATE(\" \",【ジュエリー】入力欄!G454,【ジュエリー】入力欄!H454,IF(【ジュエリー】入力欄!G454=\"パール\",\"mm\",\"ct\"))),IF(【ジュエリー】入力欄!J454=\"\",CONCATENATE(\" \",【ジュエリー】入力欄!I454),CONCATENATE(\" \",【ジュエリー】入力欄!I454,【ジュエリー】入力欄!J454,IF(【ジュエリー】入力欄!I454=\"パール\",\"mm\",\"ct\"))))","v":"  "},{"$f":"IF(【ジュエリー】入力欄!L454=\"\",\"\",【ジュエリー】入力欄!L454&\"g\")","v":""},{"$f":"IF(【ジュエリー】入力欄!M454=\"\",\"\",【ジュエリー】入力欄!M454)","v":""},{"$f":"IF(【ジュエリー】入力欄!O454=\"\",\"\",【ジュエリー】入力欄!O454)","v":""}]
["１０",{"$f":"IF(【ジュエリー】入力欄!K455=\"\",\"\",【ジュエリー】入力欄!K455)","v":""},{"$f":"IF(【ジュエリー】入力欄!E455=\"\",\"\",【ジュエリー】入力欄!E455)","v":""},{"$f":"CONCATENATE(IF(【ジュエリー】入力欄!F455=\"\",\"\",【ジュエリー】入力欄!F455),IF(【ジュエリー】入力欄!H455=\"\",CONCATENATE(\" \",【ジュエリー】入力欄!G455),CONCATENATE(\" \",【ジュエリー】入力欄!G455,【ジュエリー】入力欄!H455,IF(【ジュエリー】入力欄!G455=\"パール\",\"mm\",\"ct\"))),IF(【ジュエリー】入力欄!J455=\"\",CONCATENATE(\" \",【ジュエリー】入力欄!I455),CONCATENATE(\" \",【ジュエリー】入力欄!I455,【ジュエリー】入力欄!J455,IF(【ジュエリー】入力欄!I455=\"パール\",\"mm\",\"ct\"))))","v":"  "},{"$f":"IF(【ジュエリー】入力欄!L455=\"\",\"\",【ジュエリー】入力欄!L455&\"g\")","v":""},{"$f":"IF(【ジュエリー】入力欄!M455=\"\",\"\",【ジュエリー】入力欄!M455)","v":""},{"$f":"IF(【ジュエリー】入力欄!O455=\"\",\"\",【ジュエリー】入力欄!O455)","v":""}]
[]
["   \n",{"$f":"CONCATENATE(\"出品表　（　\",【ジュエリー】入力欄!I$3,\"　大吉オークション　宝石・ジュエリー）\")","v":"出品表　（　　大吉オークション　宝石・ジュエリー）"}]
[]
[null,"箱番：",{"$f":"IF(【ジュエリー】入力欄!C456=\"\",\"\",【ジュエリー】入力欄!C456)","v":""},"※太枠の中をご記入ください",null,"会社名",{"$f":"IF(【ジュエリー】入力欄!C$3=\"\",\"\",【ジュエリー】入力欄!C$3)","v":""}]
[]
["番号","品目","金性","詳細・特徴","重量","付属品","指値\n（3万円以上）","発句"]
["１",{"$f":"IF(【ジュエリー】入力欄!K456=\"\",\"\",【ジュエリー】入力欄!K456)","v":""},{"$f":"IF(【ジュエリー】入力欄!E456=\"\",\"\",【ジュエリー】入力欄!E456)","v":""},{"$f":"CONCATENATE(IF(【ジュエリー】入力欄!F456=\"\",\"\",【ジュエリー】入力欄!F456),IF(【ジュエリー】入力欄!H456=\"\",CONCATENATE(\" \",【ジュエリー】入力欄!G456),CONCATENATE(\" \",【ジュエリー】入力欄!G456,【ジュエリー】入力欄!H456,IF(【ジュエリー】入力欄!G456=\"パール\",\"mm\",\"ct\"))),IF(【ジュエリー】入力欄!J456=\"\",CONCATENATE(\" \",【ジュエリー】入力欄!I456),CONCATENATE(\" \",【ジュエリー】入力欄!I456,【ジュエリー】入力欄!J456,IF(【ジュエリー】入力欄!I456=\"パール\",\"mm\",\"ct\"))))","v":"  "},{"$f":"IF(【ジュエリー】入力欄!L456=\"\",\"\",【ジュエリー】入力欄!L456&\"g\")","v":""},{"$f":"IF(【ジュエリー】入力欄!M456=\"\",\"\",【ジュエリー】入力欄!M456)","v":""},{"$f":"IF(【ジュエリー】入力欄!O456=\"\",\"\",【ジュエリー】入力欄!O456)","v":""}]
["２",{"$f":"IF(【ジュエリー】入力欄!K457=\"\",\"\",【ジュエリー】入力欄!K457)","v":""},{"$f":"IF(【ジュエリー】入力欄!E457=\"\",\"\",【ジュエリー】入力欄!E457)","v":""},{"$f":"CONCATENATE(IF(【ジュエリー】入力欄!F457=\"\",\"\",【ジュエリー】入力欄!F457),IF(【ジュエリー】入力欄!H457=\"\",CONCATENATE(\" \",【ジュエリー】入力欄!G457),CONCATENATE(\" \",【ジュエリー】入力欄!G457,【ジュエリー】入力欄!H457,IF(【ジュエリー】入力欄!G457=\"パール\",\"mm\",\"ct\"))),IF(【ジュエリー】入力欄!J457=\"\",CONCATENATE(\" \",【ジュエリー】入力欄!I457),CONCATENATE(\" \",【ジュエリー】入力欄!I457,【ジュエリー】入力欄!J457,IF(【ジュエリー】入力欄!I457=\"パール\",\"mm\",\"ct\"))))","v":"  "},{"$f":"IF(【ジュエリー】入力欄!L457=\"\",\"\",【ジュエリー】入力欄!L457&\"g\")","v":""},{"$f":"IF(【ジュエリー】入力欄!M457=\"\",\"\",【ジュエリー】入力欄!M457)","v":""},{"$f":"IF(【ジュエリー】入力欄!O457=\"\",\"\",【ジュエリー】入力欄!O457)","v":""}]
["３",{"$f":"IF(【ジュエリー】入力欄!K458=\"\",\"\",【ジュエリー】入力欄!K458)","v":""},{"$f":"IF(【ジュエリー】入力欄!E458=\"\",\"\",【ジュエリー】入力欄!E458)","v":""},{"$f":"CONCATENATE(IF(【ジュエリー】入力欄!F458=\"\",\"\",【ジュエリー】入力欄!F458),IF(【ジュエリー】入力欄!H458=\"\",CONCATENATE(\" \",【ジュエリー】入力欄!G458),CONCATENATE(\" \",【ジュエリー】入力欄!G458,【ジュエリー】入力欄!H458,IF(【ジュエリー】入力欄!G458=\"パール\",\"mm\",\"ct\"))),IF(【ジュエリー】入力欄!J458=\"\",CONCATENATE(\" \",【ジュエリー】入力欄!I458),CONCATENATE(\" \",【ジュエリー】入力欄!I458,【ジュエリー】入力欄!J458,IF(【ジュエリー】入力欄!I458=\"パール\",\"mm\",\"ct\"))))","v":"  "},{"$f":"IF(【ジュエリー】入力欄!L458=\"\",\"\",【ジュエリー】入力欄!L458&\"g\")","v":""},{"$f":"IF(【ジュエリー】入力欄!M458=\"\",\"\",【ジュエリー】入力欄!M458)","v":""},{"$f":"IF(【ジュエリー】入力欄!O458=\"\",\"\",【ジュエリー】入力欄!O458)","v":""}]
["４",{"$f":"IF(【ジュエリー】入力欄!K459=\"\",\"\",【ジュエリー】入力欄!K459)","v":""},{"$f":"IF(【ジュエリー】入力欄!E459=\"\",\"\",【ジュエリー】入力欄!E459)","v":""},{"$f":"CONCATENATE(IF(【ジュエリー】入力欄!F459=\"\",\"\",【ジュエリー】入力欄!F459),IF(【ジュエリー】入力欄!H459=\"\",CONCATENATE(\" \",【ジュエリー】入力欄!G459),CONCATENATE(\" \",【ジュエリー】入力欄!G459,【ジュエリー】入力欄!H459,IF(【ジュエリー】入力欄!G459=\"パール\",\"mm\",\"ct\"))),IF(【ジュエリー】入力欄!J459=\"\",CONCATENATE(\" \",【ジュエリー】入力欄!I459),CONCATENATE(\" \",【ジュエリー】入力欄!I459,【ジュエリー】入力欄!J459,IF(【ジュエリー】入力欄!I459=\"パール\",\"mm\",\"ct\"))))","v":"  "},{"$f":"IF(【ジュエリー】入力欄!L459=\"\",\"\",【ジュエリー】入力欄!L459&\"g\")","v":""},{"$f":"IF(【ジュエリー】入力欄!M459=\"\",\"\",【ジュエリー】入力欄!M459)","v":""},{"$f":"IF(【ジュエリー】入力欄!O459=\"\",\"\",【ジュエリー】入力欄!O459)","v":""}]
["５",{"$f":"IF(【ジュエリー】入力欄!K460=\"\",\"\",【ジュエリー】入力欄!K460)","v":""},{"$f":"IF(【ジュエリー】入力欄!E460=\"\",\"\",【ジュエリー】入力欄!E460)","v":""},{"$f":"CONCATENATE(IF(【ジュエリー】入力欄!F460=\"\",\"\",【ジュエリー】入力欄!F460),IF(【ジュエリー】入力欄!H460=\"\",CONCATENATE(\" \",【ジュエリー】入力欄!G460),CONCATENATE(\" \",【ジュエリー】入力欄!G460,【ジュエリー】入力欄!H460,IF(【ジュエリー】入力欄!G460=\"パール\",\"mm\",\"ct\"))),IF(【ジュエリー】入力欄!J460=\"\",CONCATENATE(\" \",【ジュエリー】入力欄!I460),CONCATENATE(\" \",【ジュエリー】入力欄!I460,【ジュエリー】入力欄!J460,IF(【ジュエリー】入力欄!I460=\"パール\",\"mm\",\"ct\"))))","v":"  "},{"$f":"IF(【ジュエリー】入力欄!L460=\"\",\"\",【ジュエリー】入力欄!L460&\"g\")","v":""},{"$f":"IF(【ジュエリー】入力欄!M460=\"\",\"\",【ジュエリー】入力欄!M460)","v":""},{"$f":"IF(【ジュエリー】入力欄!O460=\"\",\"\",【ジュエリー】入力欄!O460)","v":""}]
["６",{"$f":"IF(【ジュエリー】入力欄!K461=\"\",\"\",【ジュエリー】入力欄!K461)","v":""},{"$f":"IF(【ジュエリー】入力欄!E461=\"\",\"\",【ジュエリー】入力欄!E461)","v":""},{"$f":"CONCATENATE(IF(【ジュエリー】入力欄!F461=\"\",\"\",【ジュエリー】入力欄!F461),IF(【ジュエリー】入力欄!H461=\"\",CONCATENATE(\" \",【ジュエリー】入力欄!G461),CONCATENATE(\" \",【ジュエリー】入力欄!G461,【ジュエリー】入力欄!H461,IF(【ジュエリー】入力欄!G461=\"パール\",\"mm\",\"ct\"))),IF(【ジュエリー】入力欄!J461=\"\",CONCATENATE(\" \",【ジュエリー】入力欄!I461),CONCATENATE(\" \",【ジュエリー】入力欄!I461,【ジュエリー】入力欄!J461,IF(【ジュエリー】入力欄!I461=\"パール\",\"mm\",\"ct\"))))","v":"  "},{"$f":"IF(【ジュエリー】入力欄!L461=\"\",\"\",【ジュエリー】入力欄!L461&\"g\")","v":""},{"$f":"IF(【ジュエリー】入力欄!M461=\"\",\"\",【ジュエリー】入力欄!M461)","v":""},{"$f":"IF(【ジュエリー】入力欄!O461=\"\",\"\",【ジュエリー】入力欄!O461)","v":""}]
["７",{"$f":"IF(【ジュエリー】入力欄!K462=\"\",\"\",【ジュエリー】入力欄!K462)","v":""},{"$f":"IF(【ジュエリー】入力欄!E462=\"\",\"\",【ジュエリー】入力欄!E462)","v":""},{"$f":"CONCATENATE(IF(【ジュエリー】入力欄!F462=\"\",\"\",【ジュエリー】入力欄!F462),IF(【ジュエリー】入力欄!H462=\"\",CONCATENATE(\" \",【ジュエリー】入力欄!G462),CONCATENATE(\" \",【ジュエリー】入力欄!G462,【ジュエリー】入力欄!H462,IF(【ジュエリー】入力欄!G462=\"パール\",\"mm\",\"ct\"))),IF(【ジュエリー】入力欄!J462=\"\",CONCATENATE(\" \",【ジュエリー】入力欄!I462),CONCATENATE(\" \",【ジュエリー】入力欄!I462,【ジュエリー】入力欄!J462,IF(【ジュエリー】入力欄!I462=\"パール\",\"mm\",\"ct\"))))","v":"  "},{"$f":"IF(【ジュエリー】入力欄!L462=\"\",\"\",【ジュエリー】入力欄!L462&\"g\")","v":""},{"$f":"IF(【ジュエリー】入力欄!M462=\"\",\"\",【ジュエリー】入力欄!M462)","v":""},{"$f":"IF(【ジュエリー】入力欄!O462=\"\",\"\",【ジュエリー】入力欄!O462)","v":""}]
["８",{"$f":"IF(【ジュエリー】入力欄!K463=\"\",\"\",【ジュエリー】入力欄!K463)","v":""},{"$f":"IF(【ジュエリー】入力欄!E463=\"\",\"\",【ジュエリー】入力欄!E463)","v":""},{"$f":"CONCATENATE(IF(【ジュエリー】入力欄!F463=\"\",\"\",【ジュエリー】入力欄!F463),IF(【ジュエリー】入力欄!H463=\"\",CONCATENATE(\" \",【ジュエリー】入力欄!G463),CONCATENATE(\" \",【ジュエリー】入力欄!G463,【ジュエリー】入力欄!H463,IF(【ジュエリー】入力欄!G463=\"パール\",\"mm\",\"ct\"))),IF(【ジュエリー】入力欄!J463=\"\",CONCATENATE(\" \",【ジュエリー】入力欄!I463),CONCATENATE(\" \",【ジュエリー】入力欄!I463,【ジュエリー】入力欄!J463,IF(【ジュエリー】入力欄!I463=\"パール\",\"mm\",\"ct\"))))","v":"  "},{"$f":"IF(【ジュエリー】入力欄!L463=\"\",\"\",【ジュエリー】入力欄!L463&\"g\")","v":""},{"$f":"IF(【ジュエリー】入力欄!M463=\"\",\"\",【ジュエリー】入力欄!M463)","v":""},{"$f":"IF(【ジュエリー】入力欄!O463=\"\",\"\",【ジュエリー】入力欄!O463)","v":""}]
["９",{"$f":"IF(【ジュエリー】入力欄!K464=\"\",\"\",【ジュエリー】入力欄!K464)","v":""},{"$f":"IF(【ジュエリー】入力欄!E464=\"\",\"\",【ジュエリー】入力欄!E464)","v":""},{"$f":"CONCATENATE(IF(【ジュエリー】入力欄!F464=\"\",\"\",【ジュエリー】入力欄!F464),IF(【ジュエリー】入力欄!H464=\"\",CONCATENATE(\" \",【ジュエリー】入力欄!G464),CONCATENATE(\" \",【ジュエリー】入力欄!G464,【ジュエリー】入力欄!H464,IF(【ジュエリー】入力欄!G464=\"パール\",\"mm\",\"ct\"))),IF(【ジュエリー】入力欄!J464=\"\",CONCATENATE(\" \",【ジュエリー】入力欄!I464),CONCATENATE(\" \",【ジュエリー】入力欄!I464,【ジュエリー】入力欄!J464,IF(【ジュエリー】入力欄!I464=\"パール\",\"mm\",\"ct\"))))","v":"  "},{"$f":"IF(【ジュエリー】入力欄!L464=\"\",\"\",【ジュエリー】入力欄!L464&\"g\")","v":""},{"$f":"IF(【ジュエリー】入力欄!M464=\"\",\"\",【ジュエリー】入力欄!M464)","v":""},{"$f":"IF(【ジュエリー】入力欄!O464=\"\",\"\",【ジュエリー】入力欄!O464)","v":""}]
["１０",{"$f":"IF(【ジュエリー】入力欄!K465=\"\",\"\",【ジュエリー】入力欄!K465)","v":""},{"$f":"IF(【ジュエリー】入力欄!E465=\"\",\"\",【ジュエリー】入力欄!E465)","v":""},{"$f":"CONCATENATE(IF(【ジュエリー】入力欄!F465=\"\",\"\",【ジュエリー】入力欄!F465),IF(【ジュエリー】入力欄!H465=\"\",CONCATENATE(\" \",【ジュエリー】入力欄!G465),CONCATENATE(\" \",【ジュエリー】入力欄!G465,【ジュエリー】入力欄!H465,IF(【ジュエリー】入力欄!G465=\"パール\",\"mm\",\"ct\"))),IF(【ジュエリー】入力欄!J465=\"\",CONCATENATE(\" \",【ジュエリー】入力欄!I465),CONCATENATE(\" \",【ジュエリー】入力欄!I465,【ジュエリー】入力欄!J465,IF(【ジュエリー】入力欄!I465=\"パール\",\"mm\",\"ct\"))))","v":"  "},{"$f":"IF(【ジュエリー】入力欄!L465=\"\",\"\",【ジュエリー】入力欄!L465&\"g\")","v":""},{"$f":"IF(【ジュエリー】入力欄!M465=\"\",\"\",【ジュエリー】入力欄!M465)","v":""},{"$f":"IF(【ジュエリー】入力欄!O465=\"\",\"\",【ジュエリー】入力欄!O465)","v":""}]
[]
["   \n",{"$f":"CONCATENATE(\"出品表　（　\",【ジュエリー】入力欄!I$3,\"　大吉オークション　宝石・ジュエリー）\")","v":"出品表　（　　大吉オークション　宝石・ジュエリー）"}]
[]
[null,"箱番：",{"$f":"IF(【ジュエリー】入力欄!C466=\"\",\"\",【ジュエリー】入力欄!C466)","v":""},"※太枠の中をご記入ください",null,"会社名",{"$f":"IF(【ジュエリー】入力欄!C$3=\"\",\"\",【ジュエリー】入力欄!C$3)","v":""}]
[]
["番号","品目","金性","詳細・特徴","重量","付属品","指値\n（3万円以上）","発句"]
["１",{"$f":"IF(【ジュエリー】入力欄!K466=\"\",\"\",【ジュエリー】入力欄!K466)","v":""},{"$f":"IF(【ジュエリー】入力欄!E466=\"\",\"\",【ジュエリー】入力欄!E466)","v":""},{"$f":"CONCATENATE(IF(【ジュエリー】入力欄!F466=\"\",\"\",【ジュエリー】入力欄!F466),IF(【ジュエリー】入力欄!H466=\"\",CONCATENATE(\" \",【ジュエリー】入力欄!G466),CONCATENATE(\" \",【ジュエリー】入力欄!G466,【ジュエリー】入力欄!H466,IF(【ジュエリー】入力欄!G466=\"パール\",\"mm\",\"ct\"))),IF(【ジュエリー】入力欄!J466=\"\",CONCATENATE(\" \",【ジュエリー】入力欄!I466),CONCATENATE(\" \",【ジュエリー】入力欄!I466,【ジュエリー】入力欄!J466,IF(【ジュエリー】入力欄!I466=\"パール\",\"mm\",\"ct\"))))","v":"  "},{"$f":"IF(【ジュエリー】入力欄!L466=\"\",\"\",【ジュエリー】入力欄!L466&\"g\")","v":""},{"$f":"IF(【ジュエリー】入力欄!M466=\"\",\"\",【ジュエリー】入力欄!M466)","v":""},{"$f":"IF(【ジュエリー】入力欄!O466=\"\",\"\",【ジュエリー】入力欄!O466)","v":""}]
["２",{"$f":"IF(【ジュエリー】入力欄!K467=\"\",\"\",【ジュエリー】入力欄!K467)","v":""},{"$f":"IF(【ジュエリー】入力欄!E467=\"\",\"\",【ジュエリー】入力欄!E467)","v":""},{"$f":"CONCATENATE(IF(【ジュエリー】入力欄!F467=\"\",\"\",【ジュエリー】入力欄!F467),IF(【ジュエリー】入力欄!H467=\"\",CONCATENATE(\" \",【ジュエリー】入力欄!G467),CONCATENATE(\" \",【ジュエリー】入力欄!G467,【ジュエリー】入力欄!H467,IF(【ジュエリー】入力欄!G467=\"パール\",\"mm\",\"ct\"))),IF(【ジュエリー】入力欄!J467=\"\",CONCATENATE(\" \",【ジュエリー】入力欄!I467),CONCATENATE(\" \",【ジュエリー】入力欄!I467,【ジュエリー】入力欄!J467,IF(【ジュエリー】入力欄!I467=\"パール\",\"mm\",\"ct\"))))","v":"  "},{"$f":"IF(【ジュエリー】入力欄!L467=\"\",\"\",【ジュエリー】入力欄!L467&\"g\")","v":""},{"$f":"IF(【ジュエリー】入力欄!M467=\"\",\"\",【ジュエリー】入力欄!M467)","v":""},{"$f":"IF(【ジュエリー】入力欄!O467=\"\",\"\",【ジュエリー】入力欄!O467)","v":""}]
["３",{"$f":"IF(【ジュエリー】入力欄!K468=\"\",\"\",【ジュエリー】入力欄!K468)","v":""},{"$f":"IF(【ジュエリー】入力欄!E468=\"\",\"\",【ジュエリー】入力欄!E468)","v":""},{"$f":"CONCATENATE(IF(【ジュエリー】入力欄!F468=\"\",\"\",【ジュエリー】入力欄!F468),IF(【ジュエリー】入力欄!H468=\"\",CONCATENATE(\" \",【ジュエリー】入力欄!G468),CONCATENATE(\" \",【ジュエリー】入力欄!G468,【ジュエリー】入力欄!H468,IF(【ジュエリー】入力欄!G468=\"パール\",\"mm\",\"ct\"))),IF(【ジュエリー】入力欄!J468=\"\",CONCATENATE(\" \",【ジュエリー】入力欄!I468),CONCATENATE(\" \",【ジュエリー】入力欄!I468,【ジュエリー】入力欄!J468,IF(【ジュエリー】入力欄!I468=\"パール\",\"mm\",\"ct\"))))","v":"  "},{"$f":"IF(【ジュエリー】入力欄!L468=\"\",\"\",【ジュエリー】入力欄!L468&\"g\")","v":""},{"$f":"IF(【ジュエリー】入力欄!M468=\"\",\"\",【ジュエリー】入力欄!M468)","v":""},{"$f":"IF(【ジュエリー】入力欄!O468=\"\",\"\",【ジュエリー】入力欄!O468)","v":""}]
["４",{"$f":"IF(【ジュエリー】入力欄!K469=\"\",\"\",【ジュエリー】入力欄!K469)","v":""},{"$f":"IF(【ジュエリー】入力欄!E469=\"\",\"\",【ジュエリー】入力欄!E469)","v":""},{"$f":"CONCATENATE(IF(【ジュエリー】入力欄!F469=\"\",\"\",【ジュエリー】入力欄!F469),IF(【ジュエリー】入力欄!H469=\"\",CONCATENATE(\" \",【ジュエリー】入力欄!G469),CONCATENATE(\" \",【ジュエリー】入力欄!G469,【ジュエリー】入力欄!H469,IF(【ジュエリー】入力欄!G469=\"パール\",\"mm\",\"ct\"))),IF(【ジュエリー】入力欄!J469=\"\",CONCATENATE(\" \",【ジュエリー】入力欄!I469),CONCATENATE(\" \",【ジュエリー】入力欄!I469,【ジュエリー】入力欄!J469,IF(【ジュエリー】入力欄!I469=\"パール\",\"mm\",\"ct\"))))","v":"  "},{"$f":"IF(【ジュエリー】入力欄!L469=\"\",\"\",【ジュエリー】入力欄!L469&\"g\")","v":""},{"$f":"IF(【ジュエリー】入力欄!M469=\"\",\"\",【ジュエリー】入力欄!M469)","v":""},{"$f":"IF(【ジュエリー】入力欄!O469=\"\",\"\",【ジュエリー】入力欄!O469)","v":""}]
["５",{"$f":"IF(【ジュエリー】入力欄!K470=\"\",\"\",【ジュエリー】入力欄!K470)","v":""},{"$f":"IF(【ジュエリー】入力欄!E470=\"\",\"\",【ジュエリー】入力欄!E470)","v":""},{"$f":"CONCATENATE(IF(【ジュエリー】入力欄!F470=\"\",\"\",【ジュエリー】入力欄!F470),IF(【ジュエリー】入力欄!H470=\"\",CONCATENATE(\" \",【ジュエリー】入力欄!G470),CONCATENATE(\" \",【ジュエリー】入力欄!G470,【ジュエリー】入力欄!H470,IF(【ジュエリー】入力欄!G470=\"パール\",\"mm\",\"ct\"))),IF(【ジュエリー】入力欄!J470=\"\",CONCATENATE(\" \",【ジュエリー】入力欄!I470),CONCATENATE(\" \",【ジュエリー】入力欄!I470,【ジュエリー】入力欄!J470,IF(【ジュエリー】入力欄!I470=\"パール\",\"mm\",\"ct\"))))","v":"  "},{"$f":"IF(【ジュエリー】入力欄!L470=\"\",\"\",【ジュエリー】入力欄!L470&\"g\")","v":""},{"$f":"IF(【ジュエリー】入力欄!M470=\"\",\"\",【ジュエリー】入力欄!M470)","v":""},{"$f":"IF(【ジュエリー】入力欄!O470=\"\",\"\",【ジュエリー】入力欄!O470)","v":""}]
["６",{"$f":"IF(【ジュエリー】入力欄!K471=\"\",\"\",【ジュエリー】入力欄!K471)","v":""},{"$f":"IF(【ジュエリー】入力欄!E471=\"\",\"\",【ジュエリー】入力欄!E471)","v":""},{"$f":"CONCATENATE(IF(【ジュエリー】入力欄!F471=\"\",\"\",【ジュエリー】入力欄!F471),IF(【ジュエリー】入力欄!H471=\"\",CONCATENATE(\" \",【ジュエリー】入力欄!G471),CONCATENATE(\" \",【ジュエリー】入力欄!G471,【ジュエリー】入力欄!H471,IF(【ジュエリー】入力欄!G471=\"パール\",\"mm\",\"ct\"))),IF(【ジュエリー】入力欄!J471=\"\",CONCATENATE(\" \",【ジュエリー】入力欄!I471),CONCATENATE(\" \",【ジュエリー】入力欄!I471,【ジュエリー】入力欄!J471,IF(【ジュエリー】入力欄!I471=\"パール\",\"mm\",\"ct\"))))","v":"  "},{"$f":"IF(【ジュエリー】入力欄!L471=\"\",\"\",【ジュエリー】入力欄!L471&\"g\")","v":""},{"$f":"IF(【ジュエリー】入力欄!M471=\"\",\"\",【ジュエリー】入力欄!M471)","v":""},{"$f":"IF(【ジュエリー】入力欄!O471=\"\",\"\",【ジュエリー】入力欄!O471)","v":""}]
["７",{"$f":"IF(【ジュエリー】入力欄!K472=\"\",\"\",【ジュエリー】入力欄!K472)","v":""},{"$f":"IF(【ジュエリー】入力欄!E472=\"\",\"\",【ジュエリー】入力欄!E472)","v":""},{"$f":"CONCATENATE(IF(【ジュエリー】入力欄!F472=\"\",\"\",【ジュエリー】入力欄!F472),IF(【ジュエリー】入力欄!H472=\"\",CONCATENATE(\" \",【ジュエリー】入力欄!G472),CONCATENATE(\" \",【ジュエリー】入力欄!G472,【ジュエリー】入力欄!H472,IF(【ジュエリー】入力欄!G472=\"パール\",\"mm\",\"ct\"))),IF(【ジュエリー】入力欄!J472=\"\",CONCATENATE(\" \",【ジュエリー】入力欄!I472),CONCATENATE(\" \",【ジュエリー】入力欄!I472,【ジュエリー】入力欄!J472,IF(【ジュエリー】入力欄!I472=\"パール\",\"mm\",\"ct\"))))","v":"  "},{"$f":"IF(【ジュエリー】入力欄!L472=\"\",\"\",【ジュエリー】入力欄!L472&\"g\")","v":""},{"$f":"IF(【ジュエリー】入力欄!M472=\"\",\"\",【ジュエリー】入力欄!M472)","v":""},{"$f":"IF(【ジュエリー】入力欄!O472=\"\",\"\",【ジュエリー】入力欄!O472)","v":""}]
["８",{"$f":"IF(【ジュエリー】入力欄!K473=\"\",\"\",【ジュエリー】入力欄!K473)","v":""},{"$f":"IF(【ジュエリー】入力欄!E473=\"\",\"\",【ジュエリー】入力欄!E473)","v":""},{"$f":"CONCATENATE(IF(【ジュエリー】入力欄!F473=\"\",\"\",【ジュエリー】入力欄!F473),IF(【ジュエリー】入力欄!H473=\"\",CONCATENATE(\" \",【ジュエリー】入力欄!G473),CONCATENATE(\" \",【ジュエリー】入力欄!G473,【ジュエリー】入力欄!H473,IF(【ジュエリー】入力欄!G473=\"パール\",\"mm\",\"ct\"))),IF(【ジュエリー】入力欄!J473=\"\",CONCATENATE(\" \",【ジュエリー】入力欄!I473),CONCATENATE(\" \",【ジュエリー】入力欄!I473,【ジュエリー】入力欄!J473,IF(【ジュエリー】入力欄!I473=\"パール\",\"mm\",\"ct\"))))","v":"  "},{"$f":"IF(【ジュエリー】入力欄!L473=\"\",\"\",【ジュエリー】入力欄!L473&\"g\")","v":""},{"$f":"IF(【ジュエリー】入力欄!M473=\"\",\"\",【ジュエリー】入力欄!M473)","v":""},{"$f":"IF(【ジュエリー】入力欄!O473=\"\",\"\",【ジュエリー】入力欄!O473)","v":""}]
["９",{"$f":"IF(【ジュエリー】入力欄!K474=\"\",\"\",【ジュエリー】入力欄!K474)","v":""},{"$f":"IF(【ジュエリー】入力欄!E474=\"\",\"\",【ジュエリー】入力欄!E474)","v":""},{"$f":"CONCATENATE(IF(【ジュエリー】入力欄!F474=\"\",\"\",【ジュエリー】入力欄!F474),IF(【ジュエリー】入力欄!H474=\"\",CONCATENATE(\" \",【ジュエリー】入力欄!G474),CONCATENATE(\" \",【ジュエリー】入力欄!G474,【ジュエリー】入力欄!H474,IF(【ジュエリー】入力欄!G474=\"パール\",\"mm\",\"ct\"))),IF(【ジュエリー】入力欄!J474=\"\",CONCATENATE(\" \",【ジュエリー】入力欄!I474),CONCATENATE(\" \",【ジュエリー】入力欄!I474,【ジュエリー】入力欄!J474,IF(【ジュエリー】入力欄!I474=\"パール\",\"mm\",\"ct\"))))","v":"  "},{"$f":"IF(【ジュエリー】入力欄!L474=\"\",\"\",【ジュエリー】入力欄!L474&\"g\")","v":""},{"$f":"IF(【ジュエリー】入力欄!M474=\"\",\"\",【ジュエリー】入力欄!M474)","v":""},{"$f":"IF(【ジュエリー】入力欄!O474=\"\",\"\",【ジュエリー】入力欄!O474)","v":""}]
["１０",{"$f":"IF(【ジュエリー】入力欄!K475=\"\",\"\",【ジュエリー】入力欄!K475)","v":""},{"$f":"IF(【ジュエリー】入力欄!E475=\"\",\"\",【ジュエリー】入力欄!E475)","v":""},{"$f":"CONCATENATE(IF(【ジュエリー】入力欄!F475=\"\",\"\",【ジュエリー】入力欄!F475),IF(【ジュエリー】入力欄!H475=\"\",CONCATENATE(\" \",【ジュエリー】入力欄!G475),CONCATENATE(\" \",【ジュエリー】入力欄!G475,【ジュエリー】入力欄!H475,IF(【ジュエリー】入力欄!G475=\"パール\",\"mm\",\"ct\"))),IF(【ジュエリー】入力欄!J475=\"\",CONCATENATE(\" \",【ジュエリー】入力欄!I475),CONCATENATE(\" \",【ジュエリー】入力欄!I475,【ジュエリー】入力欄!J475,IF(【ジュエリー】入力欄!I475=\"パール\",\"mm\",\"ct\"))))","v":"  "},{"$f":"IF(【ジュエリー】入力欄!L475=\"\",\"\",【ジュエリー】入力欄!L475&\"g\")","v":""},{"$f":"IF(【ジュエリー】入力欄!M475=\"\",\"\",【ジュエリー】入力欄!M475)","v":""},{"$f":"IF(【ジュエリー】入力欄!O475=\"\",\"\",【ジュエリー】入力欄!O475)","v":""}]
[]
["   \n",{"$f":"CONCATENATE(\"出品表　（　\",【ジュエリー】入力欄!I$3,\"　大吉オークション　宝石・ジュエリー）\")","v":"出品表　（　　大吉オークション　宝石・ジュエリー）"}]
[]
[null,"箱番：",{"$f":"IF(【ジュエリー】入力欄!C476=\"\",\"\",【ジュエリー】入力欄!C476)","v":""},"※太枠の中をご記入ください",null,"会社名",{"$f":"IF(【ジュエリー】入力欄!C$3=\"\",\"\",【ジュエリー】入力欄!C$3)","v":""}]
[]
["番号","品目","金性","詳細・特徴","重量","付属品","指値\n（3万円以上）","発句"]
["１",{"$f":"IF(【ジュエリー】入力欄!K476=\"\",\"\",【ジュエリー】入力欄!K476)","v":""},{"$f":"IF(【ジュエリー】入力欄!E476=\"\",\"\",【ジュエリー】入力欄!E476)","v":""},{"$f":"CONCATENATE(IF(【ジュエリー】入力欄!F476=\"\",\"\",【ジュエリー】入力欄!F476),IF(【ジュエリー】入力欄!H476=\"\",CONCATENATE(\" \",【ジュエリー】入力欄!G476),CONCATENATE(\" \",【ジュエリー】入力欄!G476,【ジュエリー】入力欄!H476,IF(【ジュエリー】入力欄!G476=\"パール\",\"mm\",\"ct\"))),IF(【ジュエリー】入力欄!J476=\"\",CONCATENATE(\" \",【ジュエリー】入力欄!I476),CONCATENATE(\" \",【ジュエリー】入力欄!I476,【ジュエリー】入力欄!J476,IF(【ジュエリー】入力欄!I476=\"パール\",\"mm\",\"ct\"))))","v":"  "},{"$f":"IF(【ジュエリー】入力欄!L476=\"\",\"\",【ジュエリー】入力欄!L476&\"g\")","v":""},{"$f":"IF(【ジュエリー】入力欄!M476=\"\",\"\",【ジュエリー】入力欄!M476)","v":""},{"$f":"IF(【ジュエリー】入力欄!O476=\"\",\"\",【ジュエリー】入力欄!O476)","v":""}]
["２",{"$f":"IF(【ジュエリー】入力欄!K477=\"\",\"\",【ジュエリー】入力欄!K477)","v":""},{"$f":"IF(【ジュエリー】入力欄!E477=\"\",\"\",【ジュエリー】入力欄!E477)","v":""},{"$f":"CONCATENATE(IF(【ジュエリー】入力欄!F477=\"\",\"\",【ジュエリー】入力欄!F477),IF(【ジュエリー】入力欄!H477=\"\",CONCATENATE(\" \",【ジュエリー】入力欄!G477),CONCATENATE(\" \",【ジュエリー】入力欄!G477,【ジュエリー】入力欄!H477,IF(【ジュエリー】入力欄!G477=\"パール\",\"mm\",\"ct\"))),IF(【ジュエリー】入力欄!J477=\"\",CONCATENATE(\" \",【ジュエリー】入力欄!I477),CONCATENATE(\" \",【ジュエリー】入力欄!I477,【ジュエリー】入力欄!J477,IF(【ジュエリー】入力欄!I477=\"パール\",\"mm\",\"ct\"))))","v":"  "},{"$f":"IF(【ジュエリー】入力欄!L477=\"\",\"\",【ジュエリー】入力欄!L477&\"g\")","v":""},{"$f":"IF(【ジュエリー】入力欄!M477=\"\",\"\",【ジュエリー】入力欄!M477)","v":""},{"$f":"IF(【ジュエリー】入力欄!O477=\"\",\"\",【ジュエリー】入力欄!O477)","v":""}]
["３",{"$f":"IF(【ジュエリー】入力欄!K478=\"\",\"\",【ジュエリー】入力欄!K478)","v":""},{"$f":"IF(【ジュエリー】入力欄!E478=\"\",\"\",【ジュエリー】入力欄!E478)","v":""},{"$f":"CONCATENATE(IF(【ジュエリー】入力欄!F478=\"\",\"\",【ジュエリー】入力欄!F478),IF(【ジュエリー】入力欄!H478=\"\",CONCATENATE(\" \",【ジュエリー】入力欄!G478),CONCATENATE(\" \",【ジュエリー】入力欄!G478,【ジュエリー】入力欄!H478,IF(【ジュエリー】入力欄!G478=\"パール\",\"mm\",\"ct\"))),IF(【ジュエリー】入力欄!J478=\"\",CONCATENATE(\" \",【ジュエリー】入力欄!I478),CONCATENATE(\" \",【ジュエリー】入力欄!I478,【ジュエリー】入力欄!J478,IF(【ジュエリー】入力欄!I478=\"パール\",\"mm\",\"ct\"))))","v":"  "},{"$f":"IF(【ジュエリー】入力欄!L478=\"\",\"\",【ジュエリー】入力欄!L478&\"g\")","v":""},{"$f":"IF(【ジュエリー】入力欄!M478=\"\",\"\",【ジュエリー】入力欄!M478)","v":""},{"$f":"IF(【ジュエリー】入力欄!O478=\"\",\"\",【ジュエリー】入力欄!O478)","v":""}]
["４",{"$f":"IF(【ジュエリー】入力欄!K479=\"\",\"\",【ジュエリー】入力欄!K479)","v":""},{"$f":"IF(【ジュエリー】入力欄!E479=\"\",\"\",【ジュエリー】入力欄!E479)","v":""},{"$f":"CONCATENATE(IF(【ジュエリー】入力欄!F479=\"\",\"\",【ジュエリー】入力欄!F479),IF(【ジュエリー】入力欄!H479=\"\",CONCATENATE(\" \",【ジュエリー】入力欄!G479),CONCATENATE(\" \",【ジュエリー】入力欄!G479,【ジュエリー】入力欄!H479,IF(【ジュエリー】入力欄!G479=\"パール\",\"mm\",\"ct\"))),IF(【ジュエリー】入力欄!J479=\"\",CONCATENATE(\" \",【ジュエリー】入力欄!I479),CONCATENATE(\" \",【ジュエリー】入力欄!I479,【ジュエリー】入力欄!J479,IF(【ジュエリー】入力欄!I479=\"パール\",\"mm\",\"ct\"))))","v":"  "},{"$f":"IF(【ジュエリー】入力欄!L479=\"\",\"\",【ジュエリー】入力欄!L479&\"g\")","v":""},{"$f":"IF(【ジュエリー】入力欄!M479=\"\",\"\",【ジュエリー】入力欄!M479)","v":""},{"$f":"IF(【ジュエリー】入力欄!O479=\"\",\"\",【ジュエリー】入力欄!O479)","v":""}]
["５",{"$f":"IF(【ジュエリー】入力欄!K480=\"\",\"\",【ジュエリー】入力欄!K480)","v":""},{"$f":"IF(【ジュエリー】入力欄!E480=\"\",\"\",【ジュエリー】入力欄!E480)","v":""},{"$f":"CONCATENATE(IF(【ジュエリー】入力欄!F480=\"\",\"\",【ジュエリー】入力欄!F480),IF(【ジュエリー】入力欄!H480=\"\",CONCATENATE(\" \",【ジュエリー】入力欄!G480),CONCATENATE(\" \",【ジュエリー】入力欄!G480,【ジュエリー】入力欄!H480,IF(【ジュエリー】入力欄!G480=\"パール\",\"mm\",\"ct\"))),IF(【ジュエリー】入力欄!J480=\"\",CONCATENATE(\" \",【ジュエリー】入力欄!I480),CONCATENATE(\" \",【ジュエリー】入力欄!I480,【ジュエリー】入力欄!J480,IF(【ジュエリー】入力欄!I480=\"パール\",\"mm\",\"ct\"))))","v":"  "},{"$f":"IF(【ジュエリー】入力欄!L480=\"\",\"\",【ジュエリー】入力欄!L480&\"g\")","v":""},{"$f":"IF(【ジュエリー】入力欄!M480=\"\",\"\",【ジュエリー】入力欄!M480)","v":""},{"$f":"IF(【ジュエリー】入力欄!O480=\"\",\"\",【ジュエリー】入力欄!O480)","v":""}]
["６",{"$f":"IF(【ジュエリー】入力欄!K481=\"\",\"\",【ジュエリー】入力欄!K481)","v":""},{"$f":"IF(【ジュエリー】入力欄!E481=\"\",\"\",【ジュエリー】入力欄!E481)","v":""},{"$f":"CONCATENATE(IF(【ジュエリー】入力欄!F481=\"\",\"\",【ジュエリー】入力欄!F481),IF(【ジュエリー】入力欄!H481=\"\",CONCATENATE(\" \",【ジュエリー】入力欄!G481),CONCATENATE(\" \",【ジュエリー】入力欄!G481,【ジュエリー】入力欄!H481,IF(【ジュエリー】入力欄!G481=\"パール\",\"mm\",\"ct\"))),IF(【ジュエリー】入力欄!J481=\"\",CONCATENATE(\" \",【ジュエリー】入力欄!I481),CONCATENATE(\" \",【ジュエリー】入力欄!I481,【ジュエリー】入力欄!J481,IF(【ジュエリー】入力欄!I481=\"パール\",\"mm\",\"ct\"))))","v":"  "},{"$f":"IF(【ジュエリー】入力欄!L481=\"\",\"\",【ジュエリー】入力欄!L481&\"g\")","v":""},{"$f":"IF(【ジュエリー】入力欄!M481=\"\",\"\",【ジュエリー】入力欄!M481)","v":""},{"$f":"IF(【ジュエリー】入力欄!O481=\"\",\"\",【ジュエリー】入力欄!O481)","v":""}]
["７",{"$f":"IF(【ジュエリー】入力欄!K482=\"\",\"\",【ジュエリー】入力欄!K482)","v":""},{"$f":"IF(【ジュエリー】入力欄!E482=\"\",\"\",【ジュエリー】入力欄!E482)","v":""},{"$f":"CONCATENATE(IF(【ジュエリー】入力欄!F482=\"\",\"\",【ジュエリー】入力欄!F482),IF(【ジュエリー】入力欄!H482=\"\",CONCATENATE(\" \",【ジュエリー】入力欄!G482),CONCATENATE(\" \",【ジュエリー】入力欄!G482,【ジュエリー】入力欄!H482,IF(【ジュエリー】入力欄!G482=\"パール\",\"mm\",\"ct\"))),IF(【ジュエリー】入力欄!J482=\"\",CONCATENATE(\" \",【ジュエリー】入力欄!I482),CONCATENATE(\" \",【ジュエリー】入力欄!I482,【ジュエリー】入力欄!J482,IF(【ジュエリー】入力欄!I482=\"パール\",\"mm\",\"ct\"))))","v":"  "},{"$f":"IF(【ジュエリー】入力欄!L482=\"\",\"\",【ジュエリー】入力欄!L482&\"g\")","v":""},{"$f":"IF(【ジュエリー】入力欄!M482=\"\",\"\",【ジュエリー】入力欄!M482)","v":""},{"$f":"IF(【ジュエリー】入力欄!O482=\"\",\"\",【ジュエリー】入力欄!O482)","v":""}]
["８",{"$f":"IF(【ジュエリー】入力欄!K483=\"\",\"\",【ジュエリー】入力欄!K483)","v":""},{"$f":"IF(【ジュエリー】入力欄!E483=\"\",\"\",【ジュエリー】入力欄!E483)","v":""},{"$f":"CONCATENATE(IF(【ジュエリー】入力欄!F483=\"\",\"\",【ジュエリー】入力欄!F483),IF(【ジュエリー】入力欄!H483=\"\",CONCATENATE(\" \",【ジュエリー】入力欄!G483),CONCATENATE(\" \",【ジュエリー】入力欄!G483,【ジュエリー】入力欄!H483,IF(【ジュエリー】入力欄!G483=\"パール\",\"mm\",\"ct\"))),IF(【ジュエリー】入力欄!J483=\"\",CONCATENATE(\" \",【ジュエリー】入力欄!I483),CONCATENATE(\" \",【ジュエリー】入力欄!I483,【ジュエリー】入力欄!J483,IF(【ジュエリー】入力欄!I483=\"パール\",\"mm\",\"ct\"))))","v":"  "},{"$f":"IF(【ジュエリー】入力欄!L483=\"\",\"\",【ジュエリー】入力欄!L483&\"g\")","v":""},{"$f":"IF(【ジュエリー】入力欄!M483=\"\",\"\",【ジュエリー】入力欄!M483)","v":""},{"$f":"IF(【ジュエリー】入力欄!O483=\"\",\"\",【ジュエリー】入力欄!O483)","v":""}]
["９",{"$f":"IF(【ジュエリー】入力欄!K484=\"\",\"\",【ジュエリー】入力欄!K484)","v":""},{"$f":"IF(【ジュエリー】入力欄!E484=\"\",\"\",【ジュエリー】入力欄!E484)","v":""},{"$f":"CONCATENATE(IF(【ジュエリー】入力欄!F484=\"\",\"\",【ジュエリー】入力欄!F484),IF(【ジュエリー】入力欄!H484=\"\",CONCATENATE(\" \",【ジュエリー】入力欄!G484),CONCATENATE(\" \",【ジュエリー】入力欄!G484,【ジュエリー】入力欄!H484,IF(【ジュエリー】入力欄!G484=\"パール\",\"mm\",\"ct\"))),IF(【ジュエリー】入力欄!J484=\"\",CONCATENATE(\" \",【ジュエリー】入力欄!I484),CONCATENATE(\" \",【ジュエリー】入力欄!I484,【ジュエリー】入力欄!J484,IF(【ジュエリー】入力欄!I484=\"パール\",\"mm\",\"ct\"))))","v":"  "},{"$f":"IF(【ジュエリー】入力欄!L484=\"\",\"\",【ジュエリー】入力欄!L484&\"g\")","v":""},{"$f":"IF(【ジュエリー】入力欄!M484=\"\",\"\",【ジュエリー】入力欄!M484)","v":""},{"$f":"IF(【ジュエリー】入力欄!O484=\"\",\"\",【ジュエリー】入力欄!O484)","v":""}]
["１０",{"$f":"IF(【ジュエリー】入力欄!K485=\"\",\"\",【ジュエリー】入力欄!K485)","v":""},{"$f":"IF(【ジュエリー】入力欄!E485=\"\",\"\",【ジュエリー】入力欄!E485)","v":""},{"$f":"CONCATENATE(IF(【ジュエリー】入力欄!F485=\"\",\"\",【ジュエリー】入力欄!F485),IF(【ジュエリー】入力欄!H485=\"\",CONCATENATE(\" \",【ジュエリー】入力欄!G485),CONCATENATE(\" \",【ジュエリー】入力欄!G485,【ジュエリー】入力欄!H485,IF(【ジュエリー】入力欄!G485=\"パール\",\"mm\",\"ct\"))),IF(【ジュエリー】入力欄!J485=\"\",CONCATENATE(\" \",【ジュエリー】入力欄!I485),CONCATENATE(\" \",【ジュエリー】入力欄!I485,【ジュエリー】入力欄!J485,IF(【ジュエリー】入力欄!I485=\"パール\",\"mm\",\"ct\"))))","v":"  "},{"$f":"IF(【ジュエリー】入力欄!L485=\"\",\"\",【ジュエリー】入力欄!L485&\"g\")","v":""},{"$f":"IF(【ジュエリー】入力欄!M485=\"\",\"\",【ジュエリー】入力欄!M485)","v":""},{"$f":"IF(【ジュエリー】入力欄!O485=\"\",\"\",【ジュエリー】入力欄!O485)","v":""}]
[]
["   \n",{"$f":"CONCATENATE(\"出品表　（　\",【ジュエリー】入力欄!I$3,\"　大吉オークション　宝石・ジュエリー）\")","v":"出品表　（　　大吉オークション　宝石・ジュエリー）"}]
[]
[null,"箱番：",{"$f":"IF(【ジュエリー】入力欄!C486=\"\",\"\",【ジュエリー】入力欄!C486)","v":""},"※太枠の中をご記入ください",null,"会社名",{"$f":"IF(【ジュエリー】入力欄!C$3=\"\",\"\",【ジュエリー】入力欄!C$3)","v":""}]
[]
["番号","品目","金性","詳細・特徴","重量","付属品","指値\n（3万円以上）","発句"]
["１",{"$f":"IF(【ジュエリー】入力欄!K486=\"\",\"\",【ジュエリー】入力欄!K486)","v":""},{"$f":"IF(【ジュエリー】入力欄!E486=\"\",\"\",【ジュエリー】入力欄!E486)","v":""},{"$f":"CONCATENATE(IF(【ジュエリー】入力欄!F486=\"\",\"\",【ジュエリー】入力欄!F486),IF(【ジュエリー】入力欄!H486=\"\",CONCATENATE(\" \",【ジュエリー】入力欄!G486),CONCATENATE(\" \",【ジュエリー】入力欄!G486,【ジュエリー】入力欄!H486,IF(【ジュエリー】入力欄!G486=\"パール\",\"mm\",\"ct\"))),IF(【ジュエリー】入力欄!J486=\"\",CONCATENATE(\" \",【ジュエリー】入力欄!I486),CONCATENATE(\" \",【ジュエリー】入力欄!I486,【ジュエリー】入力欄!J486,IF(【ジュエリー】入力欄!I486=\"パール\",\"mm\",\"ct\"))))","v":"  "},{"$f":"IF(【ジュエリー】入力欄!L486=\"\",\"\",【ジュエリー】入力欄!L486&\"g\")","v":""},{"$f":"IF(【ジュエリー】入力欄!M486=\"\",\"\",【ジュエリー】入力欄!M486)","v":""},{"$f":"IF(【ジュエリー】入力欄!O486=\"\",\"\",【ジュエリー】入力欄!O486)","v":""}]
["２",{"$f":"IF(【ジュエリー】入力欄!K487=\"\",\"\",【ジュエリー】入力欄!K487)","v":""},{"$f":"IF(【ジュエリー】入力欄!E487=\"\",\"\",【ジュエリー】入力欄!E487)","v":""},{"$f":"CONCATENATE(IF(【ジュエリー】入力欄!F487=\"\",\"\",【ジュエリー】入力欄!F487),IF(【ジュエリー】入力欄!H487=\"\",CONCATENATE(\" \",【ジュエリー】入力欄!G487),CONCATENATE(\" \",【ジュエリー】入力欄!G487,【ジュエリー】入力欄!H487,IF(【ジュエリー】入力欄!G487=\"パール\",\"mm\",\"ct\"))),IF(【ジュエリー】入力欄!J487=\"\",CONCATENATE(\" \",【ジュエリー】入力欄!I487),CONCATENATE(\" \",【ジュエリー】入力欄!I487,【ジュエリー】入力欄!J487,IF(【ジュエリー】入力欄!I487=\"パール\",\"mm\",\"ct\"))))","v":"  "},{"$f":"IF(【ジュエリー】入力欄!L487=\"\",\"\",【ジュエリー】入力欄!L487&\"g\")","v":""},{"$f":"IF(【ジュエリー】入力欄!M487=\"\",\"\",【ジュエリー】入力欄!M487)","v":""},{"$f":"IF(【ジュエリー】入力欄!O487=\"\",\"\",【ジュエリー】入力欄!O487)","v":""}]
["３",{"$f":"IF(【ジュエリー】入力欄!K488=\"\",\"\",【ジュエリー】入力欄!K488)","v":""},{"$f":"IF(【ジュエリー】入力欄!E488=\"\",\"\",【ジュエリー】入力欄!E488)","v":""},{"$f":"CONCATENATE(IF(【ジュエリー】入力欄!F488=\"\",\"\",【ジュエリー】入力欄!F488),IF(【ジュエリー】入力欄!H488=\"\",CONCATENATE(\" \",【ジュエリー】入力欄!G488),CONCATENATE(\" \",【ジュエリー】入力欄!G488,【ジュエリー】入力欄!H488,IF(【ジュエリー】入力欄!G488=\"パール\",\"mm\",\"ct\"))),IF(【ジュエリー】入力欄!J488=\"\",CONCATENATE(\" \",【ジュエリー】入力欄!I488),CONCATENATE(\" \",【ジュエリー】入力欄!I488,【ジュエリー】入力欄!J488,IF(【ジュエリー】入力欄!I488=\"パール\",\"mm\",\"ct\"))))","v":"  "},{"$f":"IF(【ジュエリー】入力欄!L488=\"\",\"\",【ジュエリー】入力欄!L488&\"g\")","v":""},{"$f":"IF(【ジュエリー】入力欄!M488=\"\",\"\",【ジュエリー】入力欄!M488)","v":""},{"$f":"IF(【ジュエリー】入力欄!O488=\"\",\"\",【ジュエリー】入力欄!O488)","v":""}]
["４",{"$f":"IF(【ジュエリー】入力欄!K489=\"\",\"\",【ジュエリー】入力欄!K489)","v":""},{"$f":"IF(【ジュエリー】入力欄!E489=\"\",\"\",【ジュエリー】入力欄!E489)","v":""},{"$f":"CONCATENATE(IF(【ジュエリー】入力欄!F489=\"\",\"\",【ジュエリー】入力欄!F489),IF(【ジュエリー】入力欄!H489=\"\",CONCATENATE(\" \",【ジュエリー】入力欄!G489),CONCATENATE(\" \",【ジュエリー】入力欄!G489,【ジュエリー】入力欄!H489,IF(【ジュエリー】入力欄!G489=\"パール\",\"mm\",\"ct\"))),IF(【ジュエリー】入力欄!J489=\"\",CONCATENATE(\" \",【ジュエリー】入力欄!I489),CONCATENATE(\" \",【ジュエリー】入力欄!I489,【ジュエリー】入力欄!J489,IF(【ジュエリー】入力欄!I489=\"パール\",\"mm\",\"ct\"))))","v":"  "},{"$f":"IF(【ジュエリー】入力欄!L489=\"\",\"\",【ジュエリー】入力欄!L489&\"g\")","v":""},{"$f":"IF(【ジュエリー】入力欄!M489=\"\",\"\",【ジュエリー】入力欄!M489)","v":""},{"$f":"IF(【ジュエリー】入力欄!O489=\"\",\"\",【ジュエリー】入力欄!O489)","v":""}]
["５",{"$f":"IF(【ジュエリー】入力欄!K490=\"\",\"\",【ジュエリー】入力欄!K490)","v":""},{"$f":"IF(【ジュエリー】入力欄!E490=\"\",\"\",【ジュエリー】入力欄!E490)","v":""},{"$f":"CONCATENATE(IF(【ジュエリー】入力欄!F490=\"\",\"\",【ジュエリー】入力欄!F490),IF(【ジュエリー】入力欄!H490=\"\",CONCATENATE(\" \",【ジュエリー】入力欄!G490),CONCATENATE(\" \",【ジュエリー】入力欄!G490,【ジュエリー】入力欄!H490,IF(【ジュエリー】入力欄!G490=\"パール\",\"mm\",\"ct\"))),IF(【ジュエリー】入力欄!J490=\"\",CONCATENATE(\" \",【ジュエリー】入力欄!I490),CONCATENATE(\" \",【ジュエリー】入力欄!I490,【ジュエリー】入力欄!J490,IF(【ジュエリー】入力欄!I490=\"パール\",\"mm\",\"ct\"))))","v":"  "},{"$f":"IF(【ジュエリー】入力欄!L490=\"\",\"\",【ジュエリー】入力欄!L490&\"g\")","v":""},{"$f":"IF(【ジュエリー】入力欄!M490=\"\",\"\",【ジュエリー】入力欄!M490)","v":""},{"$f":"IF(【ジュエリー】入力欄!O490=\"\",\"\",【ジュエリー】入力欄!O490)","v":""}]
["６",{"$f":"IF(【ジュエリー】入力欄!K491=\"\",\"\",【ジュエリー】入力欄!K491)","v":""},{"$f":"IF(【ジュエリー】入力欄!E491=\"\",\"\",【ジュエリー】入力欄!E491)","v":""},{"$f":"CONCATENATE(IF(【ジュエリー】入力欄!F491=\"\",\"\",【ジュエリー】入力欄!F491),IF(【ジュエリー】入力欄!H491=\"\",CONCATENATE(\" \",【ジュエリー】入力欄!G491),CONCATENATE(\" \",【ジュエリー】入力欄!G491,【ジュエリー】入力欄!H491,IF(【ジュエリー】入力欄!G491=\"パール\",\"mm\",\"ct\"))),IF(【ジュエリー】入力欄!J491=\"\",CONCATENATE(\" \",【ジュエリー】入力欄!I491),CONCATENATE(\" \",【ジュエリー】入力欄!I491,【ジュエリー】入力欄!J491,IF(【ジュエリー】入力欄!I491=\"パール\",\"mm\",\"ct\"))))","v":"  "},{"$f":"IF(【ジュエリー】入力欄!L491=\"\",\"\",【ジュエリー】入力欄!L491&\"g\")","v":""},{"$f":"IF(【ジュエリー】入力欄!M491=\"\",\"\",【ジュエリー】入力欄!M491)","v":""},{"$f":"IF(【ジュエリー】入力欄!O491=\"\",\"\",【ジュエリー】入力欄!O491)","v":""}]
["７",{"$f":"IF(【ジュエリー】入力欄!K492=\"\",\"\",【ジュエリー】入力欄!K492)","v":""},{"$f":"IF(【ジュエリー】入力欄!E492=\"\",\"\",【ジュエリー】入力欄!E492)","v":""},{"$f":"CONCATENATE(IF(【ジュエリー】入力欄!F492=\"\",\"\",【ジュエリー】入力欄!F492),IF(【ジュエリー】入力欄!H492=\"\",CONCATENATE(\" \",【ジュエリー】入力欄!G492),CONCATENATE(\" \",【ジュエリー】入力欄!G492,【ジュエリー】入力欄!H492,IF(【ジュエリー】入力欄!G492=\"パール\",\"mm\",\"ct\"))),IF(【ジュエリー】入力欄!J492=\"\",CONCATENATE(\" \",【ジュエリー】入力欄!I492),CONCATENATE(\" \",【ジュエリー】入力欄!I492,【ジュエリー】入力欄!J492,IF(【ジュエリー】入力欄!I492=\"パール\",\"mm\",\"ct\"))))","v":"  "},{"$f":"IF(【ジュエリー】入力欄!L492=\"\",\"\",【ジュエリー】入力欄!L492&\"g\")","v":""},{"$f":"IF(【ジュエリー】入力欄!M492=\"\",\"\",【ジュエリー】入力欄!M492)","v":""},{"$f":"IF(【ジュエリー】入力欄!O492=\"\",\"\",【ジュエリー】入力欄!O492)","v":""}]
["８",{"$f":"IF(【ジュエリー】入力欄!K493=\"\",\"\",【ジュエリー】入力欄!K493)","v":""},{"$f":"IF(【ジュエリー】入力欄!E493=\"\",\"\",【ジュエリー】入力欄!E493)","v":""},{"$f":"CONCATENATE(IF(【ジュエリー】入力欄!F493=\"\",\"\",【ジュエリー】入力欄!F493),IF(【ジュエリー】入力欄!H493=\"\",CONCATENATE(\" \",【ジュエリー】入力欄!G493),CONCATENATE(\" \",【ジュエリー】入力欄!G493,【ジュエリー】入力欄!H493,IF(【ジュエリー】入力欄!G493=\"パール\",\"mm\",\"ct\"))),IF(【ジュエリー】入力欄!J493=\"\",CONCATENATE(\" \",【ジュエリー】入力欄!I493),CONCATENATE(\" \",【ジュエリー】入力欄!I493,【ジュエリー】入力欄!J493,IF(【ジュエリー】入力欄!I493=\"パール\",\"mm\",\"ct\"))))","v":"  "},{"$f":"IF(【ジュエリー】入力欄!L493=\"\",\"\",【ジュエリー】入力欄!L493&\"g\")","v":""},{"$f":"IF(【ジュエリー】入力欄!M493=\"\",\"\",【ジュエリー】入力欄!M493)","v":""},{"$f":"IF(【ジュエリー】入力欄!O493=\"\",\"\",【ジュエリー】入力欄!O493)","v":""}]
["９",{"$f":"IF(【ジュエリー】入力欄!K494=\"\",\"\",【ジュエリー】入力欄!K494)","v":""},{"$f":"IF(【ジュエリー】入力欄!E494=\"\",\"\",【ジュエリー】入力欄!E494)","v":""},{"$f":"CONCATENATE(IF(【ジュエリー】入力欄!F494=\"\",\"\",【ジュエリー】入力欄!F494),IF(【ジュエリー】入力欄!H494=\"\",CONCATENATE(\" \",【ジュエリー】入力欄!G494),CONCATENATE(\" \",【ジュエリー】入力欄!G494,【ジュエリー】入力欄!H494,IF(【ジュエリー】入力欄!G494=\"パール\",\"mm\",\"ct\"))),IF(【ジュエリー】入力欄!J494=\"\",CONCATENATE(\" \",【ジュエリー】入力欄!I494),CONCATENATE(\" \",【ジュエリー】入力欄!I494,【ジュエリー】入力欄!J494,IF(【ジュエリー】入力欄!I494=\"パール\",\"mm\",\"ct\"))))","v":"  "},{"$f":"IF(【ジュエリー】入力欄!L494=\"\",\"\",【ジュエリー】入力欄!L494&\"g\")","v":""},{"$f":"IF(【ジュエリー】入力欄!M494=\"\",\"\",【ジュエリー】入力欄!M494)","v":""},{"$f":"IF(【ジュエリー】入力欄!O494=\"\",\"\",【ジュエリー】入力欄!O494)","v":""}]
["１０",{"$f":"IF(【ジュエリー】入力欄!K495=\"\",\"\",【ジュエリー】入力欄!K495)","v":""},{"$f":"IF(【ジュエリー】入力欄!E495=\"\",\"\",【ジュエリー】入力欄!E495)","v":""},{"$f":"CONCATENATE(IF(【ジュエリー】入力欄!F495=\"\",\"\",【ジュエリー】入力欄!F495),IF(【ジュエリー】入力欄!H495=\"\",CONCATENATE(\" \",【ジュエリー】入力欄!G495),CONCATENATE(\" \",【ジュエリー】入力欄!G495,【ジュエリー】入力欄!H495,IF(【ジュエリー】入力欄!G495=\"パール\",\"mm\",\"ct\"))),IF(【ジュエリー】入力欄!J495=\"\",CONCATENATE(\" \",【ジュエリー】入力欄!I495),CONCATENATE(\" \",【ジュエリー】入力欄!I495,【ジュエリー】入力欄!J495,IF(【ジュエリー】入力欄!I495=\"パール\",\"mm\",\"ct\"))))","v":"  "},{"$f":"IF(【ジュエリー】入力欄!L495=\"\",\"\",【ジュエリー】入力欄!L495&\"g\")","v":""},{"$f":"IF(【ジュエリー】入力欄!M495=\"\",\"\",【ジュエリー】入力欄!M495)","v":""},{"$f":"IF(【ジュエリー】入力欄!O495=\"\",\"\",【ジュエリー】入力欄!O495)","v":""}]
[]
["   \n",{"$f":"CONCATENATE(\"出品表　（　\",【ジュエリー】入力欄!I$3,\"　大吉オークション　宝石・ジュエリー）\")","v":"出品表　（　　大吉オークション　宝石・ジュエリー）"}]
[]
[null,"箱番：",{"$f":"IF(【ジュエリー】入力欄!C496=\"\",\"\",【ジュエリー】入力欄!C496)","v":""},"※太枠の中をご記入ください",null,"会社名",{"$f":"IF(【ジュエリー】入力欄!C$3=\"\",\"\",【ジュエリー】入力欄!C$3)","v":""}]
[]
["番号","品目","金性","詳細・特徴","重量","付属品","指値\n（3万円以上）","発句"]
["１",{"$f":"IF(【ジュエリー】入力欄!K496=\"\",\"\",【ジュエリー】入力欄!K496)","v":""},{"$f":"IF(【ジュエリー】入力欄!E496=\"\",\"\",【ジュエリー】入力欄!E496)","v":""},{"$f":"CONCATENATE(IF(【ジュエリー】入力欄!F496=\"\",\"\",【ジュエリー】入力欄!F496),IF(【ジュエリー】入力欄!H496=\"\",CONCATENATE(\" \",【ジュエリー】入力欄!G496),CONCATENATE(\" \",【ジュエリー】入力欄!G496,【ジュエリー】入力欄!H496,IF(【ジュエリー】入力欄!G496=\"パール\",\"mm\",\"ct\"))),IF(【ジュエリー】入力欄!J496=\"\",CONCATENATE(\" \",【ジュエリー】入力欄!I496),CONCATENATE(\" \",【ジュエリー】入力欄!I496,【ジュエリー】入力欄!J496,IF(【ジュエリー】入力欄!I496=\"パール\",\"mm\",\"ct\"))))","v":"  "},{"$f":"IF(【ジュエリー】入力欄!L496=\"\",\"\",【ジュエリー】入力欄!L496&\"g\")","v":""},{"$f":"IF(【ジュエリー】入力欄!M496=\"\",\"\",【ジュエリー】入力欄!M496)","v":""},{"$f":"IF(【ジュエリー】入力欄!O496=\"\",\"\",【ジュエリー】入力欄!O496)","v":""}]
["２",{"$f":"IF(【ジュエリー】入力欄!K497=\"\",\"\",【ジュエリー】入力欄!K497)","v":""},{"$f":"IF(【ジュエリー】入力欄!E497=\"\",\"\",【ジュエリー】入力欄!E497)","v":""},{"$f":"CONCATENATE(IF(【ジュエリー】入力欄!F497=\"\",\"\",【ジュエリー】入力欄!F497),IF(【ジュエリー】入力欄!H497=\"\",CONCATENATE(\" \",【ジュエリー】入力欄!G497),CONCATENATE(\" \",【ジュエリー】入力欄!G497,【ジュエリー】入力欄!H497,IF(【ジュエリー】入力欄!G497=\"パール\",\"mm\",\"ct\"))),IF(【ジュエリー】入力欄!J497=\"\",CONCATENATE(\" \",【ジュエリー】入力欄!I497),CONCATENATE(\" \",【ジュエリー】入力欄!I497,【ジュエリー】入力欄!J497,IF(【ジュエリー】入力欄!I497=\"パール\",\"mm\",\"ct\"))))","v":"  "},{"$f":"IF(【ジュエリー】入力欄!L497=\"\",\"\",【ジュエリー】入力欄!L497&\"g\")","v":""},{"$f":"IF(【ジュエリー】入力欄!M497=\"\",\"\",【ジュエリー】入力欄!M497)","v":""},{"$f":"IF(【ジュエリー】入力欄!O497=\"\",\"\",【ジュエリー】入力欄!O497)","v":""}]
["３",{"$f":"IF(【ジュエリー】入力欄!K498=\"\",\"\",【ジュエリー】入力欄!K498)","v":""},{"$f":"IF(【ジュエリー】入力欄!E498=\"\",\"\",【ジュエリー】入力欄!E498)","v":""},{"$f":"CONCATENATE(IF(【ジュエリー】入力欄!F498=\"\",\"\",【ジュエリー】入力欄!F498),IF(【ジュエリー】入力欄!H498=\"\",CONCATENATE(\" \",【ジュエリー】入力欄!G498),CONCATENATE(\" \",【ジュエリー】入力欄!G498,【ジュエリー】入力欄!H498,IF(【ジュエリー】入力欄!G498=\"パール\",\"mm\",\"ct\"))),IF(【ジュエリー】入力欄!J498=\"\",CONCATENATE(\" \",【ジュエリー】入力欄!I498),CONCATENATE(\" \",【ジュエリー】入力欄!I498,【ジュエリー】入力欄!J498,IF(【ジュエリー】入力欄!I498=\"パール\",\"mm\",\"ct\"))))","v":"  "},{"$f":"IF(【ジュエリー】入力欄!L498=\"\",\"\",【ジュエリー】入力欄!L498&\"g\")","v":""},{"$f":"IF(【ジュエリー】入力欄!M498=\"\",\"\",【ジュエリー】入力欄!M498)","v":""},{"$f":"IF(【ジュエリー】入力欄!O498=\"\",\"\",【ジュエリー】入力欄!O498)","v":""}]
["４",{"$f":"IF(【ジュエリー】入力欄!K499=\"\",\"\",【ジュエリー】入力欄!K499)","v":""},{"$f":"IF(【ジュエリー】入力欄!E499=\"\",\"\",【ジュエリー】入力欄!E499)","v":""},{"$f":"CONCATENATE(IF(【ジュエリー】入力欄!F499=\"\",\"\",【ジュエリー】入力欄!F499),IF(【ジュエリー】入力欄!H499=\"\",CONCATENATE(\" \",【ジュエリー】入力欄!G499),CONCATENATE(\" \",【ジュエリー】入力欄!G499,【ジュエリー】入力欄!H499,IF(【ジュエリー】入力欄!G499=\"パール\",\"mm\",\"ct\"))),IF(【ジュエリー】入力欄!J499=\"\",CONCATENATE(\" \",【ジュエリー】入力欄!I499),CONCATENATE(\" \",【ジュエリー】入力欄!I499,【ジュエリー】入力欄!J499,IF(【ジュエリー】入力欄!I499=\"パール\",\"mm\",\"ct\"))))","v":"  "},{"$f":"IF(【ジュエリー】入力欄!L499=\"\",\"\",【ジュエリー】入力欄!L499&\"g\")","v":""},{"$f":"IF(【ジュエリー】入力欄!M499=\"\",\"\",【ジュエリー】入力欄!M499)","v":""},{"$f":"IF(【ジュエリー】入力欄!O499=\"\",\"\",【ジュエリー】入力欄!O499)","v":""}]
["５",{"$f":"IF(【ジュエリー】入力欄!K500=\"\",\"\",【ジュエリー】入力欄!K500)","v":""},{"$f":"IF(【ジュエリー】入力欄!E500=\"\",\"\",【ジュエリー】入力欄!E500)","v":""},{"$f":"CONCATENATE(IF(【ジュエリー】入力欄!F500=\"\",\"\",【ジュエリー】入力欄!F500),IF(【ジュエリー】入力欄!H500=\"\",CONCATENATE(\" \",【ジュエリー】入力欄!G500),CONCATENATE(\" \",【ジュエリー】入力欄!G500,【ジュエリー】入力欄!H500,IF(【ジュエリー】入力欄!G500=\"パール\",\"mm\",\"ct\"))),IF(【ジュエリー】入力欄!J500=\"\",CONCATENATE(\" \",【ジュエリー】入力欄!I500),CONCATENATE(\" \",【ジュエリー】入力欄!I500,【ジュエリー】入力欄!J500,IF(【ジュエリー】入力欄!I500=\"パール\",\"mm\",\"ct\"))))","v":"  "},{"$f":"IF(【ジュエリー】入力欄!L500=\"\",\"\",【ジュエリー】入力欄!L500&\"g\")","v":""},{"$f":"IF(【ジュエリー】入力欄!M500=\"\",\"\",【ジュエリー】入力欄!M500)","v":""},{"$f":"IF(【ジュエリー】入力欄!O500=\"\",\"\",【ジュエリー】入力欄!O500)","v":""}]
["６",{"$f":"IF(【ジュエリー】入力欄!K501=\"\",\"\",【ジュエリー】入力欄!K501)","v":""},{"$f":"IF(【ジュエリー】入力欄!E501=\"\",\"\",【ジュエリー】入力欄!E501)","v":""},{"$f":"CONCATENATE(IF(【ジュエリー】入力欄!F501=\"\",\"\",【ジュエリー】入力欄!F501),IF(【ジュエリー】入力欄!H501=\"\",CONCATENATE(\" \",【ジュエリー】入力欄!G501),CONCATENATE(\" \",【ジュエリー】入力欄!G501,【ジュエリー】入力欄!H501,IF(【ジュエリー】入力欄!G501=\"パール\",\"mm\",\"ct\"))),IF(【ジュエリー】入力欄!J501=\"\",CONCATENATE(\" \",【ジュエリー】入力欄!I501),CONCATENATE(\" \",【ジュエリー】入力欄!I501,【ジュエリー】入力欄!J501,IF(【ジュエリー】入力欄!I501=\"パール\",\"mm\",\"ct\"))))","v":"  "},{"$f":"IF(【ジュエリー】入力欄!L501=\"\",\"\",【ジュエリー】入力欄!L501&\"g\")","v":""},{"$f":"IF(【ジュエリー】入力欄!M501=\"\",\"\",【ジュエリー】入力欄!M501)","v":""},{"$f":"IF(【ジュエリー】入力欄!O501=\"\",\"\",【ジュエリー】入力欄!O501)","v":""}]
["７",{"$f":"IF(【ジュエリー】入力欄!K502=\"\",\"\",【ジュエリー】入力欄!K502)","v":""},{"$f":"IF(【ジュエリー】入力欄!E502=\"\",\"\",【ジュエリー】入力欄!E502)","v":""},{"$f":"CONCATENATE(IF(【ジュエリー】入力欄!F502=\"\",\"\",【ジュエリー】入力欄!F502),IF(【ジュエリー】入力欄!H502=\"\",CONCATENATE(\" \",【ジュエリー】入力欄!G502),CONCATENATE(\" \",【ジュエリー】入力欄!G502,【ジュエリー】入力欄!H502,IF(【ジュエリー】入力欄!G502=\"パール\",\"mm\",\"ct\"))),IF(【ジュエリー】入力欄!J502=\"\",CONCATENATE(\" \",【ジュエリー】入力欄!I502),CONCATENATE(\" \",【ジュエリー】入力欄!I502,【ジュエリー】入力欄!J502,IF(【ジュエリー】入力欄!I502=\"パール\",\"mm\",\"ct\"))))","v":"  "},{"$f":"IF(【ジュエリー】入力欄!L502=\"\",\"\",【ジュエリー】入力欄!L502&\"g\")","v":""},{"$f":"IF(【ジュエリー】入力欄!M502=\"\",\"\",【ジュエリー】入力欄!M502)","v":""},{"$f":"IF(【ジュエリー】入力欄!O502=\"\",\"\",【ジュエリー】入力欄!O502)","v":""}]
["８",{"$f":"IF(【ジュエリー】入力欄!K503=\"\",\"\",【ジュエリー】入力欄!K503)","v":""},{"$f":"IF(【ジュエリー】入力欄!E503=\"\",\"\",【ジュエリー】入力欄!E503)","v":""},{"$f":"CONCATENATE(IF(【ジュエリー】入力欄!F503=\"\",\"\",【ジュエリー】入力欄!F503),IF(【ジュエリー】入力欄!H503=\"\",CONCATENATE(\" \",【ジュエリー】入力欄!G503),CONCATENATE(\" \",【ジュエリー】入力欄!G503,【ジュエリー】入力欄!H503,IF(【ジュエリー】入力欄!G503=\"パール\",\"mm\",\"ct\"))),IF(【ジュエリー】入力欄!J503=\"\",CONCATENATE(\" \",【ジュエリー】入力欄!I503),CONCATENATE(\" \",【ジュエリー】入力欄!I503,【ジュエリー】入力欄!J503,IF(【ジュエリー】入力欄!I503=\"パール\",\"mm\",\"ct\"))))","v":"  "},{"$f":"IF(【ジュエリー】入力欄!L503=\"\",\"\",【ジュエリー】入力欄!L503&\"g\")","v":""},{"$f":"IF(【ジュエリー】入力欄!M503=\"\",\"\",【ジュエリー】入力欄!M503)","v":""},{"$f":"IF(【ジュエリー】入力欄!O503=\"\",\"\",【ジュエリー】入力欄!O503)","v":""}]
["９",{"$f":"IF(【ジュエリー】入力欄!K504=\"\",\"\",【ジュエリー】入力欄!K504)","v":""},{"$f":"IF(【ジュエリー】入力欄!E504=\"\",\"\",【ジュエリー】入力欄!E504)","v":""},{"$f":"CONCATENATE(IF(【ジュエリー】入力欄!F504=\"\",\"\",【ジュエリー】入力欄!F504),IF(【ジュエリー】入力欄!H504=\"\",CONCATENATE(\" \",【ジュエリー】入力欄!G504),CONCATENATE(\" \",【ジュエリー】入力欄!G504,【ジュエリー】入力欄!H504,IF(【ジュエリー】入力欄!G504=\"パール\",\"mm\",\"ct\"))),IF(【ジュエリー】入力欄!J504=\"\",CONCATENATE(\" \",【ジュエリー】入力欄!I504),CONCATENATE(\" \",【ジュエリー】入力欄!I504,【ジュエリー】入力欄!J504,IF(【ジュエリー】入力欄!I504=\"パール\",\"mm\",\"ct\"))))","v":"  "},{"$f":"IF(【ジュエリー】入力欄!L504=\"\",\"\",【ジュエリー】入力欄!L504&\"g\")","v":""},{"$f":"IF(【ジュエリー】入力欄!M504=\"\",\"\",【ジュエリー】入力欄!M504)","v":""},{"$f":"IF(【ジュエリー】入力欄!O504=\"\",\"\",【ジュエリー】入力欄!O504)","v":""}]
["１０",{"$f":"IF(【ジュエリー】入力欄!K505=\"\",\"\",【ジュエリー】入力欄!K505)","v":""},{"$f":"IF(【ジュエリー】入力欄!E505=\"\",\"\",【ジュエリー】入力欄!E505)","v":""},{"$f":"CONCATENATE(IF(【ジュエリー】入力欄!F505=\"\",\"\",【ジュエリー】入力欄!F505),IF(【ジュエリー】入力欄!H505=\"\",CONCATENATE(\" \",【ジュエリー】入力欄!G505),CONCATENATE(\" \",【ジュエリー】入力欄!G505,【ジュエリー】入力欄!H505,IF(【ジュエリー】入力欄!G505=\"パール\",\"mm\",\"ct\"))),IF(【ジュエリー】入力欄!J505=\"\",CONCATENATE(\" \",【ジュエリー】入力欄!I505),CONCATENATE(\" \",【ジュエリー】入力欄!I505,【ジュエリー】入力欄!J505,IF(【ジュエリー】入力欄!I505=\"パール\",\"mm\",\"ct\"))))","v":"  "},{"$f":"IF(【ジュエリー】入力欄!L505=\"\",\"\",【ジュエリー】入力欄!L505&\"g\")","v":""},{"$f":"IF(【ジュエリー】入力欄!M505=\"\",\"\",【ジュエリー】入力欄!M505)","v":""},{"$f":"IF(【ジュエリー】入力欄!O505=\"\",\"\",【ジュエリー】入力欄!O505)","v":""}]

{"sheet":"【ルース】記入例","index":3,"n_rows":505,"n_cols":16,"rows_kept":505,"cut":false,"hidden":false,"merged":[[485,2,494,2],[495,2,504,2],[2,2,2,5],[425,2,434,2],[435,2,444,2],[445,2,454,2],[455,2,464,2],[465,2,474,2],[475,2,484,2],[365,2,374,2],[375,2,384,2],[385,2,394,2],[395,2,404,2],[405,2,414,2],[415,2,424,2],[305,2,314,2],[315,2,324,2],[325,2,334,2],[335,2,344,2],[345,2,354,2],[355,2,364,2],[295,2,304,2],[185,2,194,2],[195,2,204,2],[205,2,214,2],[215,2,224,2],[225,2,234,2],[235,2,244,2],[245,2,254,2],[255,2,264,2],[265,2,274,2],[275,2,284,2],[285,2,294,2],[175,2,184,2],[65,2,74,2],[75,2,84,2],[85,2,94,2],[95,2,104,2],[105,2,114,2],[115,2,124,2],[125,2,134,2],[135,2,144,2],[145,2,154,2],[155,2,164,2],[165,2,174,2],[2,12,3,12],[55,2,64,2],[5,2,14,2],[15,2,24,2],[25,2,34,2],[35,2,44,2],[45,2,54,2]]}
["■大吉オークション　出品リスト_入力画面（ルース）"]
[]
[null,"会社名","株式会社エンパワー",null,null,null,null,"出品月","5月",null,null,null,"2万円以上"]
[]
[null,"通し番号","箱番","行番","重量(ct)","カラー","クラリティ","カット","蛍光性","鑑定機関","備考","保留交渉\n可否","指値（税抜）\n※ピース価格","区分","可否","出品月"]
[null,1,6,1,1.0049999999999999,"D","VVS1","EX","N","CGL",null,null,null,"J","可","1月"]
[null,2,null,2,null,null,null,null,null,null,null,null,null,"D","否","2月"]
[null,3,null,3,null,null,null,null,null,null,null,null,null,"B",null,"3月"]
[null,4,null,4,null,null,null,null,null,null,null,null,null,"W",null,"4月"]
[null,5,null,5,null,null,null,null,null,null,null,null,null,null,null,"5月"]
[null,6,null,6,null,null,null,null,null,null,null,null,null,null,null,"6月"]
[null,7,null,7,null,null,null,null,null,null,null,null,null,null,null,"7月"]
[null,8,null,8,null,null,null,null,null,null,null,null,null,null,null,"8月"]
[null,9,null,9,null,null,null,null,null,null,null,null,null,null,null,"9月"]
[null,10,null,10,null,null,null,null,null,null,null,null,null,null,null,"10月"]
[null,11,null,1,null,null,null,null,null,null,null,null,null,null,null,"11月"]
[null,12,null,2,null,null,null,null,null,null,null,null,null,null,null,"12月"]
[null,13,null,3]
[null,14,null,4]
[null,15,null,5]
[null,16,null,6]
[null,17,null,7]
[null,18,null,8]
[null,19,null,9]
[null,20,null,10]
[null,21,null,1]
[null,22,null,2]
[null,23,null,3]
[null,24,null,4]
[null,25,null,5]
[null,26,null,6]
[null,27,null,7]
[null,28,null,8]
[null,29,null,9]
[null,30,null,10]
[null,31,null,1]
[null,32,null,2]
[null,33,null,3]
[null,34,null,4]
[null,35,null,5]
[null,36,null,6]
[null,37,null,7]
[null,38,null,8]
[null,39,null,9]
[null,40,null,10]
[null,41,null,1]
[null,42,null,2]
[null,43,null,3]
[null,44,null,4]
[null,45,null,5]
[null,46,null,6]
[null,47,null,7]
[null,48,null,8]
[null,49,null,9]
[null,50,null,10]
[null,51,null,1]
[null,52,null,2]
[null,53,null,3]
[null,54,null,4]
[null,55,null,5]
[null,56,null,6]
[null,57,null,7]
[null,58,null,8]
[null,59,null,9]
[null,60,null,10]
[null,61,null,1]
[null,62,null,2]
[null,63,null,3]
[null,64,null,4]
[null,65,null,5]
[null,66,null,6]
[null,67,null,7]
[null,68,null,8]
[null,69,null,9]
[null,70,null,10]
[null,71,null,1]
[null,72,null,2]
[null,73,null,3]
[null,74,null,4]
[null,75,null,5]
[null,76,null,6]
[null,77,null,7]
[null,78,null,8]
[null,79,null,9]
[null,80,null,10]
[null,81,null,1]
[null,82,null,2]
[null,83,null,3]
[null,84,null,4]
[null,85,null,5]
[null,86,null,6]
[null,87,null,7]
[null,88,null,8]
[null,89,null,9]
[null,90,null,10]
[null,91,null,1]
[null,92,null,2]
[null,93,null,3]
[null,94,null,4]
[null,95,null,5]
[null,96,null,6]
[null,97,null,7]
[null,98,null,8]
[null,99,null,9]
[null,100,null,10]
[null,101,null,1]
[null,102,null,2]
[null,103,null,3]
[null,104,null,4]
[null,105,null,5]
[null,106,null,6]
[null,107,null,7]
[null,108,null,8]
[null,109,null,9]
[null,110,null,10]
[null,111,null,1]
[null,112,null,2]
[null,113,null,3]
[null,114,null,4]
[null,115,null,5]
[null,116,null,6]
[null,117,null,7]
[null,118,null,8]
[null,119,null,9]
[null,120,null,10]
[null,121,null,1]
[null,122,null,2]
[null,123,null,3]
[null,124,null,4]
[null,125,null,5]
[null,126,null,6]
[null,127,null,7]
[null,128,null,8]
[null,129,null,9]
[null,130,null,10]
[null,131,null,1]
[null,132,null,2]
[null,133,null,3]
[null,134,null,4]
[null,135,null,5]
[null,136,null,6]
[null,137,null,7]
[null,138,null,8]
[null,139,null,9]
[null,140,null,10]
[null,141,null,1]
[null,142,null,2]
[null,143,null,3]
[null,144,null,4]
[null,145,null,5]
[null,146,null,6]
[null,147,null,7]
[null,148,null,8]
[null,149,null,9]
[null,150,null,10]
[null,151,null,1]
[null,152,null,2]
[null,153,null,3]
[null,154,null,4]
[null,155,null,5]
[null,156,null,6]
[null,157,null,7]
[null,158,null,8]
[null,159,null,9]
[null,160,null,10]
[null,161,null,1]
[null,162,null,2]
[null,163,null,3]
[null,164,null,4]
[null,165,null,5]
[null,166,null,6]
[null,167,null,7]
[null,168,null,8]
[null,169,null,9]
[null,170,null,10]
[null,171,null,1]
[null,172,null,2]
[null,173,null,3]
[null,174,null,4]
[null,175,null,5]
[null,176,null,6]
[null,177,null,7]
[null,178,null,8]
[null,179,null,9]
[null,180,null,10]
[null,181,null,1]
[null,182,null,2]
[null,183,null,3]
[null,184,null,4]
[null,185,null,5]
[null,186,null,6]
[null,187,null,7]
[null,188,null,8]
[null,189,null,9]
[null,190,null,10]
[null,191,null,1]
[null,192,null,2]
[null,193,null,3]
[null,194,null,4]
[null,195,null,5]
[null,196,null,6]
[null,197,null,7]
[null,198,null,8]
[null,199,null,9]
[null,200,null,10]
[null,201,null,1]
[null,202,null,2]
[null,203,null,3]
[null,204,null,4]
[null,205,null,5]
[null,206,null,6]
[null,207,null,7]
[null,208,null,8]
[null,209,null,9]
[null,210,null,10]
[null,211,null,1]
[null,212,null,2]
[null,213,null,3]
[null,214,null,4]
[null,215,null,5]
[null,216,null,6]
[null,217,null,7]
[null,218,null,8]
[null,219,null,9]
[null,220,null,10]
[null,221,null,1]
[null,222,null,2]
[null,223,null,3]
[null,224,null,4]
[null,225,null,5]
[null,226,null,6]
[null,227,null,7]
[null,228,null,8]
[null,229,null,9]
[null,230,null,10]
[null,231,null,1]
[null,232,null,2]
[null,233,null,3]
[null,234,null,4]
[null,235,null,5]
[null,236,null,6]
[null,237,null,7]
[null,238,null,8]
[null,239,null,9]
[null,240,null,10]
[null,241,null,1]
[null,242,null,2]
[null,243,null,3]
[null,244,null,4]
[null,245,null,5]
[null,246,null,6]
[null,247,null,7]
[null,248,null,8]
[null,249,null,9]
[null,250,null,10]
[null,251,null,1]
[null,252,null,2]
[null,253,null,3]
[null,254,null,4]
[null,255,null,5]
[null,256,null,6]
[null,257,null,7]
[null,258,null,8]
[null,259,null,9]
[null,260,null,10]
[null,261,null,1]
[null,262,null,2]
[null,263,null,3]
[null,264,null,4]
[null,265,null,5]
[null,266,null,6]
[null,267,null,7]
[null,268,null,8]
[null,269,null,9]
[null,270,null,10]
[null,271,null,1]
[null,272,null,2]
[null,273,null,3]
[null,274,null,4]
[null,275,null,5]
[null,276,null,6]
[null,277,null,7]
[null,278,null,8]
[null,279,null,9]
[null,280,null,10]
[null,281,null,1]
[null,282,null,2]
[null,283,null,3]
[null,284,null,4]
[null,285,null,5]
[null,286,null,6]
[null,287,null,7]
[null,288,null,8]
[null,289,null,9]
[null,290,null,10]
[null,291,null,1]
[null,292,null,2]
[null,293,null,3]
[null,294,null,4]
[null,295,null,5]
[null,296,null,6]
[null,297,null,7]
[null,298,null,8]
[null,299,null,9]
[null,300,null,10]
[null,301,null,1]
[null,302,null,2]
[null,303,null,3]
[null,304,null,4]
[null,305,null,5]
[null,306,null,6]
[null,307,null,7]
[null,308,null,8]
[null,309,null,9]
[null,310,null,10]
[null,311,null,1]
[null,312,null,2]
[null,313,null,3]
[null,314,null,4]
[null,315,null,5]
[null,316,null,6]
[null,317,null,7]
[null,318,null,8]
[null,319,null,9]
[null,320,null,10]
[null,321,null,1]
[null,322,null,2]
[null,323,null,3]
[null,324,null,4]
[null,325,null,5]
[null,326,null,6]
[null,327,null,7]
[null,328,null,8]
[null,329,null,9]
[null,330,null,10]
[null,331,null,1]
[null,332,null,2]
[null,333,null,3]
[null,334,null,4]
[null,335,null,5]
[null,336,null,6]
[null,337,null,7]
[null,338,null,8]
[null,339,null,9]
[null,340,null,10]
[null,341,null,1]
[null,342,null,2]
[null,343,null,3]
[null,344,null,4]
[null,345,null,5]
[null,346,null,6]
[null,347,null,7]
[null,348,null,8]
[null,349,null,9]
[null,350,null,10]
[null,351,null,1]
[null,352,null,2]
[null,353,null,3]
[null,354,null,4]
[null,355,null,5]
[null,356,null,6]
[null,357,null,7]
[null,358,null,8]
[null,359,null,9]
[null,360,null,10]
[null,361,null,1]
[null,362,null,2]
[null,363,null,3]
[null,364,null,4]
[null,365,null,5]
[null,366,null,6]
[null,367,null,7]
[null,368,null,8]
[null,369,null,9]
[null,370,null,10]
[null,371,null,1]
[null,372,null,2]
[null,373,null,3]
[null,374,null,4]
[null,375,null,5]
[null,376,null,6]
[null,377,null,7]
[null,378,null,8]
[null,379,null,9]
[null,380,null,10]
[null,381,null,1]
[null,382,null,2]
[null,383,null,3]
[null,384,null,4]
[null,385,null,5]
[null,386,null,6]
[null,387,null,7]
[null,388,null,8]
[null,389,null,9]
[null,390,null,10]
[null,391,null,1]
[null,392,null,2]
[null,393,null,3]
[null,394,null,4]
[null,395,null,5]
[null,396,null,6]
[null,397,null,7]
[null,398,null,8]
[null,399,null,9]
[null,400,null,10]
[null,401,null,1]
[null,402,null,2]
[null,403,null,3]
[null,404,null,4]
[null,405,null,5]
[null,406,null,6]
[null,407,null,7]
[null,408,null,8]
[null,409,null,9]
[null,410,null,10]
[null,411,null,1]
[null,412,null,2]
[null,413,null,3]
[null,414,null,4]
[null,415,null,5]
[null,416,null,6]
[null,417,null,7]
[null,418,null,8]
[null,419,null,9]
[null,420,null,10]
[null,421,null,1]
[null,422,null,2]
[null,423,null,3]
[null,424,null,4]
[null,425,null,5]
[null,426,null,6]
[null,427,null,7]
[null,428,null,8]
[null,429,null,9]
[null,430,null,10]
[null,431,null,1]
[null,432,null,2]
[null,433,null,3]
[null,434,null,4]
[null,435,null,5]
[null,436,null,6]
[null,437,null,7]
[null,438,null,8]
[null,439,null,9]
[null,440,null,10]
[null,441,null,1]
[null,442,null,2]
[null,443,null,3]
[null,444,null,4]
[null,445,null,5]
[null,446,null,6]
[null,447,null,7]
[null,448,null,8]
[null,449,null,9]
[null,450,null,10]
[null,451,null,1]
[null,452,null,2]
[null,453,null,3]
[null,454,null,4]
[null,455,null,5]
[null,456,null,6]
[null,457,null,7]
[null,458,null,8]
[null,459,null,9]
[null,460,null,10]
[null,461,null,1]
[null,462,null,2]
[null,463,null,3]
[null,464,null,4]
[null,465,null,5]
[null,466,null,6]
[null,467,null,7]
[null,468,null,8]
[null,469,null,9]
[null,470,null,10]
[null,471,null,1]
[null,472,null,2]
[null,473,null,3]
[null,474,null,4]
[null,475,null,5]
[null,476,null,6]
[null,477,null,7]
[null,478,null,8]
[null,479,null,9]
[null,480,null,10]
[null,481,null,1]
[null,482,null,2]
[null,483,null,3]
[null,484,null,4]
[null,485,null,5]
[null,486,null,6]
[null,487,null,7]
[null,488,null,8]
[null,489,null,9]
[null,490,null,10]
[null,491,null,1]
[null,492,null,2]
[null,493,null,3]
[null,494,null,4]
[null,495,null,5]
[null,496,null,6]
[null,497,null,7]
[null,498,null,8]
[null,499,null,9]
[null,500,null,10]

{"sheet":"【ルース】入力欄","index":4,"n_rows":505,"n_cols":16,"rows_kept":505,"cut":false,"hidden":false,"merged":[[485,2,494,2],[495,2,504,2],[425,2,434,2],[435,2,444,2],[445,2,454,2],[455,2,464,2],[465,2,474,2],[475,2,484,2],[415,2,424,2],[305,2,314,2],[315,2,324,2],[325,2,334,2],[335,2,344,2],[345,2,354,2],[355,2,364,2],[365,2,374,2],[375,2,384,2],[385,2,394,2],[395,2,404,2],[405,2,414,2],[295,2,304,2],[185,2,194,2],[195,2,204,2],[205,2,214,2],[215,2,224,2],[225,2,234,2],[235,2,244,2],[245,2,254,2],[255,2,264,2],[265,2,274,2],[275,2,284,2],[285,2,294,2],[175,2,184,2],[65,2,74,2],[75,2,84,2],[85,2,94,2],[95,2,104,2],[105,2,114,2],[115,2,124,2],[125,2,134,2],[135,2,144,2],[145,2,154,2],[155,2,164,2],[165,2,174,2],[2,12,3,12],[55,2,64,2],[2,2,2,5],[5,2,14,2],[15,2,24,2],[25,2,34,2],[35,2,44,2],[45,2,54,2]]}
["■大吉オークション　出品リスト_入力画面（ルース）"]
[]
[null,"会社名",null,null,null,null,null,"出品月",null,null,null,null,"2万円以上"]
[]
[null,"通し番号","箱番","行番","重量(ct)","カラー","クラリティ","カット","蛍光性","鑑定機関","備考","保留交渉\n可否","指値（税抜）\n※ピース価格","区分","可否","出品月"]
[null,1,null,1,null,null,null,null,null,null,null,null,null,"J","可","1月"]
[null,2,null,2,null,null,null,null,null,null,null,null,null,"D","否","2月"]
[null,3,null,3,null,null,null,null,null,null,null,null,null,"B",null,"3月"]
[null,4,null,4,null,null,null,null,null,null,null,null,null,"W",null,"4月"]
[null,5,null,5,null,null,null,null,null,null,null,null,null,null,null,"5月"]
[null,6,null,6,null,null,null,null,null,null,null,null,null,null,null,"6月"]
[null,7,null,7,null,null,null,null,null,null,null,null,null,null,null,"7月"]
[null,8,null,8,null,null,null,null,null,null,null,null,null,null,null,"8月"]
[null,9,null,9,null,null,null,null,null,null,null,null,null,null,null,"9月"]
[null,10,null,10,null,null,null,null,null,null,null,null,null,null,null,"10月"]
[null,11,null,1,null,null,null,null,null,null,null,null,null,null,null,"11月"]
[null,12,null,2,null,null,null,null,null,null,null,null,null,null,null,"12月"]
[null,13,null,3]
[null,14,null,4]
[null,15,null,5]
[null,16,null,6]
[null,17,null,7]
[null,18,null,8]
[null,19,null,9]
[null,20,null,10]
[null,21,null,1]
[null,22,null,2]
[null,23,null,3]
[null,24,null,4]
[null,25,null,5]
[null,26,null,6]
[null,27,null,7]
[null,28,null,8]
[null,29,null,9]
[null,30,null,10]
[null,31,null,1]
[null,32,null,2]
[null,33,null,3]
[null,34,null,4]
[null,35,null,5]
[null,36,null,6]
[null,37,null,7]
[null,38,null,8]
[null,39,null,9]
[null,40,null,10]
[null,41,null,1]
[null,42,null,2]
[null,43,null,3]
[null,44,null,4]
[null,45,null,5]
[null,46,null,6]
[null,47,null,7]
[null,48,null,8]
[null,49,null,9]
[null,50,null,10]
[null,51,null,1]
[null,52,null,2]
[null,53,null,3]
[null,54,null,4]
[null,55,null,5]
[null,56,null,6]
[null,57,null,7]
[null,58,null,8]
[null,59,null,9]
[null,60,null,10]
[null,61,null,1]
[null,62,null,2]
[null,63,null,3]
[null,64,null,4]
[null,65,null,5]
[null,66,null,6]
[null,67,null,7]
[null,68,null,8]
[null,69,null,9]
[null,70,null,10]
[null,71,null,1]
[null,72,null,2]
[null,73,null,3]
[null,74,null,4]
[null,75,null,5]
[null,76,null,6]
[null,77,null,7]
[null,78,null,8]
[null,79,null,9]
[null,80,null,10]
[null,81,null,1]
[null,82,null,2]
[null,83,null,3]
[null,84,null,4]
[null,85,null,5]
[null,86,null,6]
[null,87,null,7]
[null,88,null,8]
[null,89,null,9]
[null,90,null,10]
[null,91,null,1]
[null,92,null,2]
[null,93,null,3]
[null,94,null,4]
[null,95,null,5]
[null,96,null,6]
[null,97,null,7]
[null,98,null,8]
[null,99,null,9]
[null,100,null,10]
[null,101,null,1]
[null,102,null,2]
[null,103,null,3]
[null,104,null,4]
[null,105,null,5]
[null,106,null,6]
[null,107,null,7]
[null,108,null,8]
[null,109,null,9]
[null,110,null,10]
[null,111,null,1]
[null,112,null,2]
[null,113,null,3]
[null,114,null,4]
[null,115,null,5]
[null,116,null,6]
[null,117,null,7]
[null,118,null,8]
[null,119,null,9]
[null,120,null,10]
[null,121,null,1]
[null,122,null,2]
[null,123,null,3]
[null,124,null,4]
[null,125,null,5]
[null,126,null,6]
[null,127,null,7]
[null,128,null,8]
[null,129,null,9]
[null,130,null,10]
[null,131,null,1]
[null,132,null,2]
[null,133,null,3]
[null,134,null,4]
[null,135,null,5]
[null,136,null,6]
[null,137,null,7]
[null,138,null,8]
[null,139,null,9]
[null,140,null,10]
[null,141,null,1]
[null,142,null,2]
[null,143,null,3]
[null,144,null,4]
[null,145,null,5]
[null,146,null,6]
[null,147,null,7]
[null,148,null,8]
[null,149,null,9]
[null,150,null,10]
[null,151,null,1]
[null,152,null,2]
[null,153,null,3]
[null,154,null,4]
[null,155,null,5]
[null,156,null,6]
[null,157,null,7]
[null,158,null,8]
[null,159,null,9]
[null,160,null,10]
[null,161,null,1]
[null,162,null,2]
[null,163,null,3]
[null,164,null,4]
[null,165,null,5]
[null,166,null,6]
[null,167,null,7]
[null,168,null,8]
[null,169,null,9]
[null,170,null,10]
[null,171,null,1]
[null,172,null,2]
[null,173,null,3]
[null,174,null,4]
[null,175,null,5]
[null,176,null,6]
[null,177,null,7]
[null,178,null,8]
[null,179,null,9]
[null,180,null,10]
[null,181,null,1]
[null,182,null,2]
[null,183,null,3]
[null,184,null,4]
[null,185,null,5]
[null,186,null,6]
[null,187,null,7]
[null,188,null,8]
[null,189,null,9]
[null,190,null,10]
[null,191,null,1]
[null,192,null,2]
[null,193,null,3]
[null,194,null,4]
[null,195,null,5]
[null,196,null,6]
[null,197,null,7]
[null,198,null,8]
[null,199,null,9]
[null,200,null,10]
[null,201,null,1]
[null,202,null,2]
[null,203,null,3]
[null,204,null,4]
[null,205,null,5]
[null,206,null,6]
[null,207,null,7]
[null,208,null,8]
[null,209,null,9]
[null,210,null,10]
[null,211,null,1]
[null,212,null,2]
[null,213,null,3]
[null,214,null,4]
[null,215,null,5]
[null,216,null,6]
[null,217,null,7]
[null,218,null,8]
[null,219,null,9]
[null,220,null,10]
[null,221,null,1]
[null,222,null,2]
[null,223,null,3]
[null,224,null,4]
[null,225,null,5]
[null,226,null,6]
[null,227,null,7]
[null,228,null,8]
[null,229,null,9]
[null,230,null,10]
[null,231,null,1]
[null,232,null,2]
[null,233,null,3]
[null,234,null,4]
[null,235,null,5]
[null,236,null,6]
[null,237,null,7]
[null,238,null,8]
[null,239,null,9]
[null,240,null,10]
[null,241,null,1]
[null,242,null,2]
[null,243,null,3]
[null,244,null,4]
[null,245,null,5]
[null,246,null,6]
[null,247,null,7]
[null,248,null,8]
[null,249,null,9]
[null,250,null,10]
[null,251,null,1]
[null,252,null,2]
[null,253,null,3]
[null,254,null,4]
[null,255,null,5]
[null,256,null,6]
[null,257,null,7]
[null,258,null,8]
[null,259,null,9]
[null,260,null,10]
[null,261,null,1]
[null,262,null,2]
[null,263,null,3]
[null,264,null,4]
[null,265,null,5]
[null,266,null,6]
[null,267,null,7]
[null,268,null,8]
[null,269,null,9]
[null,270,null,10]
[null,271,null,1]
[null,272,null,2]
[null,273,null,3]
[null,274,null,4]
[null,275,null,5]
[null,276,null,6]
[null,277,null,7]
[null,278,null,8]
[null,279,null,9]
[null,280,null,10]
[null,281,null,1]
[null,282,null,2]
[null,283,null,3]
[null,284,null,4]
[null,285,null,5]
[null,286,null,6]
[null,287,null,7]
[null,288,null,8]
[null,289,null,9]
[null,290,null,10]
[null,291,null,1]
[null,292,null,2]
[null,293,null,3]
[null,294,null,4]
[null,295,null,5]
[null,296,null,6]
[null,297,null,7]
[null,298,null,8]
[null,299,null,9]
[null,300,null,10]
[null,301,null,1]
[null,302,null,2]
[null,303,null,3]
[null,304,null,4]
[null,305,null,5]
[null,306,null,6]
[null,307,null,7]
[null,308,null,8]
[null,309,null,9]
[null,310,null,10]
[null,311,null,1]
[null,312,null,2]
[null,313,null,3]
[null,314,null,4]
[null,315,null,5]
[null,316,null,6]
[null,317,null,7]
[null,318,null,8]
[null,319,null,9]
[null,320,null,10]
[null,321,null,1]
[null,322,null,2]
[null,323,null,3]
[null,324,null,4]
[null,325,null,5]
[null,326,null,6]
[null,327,null,7]
[null,328,null,8]
[null,329,null,9]
[null,330,null,10]
[null,331,null,1]
[null,332,null,2]
[null,333,null,3]
[null,334,null,4]
[null,335,null,5]
[null,336,null,6]
[null,337,null,7]
[null,338,null,8]
[null,339,null,9]
[null,340,null,10]
[null,341,null,1]
[null,342,null,2]
[null,343,null,3]
[null,344,null,4]
[null,345,null,5]
[null,346,null,6]
[null,347,null,7]
[null,348,null,8]
[null,349,null,9]
[null,350,null,10]
[null,351,null,1]
[null,352,null,2]
[null,353,null,3]
[null,354,null,4]
[null,355,null,5]
[null,356,null,6]
[null,357,null,7]
[null,358,null,8]
[null,359,null,9]
[null,360,null,10]
[null,361,null,1]
[null,362,null,2]
[null,363,null,3]
[null,364,null,4]
[null,365,null,5]
[null,366,null,6]
[null,367,null,7]
[null,368,null,8]
[null,369,null,9]
[null,370,null,10]
[null,371,null,1]
[null,372,null,2]
[null,373,null,3]
[null,374,null,4]
[null,375,null,5]
[null,376,null,6]
[null,377,null,7]
[null,378,null,8]
[null,379,null,9]
[null,380,null,10]
[null,381,null,1]
[null,382,null,2]
[null,383,null,3]
[null,384,null,4]
[null,385,null,5]
[null,386,null,6]
[null,387,null,7]
[null,388,null,8]
[null,389,null,9]
[null,390,null,10]
[null,391,null,1]
[null,392,null,2]
[null,393,null,3]
[null,394,null,4]
[null,395,null,5]
[null,396,null,6]
[null,397,null,7]
[null,398,null,8]
[null,399,null,9]
[null,400,null,10]
[null,401,null,1]
[null,402,null,2]
[null,403,null,3]
[null,404,null,4]
[null,405,null,5]
[null,406,null,6]
[null,407,null,7]
[null,408,null,8]
[null,409,null,9]
[null,410,null,10]
[null,411,null,1]
[null,412,null,2]
[null,413,null,3]
[null,414,null,4]
[null,415,null,5]
[null,416,null,6]
[null,417,null,7]
[null,418,null,8]
[null,419,null,9]
[null,420,null,10]
[null,421,null,1]
[null,422,null,2]
[null,423,null,3]
[null,424,null,4]
[null,425,null,5]
[null,426,null,6]
[null,427,null,7]
[null,428,null,8]
[null,429,null,9]
[null,430,null,10]
[null,431,null,1]
[null,432,null,2]
[null,433,null,3]
[null,434,null,4]
[null,435,null,5]
[null,436,null,6]
[null,437,null,7]
[null,438,null,8]
[null,439,null,9]
[null,440,null,10]
[null,441,null,1]
[null,442,null,2]
[null,443,null,3]
[null,444,null,4]
[null,445,null,5]
[null,446,null,6]
[null,447,null,7]
[null,448,null,8]
[null,449,null,9]
[null,450,null,10]
[null,451,null,1]
[null,452,null,2]
[null,453,null,3]
[null,454,null,4]
[null,455,null,5]
[null,456,null,6]
[null,457,null,7]
[null,458,null,8]
[null,459,null,9]
[null,460,null,10]
[null,461,null,1]
[null,462,null,2]
[null,463,null,3]
[null,464,null,4]
[null,465,null,5]
[null,466,null,6]
[null,467,null,7]
[null,468,null,8]
[null,469,null,9]
[null,470,null,10]
[null,471,null,1]
[null,472,null,2]
[null,473,null,3]
[null,474,null,4]
[null,475,null,5]
[null,476,null,6]
[null,477,null,7]
[null,478,null,8]
[null,479,null,9]
[null,480,null,10]
[null,481,null,1]
[null,482,null,2]
[null,483,null,3]
[null,484,null,4]
[null,485,null,5]
[null,486,null,6]
[null,487,null,7]
[null,488,null,8]
[null,489,null,9]
[null,490,null,10]
[null,491,null,1]
[null,492,null,2]
[null,493,null,3]
[null,494,null,4]
[null,495,null,5]
[null,496,null,6]
[null,497,null,7]
[null,498,null,8]
[null,499,null,9]
[null,500,null,10]

{"sheet":"【ルース】印刷用","index":5,"n_rows":800,"n_cols":10,"rows_kept":800,"cut":false,"hidden":false,"merged":[[1,1,1,5],[3,8,3,10],[33,1,33,5],[35,8,35,10],[65,1,65,5],[17,1,17,5],[19,8,19,10],[49,1,49,5],[51,8,51,10],[321,1,321,5],[225,1,225,5],[211,8,211,10],[67,8,67,10],[97,1,97,5],[99,8,99,10],[129,1,129,5],[131,8,131,10],[81,1,81,5],[83,8,83,10],[113,1,113,5],[115,8,115,10],[145,1,145,5],[147,8,147,10],[177,1,177,5],[179,8,179,10],[483,8,483,10],[385,1,385,5],[371,8,371,10],[227,8,227,10],[257,1,257,5],[259,8,259,10],[289,1,289,5],[291,8,291,10],[241,1,241,5],[243,8,243,10],[273,1,273,5],[275,8,275,10],[307,8,307,10],[337,1,337,5],[339,8,339,10],[369,1,369,5],[595,8,595,10],[545,1,545,5],[531,8,531,10],[387,8,387,10],[417,1,417,5],[419,8,419,10],[449,1,449,5],[451,8,451,10],[401,1,401,5],[403,8,403,10],[433,1,433,5],[435,8,435,10],[497,1,497,5],[499,8,499,10],[529,1,529,5],[481,1,481,5],[161,1,161,5],[163,8,163,10],[193,1,193,5],[195,8,195,10],[305,1,305,5],[209,1,209,5],[323,8,323,10],[353,1,353,5],[355,8,355,10],[465,1,465,5],[467,8,467,10],[787,8,787,10],[625,1,625,5],[627,8,627,10],[657,1,657,5],[659,8,659,10],[689,1,689,5],[707,8,707,10],[737,1,737,5],[739,8,739,10],[769,1,769,5],[771,8,771,10],[721,1,721,5],[723,8,723,10],[641,1,641,5],[643,8,643,10],[673,1,673,5],[753,1,753,5],[755,8,755,10],[513,1,513,5],[515,8,515,10],[785,1,785,5],[675,8,675,10],[705,1,705,5],[691,8,691,10],[547,8,547,10],[577,1,577,5],[579,8,579,10],[609,1,609,5],[611,8,611,10],[561,1,561,5],[563,8,563,10],[593,1,593,5]]}
[]
[null,{"$f":"CONCATENATE(\"出品表　（　\",【ルース】入力欄!I$3,\"　大吉オークション　ルース）\")","v":"出品表　（　　大吉オークション　ルース）"}]
[]
[null,"箱番：",{"$f":"IF(【ルース】入力欄!C6=\"\",\"\",【ルース】入力欄!C6)","v":""},null,null,"※太枠の中をご記入ください",null,"会社名",{"$f":"IF(【ルース】入力欄!C$3=\"\",\"\",【ルース】入力欄!C$3)","v":""}]
[]
["番号","ｃｔ","カラー","クラリティ","カット","蛍光性","備考","付属品","指値\n（2万円以上）","発句"]
["１",{"$f":"IF(【ルース】入力欄!E6=\"\",\"\",【ルース】入力欄!E6)","v":""},{"$f":"IF(【ルース】入力欄!F6=\"\",\"\",【ルース】入力欄!F6)","v":""},{"$f":"IF(【ルース】入力欄!G6=\"\",\"\",【ルース】入力欄!G6)","v":""},{"$f":"IF(【ルース】入力欄!H6=\"\",\"\",【ルース】入力欄!H6)","v":""},{"$f":"IF(【ルース】入力欄!I6=\"\",\"\",【ルース】入力欄!I6)","v":""},{"$f":"IF(【ルース】入力欄!K6=\"\",\"\",【ルース】入力欄!K6)","v":""},{"$f":"IF(【ルース】入力欄!J6=\"\",\"\",【ルース】入力欄!J6)","v":""},{"$f":"IF(【ルース】入力欄!M6=\"\",\"\",【ルース】入力欄!M6)","v":""}]
["２",{"$f":"IF(【ルース】入力欄!E7=\"\",\"\",【ルース】入力欄!E7)","v":""},{"$f":"IF(【ルース】入力欄!F7=\"\",\"\",【ルース】入力欄!F7)","v":""},{"$f":"IF(【ルース】入力欄!G7=\"\",\"\",【ルース】入力欄!G7)","v":""},{"$f":"IF(【ルース】入力欄!H7=\"\",\"\",【ルース】入力欄!H7)","v":""},{"$f":"IF(【ルース】入力欄!I7=\"\",\"\",【ルース】入力欄!I7)","v":""},{"$f":"IF(【ルース】入力欄!K7=\"\",\"\",【ルース】入力欄!K7)","v":""},{"$f":"IF(【ルース】入力欄!J7=\"\",\"\",【ルース】入力欄!J7)","v":""},{"$f":"IF(【ルース】入力欄!M7=\"\",\"\",【ルース】入力欄!M7)","v":""}]
["３",{"$f":"IF(【ルース】入力欄!E8=\"\",\"\",【ルース】入力欄!E8)","v":""},{"$f":"IF(【ルース】入力欄!F8=\"\",\"\",【ルース】入力欄!F8)","v":""},{"$f":"IF(【ルース】入力欄!G8=\"\",\"\",【ルース】入力欄!G8)","v":""},{"$f":"IF(【ルース】入力欄!H8=\"\",\"\",【ルース】入力欄!H8)","v":""},{"$f":"IF(【ルース】入力欄!I8=\"\",\"\",【ルース】入力欄!I8)","v":""},{"$f":"IF(【ルース】入力欄!K8=\"\",\"\",【ルース】入力欄!K8)","v":""},{"$f":"IF(【ルース】入力欄!J8=\"\",\"\",【ルース】入力欄!J8)","v":""},{"$f":"IF(【ルース】入力欄!M8=\"\",\"\",【ルース】入力欄!M8)","v":""}]
["４",{"$f":"IF(【ルース】入力欄!E9=\"\",\"\",【ルース】入力欄!E9)","v":""},{"$f":"IF(【ルース】入力欄!F9=\"\",\"\",【ルース】入力欄!F9)","v":""},{"$f":"IF(【ルース】入力欄!G9=\"\",\"\",【ルース】入力欄!G9)","v":""},{"$f":"IF(【ルース】入力欄!H9=\"\",\"\",【ルース】入力欄!H9)","v":""},{"$f":"IF(【ルース】入力欄!I9=\"\",\"\",【ルース】入力欄!I9)","v":""},{"$f":"IF(【ルース】入力欄!K9=\"\",\"\",【ルース】入力欄!K9)","v":""},{"$f":"IF(【ルース】入力欄!J9=\"\",\"\",【ルース】入力欄!J9)","v":""},{"$f":"IF(【ルース】入力欄!M9=\"\",\"\",【ルース】入力欄!M9)","v":""}]
["５",{"$f":"IF(【ルース】入力欄!E10=\"\",\"\",【ルース】入力欄!E10)","v":""},{"$f":"IF(【ルース】入力欄!F10=\"\",\"\",【ルース】入力欄!F10)","v":""},{"$f":"IF(【ルース】入力欄!G10=\"\",\"\",【ルース】入力欄!G10)","v":""},{"$f":"IF(【ルース】入力欄!H10=\"\",\"\",【ルース】入力欄!H10)","v":""},{"$f":"IF(【ルース】入力欄!I10=\"\",\"\",【ルース】入力欄!I10)","v":""},{"$f":"IF(【ルース】入力欄!K10=\"\",\"\",【ルース】入力欄!K10)","v":""},{"$f":"IF(【ルース】入力欄!J10=\"\",\"\",【ルース】入力欄!J10)","v":""},{"$f":"IF(【ルース】入力欄!M10=\"\",\"\",【ルース】入力欄!M10)","v":""}]
["６",{"$f":"IF(【ルース】入力欄!E11=\"\",\"\",【ルース】入力欄!E11)","v":""},{"$f":"IF(【ルース】入力欄!F11=\"\",\"\",【ルース】入力欄!F11)","v":""},{"$f":"IF(【ルース】入力欄!G11=\"\",\"\",【ルース】入力欄!G11)","v":""},{"$f":"IF(【ルース】入力欄!H11=\"\",\"\",【ルース】入力欄!H11)","v":""},{"$f":"IF(【ルース】入力欄!I11=\"\",\"\",【ルース】入力欄!I11)","v":""},{"$f":"IF(【ルース】入力欄!K11=\"\",\"\",【ルース】入力欄!K11)","v":""},{"$f":"IF(【ルース】入力欄!J11=\"\",\"\",【ルース】入力欄!J11)","v":""},{"$f":"IF(【ルース】入力欄!M11=\"\",\"\",【ルース】入力欄!M11)","v":""}]
["７",{"$f":"IF(【ルース】入力欄!E12=\"\",\"\",【ルース】入力欄!E12)","v":""},{"$f":"IF(【ルース】入力欄!F12=\"\",\"\",【ルース】入力欄!F12)","v":""},{"$f":"IF(【ルース】入力欄!G12=\"\",\"\",【ルース】入力欄!G12)","v":""},{"$f":"IF(【ルース】入力欄!H12=\"\",\"\",【ルース】入力欄!H12)","v":""},{"$f":"IF(【ルース】入力欄!I12=\"\",\"\",【ルース】入力欄!I12)","v":""},{"$f":"IF(【ルース】入力欄!K12=\"\",\"\",【ルース】入力欄!K12)","v":""},{"$f":"IF(【ルース】入力欄!J12=\"\",\"\",【ルース】入力欄!J12)","v":""},{"$f":"IF(【ルース】入力欄!M12=\"\",\"\",【ルース】入力欄!M12)","v":""}]
["８",{"$f":"IF(【ルース】入力欄!E13=\"\",\"\",【ルース】入力欄!E13)","v":""},{"$f":"IF(【ルース】入力欄!F13=\"\",\"\",【ルース】入力欄!F13)","v":""},{"$f":"IF(【ルース】入力欄!G13=\"\",\"\",【ルース】入力欄!G13)","v":""},{"$f":"IF(【ルース】入力欄!H13=\"\",\"\",【ルース】入力欄!H13)","v":""},{"$f":"IF(【ルース】入力欄!I13=\"\",\"\",【ルース】入力欄!I13)","v":""},{"$f":"IF(【ルース】入力欄!K13=\"\",\"\",【ルース】入力欄!K13)","v":""},{"$f":"IF(【ルース】入力欄!J13=\"\",\"\",【ルース】入力欄!J13)","v":""},{"$f":"IF(【ルース】入力欄!M13=\"\",\"\",【ルース】入力欄!M13)","v":""}]
["９",{"$f":"IF(【ルース】入力欄!E14=\"\",\"\",【ルース】入力欄!E14)","v":""},{"$f":"IF(【ルース】入力欄!F14=\"\",\"\",【ルース】入力欄!F14)","v":""},{"$f":"IF(【ルース】入力欄!G14=\"\",\"\",【ルース】入力欄!G14)","v":""},{"$f":"IF(【ルース】入力欄!H14=\"\",\"\",【ルース】入力欄!H14)","v":""},{"$f":"IF(【ルース】入力欄!I14=\"\",\"\",【ルース】入力欄!I14)","v":""},{"$f":"IF(【ルース】入力欄!K14=\"\",\"\",【ルース】入力欄!K14)","v":""},{"$f":"IF(【ルース】入力欄!J14=\"\",\"\",【ルース】入力欄!J14)","v":""},{"$f":"IF(【ルース】入力欄!M14=\"\",\"\",【ルース】入力欄!M14)","v":""}]
["１０",{"$f":"IF(【ルース】入力欄!E15=\"\",\"\",【ルース】入力欄!E15)","v":""},{"$f":"IF(【ルース】入力欄!F15=\"\",\"\",【ルース】入力欄!F15)","v":""},{"$f":"IF(【ルース】入力欄!G15=\"\",\"\",【ルース】入力欄!G15)","v":""},{"$f":"IF(【ルース】入力欄!H15=\"\",\"\",【ルース】入力欄!H15)","v":""},{"$f":"IF(【ルース】入力欄!I15=\"\",\"\",【ルース】入力欄!I15)","v":""},{"$f":"IF(【ルース】入力欄!K15=\"\",\"\",【ルース】入力欄!K15)","v":""},{"$f":"IF(【ルース】入力欄!J15=\"\",\"\",【ルース】入力欄!J15)","v":""},{"$f":"IF(【ルース】入力欄!M15=\"\",\"\",【ルース】入力欄!M15)","v":""}]
[]
[null,{"$f":"CONCATENATE(\"出品表　（　\",【ルース】入力欄!I$3,\"　大吉オークション　ルース）\")","v":"出品表　（　　大吉オークション　ルース）"}]
[]
[null,"箱番：",{"$f":"IF(【ルース】入力欄!C16=\"\",\"\",【ルース】入力欄!C16)","v":""},null,null,"※太枠の中をご記入ください",null,"会社名",{"$f":"IF(【ルース】入力欄!C$3=\"\",\"\",【ルース】入力欄!C$3)","v":""}]
[]
["番号","ｃｔ","カラー","クラリティ","カット","蛍光性","備考","付属品","指値\n（2万円以上）","発句"]
["１",{"$f":"IF(【ルース】入力欄!E16=\"\",\"\",【ルース】入力欄!E16)","v":""},{"$f":"IF(【ルース】入力欄!F16=\"\",\"\",【ルース】入力欄!F16)","v":""},{"$f":"IF(【ルース】入力欄!G16=\"\",\"\",【ルース】入力欄!G16)","v":""},{"$f":"IF(【ルース】入力欄!H16=\"\",\"\",【ルース】入力欄!H16)","v":""},{"$f":"IF(【ルース】入力欄!I16=\"\",\"\",【ルース】入力欄!I16)","v":""},{"$f":"IF(【ルース】入力欄!K16=\"\",\"\",【ルース】入力欄!K16)","v":""},{"$f":"IF(【ルース】入力欄!J16=\"\",\"\",【ルース】入力欄!J16)","v":""},{"$f":"IF(【ルース】入力欄!M16=\"\",\"\",【ルース】入力欄!M16)","v":""}]
["２",{"$f":"IF(【ルース】入力欄!E17=\"\",\"\",【ルース】入力欄!E17)","v":""},{"$f":"IF(【ルース】入力欄!F17=\"\",\"\",【ルース】入力欄!F17)","v":""},{"$f":"IF(【ルース】入力欄!G17=\"\",\"\",【ルース】入力欄!G17)","v":""},{"$f":"IF(【ルース】入力欄!H17=\"\",\"\",【ルース】入力欄!H17)","v":""},{"$f":"IF(【ルース】入力欄!I17=\"\",\"\",【ルース】入力欄!I17)","v":""},{"$f":"IF(【ルース】入力欄!K17=\"\",\"\",【ルース】入力欄!K17)","v":""},{"$f":"IF(【ルース】入力欄!J17=\"\",\"\",【ルース】入力欄!J17)","v":""},{"$f":"IF(【ルース】入力欄!M17=\"\",\"\",【ルース】入力欄!M17)","v":""}]
["３",{"$f":"IF(【ルース】入力欄!E18=\"\",\"\",【ルース】入力欄!E18)","v":""},{"$f":"IF(【ルース】入力欄!F18=\"\",\"\",【ルース】入力欄!F18)","v":""},{"$f":"IF(【ルース】入力欄!G18=\"\",\"\",【ルース】入力欄!G18)","v":""},{"$f":"IF(【ルース】入力欄!H18=\"\",\"\",【ルース】入力欄!H18)","v":""},{"$f":"IF(【ルース】入力欄!I18=\"\",\"\",【ルース】入力欄!I18)","v":""},{"$f":"IF(【ルース】入力欄!K18=\"\",\"\",【ルース】入力欄!K18)","v":""},{"$f":"IF(【ルース】入力欄!J18=\"\",\"\",【ルース】入力欄!J18)","v":""},{"$f":"IF(【ルース】入力欄!M18=\"\",\"\",【ルース】入力欄!M18)","v":""}]
["４",{"$f":"IF(【ルース】入力欄!E19=\"\",\"\",【ルース】入力欄!E19)","v":""},{"$f":"IF(【ルース】入力欄!F19=\"\",\"\",【ルース】入力欄!F19)","v":""},{"$f":"IF(【ルース】入力欄!G19=\"\",\"\",【ルース】入力欄!G19)","v":""},{"$f":"IF(【ルース】入力欄!H19=\"\",\"\",【ルース】入力欄!H19)","v":""},{"$f":"IF(【ルース】入力欄!I19=\"\",\"\",【ルース】入力欄!I19)","v":""},{"$f":"IF(【ルース】入力欄!K19=\"\",\"\",【ルース】入力欄!K19)","v":""},{"$f":"IF(【ルース】入力欄!J19=\"\",\"\",【ルース】入力欄!J19)","v":""},{"$f":"IF(【ルース】入力欄!M19=\"\",\"\",【ルース】入力欄!M19)","v":""}]
["５",{"$f":"IF(【ルース】入力欄!E20=\"\",\"\",【ルース】入力欄!E20)","v":""},{"$f":"IF(【ルース】入力欄!F20=\"\",\"\",【ルース】入力欄!F20)","v":""},{"$f":"IF(【ルース】入力欄!G20=\"\",\"\",【ルース】入力欄!G20)","v":""},{"$f":"IF(【ルース】入力欄!H20=\"\",\"\",【ルース】入力欄!H20)","v":""},{"$f":"IF(【ルース】入力欄!I20=\"\",\"\",【ルース】入力欄!I20)","v":""},{"$f":"IF(【ルース】入力欄!K20=\"\",\"\",【ルース】入力欄!K20)","v":""},{"$f":"IF(【ルース】入力欄!J20=\"\",\"\",【ルース】入力欄!J20)","v":""},{"$f":"IF(【ルース】入力欄!M20=\"\",\"\",【ルース】入力欄!M20)","v":""}]
["６",{"$f":"IF(【ルース】入力欄!E21=\"\",\"\",【ルース】入力欄!E21)","v":""},{"$f":"IF(【ルース】入力欄!F21=\"\",\"\",【ルース】入力欄!F21)","v":""},{"$f":"IF(【ルース】入力欄!G21=\"\",\"\",【ルース】入力欄!G21)","v":""},{"$f":"IF(【ルース】入力欄!H21=\"\",\"\",【ルース】入力欄!H21)","v":""},{"$f":"IF(【ルース】入力欄!I21=\"\",\"\",【ルース】入力欄!I21)","v":""},{"$f":"IF(【ルース】入力欄!K21=\"\",\"\",【ルース】入力欄!K21)","v":""},{"$f":"IF(【ルース】入力欄!J21=\"\",\"\",【ルース】入力欄!J21)","v":""},{"$f":"IF(【ルース】入力欄!M21=\"\",\"\",【ルース】入力欄!M21)","v":""}]
["７",{"$f":"IF(【ルース】入力欄!E22=\"\",\"\",【ルース】入力欄!E22)","v":""},{"$f":"IF(【ルース】入力欄!F22=\"\",\"\",【ルース】入力欄!F22)","v":""},{"$f":"IF(【ルース】入力欄!G22=\"\",\"\",【ルース】入力欄!G22)","v":""},{"$f":"IF(【ルース】入力欄!H22=\"\",\"\",【ルース】入力欄!H22)","v":""},{"$f":"IF(【ルース】入力欄!I22=\"\",\"\",【ルース】入力欄!I22)","v":""},{"$f":"IF(【ルース】入力欄!K22=\"\",\"\",【ルース】入力欄!K22)","v":""},{"$f":"IF(【ルース】入力欄!J22=\"\",\"\",【ルース】入力欄!J22)","v":""},{"$f":"IF(【ルース】入力欄!M22=\"\",\"\",【ルース】入力欄!M22)","v":""}]
["８",{"$f":"IF(【ルース】入力欄!E23=\"\",\"\",【ルース】入力欄!E23)","v":""},{"$f":"IF(【ルース】入力欄!F23=\"\",\"\",【ルース】入力欄!F23)","v":""},{"$f":"IF(【ルース】入力欄!G23=\"\",\"\",【ルース】入力欄!G23)","v":""},{"$f":"IF(【ルース】入力欄!H23=\"\",\"\",【ルース】入力欄!H23)","v":""},{"$f":"IF(【ルース】入力欄!I23=\"\",\"\",【ルース】入力欄!I23)","v":""},{"$f":"IF(【ルース】入力欄!K23=\"\",\"\",【ルース】入力欄!K23)","v":""},{"$f":"IF(【ルース】入力欄!J23=\"\",\"\",【ルース】入力欄!J23)","v":""},{"$f":"IF(【ルース】入力欄!M23=\"\",\"\",【ルース】入力欄!M23)","v":""}]
["９",{"$f":"IF(【ルース】入力欄!E24=\"\",\"\",【ルース】入力欄!E24)","v":""},{"$f":"IF(【ルース】入力欄!F24=\"\",\"\",【ルース】入力欄!F24)","v":""},{"$f":"IF(【ルース】入力欄!G24=\"\",\"\",【ルース】入力欄!G24)","v":""},{"$f":"IF(【ルース】入力欄!H24=\"\",\"\",【ルース】入力欄!H24)","v":""},{"$f":"IF(【ルース】入力欄!I24=\"\",\"\",【ルース】入力欄!I24)","v":""},{"$f":"IF(【ルース】入力欄!K24=\"\",\"\",【ルース】入力欄!K24)","v":""},{"$f":"IF(【ルース】入力欄!J24=\"\",\"\",【ルース】入力欄!J24)","v":""},{"$f":"IF(【ルース】入力欄!M24=\"\",\"\",【ルース】入力欄!M24)","v":""}]
["１０",{"$f":"IF(【ルース】入力欄!E25=\"\",\"\",【ルース】入力欄!E25)","v":""},{"$f":"IF(【ルース】入力欄!F25=\"\",\"\",【ルース】入力欄!F25)","v":""},{"$f":"IF(【ルース】入力欄!G25=\"\",\"\",【ルース】入力欄!G25)","v":""},{"$f":"IF(【ルース】入力欄!H25=\"\",\"\",【ルース】入力欄!H25)","v":""},{"$f":"IF(【ルース】入力欄!I25=\"\",\"\",【ルース】入力欄!I25)","v":""},{"$f":"IF(【ルース】入力欄!K25=\"\",\"\",【ルース】入力欄!K25)","v":""},{"$f":"IF(【ルース】入力欄!J25=\"\",\"\",【ルース】入力欄!J25)","v":""},{"$f":"IF(【ルース】入力欄!M25=\"\",\"\",【ルース】入力欄!M25)","v":""}]
[]
[null,{"$f":"CONCATENATE(\"出品表　（　\",【ルース】入力欄!I$3,\"　大吉オークション　ルース）\")","v":"出品表　（　　大吉オークション　ルース）"}]
[]
[null,"箱番：",{"$f":"IF(【ルース】入力欄!C26=\"\",\"\",【ルース】入力欄!C26)","v":""},null,null,"※太枠の中をご記入ください",null,"会社名",{"$f":"IF(【ルース】入力欄!C$3=\"\",\"\",【ルース】入力欄!C$3)","v":""}]
[]
["番号","ｃｔ","カラー","クラリティ","カット","蛍光性","備考","付属品","指値\n（2万円以上）","発句"]
["１",{"$f":"IF(【ルース】入力欄!E26=\"\",\"\",【ルース】入力欄!E26)","v":""},{"$f":"IF(【ルース】入力欄!F26=\"\",\"\",【ルース】入力欄!F26)","v":""},{"$f":"IF(【ルース】入力欄!G26=\"\",\"\",【ルース】入力欄!G26)","v":""},{"$f":"IF(【ルース】入力欄!H26=\"\",\"\",【ルース】入力欄!H26)","v":""},{"$f":"IF(【ルース】入力欄!I26=\"\",\"\",【ルース】入力欄!I26)","v":""},{"$f":"IF(【ルース】入力欄!K26=\"\",\"\",【ルース】入力欄!K26)","v":""},{"$f":"IF(【ルース】入力欄!J26=\"\",\"\",【ルース】入力欄!J26)","v":""},{"$f":"IF(【ルース】入力欄!M26=\"\",\"\",【ルース】入力欄!M26)","v":""}]
["２",{"$f":"IF(【ルース】入力欄!E27=\"\",\"\",【ルース】入力欄!E27)","v":""},{"$f":"IF(【ルース】入力欄!F27=\"\",\"\",【ルース】入力欄!F27)","v":""},{"$f":"IF(【ルース】入力欄!G27=\"\",\"\",【ルース】入力欄!G27)","v":""},{"$f":"IF(【ルース】入力欄!H27=\"\",\"\",【ルース】入力欄!H27)","v":""},{"$f":"IF(【ルース】入力欄!I27=\"\",\"\",【ルース】入力欄!I27)","v":""},{"$f":"IF(【ルース】入力欄!K27=\"\",\"\",【ルース】入力欄!K27)","v":""},{"$f":"IF(【ルース】入力欄!J27=\"\",\"\",【ルース】入力欄!J27)","v":""},{"$f":"IF(【ルース】入力欄!M27=\"\",\"\",【ルース】入力欄!M27)","v":""}]
["３",{"$f":"IF(【ルース】入力欄!E28=\"\",\"\",【ルース】入力欄!E28)","v":""},{"$f":"IF(【ルース】入力欄!F28=\"\",\"\",【ルース】入力欄!F28)","v":""},{"$f":"IF(【ルース】入力欄!G28=\"\",\"\",【ルース】入力欄!G28)","v":""},{"$f":"IF(【ルース】入力欄!H28=\"\",\"\",【ルース】入力欄!H28)","v":""},{"$f":"IF(【ルース】入力欄!I28=\"\",\"\",【ルース】入力欄!I28)","v":""},{"$f":"IF(【ルース】入力欄!K28=\"\",\"\",【ルース】入力欄!K28)","v":""},{"$f":"IF(【ルース】入力欄!J28=\"\",\"\",【ルース】入力欄!J28)","v":""},{"$f":"IF(【ルース】入力欄!M28=\"\",\"\",【ルース】入力欄!M28)","v":""}]
["４",{"$f":"IF(【ルース】入力欄!E29=\"\",\"\",【ルース】入力欄!E29)","v":""},{"$f":"IF(【ルース】入力欄!F29=\"\",\"\",【ルース】入力欄!F29)","v":""},{"$f":"IF(【ルース】入力欄!G29=\"\",\"\",【ルース】入力欄!G29)","v":""},{"$f":"IF(【ルース】入力欄!H29=\"\",\"\",【ルース】入力欄!H29)","v":""},{"$f":"IF(【ルース】入力欄!I29=\"\",\"\",【ルース】入力欄!I29)","v":""},{"$f":"IF(【ルース】入力欄!K29=\"\",\"\",【ルース】入力欄!K29)","v":""},{"$f":"IF(【ルース】入力欄!J29=\"\",\"\",【ルース】入力欄!J29)","v":""},{"$f":"IF(【ルース】入力欄!M29=\"\",\"\",【ルース】入力欄!M29)","v":""}]
["５",{"$f":"IF(【ルース】入力欄!E30=\"\",\"\",【ルース】入力欄!E30)","v":""},{"$f":"IF(【ルース】入力欄!F30=\"\",\"\",【ルース】入力欄!F30)","v":""},{"$f":"IF(【ルース】入力欄!G30=\"\",\"\",【ルース】入力欄!G30)","v":""},{"$f":"IF(【ルース】入力欄!H30=\"\",\"\",【ルース】入力欄!H30)","v":""},{"$f":"IF(【ルース】入力欄!I30=\"\",\"\",【ルース】入力欄!I30)","v":""},{"$f":"IF(【ルース】入力欄!K30=\"\",\"\",【ルース】入力欄!K30)","v":""},{"$f":"IF(【ルース】入力欄!J30=\"\",\"\",【ルース】入力欄!J30)","v":""},{"$f":"IF(【ルース】入力欄!M30=\"\",\"\",【ルース】入力欄!M30)","v":""}]
["６",{"$f":"IF(【ルース】入力欄!E31=\"\",\"\",【ルース】入力欄!E31)","v":""},{"$f":"IF(【ルース】入力欄!F31=\"\",\"\",【ルース】入力欄!F31)","v":""},{"$f":"IF(【ルース】入力欄!G31=\"\",\"\",【ルース】入力欄!G31)","v":""},{"$f":"IF(【ルース】入力欄!H31=\"\",\"\",【ルース】入力欄!H31)","v":""},{"$f":"IF(【ルース】入力欄!I31=\"\",\"\",【ルース】入力欄!I31)","v":""},{"$f":"IF(【ルース】入力欄!K31=\"\",\"\",【ルース】入力欄!K31)","v":""},{"$f":"IF(【ルース】入力欄!J31=\"\",\"\",【ルース】入力欄!J31)","v":""},{"$f":"IF(【ルース】入力欄!M31=\"\",\"\",【ルース】入力欄!M31)","v":""}]
["７",{"$f":"IF(【ルース】入力欄!E32=\"\",\"\",【ルース】入力欄!E32)","v":""},{"$f":"IF(【ルース】入力欄!F32=\"\",\"\",【ルース】入力欄!F32)","v":""},{"$f":"IF(【ルース】入力欄!G32=\"\",\"\",【ルース】入力欄!G32)","v":""},{"$f":"IF(【ルース】入力欄!H32=\"\",\"\",【ルース】入力欄!H32)","v":""},{"$f":"IF(【ルース】入力欄!I32=\"\",\"\",【ルース】入力欄!I32)","v":""},{"$f":"IF(【ルース】入力欄!K32=\"\",\"\",【ルース】入力欄!K32)","v":""},{"$f":"IF(【ルース】入力欄!J32=\"\",\"\",【ルース】入力欄!J32)","v":""},{"$f":"IF(【ルース】入力欄!M32=\"\",\"\",【ルース】入力欄!M32)","v":""}]
["８",{"$f":"IF(【ルース】入力欄!E33=\"\",\"\",【ルース】入力欄!E33)","v":""},{"$f":"IF(【ルース】入力欄!F33=\"\",\"\",【ルース】入力欄!F33)","v":""},{"$f":"IF(【ルース】入力欄!G33=\"\",\"\",【ルース】入力欄!G33)","v":""},{"$f":"IF(【ルース】入力欄!H33=\"\",\"\",【ルース】入力欄!H33)","v":""},{"$f":"IF(【ルース】入力欄!I33=\"\",\"\",【ルース】入力欄!I33)","v":""},{"$f":"IF(【ルース】入力欄!K33=\"\",\"\",【ルース】入力欄!K33)","v":""},{"$f":"IF(【ルース】入力欄!J33=\"\",\"\",【ルース】入力欄!J33)","v":""},{"$f":"IF(【ルース】入力欄!M33=\"\",\"\",【ルース】入力欄!M33)","v":""}]
["９",{"$f":"IF(【ルース】入力欄!E34=\"\",\"\",【ルース】入力欄!E34)","v":""},{"$f":"IF(【ルース】入力欄!F34=\"\",\"\",【ルース】入力欄!F34)","v":""},{"$f":"IF(【ルース】入力欄!G34=\"\",\"\",【ルース】入力欄!G34)","v":""},{"$f":"IF(【ルース】入力欄!H34=\"\",\"\",【ルース】入力欄!H34)","v":""},{"$f":"IF(【ルース】入力欄!I34=\"\",\"\",【ルース】入力欄!I34)","v":""},{"$f":"IF(【ルース】入力欄!K34=\"\",\"\",【ルース】入力欄!K34)","v":""},{"$f":"IF(【ルース】入力欄!J34=\"\",\"\",【ルース】入力欄!J34)","v":""},{"$f":"IF(【ルース】入力欄!M34=\"\",\"\",【ルース】入力欄!M34)","v":""}]
["１０",{"$f":"IF(【ルース】入力欄!E35=\"\",\"\",【ルース】入力欄!E35)","v":""},{"$f":"IF(【ルース】入力欄!F35=\"\",\"\",【ルース】入力欄!F35)","v":""},{"$f":"IF(【ルース】入力欄!G35=\"\",\"\",【ルース】入力欄!G35)","v":""},{"$f":"IF(【ルース】入力欄!H35=\"\",\"\",【ルース】入力欄!H35)","v":""},{"$f":"IF(【ルース】入力欄!I35=\"\",\"\",【ルース】入力欄!I35)","v":""},{"$f":"IF(【ルース】入力欄!K35=\"\",\"\",【ルース】入力欄!K35)","v":""},{"$f":"IF(【ルース】入力欄!J35=\"\",\"\",【ルース】入力欄!J35)","v":""},{"$f":"IF(【ルース】入力欄!M35=\"\",\"\",【ルース】入力欄!M35)","v":""}]
[]
[null,{"$f":"CONCATENATE(\"出品表　（　\",【ルース】入力欄!I$3,\"　大吉オークション　ルース）\")","v":"出品表　（　　大吉オークション　ルース）"}]
[]
[null,"箱番：",{"$f":"IF(【ルース】入力欄!C36=\"\",\"\",【ルース】入力欄!C36)","v":""},null,null,"※太枠の中をご記入ください",null,"会社名",{"$f":"IF(【ルース】入力欄!C$3=\"\",\"\",【ルース】入力欄!C$3)","v":""}]
[]
["番号","ｃｔ","カラー","クラリティ","カット","蛍光性","備考","付属品","指値\n（2万円以上）","発句"]
["１",{"$f":"IF(【ルース】入力欄!E36=\"\",\"\",【ルース】入力欄!E36)","v":""},{"$f":"IF(【ルース】入力欄!F36=\"\",\"\",【ルース】入力欄!F36)","v":""},{"$f":"IF(【ルース】入力欄!G36=\"\",\"\",【ルース】入力欄!G36)","v":""},{"$f":"IF(【ルース】入力欄!H36=\"\",\"\",【ルース】入力欄!H36)","v":""},{"$f":"IF(【ルース】入力欄!I36=\"\",\"\",【ルース】入力欄!I36)","v":""},{"$f":"IF(【ルース】入力欄!K36=\"\",\"\",【ルース】入力欄!K36)","v":""},{"$f":"IF(【ルース】入力欄!J36=\"\",\"\",【ルース】入力欄!J36)","v":""},{"$f":"IF(【ルース】入力欄!M36=\"\",\"\",【ルース】入力欄!M36)","v":""}]
["２",{"$f":"IF(【ルース】入力欄!E37=\"\",\"\",【ルース】入力欄!E37)","v":""},{"$f":"IF(【ルース】入力欄!F37=\"\",\"\",【ルース】入力欄!F37)","v":""},{"$f":"IF(【ルース】入力欄!G37=\"\",\"\",【ルース】入力欄!G37)","v":""},{"$f":"IF(【ルース】入力欄!H37=\"\",\"\",【ルース】入力欄!H37)","v":""},{"$f":"IF(【ルース】入力欄!I37=\"\",\"\",【ルース】入力欄!I37)","v":""},{"$f":"IF(【ルース】入力欄!K37=\"\",\"\",【ルース】入力欄!K37)","v":""},{"$f":"IF(【ルース】入力欄!J37=\"\",\"\",【ルース】入力欄!J37)","v":""},{"$f":"IF(【ルース】入力欄!M37=\"\",\"\",【ルース】入力欄!M37)","v":""}]
["３",{"$f":"IF(【ルース】入力欄!E38=\"\",\"\",【ルース】入力欄!E38)","v":""},{"$f":"IF(【ルース】入力欄!F38=\"\",\"\",【ルース】入力欄!F38)","v":""},{"$f":"IF(【ルース】入力欄!G38=\"\",\"\",【ルース】入力欄!G38)","v":""},{"$f":"IF(【ルース】入力欄!H38=\"\",\"\",【ルース】入力欄!H38)","v":""},{"$f":"IF(【ルース】入力欄!I38=\"\",\"\",【ルース】入力欄!I38)","v":""},{"$f":"IF(【ルース】入力欄!K38=\"\",\"\",【ルース】入力欄!K38)","v":""},{"$f":"IF(【ルース】入力欄!J38=\"\",\"\",【ルース】入力欄!J38)","v":""},{"$f":"IF(【ルース】入力欄!M38=\"\",\"\",【ルース】入力欄!M38)","v":""}]
["４",{"$f":"IF(【ルース】入力欄!E39=\"\",\"\",【ルース】入力欄!E39)","v":""},{"$f":"IF(【ルース】入力欄!F39=\"\",\"\",【ルース】入力欄!F39)","v":""},{"$f":"IF(【ルース】入力欄!G39=\"\",\"\",【ルース】入力欄!G39)","v":""},{"$f":"IF(【ルース】入力欄!H39=\"\",\"\",【ルース】入力欄!H39)","v":""},{"$f":"IF(【ルース】入力欄!I39=\"\",\"\",【ルース】入力欄!I39)","v":""},{"$f":"IF(【ルース】入力欄!K39=\"\",\"\",【ルース】入力欄!K39)","v":""},{"$f":"IF(【ルース】入力欄!J39=\"\",\"\",【ルース】入力欄!J39)","v":""},{"$f":"IF(【ルース】入力欄!M39=\"\",\"\",【ルース】入力欄!M39)","v":""}]
["５",{"$f":"IF(【ルース】入力欄!E40=\"\",\"\",【ルース】入力欄!E40)","v":""},{"$f":"IF(【ルース】入力欄!F40=\"\",\"\",【ルース】入力欄!F40)","v":""},{"$f":"IF(【ルース】入力欄!G40=\"\",\"\",【ルース】入力欄!G40)","v":""},{"$f":"IF(【ルース】入力欄!H40=\"\",\"\",【ルース】入力欄!H40)","v":""},{"$f":"IF(【ルース】入力欄!I40=\"\",\"\",【ルース】入力欄!I40)","v":""},{"$f":"IF(【ルース】入力欄!K40=\"\",\"\",【ルース】入力欄!K40)","v":""},{"$f":"IF(【ルース】入力欄!J40=\"\",\"\",【ルース】入力欄!J40)","v":""},{"$f":"IF(【ルース】入力欄!M40=\"\",\"\",【ルース】入力欄!M40)","v":""}]
["６",{"$f":"IF(【ルース】入力欄!E41=\"\",\"\",【ルース】入力欄!E41)","v":""},{"$f":"IF(【ルース】入力欄!F41=\"\",\"\",【ルース】入力欄!F41)","v":""},{"$f":"IF(【ルース】入力欄!G41=\"\",\"\",【ルース】入力欄!G41)","v":""},{"$f":"IF(【ルース】入力欄!H41=\"\",\"\",【ルース】入力欄!H41)","v":""},{"$f":"IF(【ルース】入力欄!I41=\"\",\"\",【ルース】入力欄!I41)","v":""},{"$f":"IF(【ルース】入力欄!K41=\"\",\"\",【ルース】入力欄!K41)","v":""},{"$f":"IF(【ルース】入力欄!J41=\"\",\"\",【ルース】入力欄!J41)","v":""},{"$f":"IF(【ルース】入力欄!M41=\"\",\"\",【ルース】入力欄!M41)","v":""}]
["７",{"$f":"IF(【ルース】入力欄!E42=\"\",\"\",【ルース】入力欄!E42)","v":""},{"$f":"IF(【ルース】入力欄!F42=\"\",\"\",【ルース】入力欄!F42)","v":""},{"$f":"IF(【ルース】入力欄!G42=\"\",\"\",【ルース】入力欄!G42)","v":""},{"$f":"IF(【ルース】入力欄!H42=\"\",\"\",【ルース】入力欄!H42)","v":""},{"$f":"IF(【ルース】入力欄!I42=\"\",\"\",【ルース】入力欄!I42)","v":""},{"$f":"IF(【ルース】入力欄!K42=\"\",\"\",【ルース】入力欄!K42)","v":""},{"$f":"IF(【ルース】入力欄!J42=\"\",\"\",【ルース】入力欄!J42)","v":""},{"$f":"IF(【ルース】入力欄!M42=\"\",\"\",【ルース】入力欄!M42)","v":""}]
["８",{"$f":"IF(【ルース】入力欄!E43=\"\",\"\",【ルース】入力欄!E43)","v":""},{"$f":"IF(【ルース】入力欄!F43=\"\",\"\",【ルース】入力欄!F43)","v":""},{"$f":"IF(【ルース】入力欄!G43=\"\",\"\",【ルース】入力欄!G43)","v":""},{"$f":"IF(【ルース】入力欄!H43=\"\",\"\",【ルース】入力欄!H43)","v":""},{"$f":"IF(【ルース】入力欄!I43=\"\",\"\",【ルース】入力欄!I43)","v":""},{"$f":"IF(【ルース】入力欄!K43=\"\",\"\",【ルース】入力欄!K43)","v":""},{"$f":"IF(【ルース】入力欄!J43=\"\",\"\",【ルース】入力欄!J43)","v":""},{"$f":"IF(【ルース】入力欄!M43=\"\",\"\",【ルース】入力欄!M43)","v":""}]
["９",{"$f":"IF(【ルース】入力欄!E44=\"\",\"\",【ルース】入力欄!E44)","v":""},{"$f":"IF(【ルース】入力欄!F44=\"\",\"\",【ルース】入力欄!F44)","v":""},{"$f":"IF(【ルース】入力欄!G44=\"\",\"\",【ルース】入力欄!G44)","v":""},{"$f":"IF(【ルース】入力欄!H44=\"\",\"\",【ルース】入力欄!H44)","v":""},{"$f":"IF(【ルース】入力欄!I44=\"\",\"\",【ルース】入力欄!I44)","v":""},{"$f":"IF(【ルース】入力欄!K44=\"\",\"\",【ルース】入力欄!K44)","v":""},{"$f":"IF(【ルース】入力欄!J44=\"\",\"\",【ルース】入力欄!J44)","v":""},{"$f":"IF(【ルース】入力欄!M44=\"\",\"\",【ルース】入力欄!M44)","v":""}]
["１０",{"$f":"IF(【ルース】入力欄!E45=\"\",\"\",【ルース】入力欄!E45)","v":""},{"$f":"IF(【ルース】入力欄!F45=\"\",\"\",【ルース】入力欄!F45)","v":""},{"$f":"IF(【ルース】入力欄!G45=\"\",\"\",【ルース】入力欄!G45)","v":""},{"$f":"IF(【ルース】入力欄!H45=\"\",\"\",【ルース】入力欄!H45)","v":""},{"$f":"IF(【ルース】入力欄!I45=\"\",\"\",【ルース】入力欄!I45)","v":""},{"$f":"IF(【ルース】入力欄!K45=\"\",\"\",【ルース】入力欄!K45)","v":""},{"$f":"IF(【ルース】入力欄!J45=\"\",\"\",【ルース】入力欄!J45)","v":""},{"$f":"IF(【ルース】入力欄!M45=\"\",\"\",【ルース】入力欄!M45)","v":""}]
[]
[null,{"$f":"CONCATENATE(\"出品表　（　\",【ルース】入力欄!I$3,\"　大吉オークション　ルース）\")","v":"出品表　（　　大吉オークション　ルース）"}]
[]
[null,"箱番：",{"$f":"IF(【ルース】入力欄!C46=\"\",\"\",【ルース】入力欄!C46)","v":""},null,null,"※太枠の中をご記入ください",null,"会社名",{"$f":"IF(【ルース】入力欄!C$3=\"\",\"\",【ルース】入力欄!C$3)","v":""}]
[]
["番号","ｃｔ","カラー","クラリティ","カット","蛍光性","備考","付属品","指値\n（2万円以上）","発句"]
["１",{"$f":"IF(【ルース】入力欄!E46=\"\",\"\",【ルース】入力欄!E46)","v":""},{"$f":"IF(【ルース】入力欄!F46=\"\",\"\",【ルース】入力欄!F46)","v":""},{"$f":"IF(【ルース】入力欄!G46=\"\",\"\",【ルース】入力欄!G46)","v":""},{"$f":"IF(【ルース】入力欄!H46=\"\",\"\",【ルース】入力欄!H46)","v":""},{"$f":"IF(【ルース】入力欄!I46=\"\",\"\",【ルース】入力欄!I46)","v":""},{"$f":"IF(【ルース】入力欄!K46=\"\",\"\",【ルース】入力欄!K46)","v":""},{"$f":"IF(【ルース】入力欄!J46=\"\",\"\",【ルース】入力欄!J46)","v":""},{"$f":"IF(【ルース】入力欄!M46=\"\",\"\",【ルース】入力欄!M46)","v":""}]
["２",{"$f":"IF(【ルース】入力欄!E47=\"\",\"\",【ルース】入力欄!E47)","v":""},{"$f":"IF(【ルース】入力欄!F47=\"\",\"\",【ルース】入力欄!F47)","v":""},{"$f":"IF(【ルース】入力欄!G47=\"\",\"\",【ルース】入力欄!G47)","v":""},{"$f":"IF(【ルース】入力欄!H47=\"\",\"\",【ルース】入力欄!H47)","v":""},{"$f":"IF(【ルース】入力欄!I47=\"\",\"\",【ルース】入力欄!I47)","v":""},{"$f":"IF(【ルース】入力欄!K47=\"\",\"\",【ルース】入力欄!K47)","v":""},{"$f":"IF(【ルース】入力欄!J47=\"\",\"\",【ルース】入力欄!J47)","v":""},{"$f":"IF(【ルース】入力欄!M47=\"\",\"\",【ルース】入力欄!M47)","v":""}]
["３",{"$f":"IF(【ルース】入力欄!E48=\"\",\"\",【ルース】入力欄!E48)","v":""},{"$f":"IF(【ルース】入力欄!F48=\"\",\"\",【ルース】入力欄!F48)","v":""},{"$f":"IF(【ルース】入力欄!G48=\"\",\"\",【ルース】入力欄!G48)","v":""},{"$f":"IF(【ルース】入力欄!H48=\"\",\"\",【ルース】入力欄!H48)","v":""},{"$f":"IF(【ルース】入力欄!I48=\"\",\"\",【ルース】入力欄!I48)","v":""},{"$f":"IF(【ルース】入力欄!K48=\"\",\"\",【ルース】入力欄!K48)","v":""},{"$f":"IF(【ルース】入力欄!J48=\"\",\"\",【ルース】入力欄!J48)","v":""},{"$f":"IF(【ルース】入力欄!M48=\"\",\"\",【ルース】入力欄!M48)","v":""}]
["４",{"$f":"IF(【ルース】入力欄!E49=\"\",\"\",【ルース】入力欄!E49)","v":""},{"$f":"IF(【ルース】入力欄!F49=\"\",\"\",【ルース】入力欄!F49)","v":""},{"$f":"IF(【ルース】入力欄!G49=\"\",\"\",【ルース】入力欄!G49)","v":""},{"$f":"IF(【ルース】入力欄!H49=\"\",\"\",【ルース】入力欄!H49)","v":""},{"$f":"IF(【ルース】入力欄!I49=\"\",\"\",【ルース】入力欄!I49)","v":""},{"$f":"IF(【ルース】入力欄!K49=\"\",\"\",【ルース】入力欄!K49)","v":""},{"$f":"IF(【ルース】入力欄!J49=\"\",\"\",【ルース】入力欄!J49)","v":""},{"$f":"IF(【ルース】入力欄!M49=\"\",\"\",【ルース】入力欄!M49)","v":""}]
["５",{"$f":"IF(【ルース】入力欄!E50=\"\",\"\",【ルース】入力欄!E50)","v":""},{"$f":"IF(【ルース】入力欄!F50=\"\",\"\",【ルース】入力欄!F50)","v":""},{"$f":"IF(【ルース】入力欄!G50=\"\",\"\",【ルース】入力欄!G50)","v":""},{"$f":"IF(【ルース】入力欄!H50=\"\",\"\",【ルース】入力欄!H50)","v":""},{"$f":"IF(【ルース】入力欄!I50=\"\",\"\",【ルース】入力欄!I50)","v":""},{"$f":"IF(【ルース】入力欄!K50=\"\",\"\",【ルース】入力欄!K50)","v":""},{"$f":"IF(【ルース】入力欄!J50=\"\",\"\",【ルース】入力欄!J50)","v":""},{"$f":"IF(【ルース】入力欄!M50=\"\",\"\",【ルース】入力欄!M50)","v":""}]
["６",{"$f":"IF(【ルース】入力欄!E51=\"\",\"\",【ルース】入力欄!E51)","v":""},{"$f":"IF(【ルース】入力欄!F51=\"\",\"\",【ルース】入力欄!F51)","v":""},{"$f":"IF(【ルース】入力欄!G51=\"\",\"\",【ルース】入力欄!G51)","v":""},{"$f":"IF(【ルース】入力欄!H51=\"\",\"\",【ルース】入力欄!H51)","v":""},{"$f":"IF(【ルース】入力欄!I51=\"\",\"\",【ルース】入力欄!I51)","v":""},{"$f":"IF(【ルース】入力欄!K51=\"\",\"\",【ルース】入力欄!K51)","v":""},{"$f":"IF(【ルース】入力欄!J51=\"\",\"\",【ルース】入力欄!J51)","v":""},{"$f":"IF(【ルース】入力欄!M51=\"\",\"\",【ルース】入力欄!M51)","v":""}]
["７",{"$f":"IF(【ルース】入力欄!E52=\"\",\"\",【ルース】入力欄!E52)","v":""},{"$f":"IF(【ルース】入力欄!F52=\"\",\"\",【ルース】入力欄!F52)","v":""},{"$f":"IF(【ルース】入力欄!G52=\"\",\"\",【ルース】入力欄!G52)","v":""},{"$f":"IF(【ルース】入力欄!H52=\"\",\"\",【ルース】入力欄!H52)","v":""},{"$f":"IF(【ルース】入力欄!I52=\"\",\"\",【ルース】入力欄!I52)","v":""},{"$f":"IF(【ルース】入力欄!K52=\"\",\"\",【ルース】入力欄!K52)","v":""},{"$f":"IF(【ルース】入力欄!J52=\"\",\"\",【ルース】入力欄!J52)","v":""},{"$f":"IF(【ルース】入力欄!M52=\"\",\"\",【ルース】入力欄!M52)","v":""}]
["８",{"$f":"IF(【ルース】入力欄!E53=\"\",\"\",【ルース】入力欄!E53)","v":""},{"$f":"IF(【ルース】入力欄!F53=\"\",\"\",【ルース】入力欄!F53)","v":""},{"$f":"IF(【ルース】入力欄!G53=\"\",\"\",【ルース】入力欄!G53)","v":""},{"$f":"IF(【ルース】入力欄!H53=\"\",\"\",【ルース】入力欄!H53)","v":""},{"$f":"IF(【ルース】入力欄!I53=\"\",\"\",【ルース】入力欄!I53)","v":""},{"$f":"IF(【ルース】入力欄!K53=\"\",\"\",【ルース】入力欄!K53)","v":""},{"$f":"IF(【ルース】入力欄!J53=\"\",\"\",【ルース】入力欄!J53)","v":""},{"$f":"IF(【ルース】入力欄!M53=\"\",\"\",【ルース】入力欄!M53)","v":""}]
["９",{"$f":"IF(【ルース】入力欄!E54=\"\",\"\",【ルース】入力欄!E54)","v":""},{"$f":"IF(【ルース】入力欄!F54=\"\",\"\",【ルース】入力欄!F54)","v":""},{"$f":"IF(【ルース】入力欄!G54=\"\",\"\",【ルース】入力欄!G54)","v":""},{"$f":"IF(【ルース】入力欄!H54=\"\",\"\",【ルース】入力欄!H54)","v":""},{"$f":"IF(【ルース】入力欄!I54=\"\",\"\",【ルース】入力欄!I54)","v":""},{"$f":"IF(【ルース】入力欄!K54=\"\",\"\",【ルース】入力欄!K54)","v":""},{"$f":"IF(【ルース】入力欄!J54=\"\",\"\",【ルース】入力欄!J54)","v":""},{"$f":"IF(【ルース】入力欄!M54=\"\",\"\",【ルース】入力欄!M54)","v":""}]
["１０",{"$f":"IF(【ルース】入力欄!E55=\"\",\"\",【ルース】入力欄!E55)","v":""},{"$f":"IF(【ルース】入力欄!F55=\"\",\"\",【ルース】入力欄!F55)","v":""},{"$f":"IF(【ルース】入力欄!G55=\"\",\"\",【ルース】入力欄!G55)","v":""},{"$f":"IF(【ルース】入力欄!H55=\"\",\"\",【ルース】入力欄!H55)","v":""},{"$f":"IF(【ルース】入力欄!I55=\"\",\"\",【ルース】入力欄!I55)","v":""},{"$f":"IF(【ルース】入力欄!K55=\"\",\"\",【ルース】入力欄!K55)","v":""},{"$f":"IF(【ルース】入力欄!J55=\"\",\"\",【ルース】入力欄!J55)","v":""},{"$f":"IF(【ルース】入力欄!M55=\"\",\"\",【ルース】入力欄!M55)","v":""}]
[]
[null,{"$f":"CONCATENATE(\"出品表　（　\",【ルース】入力欄!I$3,\"　大吉オークション　ルース）\")","v":"出品表　（　　大吉オークション　ルース）"}]
[]
[null,"箱番：",{"$f":"IF(【ルース】入力欄!C56=\"\",\"\",【ルース】入力欄!C56)","v":""},null,null,"※太枠の中をご記入ください",null,"会社名",{"$f":"IF(【ルース】入力欄!C$3=\"\",\"\",【ルース】入力欄!C$3)","v":""}]
[]
["番号","ｃｔ","カラー","クラリティ","カット","蛍光性","備考","付属品","指値\n（2万円以上）","発句"]
["１",{"$f":"IF(【ルース】入力欄!E56=\"\",\"\",【ルース】入力欄!E56)","v":""},{"$f":"IF(【ルース】入力欄!F56=\"\",\"\",【ルース】入力欄!F56)","v":""},{"$f":"IF(【ルース】入力欄!G56=\"\",\"\",【ルース】入力欄!G56)","v":""},{"$f":"IF(【ルース】入力欄!H56=\"\",\"\",【ルース】入力欄!H56)","v":""},{"$f":"IF(【ルース】入力欄!I56=\"\",\"\",【ルース】入力欄!I56)","v":""},{"$f":"IF(【ルース】入力欄!K56=\"\",\"\",【ルース】入力欄!K56)","v":""},{"$f":"IF(【ルース】入力欄!J56=\"\",\"\",【ルース】入力欄!J56)","v":""},{"$f":"IF(【ルース】入力欄!M56=\"\",\"\",【ルース】入力欄!M56)","v":""}]
["２",{"$f":"IF(【ルース】入力欄!E57=\"\",\"\",【ルース】入力欄!E57)","v":""},{"$f":"IF(【ルース】入力欄!F57=\"\",\"\",【ルース】入力欄!F57)","v":""},{"$f":"IF(【ルース】入力欄!G57=\"\",\"\",【ルース】入力欄!G57)","v":""},{"$f":"IF(【ルース】入力欄!H57=\"\",\"\",【ルース】入力欄!H57)","v":""},{"$f":"IF(【ルース】入力欄!I57=\"\",\"\",【ルース】入力欄!I57)","v":""},{"$f":"IF(【ルース】入力欄!K57=\"\",\"\",【ルース】入力欄!K57)","v":""},{"$f":"IF(【ルース】入力欄!J57=\"\",\"\",【ルース】入力欄!J57)","v":""},{"$f":"IF(【ルース】入力欄!M57=\"\",\"\",【ルース】入力欄!M57)","v":""}]
["３",{"$f":"IF(【ルース】入力欄!E58=\"\",\"\",【ルース】入力欄!E58)","v":""},{"$f":"IF(【ルース】入力欄!F58=\"\",\"\",【ルース】入力欄!F58)","v":""},{"$f":"IF(【ルース】入力欄!G58=\"\",\"\",【ルース】入力欄!G58)","v":""},{"$f":"IF(【ルース】入力欄!H58=\"\",\"\",【ルース】入力欄!H58)","v":""},{"$f":"IF(【ルース】入力欄!I58=\"\",\"\",【ルース】入力欄!I58)","v":""},{"$f":"IF(【ルース】入力欄!K58=\"\",\"\",【ルース】入力欄!K58)","v":""},{"$f":"IF(【ルース】入力欄!J58=\"\",\"\",【ルース】入力欄!J58)","v":""},{"$f":"IF(【ルース】入力欄!M58=\"\",\"\",【ルース】入力欄!M58)","v":""}]
["４",{"$f":"IF(【ルース】入力欄!E59=\"\",\"\",【ルース】入力欄!E59)","v":""},{"$f":"IF(【ルース】入力欄!F59=\"\",\"\",【ルース】入力欄!F59)","v":""},{"$f":"IF(【ルース】入力欄!G59=\"\",\"\",【ルース】入力欄!G59)","v":""},{"$f":"IF(【ルース】入力欄!H59=\"\",\"\",【ルース】入力欄!H59)","v":""},{"$f":"IF(【ルース】入力欄!I59=\"\",\"\",【ルース】入力欄!I59)","v":""},{"$f":"IF(【ルース】入力欄!K59=\"\",\"\",【ルース】入力欄!K59)","v":""},{"$f":"IF(【ルース】入力欄!J59=\"\",\"\",【ルース】入力欄!J59)","v":""},{"$f":"IF(【ルース】入力欄!M59=\"\",\"\",【ルース】入力欄!M59)","v":""}]
["５",{"$f":"IF(【ルース】入力欄!E60=\"\",\"\",【ルース】入力欄!E60)","v":""},{"$f":"IF(【ルース】入力欄!F60=\"\",\"\",【ルース】入力欄!F60)","v":""},{"$f":"IF(【ルース】入力欄!G60=\"\",\"\",【ルース】入力欄!G60)","v":""},{"$f":"IF(【ルース】入力欄!H60=\"\",\"\",【ルース】入力欄!H60)","v":""},{"$f":"IF(【ルース】入力欄!I60=\"\",\"\",【ルース】入力欄!I60)","v":""},{"$f":"IF(【ルース】入力欄!K60=\"\",\"\",【ルース】入力欄!K60)","v":""},{"$f":"IF(【ルース】入力欄!J60=\"\",\"\",【ルース】入力欄!J60)","v":""},{"$f":"IF(【ルース】入力欄!M60=\"\",\"\",【ルース】入力欄!M60)","v":""}]
["６",{"$f":"IF(【ルース】入力欄!E61=\"\",\"\",【ルース】入力欄!E61)","v":""},{"$f":"IF(【ルース】入力欄!F61=\"\",\"\",【ルース】入力欄!F61)","v":""},{"$f":"IF(【ルース】入力欄!G61=\"\",\"\",【ルース】入力欄!G61)","v":""},{"$f":"IF(【ルース】入力欄!H61=\"\",\"\",【ルース】入力欄!H61)","v":""},{"$f":"IF(【ルース】入力欄!I61=\"\",\"\",【ルース】入力欄!I61)","v":""},{"$f":"IF(【ルース】入力欄!K61=\"\",\"\",【ルース】入力欄!K61)","v":""},{"$f":"IF(【ルース】入力欄!J61=\"\",\"\",【ルース】入力欄!J61)","v":""},{"$f":"IF(【ルース】入力欄!M61=\"\",\"\",【ルース】入力欄!M61)","v":""}]
["７",{"$f":"IF(【ルース】入力欄!E62=\"\",\"\",【ルース】入力欄!E62)","v":""},{"$f":"IF(【ルース】入力欄!F62=\"\",\"\",【ルース】入力欄!F62)","v":""},{"$f":"IF(【ルース】入力欄!G62=\"\",\"\",【ルース】入力欄!G62)","v":""},{"$f":"IF(【ルース】入力欄!H62=\"\",\"\",【ルース】入力欄!H62)","v":""},{"$f":"IF(【ルース】入力欄!I62=\"\",\"\",【ルース】入力欄!I62)","v":""},{"$f":"IF(【ルース】入力欄!K62=\"\",\"\",【ルース】入力欄!K62)","v":""},{"$f":"IF(【ルース】入力欄!J62=\"\",\"\",【ルース】入力欄!J62)","v":""},{"$f":"IF(【ルース】入力欄!M62=\"\",\"\",【ルース】入力欄!M62)","v":""}]
["８",{"$f":"IF(【ルース】入力欄!E63=\"\",\"\",【ルース】入力欄!E63)","v":""},{"$f":"IF(【ルース】入力欄!F63=\"\",\"\",【ルース】入力欄!F63)","v":""},{"$f":"IF(【ルース】入力欄!G63=\"\",\"\",【ルース】入力欄!G63)","v":""},{"$f":"IF(【ルース】入力欄!H63=\"\",\"\",【ルース】入力欄!H63)","v":""},{"$f":"IF(【ルース】入力欄!I63=\"\",\"\",【ルース】入力欄!I63)","v":""},{"$f":"IF(【ルース】入力欄!K63=\"\",\"\",【ルース】入力欄!K63)","v":""},{"$f":"IF(【ルース】入力欄!J63=\"\",\"\",【ルース】入力欄!J63)","v":""},{"$f":"IF(【ルース】入力欄!M63=\"\",\"\",【ルース】入力欄!M63)","v":""}]
["９",{"$f":"IF(【ルース】入力欄!E64=\"\",\"\",【ルース】入力欄!E64)","v":""},{"$f":"IF(【ルース】入力欄!F64=\"\",\"\",【ルース】入力欄!F64)","v":""},{"$f":"IF(【ルース】入力欄!G64=\"\",\"\",【ルース】入力欄!G64)","v":""},{"$f":"IF(【ルース】入力欄!H64=\"\",\"\",【ルース】入力欄!H64)","v":""},{"$f":"IF(【ルース】入力欄!I64=\"\",\"\",【ルース】入力欄!I64)","v":""},{"$f":"IF(【ルース】入力欄!K64=\"\",\"\",【ルース】入力欄!K64)","v":""},{"$f":"IF(【ルース】入力欄!J64=\"\",\"\",【ルース】入力欄!J64)","v":""},{"$f":"IF(【ルース】入力欄!M64=\"\",\"\",【ルース】入力欄!M64)","v":""}]
["１０",{"$f":"IF(【ルース】入力欄!E65=\"\",\"\",【ルース】入力欄!E65)","v":""},{"$f":"IF(【ルース】入力欄!F65=\"\",\"\",【ルース】入力欄!F65)","v":""},{"$f":"IF(【ルース】入力欄!G65=\"\",\"\",【ルース】入力欄!G65)","v":""},{"$f":"IF(【ルース】入力欄!H65=\"\",\"\",【ルース】入力欄!H65)","v":""},{"$f":"IF(【ルース】入力欄!I65=\"\",\"\",【ルース】入力欄!I65)","v":""},{"$f":"IF(【ルース】入力欄!K65=\"\",\"\",【ルース】入力欄!K65)","v":""},{"$f":"IF(【ルース】入力欄!J65=\"\",\"\",【ルース】入力欄!J65)","v":""},{"$f":"IF(【ルース】入力欄!M65=\"\",\"\",【ルース】入力欄!M65)","v":""}]
[]
[null,{"$f":"CONCATENATE(\"出品表　（　\",【ルース】入力欄!I$3,\"　大吉オークション　ルース）\")","v":"出品表　（　　大吉オークション　ルース）"}]
[]
[null,"箱番：",{"$f":"IF(【ルース】入力欄!C66=\"\",\"\",【ルース】入力欄!C66)","v":""},null,null,"※太枠の中をご記入ください",null,"会社名",{"$f":"IF(【ルース】入力欄!C$3=\"\",\"\",【ルース】入力欄!C$3)","v":""}]
[]
["番号","ｃｔ","カラー","クラリティ","カット","蛍光性","備考","付属品","指値\n（2万円以上）","発句"]
["１",{"$f":"IF(【ルース】入力欄!E66=\"\",\"\",【ルース】入力欄!E66)","v":""},{"$f":"IF(【ルース】入力欄!F66=\"\",\"\",【ルース】入力欄!F66)","v":""},{"$f":"IF(【ルース】入力欄!G66=\"\",\"\",【ルース】入力欄!G66)","v":""},{"$f":"IF(【ルース】入力欄!H66=\"\",\"\",【ルース】入力欄!H66)","v":""},{"$f":"IF(【ルース】入力欄!I66=\"\",\"\",【ルース】入力欄!I66)","v":""},{"$f":"IF(【ルース】入力欄!K66=\"\",\"\",【ルース】入力欄!K66)","v":""},{"$f":"IF(【ルース】入力欄!J66=\"\",\"\",【ルース】入力欄!J66)","v":""},{"$f":"IF(【ルース】入力欄!M66=\"\",\"\",【ルース】入力欄!M66)","v":""}]
["２",{"$f":"IF(【ルース】入力欄!E67=\"\",\"\",【ルース】入力欄!E67)","v":""},{"$f":"IF(【ルース】入力欄!F67=\"\",\"\",【ルース】入力欄!F67)","v":""},{"$f":"IF(【ルース】入力欄!G67=\"\",\"\",【ルース】入力欄!G67)","v":""},{"$f":"IF(【ルース】入力欄!H67=\"\",\"\",【ルース】入力欄!H67)","v":""},{"$f":"IF(【ルース】入力欄!I67=\"\",\"\",【ルース】入力欄!I67)","v":""},{"$f":"IF(【ルース】入力欄!K67=\"\",\"\",【ルース】入力欄!K67)","v":""},{"$f":"IF(【ルース】入力欄!J67=\"\",\"\",【ルース】入力欄!J67)","v":""},{"$f":"IF(【ルース】入力欄!M67=\"\",\"\",【ルース】入力欄!M67)","v":""}]
["３",{"$f":"IF(【ルース】入力欄!E68=\"\",\"\",【ルース】入力欄!E68)","v":""},{"$f":"IF(【ルース】入力欄!F68=\"\",\"\",【ルース】入力欄!F68)","v":""},{"$f":"IF(【ルース】入力欄!G68=\"\",\"\",【ルース】入力欄!G68)","v":""},{"$f":"IF(【ルース】入力欄!H68=\"\",\"\",【ルース】入力欄!H68)","v":""},{"$f":"IF(【ルース】入力欄!I68=\"\",\"\",【ルース】入力欄!I68)","v":""},{"$f":"IF(【ルース】入力欄!K68=\"\",\"\",【ルース】入力欄!K68)","v":""},{"$f":"IF(【ルース】入力欄!J68=\"\",\"\",【ルース】入力欄!J68)","v":""},{"$f":"IF(【ルース】入力欄!M68=\"\",\"\",【ルース】入力欄!M68)","v":""}]
["４",{"$f":"IF(【ルース】入力欄!E69=\"\",\"\",【ルース】入力欄!E69)","v":""},{"$f":"IF(【ルース】入力欄!F69=\"\",\"\",【ルース】入力欄!F69)","v":""},{"$f":"IF(【ルース】入力欄!G69=\"\",\"\",【ルース】入力欄!G69)","v":""},{"$f":"IF(【ルース】入力欄!H69=\"\",\"\",【ルース】入力欄!H69)","v":""},{"$f":"IF(【ルース】入力欄!I69=\"\",\"\",【ルース】入力欄!I69)","v":""},{"$f":"IF(【ルース】入力欄!K69=\"\",\"\",【ルース】入力欄!K69)","v":""},{"$f":"IF(【ルース】入力欄!J69=\"\",\"\",【ルース】入力欄!J69)","v":""},{"$f":"IF(【ルース】入力欄!M69=\"\",\"\",【ルース】入力欄!M69)","v":""}]
["５",{"$f":"IF(【ルース】入力欄!E70=\"\",\"\",【ルース】入力欄!E70)","v":""},{"$f":"IF(【ルース】入力欄!F70=\"\",\"\",【ルース】入力欄!F70)","v":""},{"$f":"IF(【ルース】入力欄!G70=\"\",\"\",【ルース】入力欄!G70)","v":""},{"$f":"IF(【ルース】入力欄!H70=\"\",\"\",【ルース】入力欄!H70)","v":""},{"$f":"IF(【ルース】入力欄!I70=\"\",\"\",【ルース】入力欄!I70)","v":""},{"$f":"IF(【ルース】入力欄!K70=\"\",\"\",【ルース】入力欄!K70)","v":""},{"$f":"IF(【ルース】入力欄!J70=\"\",\"\",【ルース】入力欄!J70)","v":""},{"$f":"IF(【ルース】入力欄!M70=\"\",\"\",【ルース】入力欄!M70)","v":""}]
["６",{"$f":"IF(【ルース】入力欄!E71=\"\",\"\",【ルース】入力欄!E71)","v":""},{"$f":"IF(【ルース】入力欄!F71=\"\",\"\",【ルース】入力欄!F71)","v":""},{"$f":"IF(【ルース】入力欄!G71=\"\",\"\",【ルース】入力欄!G71)","v":""},{"$f":"IF(【ルース】入力欄!H71=\"\",\"\",【ルース】入力欄!H71)","v":""},{"$f":"IF(【ルース】入力欄!I71=\"\",\"\",【ルース】入力欄!I71)","v":""},{"$f":"IF(【ルース】入力欄!K71=\"\",\"\",【ルース】入力欄!K71)","v":""},{"$f":"IF(【ルース】入力欄!J71=\"\",\"\",【ルース】入力欄!J71)","v":""},{"$f":"IF(【ルース】入力欄!M71=\"\",\"\",【ルース】入力欄!M71)","v":""}]
["７",{"$f":"IF(【ルース】入力欄!E72=\"\",\"\",【ルース】入力欄!E72)","v":""},{"$f":"IF(【ルース】入力欄!F72=\"\",\"\",【ルース】入力欄!F72)","v":""},{"$f":"IF(【ルース】入力欄!G72=\"\",\"\",【ルース】入力欄!G72)","v":""},{"$f":"IF(【ルース】入力欄!H72=\"\",\"\",【ルース】入力欄!H72)","v":""},{"$f":"IF(【ルース】入力欄!I72=\"\",\"\",【ルース】入力欄!I72)","v":""},{"$f":"IF(【ルース】入力欄!K72=\"\",\"\",【ルース】入力欄!K72)","v":""},{"$f":"IF(【ルース】入力欄!J72=\"\",\"\",【ルース】入力欄!J72)","v":""},{"$f":"IF(【ルース】入力欄!M72=\"\",\"\",【ルース】入力欄!M72)","v":""}]
["８",{"$f":"IF(【ルース】入力欄!E73=\"\",\"\",【ルース】入力欄!E73)","v":""},{"$f":"IF(【ルース】入力欄!F73=\"\",\"\",【ルース】入力欄!F73)","v":""},{"$f":"IF(【ルース】入力欄!G73=\"\",\"\",【ルース】入力欄!G73)","v":""},{"$f":"IF(【ルース】入力欄!H73=\"\",\"\",【ルース】入力欄!H73)","v":""},{"$f":"IF(【ルース】入力欄!I73=\"\",\"\",【ルース】入力欄!I73)","v":""},{"$f":"IF(【ルース】入力欄!K73=\"\",\"\",【ルース】入力欄!K73)","v":""},{"$f":"IF(【ルース】入力欄!J73=\"\",\"\",【ルース】入力欄!J73)","v":""},{"$f":"IF(【ルース】入力欄!M73=\"\",\"\",【ルース】入力欄!M73)","v":""}]
["９",{"$f":"IF(【ルース】入力欄!E74=\"\",\"\",【ルース】入力欄!E74)","v":""},{"$f":"IF(【ルース】入力欄!F74=\"\",\"\",【ルース】入力欄!F74)","v":""},{"$f":"IF(【ルース】入力欄!G74=\"\",\"\",【ルース】入力欄!G74)","v":""},{"$f":"IF(【ルース】入力欄!H74=\"\",\"\",【ルース】入力欄!H74)","v":""},{"$f":"IF(【ルース】入力欄!I74=\"\",\"\",【ルース】入力欄!I74)","v":""},{"$f":"IF(【ルース】入力欄!K74=\"\",\"\",【ルース】入力欄!K74)","v":""},{"$f":"IF(【ルース】入力欄!J74=\"\",\"\",【ルース】入力欄!J74)","v":""},{"$f":"IF(【ルース】入力欄!M74=\"\",\"\",【ルース】入力欄!M74)","v":""}]
["１０",{"$f":"IF(【ルース】入力欄!E75=\"\",\"\",【ルース】入力欄!E75)","v":""},{"$f":"IF(【ルース】入力欄!F75=\"\",\"\",【ルース】入力欄!F75)","v":""},{"$f":"IF(【ルース】入力欄!G75=\"\",\"\",【ルース】入力欄!G75)","v":""},{"$f":"IF(【ルース】入力欄!H75=\"\",\"\",【ルース】入力欄!H75)","v":""},{"$f":"IF(【ルース】入力欄!I75=\"\",\"\",【ルース】入力欄!I75)","v":""},{"$f":"IF(【ルース】入力欄!K75=\"\",\"\",【ルース】入力欄!K75)","v":""},{"$f":"IF(【ルース】入力欄!J75=\"\",\"\",【ルース】入力欄!J75)","v":""},{"$f":"IF(【ルース】入力欄!M75=\"\",\"\",【ルース】入力欄!M75)","v":""}]
[]
[null,{"$f":"CONCATENATE(\"出品表　（　\",【ルース】入力欄!I$3,\"　大吉オークション　ルース）\")","v":"出品表　（　　大吉オークション　ルース）"}]
[]
[null,"箱番：",{"$f":"IF(【ルース】入力欄!C76=\"\",\"\",【ルース】入力欄!C76)","v":""},null,null,"※太枠の中をご記入ください",null,"会社名",{"$f":"IF(【ルース】入力欄!C$3=\"\",\"\",【ルース】入力欄!C$3)","v":""}]
[]
["番号","ｃｔ","カラー","クラリティ","カット","蛍光性","備考","付属品","指値\n（2万円以上）","発句"]
["１",{"$f":"IF(【ルース】入力欄!E76=\"\",\"\",【ルース】入力欄!E76)","v":""},{"$f":"IF(【ルース】入力欄!F76=\"\",\"\",【ルース】入力欄!F76)","v":""},{"$f":"IF(【ルース】入力欄!G76=\"\",\"\",【ルース】入力欄!G76)","v":""},{"$f":"IF(【ルース】入力欄!H76=\"\",\"\",【ルース】入力欄!H76)","v":""},{"$f":"IF(【ルース】入力欄!I76=\"\",\"\",【ルース】入力欄!I76)","v":""},{"$f":"IF(【ルース】入力欄!K76=\"\",\"\",【ルース】入力欄!K76)","v":""},{"$f":"IF(【ルース】入力欄!J76=\"\",\"\",【ルース】入力欄!J76)","v":""},{"$f":"IF(【ルース】入力欄!M76=\"\",\"\",【ルース】入力欄!M76)","v":""}]
["２",{"$f":"IF(【ルース】入力欄!E77=\"\",\"\",【ルース】入力欄!E77)","v":""},{"$f":"IF(【ルース】入力欄!F77=\"\",\"\",【ルース】入力欄!F77)","v":""},{"$f":"IF(【ルース】入力欄!G77=\"\",\"\",【ルース】入力欄!G77)","v":""},{"$f":"IF(【ルース】入力欄!H77=\"\",\"\",【ルース】入力欄!H77)","v":""},{"$f":"IF(【ルース】入力欄!I77=\"\",\"\",【ルース】入力欄!I77)","v":""},{"$f":"IF(【ルース】入力欄!K77=\"\",\"\",【ルース】入力欄!K77)","v":""},{"$f":"IF(【ルース】入力欄!J77=\"\",\"\",【ルース】入力欄!J77)","v":""},{"$f":"IF(【ルース】入力欄!M77=\"\",\"\",【ルース】入力欄!M77)","v":""}]
["３",{"$f":"IF(【ルース】入力欄!E78=\"\",\"\",【ルース】入力欄!E78)","v":""},{"$f":"IF(【ルース】入力欄!F78=\"\",\"\",【ルース】入力欄!F78)","v":""},{"$f":"IF(【ルース】入力欄!G78=\"\",\"\",【ルース】入力欄!G78)","v":""},{"$f":"IF(【ルース】入力欄!H78=\"\",\"\",【ルース】入力欄!H78)","v":""},{"$f":"IF(【ルース】入力欄!I78=\"\",\"\",【ルース】入力欄!I78)","v":""},{"$f":"IF(【ルース】入力欄!K78=\"\",\"\",【ルース】入力欄!K78)","v":""},{"$f":"IF(【ルース】入力欄!J78=\"\",\"\",【ルース】入力欄!J78)","v":""},{"$f":"IF(【ルース】入力欄!M78=\"\",\"\",【ルース】入力欄!M78)","v":""}]
["４",{"$f":"IF(【ルース】入力欄!E79=\"\",\"\",【ルース】入力欄!E79)","v":""},{"$f":"IF(【ルース】入力欄!F79=\"\",\"\",【ルース】入力欄!F79)","v":""},{"$f":"IF(【ルース】入力欄!G79=\"\",\"\",【ルース】入力欄!G79)","v":""},{"$f":"IF(【ルース】入力欄!H79=\"\",\"\",【ルース】入力欄!H79)","v":""},{"$f":"IF(【ルース】入力欄!I79=\"\",\"\",【ルース】入力欄!I79)","v":""},{"$f":"IF(【ルース】入力欄!K79=\"\",\"\",【ルース】入力欄!K79)","v":""},{"$f":"IF(【ルース】入力欄!J79=\"\",\"\",【ルース】入力欄!J79)","v":""},{"$f":"IF(【ルース】入力欄!M79=\"\",\"\",【ルース】入力欄!M79)","v":""}]
["５",{"$f":"IF(【ルース】入力欄!E80=\"\",\"\",【ルース】入力欄!E80)","v":""},{"$f":"IF(【ルース】入力欄!F80=\"\",\"\",【ルース】入力欄!F80)","v":""},{"$f":"IF(【ルース】入力欄!G80=\"\",\"\",【ルース】入力欄!G80)","v":""},{"$f":"IF(【ルース】入力欄!H80=\"\",\"\",【ルース】入力欄!H80)","v":""},{"$f":"IF(【ルース】入力欄!I80=\"\",\"\",【ルース】入力欄!I80)","v":""},{"$f":"IF(【ルース】入力欄!K80=\"\",\"\",【ルース】入力欄!K80)","v":""},{"$f":"IF(【ルース】入力欄!J80=\"\",\"\",【ルース】入力欄!J80)","v":""},{"$f":"IF(【ルース】入力欄!M80=\"\",\"\",【ルース】入力欄!M80)","v":""}]
["６",{"$f":"IF(【ルース】入力欄!E81=\"\",\"\",【ルース】入力欄!E81)","v":""},{"$f":"IF(【ルース】入力欄!F81=\"\",\"\",【ルース】入力欄!F81)","v":""},{"$f":"IF(【ルース】入力欄!G81=\"\",\"\",【ルース】入力欄!G81)","v":""},{"$f":"IF(【ルース】入力欄!H81=\"\",\"\",【ルース】入力欄!H81)","v":""},{"$f":"IF(【ルース】入力欄!I81=\"\",\"\",【ルース】入力欄!I81)","v":""},{"$f":"IF(【ルース】入力欄!K81=\"\",\"\",【ルース】入力欄!K81)","v":""},{"$f":"IF(【ルース】入力欄!J81=\"\",\"\",【ルース】入力欄!J81)","v":""},{"$f":"IF(【ルース】入力欄!M81=\"\",\"\",【ルース】入力欄!M81)","v":""}]
["７",{"$f":"IF(【ルース】入力欄!E82=\"\",\"\",【ルース】入力欄!E82)","v":""},{"$f":"IF(【ルース】入力欄!F82=\"\",\"\",【ルース】入力欄!F82)","v":""},{"$f":"IF(【ルース】入力欄!G82=\"\",\"\",【ルース】入力欄!G82)","v":""},{"$f":"IF(【ルース】入力欄!H82=\"\",\"\",【ルース】入力欄!H82)","v":""},{"$f":"IF(【ルース】入力欄!I82=\"\",\"\",【ルース】入力欄!I82)","v":""},{"$f":"IF(【ルース】入力欄!K82=\"\",\"\",【ルース】入力欄!K82)","v":""},{"$f":"IF(【ルース】入力欄!J82=\"\",\"\",【ルース】入力欄!J82)","v":""},{"$f":"IF(【ルース】入力欄!M82=\"\",\"\",【ルース】入力欄!M82)","v":""}]
["８",{"$f":"IF(【ルース】入力欄!E83=\"\",\"\",【ルース】入力欄!E83)","v":""},{"$f":"IF(【ルース】入力欄!F83=\"\",\"\",【ルース】入力欄!F83)","v":""},{"$f":"IF(【ルース】入力欄!G83=\"\",\"\",【ルース】入力欄!G83)","v":""},{"$f":"IF(【ルース】入力欄!H83=\"\",\"\",【ルース】入力欄!H83)","v":""},{"$f":"IF(【ルース】入力欄!I83=\"\",\"\",【ルース】入力欄!I83)","v":""},{"$f":"IF(【ルース】入力欄!K83=\"\",\"\",【ルース】入力欄!K83)","v":""},{"$f":"IF(【ルース】入力欄!J83=\"\",\"\",【ルース】入力欄!J83)","v":""},{"$f":"IF(【ルース】入力欄!M83=\"\",\"\",【ルース】入力欄!M83)","v":""}]
["９",{"$f":"IF(【ルース】入力欄!E84=\"\",\"\",【ルース】入力欄!E84)","v":""},{"$f":"IF(【ルース】入力欄!F84=\"\",\"\",【ルース】入力欄!F84)","v":""},{"$f":"IF(【ルース】入力欄!G84=\"\",\"\",【ルース】入力欄!G84)","v":""},{"$f":"IF(【ルース】入力欄!H84=\"\",\"\",【ルース】入力欄!H84)","v":""},{"$f":"IF(【ルース】入力欄!I84=\"\",\"\",【ルース】入力欄!I84)","v":""},{"$f":"IF(【ルース】入力欄!K84=\"\",\"\",【ルース】入力欄!K84)","v":""},{"$f":"IF(【ルース】入力欄!J84=\"\",\"\",【ルース】入力欄!J84)","v":""},{"$f":"IF(【ルース】入力欄!M84=\"\",\"\",【ルース】入力欄!M84)","v":""}]
["１０",{"$f":"IF(【ルース】入力欄!E85=\"\",\"\",【ルース】入力欄!E85)","v":""},{"$f":"IF(【ルース】入力欄!F85=\"\",\"\",【ルース】入力欄!F85)","v":""},{"$f":"IF(【ルース】入力欄!G85=\"\",\"\",【ルース】入力欄!G85)","v":""},{"$f":"IF(【ルース】入力欄!H85=\"\",\"\",【ルース】入力欄!H85)","v":""},{"$f":"IF(【ルース】入力欄!I85=\"\",\"\",【ルース】入力欄!I85)","v":""},{"$f":"IF(【ルース】入力欄!K85=\"\",\"\",【ルース】入力欄!K85)","v":""},{"$f":"IF(【ルース】入力欄!J85=\"\",\"\",【ルース】入力欄!J85)","v":""},{"$f":"IF(【ルース】入力欄!M85=\"\",\"\",【ルース】入力欄!M85)","v":""}]
[]
[null,{"$f":"CONCATENATE(\"出品表　（　\",【ルース】入力欄!I$3,\"　大吉オークション　ルース）\")","v":"出品表　（　　大吉オークション　ルース）"}]
[]
[null,"箱番：",{"$f":"IF(【ルース】入力欄!C86=\"\",\"\",【ルース】入力欄!C86)","v":""},null,null,"※太枠の中をご記入ください",null,"会社名",{"$f":"IF(【ルース】入力欄!C$3=\"\",\"\",【ルース】入力欄!C$3)","v":""}]
[]
["番号","ｃｔ","カラー","クラリティ","カット","蛍光性","備考","付属品","指値\n（2万円以上）","発句"]
["１",{"$f":"IF(【ルース】入力欄!E86=\"\",\"\",【ルース】入力欄!E86)","v":""},{"$f":"IF(【ルース】入力欄!F86=\"\",\"\",【ルース】入力欄!F86)","v":""},{"$f":"IF(【ルース】入力欄!G86=\"\",\"\",【ルース】入力欄!G86)","v":""},{"$f":"IF(【ルース】入力欄!H86=\"\",\"\",【ルース】入力欄!H86)","v":""},{"$f":"IF(【ルース】入力欄!I86=\"\",\"\",【ルース】入力欄!I86)","v":""},{"$f":"IF(【ルース】入力欄!K86=\"\",\"\",【ルース】入力欄!K86)","v":""},{"$f":"IF(【ルース】入力欄!J86=\"\",\"\",【ルース】入力欄!J86)","v":""},{"$f":"IF(【ルース】入力欄!M86=\"\",\"\",【ルース】入力欄!M86)","v":""}]
["２",{"$f":"IF(【ルース】入力欄!E87=\"\",\"\",【ルース】入力欄!E87)","v":""},{"$f":"IF(【ルース】入力欄!F87=\"\",\"\",【ルース】入力欄!F87)","v":""},{"$f":"IF(【ルース】入力欄!G87=\"\",\"\",【ルース】入力欄!G87)","v":""},{"$f":"IF(【ルース】入力欄!H87=\"\",\"\",【ルース】入力欄!H87)","v":""},{"$f":"IF(【ルース】入力欄!I87=\"\",\"\",【ルース】入力欄!I87)","v":""},{"$f":"IF(【ルース】入力欄!K87=\"\",\"\",【ルース】入力欄!K87)","v":""},{"$f":"IF(【ルース】入力欄!J87=\"\",\"\",【ルース】入力欄!J87)","v":""},{"$f":"IF(【ルース】入力欄!M87=\"\",\"\",【ルース】入力欄!M87)","v":""}]
["３",{"$f":"IF(【ルース】入力欄!E88=\"\",\"\",【ルース】入力欄!E88)","v":""},{"$f":"IF(【ルース】入力欄!F88=\"\",\"\",【ルース】入力欄!F88)","v":""},{"$f":"IF(【ルース】入力欄!G88=\"\",\"\",【ルース】入力欄!G88)","v":""},{"$f":"IF(【ルース】入力欄!H88=\"\",\"\",【ルース】入力欄!H88)","v":""},{"$f":"IF(【ルース】入力欄!I88=\"\",\"\",【ルース】入力欄!I88)","v":""},{"$f":"IF(【ルース】入力欄!K88=\"\",\"\",【ルース】入力欄!K88)","v":""},{"$f":"IF(【ルース】入力欄!J88=\"\",\"\",【ルース】入力欄!J88)","v":""},{"$f":"IF(【ルース】入力欄!M88=\"\",\"\",【ルース】入力欄!M88)","v":""}]
["４",{"$f":"IF(【ルース】入力欄!E89=\"\",\"\",【ルース】入力欄!E89)","v":""},{"$f":"IF(【ルース】入力欄!F89=\"\",\"\",【ルース】入力欄!F89)","v":""},{"$f":"IF(【ルース】入力欄!G89=\"\",\"\",【ルース】入力欄!G89)","v":""},{"$f":"IF(【ルース】入力欄!H89=\"\",\"\",【ルース】入力欄!H89)","v":""},{"$f":"IF(【ルース】入力欄!I89=\"\",\"\",【ルース】入力欄!I89)","v":""},{"$f":"IF(【ルース】入力欄!K89=\"\",\"\",【ルース】入力欄!K89)","v":""},{"$f":"IF(【ルース】入力欄!J89=\"\",\"\",【ルース】入力欄!J89)","v":""},{"$f":"IF(【ルース】入力欄!M89=\"\",\"\",【ルース】入力欄!M89)","v":""}]
["５",{"$f":"IF(【ルース】入力欄!E90=\"\",\"\",【ルース】入力欄!E90)","v":""},{"$f":"IF(【ルース】入力欄!F90=\"\",\"\",【ルース】入力欄!F90)","v":""},{"$f":"IF(【ルース】入力欄!G90=\"\",\"\",【ルース】入力欄!G90)","v":""},{"$f":"IF(【ルース】入力欄!H90=\"\",\"\",【ルース】入力欄!H90)","v":""},{"$f":"IF(【ルース】入力欄!I90=\"\",\"\",【ルース】入力欄!I90)","v":""},{"$f":"IF(【ルース】入力欄!K90=\"\",\"\",【ルース】入力欄!K90)","v":""},{"$f":"IF(【ルース】入力欄!J90=\"\",\"\",【ルース】入力欄!J90)","v":""},{"$f":"IF(【ルース】入力欄!M90=\"\",\"\",【ルース】入力欄!M90)","v":""}]
["６",{"$f":"IF(【ルース】入力欄!E91=\"\",\"\",【ルース】入力欄!E91)","v":""},{"$f":"IF(【ルース】入力欄!F91=\"\",\"\",【ルース】入力欄!F91)","v":""},{"$f":"IF(【ルース】入力欄!G91=\"\",\"\",【ルース】入力欄!G91)","v":""},{"$f":"IF(【ルース】入力欄!H91=\"\",\"\",【ルース】入力欄!H91)","v":""},{"$f":"IF(【ルース】入力欄!I91=\"\",\"\",【ルース】入力欄!I91)","v":""},{"$f":"IF(【ルース】入力欄!K91=\"\",\"\",【ルース】入力欄!K91)","v":""},{"$f":"IF(【ルース】入力欄!J91=\"\",\"\",【ルース】入力欄!J91)","v":""},{"$f":"IF(【ルース】入力欄!M91=\"\",\"\",【ルース】入力欄!M91)","v":""}]
["７",{"$f":"IF(【ルース】入力欄!E92=\"\",\"\",【ルース】入力欄!E92)","v":""},{"$f":"IF(【ルース】入力欄!F92=\"\",\"\",【ルース】入力欄!F92)","v":""},{"$f":"IF(【ルース】入力欄!G92=\"\",\"\",【ルース】入力欄!G92)","v":""},{"$f":"IF(【ルース】入力欄!H92=\"\",\"\",【ルース】入力欄!H92)","v":""},{"$f":"IF(【ルース】入力欄!I92=\"\",\"\",【ルース】入力欄!I92)","v":""},{"$f":"IF(【ルース】入力欄!K92=\"\",\"\",【ルース】入力欄!K92)","v":""},{"$f":"IF(【ルース】入力欄!J92=\"\",\"\",【ルース】入力欄!J92)","v":""},{"$f":"IF(【ルース】入力欄!M92=\"\",\"\",【ルース】入力欄!M92)","v":""}]
["８",{"$f":"IF(【ルース】入力欄!E93=\"\",\"\",【ルース】入力欄!E93)","v":""},{"$f":"IF(【ルース】入力欄!F93=\"\",\"\",【ルース】入力欄!F93)","v":""},{"$f":"IF(【ルース】入力欄!G93=\"\",\"\",【ルース】入力欄!G93)","v":""},{"$f":"IF(【ルース】入力欄!H93=\"\",\"\",【ルース】入力欄!H93)","v":""},{"$f":"IF(【ルース】入力欄!I93=\"\",\"\",【ルース】入力欄!I93)","v":""},{"$f":"IF(【ルース】入力欄!K93=\"\",\"\",【ルース】入力欄!K93)","v":""},{"$f":"IF(【ルース】入力欄!J93=\"\",\"\",【ルース】入力欄!J93)","v":""},{"$f":"IF(【ルース】入力欄!M93=\"\",\"\",【ルース】入力欄!M93)","v":""}]
["９",{"$f":"IF(【ルース】入力欄!E94=\"\",\"\",【ルース】入力欄!E94)","v":""},{"$f":"IF(【ルース】入力欄!F94=\"\",\"\",【ルース】入力欄!F94)","v":""},{"$f":"IF(【ルース】入力欄!G94=\"\",\"\",【ルース】入力欄!G94)","v":""},{"$f":"IF(【ルース】入力欄!H94=\"\",\"\",【ルース】入力欄!H94)","v":""},{"$f":"IF(【ルース】入力欄!I94=\"\",\"\",【ルース】入力欄!I94)","v":""},{"$f":"IF(【ルース】入力欄!K94=\"\",\"\",【ルース】入力欄!K94)","v":""},{"$f":"IF(【ルース】入力欄!J94=\"\",\"\",【ルース】入力欄!J94)","v":""},{"$f":"IF(【ルース】入力欄!M94=\"\",\"\",【ルース】入力欄!M94)","v":""}]
["１０",{"$f":"IF(【ルース】入力欄!E95=\"\",\"\",【ルース】入力欄!E95)","v":""},{"$f":"IF(【ルース】入力欄!F95=\"\",\"\",【ルース】入力欄!F95)","v":""},{"$f":"IF(【ルース】入力欄!G95=\"\",\"\",【ルース】入力欄!G95)","v":""},{"$f":"IF(【ルース】入力欄!H95=\"\",\"\",【ルース】入力欄!H95)","v":""},{"$f":"IF(【ルース】入力欄!I95=\"\",\"\",【ルース】入力欄!I95)","v":""},{"$f":"IF(【ルース】入力欄!K95=\"\",\"\",【ルース】入力欄!K95)","v":""},{"$f":"IF(【ルース】入力欄!J95=\"\",\"\",【ルース】入力欄!J95)","v":""},{"$f":"IF(【ルース】入力欄!M95=\"\",\"\",【ルース】入力欄!M95)","v":""}]
[]
[null,{"$f":"CONCATENATE(\"出品表　（　\",【ルース】入力欄!I$3,\"　大吉オークション　ルース）\")","v":"出品表　（　　大吉オークション　ルース）"}]
[]
[null,"箱番：",{"$f":"IF(【ルース】入力欄!C96=\"\",\"\",【ルース】入力欄!C96)","v":""},null,null,"※太枠の中をご記入ください",null,"会社名",{"$f":"IF(【ルース】入力欄!C$3=\"\",\"\",【ルース】入力欄!C$3)","v":""}]
[]
["番号","ｃｔ","カラー","クラリティ","カット","蛍光性","備考","付属品","指値\n（2万円以上）","発句"]
["１",{"$f":"IF(【ルース】入力欄!E96=\"\",\"\",【ルース】入力欄!E96)","v":""},{"$f":"IF(【ルース】入力欄!F96=\"\",\"\",【ルース】入力欄!F96)","v":""},{"$f":"IF(【ルース】入力欄!G96=\"\",\"\",【ルース】入力欄!G96)","v":""},{"$f":"IF(【ルース】入力欄!H96=\"\",\"\",【ルース】入力欄!H96)","v":""},{"$f":"IF(【ルース】入力欄!I96=\"\",\"\",【ルース】入力欄!I96)","v":""},{"$f":"IF(【ルース】入力欄!K96=\"\",\"\",【ルース】入力欄!K96)","v":""},{"$f":"IF(【ルース】入力欄!J96=\"\",\"\",【ルース】入力欄!J96)","v":""},{"$f":"IF(【ルース】入力欄!M96=\"\",\"\",【ルース】入力欄!M96)","v":""}]
["２",{"$f":"IF(【ルース】入力欄!E97=\"\",\"\",【ルース】入力欄!E97)","v":""},{"$f":"IF(【ルース】入力欄!F97=\"\",\"\",【ルース】入力欄!F97)","v":""},{"$f":"IF(【ルース】入力欄!G97=\"\",\"\",【ルース】入力欄!G97)","v":""},{"$f":"IF(【ルース】入力欄!H97=\"\",\"\",【ルース】入力欄!H97)","v":""},{"$f":"IF(【ルース】入力欄!I97=\"\",\"\",【ルース】入力欄!I97)","v":""},{"$f":"IF(【ルース】入力欄!K97=\"\",\"\",【ルース】入力欄!K97)","v":""},{"$f":"IF(【ルース】入力欄!J97=\"\",\"\",【ルース】入力欄!J97)","v":""},{"$f":"IF(【ルース】入力欄!M97=\"\",\"\",【ルース】入力欄!M97)","v":""}]
["３",{"$f":"IF(【ルース】入力欄!E98=\"\",\"\",【ルース】入力欄!E98)","v":""},{"$f":"IF(【ルース】入力欄!F98=\"\",\"\",【ルース】入力欄!F98)","v":""},{"$f":"IF(【ルース】入力欄!G98=\"\",\"\",【ルース】入力欄!G98)","v":""},{"$f":"IF(【ルース】入力欄!H98=\"\",\"\",【ルース】入力欄!H98)","v":""},{"$f":"IF(【ルース】入力欄!I98=\"\",\"\",【ルース】入力欄!I98)","v":""},{"$f":"IF(【ルース】入力欄!K98=\"\",\"\",【ルース】入力欄!K98)","v":""},{"$f":"IF(【ルース】入力欄!J98=\"\",\"\",【ルース】入力欄!J98)","v":""},{"$f":"IF(【ルース】入力欄!M98=\"\",\"\",【ルース】入力欄!M98)","v":""}]
["４",{"$f":"IF(【ルース】入力欄!E99=\"\",\"\",【ルース】入力欄!E99)","v":""},{"$f":"IF(【ルース】入力欄!F99=\"\",\"\",【ルース】入力欄!F99)","v":""},{"$f":"IF(【ルース】入力欄!G99=\"\",\"\",【ルース】入力欄!G99)","v":""},{"$f":"IF(【ルース】入力欄!H99=\"\",\"\",【ルース】入力欄!H99)","v":""},{"$f":"IF(【ルース】入力欄!I99=\"\",\"\",【ルース】入力欄!I99)","v":""},{"$f":"IF(【ルース】入力欄!K99=\"\",\"\",【ルース】入力欄!K99)","v":""},{"$f":"IF(【ルース】入力欄!J99=\"\",\"\",【ルース】入力欄!J99)","v":""},{"$f":"IF(【ルース】入力欄!M99=\"\",\"\",【ルース】入力欄!M99)","v":""}]
["５",{"$f":"IF(【ルース】入力欄!E100=\"\",\"\",【ルース】入力欄!E100)","v":""},{"$f":"IF(【ルース】入力欄!F100=\"\",\"\",【ルース】入力欄!F100)","v":""},{"$f":"IF(【ルース】入力欄!G100=\"\",\"\",【ルース】入力欄!G100)","v":""},{"$f":"IF(【ルース】入力欄!H100=\"\",\"\",【ルース】入力欄!H100)","v":""},{"$f":"IF(【ルース】入力欄!I100=\"\",\"\",【ルース】入力欄!I100)","v":""},{"$f":"IF(【ルース】入力欄!K100=\"\",\"\",【ルース】入力欄!K100)","v":""},{"$f":"IF(【ルース】入力欄!J100=\"\",\"\",【ルース】入力欄!J100)","v":""},{"$f":"IF(【ルース】入力欄!M100=\"\",\"\",【ルース】入力欄!M100)","v":""}]
["６",{"$f":"IF(【ルース】入力欄!E101=\"\",\"\",【ルース】入力欄!E101)","v":""},{"$f":"IF(【ルース】入力欄!F101=\"\",\"\",【ルース】入力欄!F101)","v":""},{"$f":"IF(【ルース】入力欄!G101=\"\",\"\",【ルース】入力欄!G101)","v":""},{"$f":"IF(【ルース】入力欄!H101=\"\",\"\",【ルース】入力欄!H101)","v":""},{"$f":"IF(【ルース】入力欄!I101=\"\",\"\",【ルース】入力欄!I101)","v":""},{"$f":"IF(【ルース】入力欄!K101=\"\",\"\",【ルース】入力欄!K101)","v":""},{"$f":"IF(【ルース】入力欄!J101=\"\",\"\",【ルース】入力欄!J101)","v":""},{"$f":"IF(【ルース】入力欄!M101=\"\",\"\",【ルース】入力欄!M101)","v":""}]
["７",{"$f":"IF(【ルース】入力欄!E102=\"\",\"\",【ルース】入力欄!E102)","v":""},{"$f":"IF(【ルース】入力欄!F102=\"\",\"\",【ルース】入力欄!F102)","v":""},{"$f":"IF(【ルース】入力欄!G102=\"\",\"\",【ルース】入力欄!G102)","v":""},{"$f":"IF(【ルース】入力欄!H102=\"\",\"\",【ルース】入力欄!H102)","v":""},{"$f":"IF(【ルース】入力欄!I102=\"\",\"\",【ルース】入力欄!I102)","v":""},{"$f":"IF(【ルース】入力欄!K102=\"\",\"\",【ルース】入力欄!K102)","v":""},{"$f":"IF(【ルース】入力欄!J102=\"\",\"\",【ルース】入力欄!J102)","v":""},{"$f":"IF(【ルース】入力欄!M102=\"\",\"\",【ルース】入力欄!M102)","v":""}]
["８",{"$f":"IF(【ルース】入力欄!E103=\"\",\"\",【ルース】入力欄!E103)","v":""},{"$f":"IF(【ルース】入力欄!F103=\"\",\"\",【ルース】入力欄!F103)","v":""},{"$f":"IF(【ルース】入力欄!G103=\"\",\"\",【ルース】入力欄!G103)","v":""},{"$f":"IF(【ルース】入力欄!H103=\"\",\"\",【ルース】入力欄!H103)","v":""},{"$f":"IF(【ルース】入力欄!I103=\"\",\"\",【ルース】入力欄!I103)","v":""},{"$f":"IF(【ルース】入力欄!K103=\"\",\"\",【ルース】入力欄!K103)","v":""},{"$f":"IF(【ルース】入力欄!J103=\"\",\"\",【ルース】入力欄!J103)","v":""},{"$f":"IF(【ルース】入力欄!M103=\"\",\"\",【ルース】入力欄!M103)","v":""}]
["９",{"$f":"IF(【ルース】入力欄!E104=\"\",\"\",【ルース】入力欄!E104)","v":""},{"$f":"IF(【ルース】入力欄!F104=\"\",\"\",【ルース】入力欄!F104)","v":""},{"$f":"IF(【ルース】入力欄!G104=\"\",\"\",【ルース】入力欄!G104)","v":""},{"$f":"IF(【ルース】入力欄!H104=\"\",\"\",【ルース】入力欄!H104)","v":""},{"$f":"IF(【ルース】入力欄!I104=\"\",\"\",【ルース】入力欄!I104)","v":""},{"$f":"IF(【ルース】入力欄!K104=\"\",\"\",【ルース】入力欄!K104)","v":""},{"$f":"IF(【ルース】入力欄!J104=\"\",\"\",【ルース】入力欄!J104)","v":""},{"$f":"IF(【ルース】入力欄!M104=\"\",\"\",【ルース】入力欄!M104)","v":""}]
["１０",{"$f":"IF(【ルース】入力欄!E105=\"\",\"\",【ルース】入力欄!E105)","v":""},{"$f":"IF(【ルース】入力欄!F105=\"\",\"\",【ルース】入力欄!F105)","v":""},{"$f":"IF(【ルース】入力欄!G105=\"\",\"\",【ルース】入力欄!G105)","v":""},{"$f":"IF(【ルース】入力欄!H105=\"\",\"\",【ルース】入力欄!H105)","v":""},{"$f":"IF(【ルース】入力欄!I105=\"\",\"\",【ルース】入力欄!I105)","v":""},{"$f":"IF(【ルース】入力欄!K105=\"\",\"\",【ルース】入力欄!K105)","v":""},{"$f":"IF(【ルース】入力欄!J105=\"\",\"\",【ルース】入力欄!J105)","v":""},{"$f":"IF(【ルース】入力欄!M105=\"\",\"\",【ルース】入力欄!M105)","v":""}]
[]
[null,{"$f":"CONCATENATE(\"出品表　（　\",【ルース】入力欄!I$3,\"　大吉オークション　ルース）\")","v":"出品表　（　　大吉オークション　ルース）"}]
[]
[null,"箱番：",{"$f":"IF(【ルース】入力欄!C106=\"\",\"\",【ルース】入力欄!C106)","v":""},null,null,"※太枠の中をご記入ください",null,"会社名",{"$f":"IF(【ルース】入力欄!C$3=\"\",\"\",【ルース】入力欄!C$3)","v":""}]
[]
["番号","ｃｔ","カラー","クラリティ","カット","蛍光性","備考","付属品","指値\n（2万円以上）","発句"]
["１",{"$f":"IF(【ルース】入力欄!E106=\"\",\"\",【ルース】入力欄!E106)","v":""},{"$f":"IF(【ルース】入力欄!F106=\"\",\"\",【ルース】入力欄!F106)","v":""},{"$f":"IF(【ルース】入力欄!G106=\"\",\"\",【ルース】入力欄!G106)","v":""},{"$f":"IF(【ルース】入力欄!H106=\"\",\"\",【ルース】入力欄!H106)","v":""},{"$f":"IF(【ルース】入力欄!I106=\"\",\"\",【ルース】入力欄!I106)","v":""},{"$f":"IF(【ルース】入力欄!K106=\"\",\"\",【ルース】入力欄!K106)","v":""},{"$f":"IF(【ルース】入力欄!J106=\"\",\"\",【ルース】入力欄!J106)","v":""},{"$f":"IF(【ルース】入力欄!M106=\"\",\"\",【ルース】入力欄!M106)","v":""}]
["２",{"$f":"IF(【ルース】入力欄!E107=\"\",\"\",【ルース】入力欄!E107)","v":""},{"$f":"IF(【ルース】入力欄!F107=\"\",\"\",【ルース】入力欄!F107)","v":""},{"$f":"IF(【ルース】入力欄!G107=\"\",\"\",【ルース】入力欄!G107)","v":""},{"$f":"IF(【ルース】入力欄!H107=\"\",\"\",【ルース】入力欄!H107)","v":""},{"$f":"IF(【ルース】入力欄!I107=\"\",\"\",【ルース】入力欄!I107)","v":""},{"$f":"IF(【ルース】入力欄!K107=\"\",\"\",【ルース】入力欄!K107)","v":""},{"$f":"IF(【ルース】入力欄!J107=\"\",\"\",【ルース】入力欄!J107)","v":""},{"$f":"IF(【ルース】入力欄!M107=\"\",\"\",【ルース】入力欄!M107)","v":""}]
["３",{"$f":"IF(【ルース】入力欄!E108=\"\",\"\",【ルース】入力欄!E108)","v":""},{"$f":"IF(【ルース】入力欄!F108=\"\",\"\",【ルース】入力欄!F108)","v":""},{"$f":"IF(【ルース】入力欄!G108=\"\",\"\",【ルース】入力欄!G108)","v":""},{"$f":"IF(【ルース】入力欄!H108=\"\",\"\",【ルース】入力欄!H108)","v":""},{"$f":"IF(【ルース】入力欄!I108=\"\",\"\",【ルース】入力欄!I108)","v":""},{"$f":"IF(【ルース】入力欄!K108=\"\",\"\",【ルース】入力欄!K108)","v":""},{"$f":"IF(【ルース】入力欄!J108=\"\",\"\",【ルース】入力欄!J108)","v":""},{"$f":"IF(【ルース】入力欄!M108=\"\",\"\",【ルース】入力欄!M108)","v":""}]
["４",{"$f":"IF(【ルース】入力欄!E109=\"\",\"\",【ルース】入力欄!E109)","v":""},{"$f":"IF(【ルース】入力欄!F109=\"\",\"\",【ルース】入力欄!F109)","v":""},{"$f":"IF(【ルース】入力欄!G109=\"\",\"\",【ルース】入力欄!G109)","v":""},{"$f":"IF(【ルース】入力欄!H109=\"\",\"\",【ルース】入力欄!H109)","v":""},{"$f":"IF(【ルース】入力欄!I109=\"\",\"\",【ルース】入力欄!I109)","v":""},{"$f":"IF(【ルース】入力欄!K109=\"\",\"\",【ルース】入力欄!K109)","v":""},{"$f":"IF(【ルース】入力欄!J109=\"\",\"\",【ルース】入力欄!J109)","v":""},{"$f":"IF(【ルース】入力欄!M109=\"\",\"\",【ルース】入力欄!M109)","v":""}]
["５",{"$f":"IF(【ルース】入力欄!E110=\"\",\"\",【ルース】入力欄!E110)","v":""},{"$f":"IF(【ルース】入力欄!F110=\"\",\"\",【ルース】入力欄!F110)","v":""},{"$f":"IF(【ルース】入力欄!G110=\"\",\"\",【ルース】入力欄!G110)","v":""},{"$f":"IF(【ルース】入力欄!H110=\"\",\"\",【ルース】入力欄!H110)","v":""},{"$f":"IF(【ルース】入力欄!I110=\"\",\"\",【ルース】入力欄!I110)","v":""},{"$f":"IF(【ルース】入力欄!K110=\"\",\"\",【ルース】入力欄!K110)","v":""},{"$f":"IF(【ルース】入力欄!J110=\"\",\"\",【ルース】入力欄!J110)","v":""},{"$f":"IF(【ルース】入力欄!M110=\"\",\"\",【ルース】入力欄!M110)","v":""}]
["６",{"$f":"IF(【ルース】入力欄!E111=\"\",\"\",【ルース】入力欄!E111)","v":""},{"$f":"IF(【ルース】入力欄!F111=\"\",\"\",【ルース】入力欄!F111)","v":""},{"$f":"IF(【ルース】入力欄!G111=\"\",\"\",【ルース】入力欄!G111)","v":""},{"$f":"IF(【ルース】入力欄!H111=\"\",\"\",【ルース】入力欄!H111)","v":""},{"$f":"IF(【ルース】入力欄!I111=\"\",\"\",【ルース】入力欄!I111)","v":""},{"$f":"IF(【ルース】入力欄!K111=\"\",\"\",【ルース】入力欄!K111)","v":""},{"$f":"IF(【ルース】入力欄!J111=\"\",\"\",【ルース】入力欄!J111)","v":""},{"$f":"IF(【ルース】入力欄!M111=\"\",\"\",【ルース】入力欄!M111)","v":""}]
["７",{"$f":"IF(【ルース】入力欄!E112=\"\",\"\",【ルース】入力欄!E112)","v":""},{"$f":"IF(【ルース】入力欄!F112=\"\",\"\",【ルース】入力欄!F112)","v":""},{"$f":"IF(【ルース】入力欄!G112=\"\",\"\",【ルース】入力欄!G112)","v":""},{"$f":"IF(【ルース】入力欄!H112=\"\",\"\",【ルース】入力欄!H112)","v":""},{"$f":"IF(【ルース】入力欄!I112=\"\",\"\",【ルース】入力欄!I112)","v":""},{"$f":"IF(【ルース】入力欄!K112=\"\",\"\",【ルース】入力欄!K112)","v":""},{"$f":"IF(【ルース】入力欄!J112=\"\",\"\",【ルース】入力欄!J112)","v":""},{"$f":"IF(【ルース】入力欄!M112=\"\",\"\",【ルース】入力欄!M112)","v":""}]
["８",{"$f":"IF(【ルース】入力欄!E113=\"\",\"\",【ルース】入力欄!E113)","v":""},{"$f":"IF(【ルース】入力欄!F113=\"\",\"\",【ルース】入力欄!F113)","v":""},{"$f":"IF(【ルース】入力欄!G113=\"\",\"\",【ルース】入力欄!G113)","v":""},{"$f":"IF(【ルース】入力欄!H113=\"\",\"\",【ルース】入力欄!H113)","v":""},{"$f":"IF(【ルース】入力欄!I113=\"\",\"\",【ルース】入力欄!I113)","v":""},{"$f":"IF(【ルース】入力欄!K113=\"\",\"\",【ルース】入力欄!K113)","v":""},{"$f":"IF(【ルース】入力欄!J113=\"\",\"\",【ルース】入力欄!J113)","v":""},{"$f":"IF(【ルース】入力欄!M113=\"\",\"\",【ルース】入力欄!M113)","v":""}]
["９",{"$f":"IF(【ルース】入力欄!E114=\"\",\"\",【ルース】入力欄!E114)","v":""},{"$f":"IF(【ルース】入力欄!F114=\"\",\"\",【ルース】入力欄!F114)","v":""},{"$f":"IF(【ルース】入力欄!G114=\"\",\"\",【ルース】入力欄!G114)","v":""},{"$f":"IF(【ルース】入力欄!H114=\"\",\"\",【ルース】入力欄!H114)","v":""},{"$f":"IF(【ルース】入力欄!I114=\"\",\"\",【ルース】入力欄!I114)","v":""},{"$f":"IF(【ルース】入力欄!K114=\"\",\"\",【ルース】入力欄!K114)","v":""},{"$f":"IF(【ルース】入力欄!J114=\"\",\"\",【ルース】入力欄!J114)","v":""},{"$f":"IF(【ルース】入力欄!M114=\"\",\"\",【ルース】入力欄!M114)","v":""}]
["１０",{"$f":"IF(【ルース】入力欄!E115=\"\",\"\",【ルース】入力欄!E115)","v":""},{"$f":"IF(【ルース】入力欄!F115=\"\",\"\",【ルース】入力欄!F115)","v":""},{"$f":"IF(【ルース】入力欄!G115=\"\",\"\",【ルース】入力欄!G115)","v":""},{"$f":"IF(【ルース】入力欄!H115=\"\",\"\",【ルース】入力欄!H115)","v":""},{"$f":"IF(【ルース】入力欄!I115=\"\",\"\",【ルース】入力欄!I115)","v":""},{"$f":"IF(【ルース】入力欄!K115=\"\",\"\",【ルース】入力欄!K115)","v":""},{"$f":"IF(【ルース】入力欄!J115=\"\",\"\",【ルース】入力欄!J115)","v":""},{"$f":"IF(【ルース】入力欄!M115=\"\",\"\",【ルース】入力欄!M115)","v":""}]
[]
[null,{"$f":"CONCATENATE(\"出品表　（　\",【ルース】入力欄!I$3,\"　大吉オークション　ルース）\")","v":"出品表　（　　大吉オークション　ルース）"}]
[]
[null,"箱番：",{"$f":"IF(【ルース】入力欄!C116=\"\",\"\",【ルース】入力欄!C116)","v":""},null,null,"※太枠の中をご記入ください",null,"会社名",{"$f":"IF(【ルース】入力欄!C$3=\"\",\"\",【ルース】入力欄!C$3)","v":""}]
[]
["番号","ｃｔ","カラー","クラリティ","カット","蛍光性","備考","付属品","指値\n（2万円以上）","発句"]
["１",{"$f":"IF(【ルース】入力欄!E116=\"\",\"\",【ルース】入力欄!E116)","v":""},{"$f":"IF(【ルース】入力欄!F116=\"\",\"\",【ルース】入力欄!F116)","v":""},{"$f":"IF(【ルース】入力欄!G116=\"\",\"\",【ルース】入力欄!G116)","v":""},{"$f":"IF(【ルース】入力欄!H116=\"\",\"\",【ルース】入力欄!H116)","v":""},{"$f":"IF(【ルース】入力欄!I116=\"\",\"\",【ルース】入力欄!I116)","v":""},{"$f":"IF(【ルース】入力欄!K116=\"\",\"\",【ルース】入力欄!K116)","v":""},{"$f":"IF(【ルース】入力欄!J116=\"\",\"\",【ルース】入力欄!J116)","v":""},{"$f":"IF(【ルース】入力欄!M116=\"\",\"\",【ルース】入力欄!M116)","v":""}]
["２",{"$f":"IF(【ルース】入力欄!E117=\"\",\"\",【ルース】入力欄!E117)","v":""},{"$f":"IF(【ルース】入力欄!F117=\"\",\"\",【ルース】入力欄!F117)","v":""},{"$f":"IF(【ルース】入力欄!G117=\"\",\"\",【ルース】入力欄!G117)","v":""},{"$f":"IF(【ルース】入力欄!H117=\"\",\"\",【ルース】入力欄!H117)","v":""},{"$f":"IF(【ルース】入力欄!I117=\"\",\"\",【ルース】入力欄!I117)","v":""},{"$f":"IF(【ルース】入力欄!K117=\"\",\"\",【ルース】入力欄!K117)","v":""},{"$f":"IF(【ルース】入力欄!J117=\"\",\"\",【ルース】入力欄!J117)","v":""},{"$f":"IF(【ルース】入力欄!M117=\"\",\"\",【ルース】入力欄!M117)","v":""}]
["３",{"$f":"IF(【ルース】入力欄!E118=\"\",\"\",【ルース】入力欄!E118)","v":""},{"$f":"IF(【ルース】入力欄!F118=\"\",\"\",【ルース】入力欄!F118)","v":""},{"$f":"IF(【ルース】入力欄!G118=\"\",\"\",【ルース】入力欄!G118)","v":""},{"$f":"IF(【ルース】入力欄!H118=\"\",\"\",【ルース】入力欄!H118)","v":""},{"$f":"IF(【ルース】入力欄!I118=\"\",\"\",【ルース】入力欄!I118)","v":""},{"$f":"IF(【ルース】入力欄!K118=\"\",\"\",【ルース】入力欄!K118)","v":""},{"$f":"IF(【ルース】入力欄!J118=\"\",\"\",【ルース】入力欄!J118)","v":""},{"$f":"IF(【ルース】入力欄!M118=\"\",\"\",【ルース】入力欄!M118)","v":""}]
["４",{"$f":"IF(【ルース】入力欄!E119=\"\",\"\",【ルース】入力欄!E119)","v":""},{"$f":"IF(【ルース】入力欄!F119=\"\",\"\",【ルース】入力欄!F119)","v":""},{"$f":"IF(【ルース】入力欄!G119=\"\",\"\",【ルース】入力欄!G119)","v":""},{"$f":"IF(【ルース】入力欄!H119=\"\",\"\",【ルース】入力欄!H119)","v":""},{"$f":"IF(【ルース】入力欄!I119=\"\",\"\",【ルース】入力欄!I119)","v":""},{"$f":"IF(【ルース】入力欄!K119=\"\",\"\",【ルース】入力欄!K119)","v":""},{"$f":"IF(【ルース】入力欄!J119=\"\",\"\",【ルース】入力欄!J119)","v":""},{"$f":"IF(【ルース】入力欄!M119=\"\",\"\",【ルース】入力欄!M119)","v":""}]
["５",{"$f":"IF(【ルース】入力欄!E120=\"\",\"\",【ルース】入力欄!E120)","v":""},{"$f":"IF(【ルース】入力欄!F120=\"\",\"\",【ルース】入力欄!F120)","v":""},{"$f":"IF(【ルース】入力欄!G120=\"\",\"\",【ルース】入力欄!G120)","v":""},{"$f":"IF(【ルース】入力欄!H120=\"\",\"\",【ルース】入力欄!H120)","v":""},{"$f":"IF(【ルース】入力欄!I120=\"\",\"\",【ルース】入力欄!I120)","v":""},{"$f":"IF(【ルース】入力欄!K120=\"\",\"\",【ルース】入力欄!K120)","v":""},{"$f":"IF(【ルース】入力欄!J120=\"\",\"\",【ルース】入力欄!J120)","v":""},{"$f":"IF(【ルース】入力欄!M120=\"\",\"\",【ルース】入力欄!M120)","v":""}]
["６",{"$f":"IF(【ルース】入力欄!E121=\"\",\"\",【ルース】入力欄!E121)","v":""},{"$f":"IF(【ルース】入力欄!F121=\"\",\"\",【ルース】入力欄!F121)","v":""},{"$f":"IF(【ルース】入力欄!G121=\"\",\"\",【ルース】入力欄!G121)","v":""},{"$f":"IF(【ルース】入力欄!H121=\"\",\"\",【ルース】入力欄!H121)","v":""},{"$f":"IF(【ルース】入力欄!I121=\"\",\"\",【ルース】入力欄!I121)","v":""},{"$f":"IF(【ルース】入力欄!K121=\"\",\"\",【ルース】入力欄!K121)","v":""},{"$f":"IF(【ルース】入力欄!J121=\"\",\"\",【ルース】入力欄!J121)","v":""},{"$f":"IF(【ルース】入力欄!M121=\"\",\"\",【ルース】入力欄!M121)","v":""}]
["７",{"$f":"IF(【ルース】入力欄!E122=\"\",\"\",【ルース】入力欄!E122)","v":""},{"$f":"IF(【ルース】入力欄!F122=\"\",\"\",【ルース】入力欄!F122)","v":""},{"$f":"IF(【ルース】入力欄!G122=\"\",\"\",【ルース】入力欄!G122)","v":""},{"$f":"IF(【ルース】入力欄!H122=\"\",\"\",【ルース】入力欄!H122)","v":""},{"$f":"IF(【ルース】入力欄!I122=\"\",\"\",【ルース】入力欄!I122)","v":""},{"$f":"IF(【ルース】入力欄!K122=\"\",\"\",【ルース】入力欄!K122)","v":""},{"$f":"IF(【ルース】入力欄!J122=\"\",\"\",【ルース】入力欄!J122)","v":""},{"$f":"IF(【ルース】入力欄!M122=\"\",\"\",【ルース】入力欄!M122)","v":""}]
["８",{"$f":"IF(【ルース】入力欄!E123=\"\",\"\",【ルース】入力欄!E123)","v":""},{"$f":"IF(【ルース】入力欄!F123=\"\",\"\",【ルース】入力欄!F123)","v":""},{"$f":"IF(【ルース】入力欄!G123=\"\",\"\",【ルース】入力欄!G123)","v":""},{"$f":"IF(【ルース】入力欄!H123=\"\",\"\",【ルース】入力欄!H123)","v":""},{"$f":"IF(【ルース】入力欄!I123=\"\",\"\",【ルース】入力欄!I123)","v":""},{"$f":"IF(【ルース】入力欄!K123=\"\",\"\",【ルース】入力欄!K123)","v":""},{"$f":"IF(【ルース】入力欄!J123=\"\",\"\",【ルース】入力欄!J123)","v":""},{"$f":"IF(【ルース】入力欄!M123=\"\",\"\",【ルース】入力欄!M123)","v":""}]
["９",{"$f":"IF(【ルース】入力欄!E124=\"\",\"\",【ルース】入力欄!E124)","v":""},{"$f":"IF(【ルース】入力欄!F124=\"\",\"\",【ルース】入力欄!F124)","v":""},{"$f":"IF(【ルース】入力欄!G124=\"\",\"\",【ルース】入力欄!G124)","v":""},{"$f":"IF(【ルース】入力欄!H124=\"\",\"\",【ルース】入力欄!H124)","v":""},{"$f":"IF(【ルース】入力欄!I124=\"\",\"\",【ルース】入力欄!I124)","v":""},{"$f":"IF(【ルース】入力欄!K124=\"\",\"\",【ルース】入力欄!K124)","v":""},{"$f":"IF(【ルース】入力欄!J124=\"\",\"\",【ルース】入力欄!J124)","v":""},{"$f":"IF(【ルース】入力欄!M124=\"\",\"\",【ルース】入力欄!M124)","v":""}]
["１０",{"$f":"IF(【ルース】入力欄!E125=\"\",\"\",【ルース】入力欄!E125)","v":""},{"$f":"IF(【ルース】入力欄!F125=\"\",\"\",【ルース】入力欄!F125)","v":""},{"$f":"IF(【ルース】入力欄!G125=\"\",\"\",【ルース】入力欄!G125)","v":""},{"$f":"IF(【ルース】入力欄!H125=\"\",\"\",【ルース】入力欄!H125)","v":""},{"$f":"IF(【ルース】入力欄!I125=\"\",\"\",【ルース】入力欄!I125)","v":""},{"$f":"IF(【ルース】入力欄!K125=\"\",\"\",【ルース】入力欄!K125)","v":""},{"$f":"IF(【ルース】入力欄!J125=\"\",\"\",【ルース】入力欄!J125)","v":""},{"$f":"IF(【ルース】入力欄!M125=\"\",\"\",【ルース】入力欄!M125)","v":""}]
[]
[null,{"$f":"CONCATENATE(\"出品表　（　\",【ルース】入力欄!I$3,\"　大吉オークション　ルース）\")","v":"出品表　（　　大吉オークション　ルース）"}]
[]
[null,"箱番：",{"$f":"IF(【ルース】入力欄!C126=\"\",\"\",【ルース】入力欄!C126)","v":""},null,null,"※太枠の中をご記入ください",null,"会社名",{"$f":"IF(【ルース】入力欄!C$3=\"\",\"\",【ルース】入力欄!C$3)","v":""}]
[]
["番号","ｃｔ","カラー","クラリティ","カット","蛍光性","備考","付属品","指値\n（2万円以上）","発句"]
["１",{"$f":"IF(【ルース】入力欄!E126=\"\",\"\",【ルース】入力欄!E126)","v":""},{"$f":"IF(【ルース】入力欄!F126=\"\",\"\",【ルース】入力欄!F126)","v":""},{"$f":"IF(【ルース】入力欄!G126=\"\",\"\",【ルース】入力欄!G126)","v":""},{"$f":"IF(【ルース】入力欄!H126=\"\",\"\",【ルース】入力欄!H126)","v":""},{"$f":"IF(【ルース】入力欄!I126=\"\",\"\",【ルース】入力欄!I126)","v":""},{"$f":"IF(【ルース】入力欄!K126=\"\",\"\",【ルース】入力欄!K126)","v":""},{"$f":"IF(【ルース】入力欄!J126=\"\",\"\",【ルース】入力欄!J126)","v":""},{"$f":"IF(【ルース】入力欄!M126=\"\",\"\",【ルース】入力欄!M126)","v":""}]
["２",{"$f":"IF(【ルース】入力欄!E127=\"\",\"\",【ルース】入力欄!E127)","v":""},{"$f":"IF(【ルース】入力欄!F127=\"\",\"\",【ルース】入力欄!F127)","v":""},{"$f":"IF(【ルース】入力欄!G127=\"\",\"\",【ルース】入力欄!G127)","v":""},{"$f":"IF(【ルース】入力欄!H127=\"\",\"\",【ルース】入力欄!H127)","v":""},{"$f":"IF(【ルース】入力欄!I127=\"\",\"\",【ルース】入力欄!I127)","v":""},{"$f":"IF(【ルース】入力欄!K127=\"\",\"\",【ルース】入力欄!K127)","v":""},{"$f":"IF(【ルース】入力欄!J127=\"\",\"\",【ルース】入力欄!J127)","v":""},{"$f":"IF(【ルース】入力欄!M127=\"\",\"\",【ルース】入力欄!M127)","v":""}]
["３",{"$f":"IF(【ルース】入力欄!E128=\"\",\"\",【ルース】入力欄!E128)","v":""},{"$f":"IF(【ルース】入力欄!F128=\"\",\"\",【ルース】入力欄!F128)","v":""},{"$f":"IF(【ルース】入力欄!G128=\"\",\"\",【ルース】入力欄!G128)","v":""},{"$f":"IF(【ルース】入力欄!H128=\"\",\"\",【ルース】入力欄!H128)","v":""},{"$f":"IF(【ルース】入力欄!I128=\"\",\"\",【ルース】入力欄!I128)","v":""},{"$f":"IF(【ルース】入力欄!K128=\"\",\"\",【ルース】入力欄!K128)","v":""},{"$f":"IF(【ルース】入力欄!J128=\"\",\"\",【ルース】入力欄!J128)","v":""},{"$f":"IF(【ルース】入力欄!M128=\"\",\"\",【ルース】入力欄!M128)","v":""}]
["４",{"$f":"IF(【ルース】入力欄!E129=\"\",\"\",【ルース】入力欄!E129)","v":""},{"$f":"IF(【ルース】入力欄!F129=\"\",\"\",【ルース】入力欄!F129)","v":""},{"$f":"IF(【ルース】入力欄!G129=\"\",\"\",【ルース】入力欄!G129)","v":""},{"$f":"IF(【ルース】入力欄!H129=\"\",\"\",【ルース】入力欄!H129)","v":""},{"$f":"IF(【ルース】入力欄!I129=\"\",\"\",【ルース】入力欄!I129)","v":""},{"$f":"IF(【ルース】入力欄!K129=\"\",\"\",【ルース】入力欄!K129)","v":""},{"$f":"IF(【ルース】入力欄!J129=\"\",\"\",【ルース】入力欄!J129)","v":""},{"$f":"IF(【ルース】入力欄!M129=\"\",\"\",【ルース】入力欄!M129)","v":""}]
["５",{"$f":"IF(【ルース】入力欄!E130=\"\",\"\",【ルース】入力欄!E130)","v":""},{"$f":"IF(【ルース】入力欄!F130=\"\",\"\",【ルース】入力欄!F130)","v":""},{"$f":"IF(【ルース】入力欄!G130=\"\",\"\",【ルース】入力欄!G130)","v":""},{"$f":"IF(【ルース】入力欄!H130=\"\",\"\",【ルース】入力欄!H130)","v":""},{"$f":"IF(【ルース】入力欄!I130=\"\",\"\",【ルース】入力欄!I130)","v":""},{"$f":"IF(【ルース】入力欄!K130=\"\",\"\",【ルース】入力欄!K130)","v":""},{"$f":"IF(【ルース】入力欄!J130=\"\",\"\",【ルース】入力欄!J130)","v":""},{"$f":"IF(【ルース】入力欄!M130=\"\",\"\",【ルース】入力欄!M130)","v":""}]
["６",{"$f":"IF(【ルース】入力欄!E131=\"\",\"\",【ルース】入力欄!E131)","v":""},{"$f":"IF(【ルース】入力欄!F131=\"\",\"\",【ルース】入力欄!F131)","v":""},{"$f":"IF(【ルース】入力欄!G131=\"\",\"\",【ルース】入力欄!G131)","v":""},{"$f":"IF(【ルース】入力欄!H131=\"\",\"\",【ルース】入力欄!H131)","v":""},{"$f":"IF(【ルース】入力欄!I131=\"\",\"\",【ルース】入力欄!I131)","v":""},{"$f":"IF(【ルース】入力欄!K131=\"\",\"\",【ルース】入力欄!K131)","v":""},{"$f":"IF(【ルース】入力欄!J131=\"\",\"\",【ルース】入力欄!J131)","v":""},{"$f":"IF(【ルース】入力欄!M131=\"\",\"\",【ルース】入力欄!M131)","v":""}]
["７",{"$f":"IF(【ルース】入力欄!E132=\"\",\"\",【ルース】入力欄!E132)","v":""},{"$f":"IF(【ルース】入力欄!F132=\"\",\"\",【ルース】入力欄!F132)","v":""},{"$f":"IF(【ルース】入力欄!G132=\"\",\"\",【ルース】入力欄!G132)","v":""},{"$f":"IF(【ルース】入力欄!H132=\"\",\"\",【ルース】入力欄!H132)","v":""},{"$f":"IF(【ルース】入力欄!I132=\"\",\"\",【ルース】入力欄!I132)","v":""},{"$f":"IF(【ルース】入力欄!K132=\"\",\"\",【ルース】入力欄!K132)","v":""},{"$f":"IF(【ルース】入力欄!J132=\"\",\"\",【ルース】入力欄!J132)","v":""},{"$f":"IF(【ルース】入力欄!M132=\"\",\"\",【ルース】入力欄!M132)","v":""}]
["８",{"$f":"IF(【ルース】入力欄!E133=\"\",\"\",【ルース】入力欄!E133)","v":""},{"$f":"IF(【ルース】入力欄!F133=\"\",\"\",【ルース】入力欄!F133)","v":""},{"$f":"IF(【ルース】入力欄!G133=\"\",\"\",【ルース】入力欄!G133)","v":""},{"$f":"IF(【ルース】入力欄!H133=\"\",\"\",【ルース】入力欄!H133)","v":""},{"$f":"IF(【ルース】入力欄!I133=\"\",\"\",【ルース】入力欄!I133)","v":""},{"$f":"IF(【ルース】入力欄!K133=\"\",\"\",【ルース】入力欄!K133)","v":""},{"$f":"IF(【ルース】入力欄!J133=\"\",\"\",【ルース】入力欄!J133)","v":""},{"$f":"IF(【ルース】入力欄!M133=\"\",\"\",【ルース】入力欄!M133)","v":""}]
["９",{"$f":"IF(【ルース】入力欄!E134=\"\",\"\",【ルース】入力欄!E134)","v":""},{"$f":"IF(【ルース】入力欄!F134=\"\",\"\",【ルース】入力欄!F134)","v":""},{"$f":"IF(【ルース】入力欄!G134=\"\",\"\",【ルース】入力欄!G134)","v":""},{"$f":"IF(【ルース】入力欄!H134=\"\",\"\",【ルース】入力欄!H134)","v":""},{"$f":"IF(【ルース】入力欄!I134=\"\",\"\",【ルース】入力欄!I134)","v":""},{"$f":"IF(【ルース】入力欄!K134=\"\",\"\",【ルース】入力欄!K134)","v":""},{"$f":"IF(【ルース】入力欄!J134=\"\",\"\",【ルース】入力欄!J134)","v":""},{"$f":"IF(【ルース】入力欄!M134=\"\",\"\",【ルース】入力欄!M134)","v":""}]
["１０",{"$f":"IF(【ルース】入力欄!E135=\"\",\"\",【ルース】入力欄!E135)","v":""},{"$f":"IF(【ルース】入力欄!F135=\"\",\"\",【ルース】入力欄!F135)","v":""},{"$f":"IF(【ルース】入力欄!G135=\"\",\"\",【ルース】入力欄!G135)","v":""},{"$f":"IF(【ルース】入力欄!H135=\"\",\"\",【ルース】入力欄!H135)","v":""},{"$f":"IF(【ルース】入力欄!I135=\"\",\"\",【ルース】入力欄!I135)","v":""},{"$f":"IF(【ルース】入力欄!K135=\"\",\"\",【ルース】入力欄!K135)","v":""},{"$f":"IF(【ルース】入力欄!J135=\"\",\"\",【ルース】入力欄!J135)","v":""},{"$f":"IF(【ルース】入力欄!M135=\"\",\"\",【ルース】入力欄!M135)","v":""}]
[]
[null,{"$f":"CONCATENATE(\"出品表　（　\",【ルース】入力欄!I$3,\"　大吉オークション　ルース）\")","v":"出品表　（　　大吉オークション　ルース）"}]
[]
[null,"箱番：",{"$f":"IF(【ルース】入力欄!C136=\"\",\"\",【ルース】入力欄!C136)","v":""},null,null,"※太枠の中をご記入ください",null,"会社名",{"$f":"IF(【ルース】入力欄!C$3=\"\",\"\",【ルース】入力欄!C$3)","v":""}]
[]
["番号","ｃｔ","カラー","クラリティ","カット","蛍光性","備考","付属品","指値\n（2万円以上）","発句"]
["１",{"$f":"IF(【ルース】入力欄!E136=\"\",\"\",【ルース】入力欄!E136)","v":""},{"$f":"IF(【ルース】入力欄!F136=\"\",\"\",【ルース】入力欄!F136)","v":""},{"$f":"IF(【ルース】入力欄!G136=\"\",\"\",【ルース】入力欄!G136)","v":""},{"$f":"IF(【ルース】入力欄!H136=\"\",\"\",【ルース】入力欄!H136)","v":""},{"$f":"IF(【ルース】入力欄!I136=\"\",\"\",【ルース】入力欄!I136)","v":""},{"$f":"IF(【ルース】入力欄!K136=\"\",\"\",【ルース】入力欄!K136)","v":""},{"$f":"IF(【ルース】入力欄!J136=\"\",\"\",【ルース】入力欄!J136)","v":""},{"$f":"IF(【ルース】入力欄!M136=\"\",\"\",【ルース】入力欄!M136)","v":""}]
["２",{"$f":"IF(【ルース】入力欄!E137=\"\",\"\",【ルース】入力欄!E137)","v":""},{"$f":"IF(【ルース】入力欄!F137=\"\",\"\",【ルース】入力欄!F137)","v":""},{"$f":"IF(【ルース】入力欄!G137=\"\",\"\",【ルース】入力欄!G137)","v":""},{"$f":"IF(【ルース】入力欄!H137=\"\",\"\",【ルース】入力欄!H137)","v":""},{"$f":"IF(【ルース】入力欄!I137=\"\",\"\",【ルース】入力欄!I137)","v":""},{"$f":"IF(【ルース】入力欄!K137=\"\",\"\",【ルース】入力欄!K137)","v":""},{"$f":"IF(【ルース】入力欄!J137=\"\",\"\",【ルース】入力欄!J137)","v":""},{"$f":"IF(【ルース】入力欄!M137=\"\",\"\",【ルース】入力欄!M137)","v":""}]
["３",{"$f":"IF(【ルース】入力欄!E138=\"\",\"\",【ルース】入力欄!E138)","v":""},{"$f":"IF(【ルース】入力欄!F138=\"\",\"\",【ルース】入力欄!F138)","v":""},{"$f":"IF(【ルース】入力欄!G138=\"\",\"\",【ルース】入力欄!G138)","v":""},{"$f":"IF(【ルース】入力欄!H138=\"\",\"\",【ルース】入力欄!H138)","v":""},{"$f":"IF(【ルース】入力欄!I138=\"\",\"\",【ルース】入力欄!I138)","v":""},{"$f":"IF(【ルース】入力欄!K138=\"\",\"\",【ルース】入力欄!K138)","v":""},{"$f":"IF(【ルース】入力欄!J138=\"\",\"\",【ルース】入力欄!J138)","v":""},{"$f":"IF(【ルース】入力欄!M138=\"\",\"\",【ルース】入力欄!M138)","v":""}]
["４",{"$f":"IF(【ルース】入力欄!E139=\"\",\"\",【ルース】入力欄!E139)","v":""},{"$f":"IF(【ルース】入力欄!F139=\"\",\"\",【ルース】入力欄!F139)","v":""},{"$f":"IF(【ルース】入力欄!G139=\"\",\"\",【ルース】入力欄!G139)","v":""},{"$f":"IF(【ルース】入力欄!H139=\"\",\"\",【ルース】入力欄!H139)","v":""},{"$f":"IF(【ルース】入力欄!I139=\"\",\"\",【ルース】入力欄!I139)","v":""},{"$f":"IF(【ルース】入力欄!K139=\"\",\"\",【ルース】入力欄!K139)","v":""},{"$f":"IF(【ルース】入力欄!J139=\"\",\"\",【ルース】入力欄!J139)","v":""},{"$f":"IF(【ルース】入力欄!M139=\"\",\"\",【ルース】入力欄!M139)","v":""}]
["５",{"$f":"IF(【ルース】入力欄!E140=\"\",\"\",【ルース】入力欄!E140)","v":""},{"$f":"IF(【ルース】入力欄!F140=\"\",\"\",【ルース】入力欄!F140)","v":""},{"$f":"IF(【ルース】入力欄!G140=\"\",\"\",【ルース】入力欄!G140)","v":""},{"$f":"IF(【ルース】入力欄!H140=\"\",\"\",【ルース】入力欄!H140)","v":""},{"$f":"IF(【ルース】入力欄!I140=\"\",\"\",【ルース】入力欄!I140)","v":""},{"$f":"IF(【ルース】入力欄!K140=\"\",\"\",【ルース】入力欄!K140)","v":""},{"$f":"IF(【ルース】入力欄!J140=\"\",\"\",【ルース】入力欄!J140)","v":""},{"$f":"IF(【ルース】入力欄!M140=\"\",\"\",【ルース】入力欄!M140)","v":""}]
["６",{"$f":"IF(【ルース】入力欄!E141=\"\",\"\",【ルース】入力欄!E141)","v":""},{"$f":"IF(【ルース】入力欄!F141=\"\",\"\",【ルース】入力欄!F141)","v":""},{"$f":"IF(【ルース】入力欄!G141=\"\",\"\",【ルース】入力欄!G141)","v":""},{"$f":"IF(【ルース】入力欄!H141=\"\",\"\",【ルース】入力欄!H141)","v":""},{"$f":"IF(【ルース】入力欄!I141=\"\",\"\",【ルース】入力欄!I141)","v":""},{"$f":"IF(【ルース】入力欄!K141=\"\",\"\",【ルース】入力欄!K141)","v":""},{"$f":"IF(【ルース】入力欄!J141=\"\",\"\",【ルース】入力欄!J141)","v":""},{"$f":"IF(【ルース】入力欄!M141=\"\",\"\",【ルース】入力欄!M141)","v":""}]
["７",{"$f":"IF(【ルース】入力欄!E142=\"\",\"\",【ルース】入力欄!E142)","v":""},{"$f":"IF(【ルース】入力欄!F142=\"\",\"\",【ルース】入力欄!F142)","v":""},{"$f":"IF(【ルース】入力欄!G142=\"\",\"\",【ルース】入力欄!G142)","v":""},{"$f":"IF(【ルース】入力欄!H142=\"\",\"\",【ルース】入力欄!H142)","v":""},{"$f":"IF(【ルース】入力欄!I142=\"\",\"\",【ルース】入力欄!I142)","v":""},{"$f":"IF(【ルース】入力欄!K142=\"\",\"\",【ルース】入力欄!K142)","v":""},{"$f":"IF(【ルース】入力欄!J142=\"\",\"\",【ルース】入力欄!J142)","v":""},{"$f":"IF(【ルース】入力欄!M142=\"\",\"\",【ルース】入力欄!M142)","v":""}]
["８",{"$f":"IF(【ルース】入力欄!E143=\"\",\"\",【ルース】入力欄!E143)","v":""},{"$f":"IF(【ルース】入力欄!F143=\"\",\"\",【ルース】入力欄!F143)","v":""},{"$f":"IF(【ルース】入力欄!G143=\"\",\"\",【ルース】入力欄!G143)","v":""},{"$f":"IF(【ルース】入力欄!H143=\"\",\"\",【ルース】入力欄!H143)","v":""},{"$f":"IF(【ルース】入力欄!I143=\"\",\"\",【ルース】入力欄!I143)","v":""},{"$f":"IF(【ルース】入力欄!K143=\"\",\"\",【ルース】入力欄!K143)","v":""},{"$f":"IF(【ルース】入力欄!J143=\"\",\"\",【ルース】入力欄!J143)","v":""},{"$f":"IF(【ルース】入力欄!M143=\"\",\"\",【ルース】入力欄!M143)","v":""}]
["９",{"$f":"IF(【ルース】入力欄!E144=\"\",\"\",【ルース】入力欄!E144)","v":""},{"$f":"IF(【ルース】入力欄!F144=\"\",\"\",【ルース】入力欄!F144)","v":""},{"$f":"IF(【ルース】入力欄!G144=\"\",\"\",【ルース】入力欄!G144)","v":""},{"$f":"IF(【ルース】入力欄!H144=\"\",\"\",【ルース】入力欄!H144)","v":""},{"$f":"IF(【ルース】入力欄!I144=\"\",\"\",【ルース】入力欄!I144)","v":""},{"$f":"IF(【ルース】入力欄!K144=\"\",\"\",【ルース】入力欄!K144)","v":""},{"$f":"IF(【ルース】入力欄!J144=\"\",\"\",【ルース】入力欄!J144)","v":""},{"$f":"IF(【ルース】入力欄!M144=\"\",\"\",【ルース】入力欄!M144)","v":""}]
["１０",{"$f":"IF(【ルース】入力欄!E145=\"\",\"\",【ルース】入力欄!E145)","v":""},{"$f":"IF(【ルース】入力欄!F145=\"\",\"\",【ルース】入力欄!F145)","v":""},{"$f":"IF(【ルース】入力欄!G145=\"\",\"\",【ルース】入力欄!G145)","v":""},{"$f":"IF(【ルース】入力欄!H145=\"\",\"\",【ルース】入力欄!H145)","v":""},{"$f":"IF(【ルース】入力欄!I145=\"\",\"\",【ルース】入力欄!I145)","v":""},{"$f":"IF(【ルース】入力欄!K145=\"\",\"\",【ルース】入力欄!K145)","v":""},{"$f":"IF(【ルース】入力欄!J145=\"\",\"\",【ルース】入力欄!J145)","v":""},{"$f":"IF(【ルース】入力欄!M145=\"\",\"\",【ルース】入力欄!M145)","v":""}]
[]
[null,{"$f":"CONCATENATE(\"出品表　（　\",【ルース】入力欄!I$3,\"　大吉オークション　ルース）\")","v":"出品表　（　　大吉オークション　ルース）"}]
[]
[null,"箱番：",{"$f":"IF(【ルース】入力欄!C146=\"\",\"\",【ルース】入力欄!C146)","v":""},null,null,"※太枠の中をご記入ください",null,"会社名",{"$f":"IF(【ルース】入力欄!C$3=\"\",\"\",【ルース】入力欄!C$3)","v":""}]
[]
["番号","ｃｔ","カラー","クラリティ","カット","蛍光性","備考","付属品","指値\n（2万円以上）","発句"]
["１",{"$f":"IF(【ルース】入力欄!E146=\"\",\"\",【ルース】入力欄!E146)","v":""},{"$f":"IF(【ルース】入力欄!F146=\"\",\"\",【ルース】入力欄!F146)","v":""},{"$f":"IF(【ルース】入力欄!G146=\"\",\"\",【ルース】入力欄!G146)","v":""},{"$f":"IF(【ルース】入力欄!H146=\"\",\"\",【ルース】入力欄!H146)","v":""},{"$f":"IF(【ルース】入力欄!I146=\"\",\"\",【ルース】入力欄!I146)","v":""},{"$f":"IF(【ルース】入力欄!K146=\"\",\"\",【ルース】入力欄!K146)","v":""},{"$f":"IF(【ルース】入力欄!J146=\"\",\"\",【ルース】入力欄!J146)","v":""},{"$f":"IF(【ルース】入力欄!M146=\"\",\"\",【ルース】入力欄!M146)","v":""}]
["２",{"$f":"IF(【ルース】入力欄!E147=\"\",\"\",【ルース】入力欄!E147)","v":""},{"$f":"IF(【ルース】入力欄!F147=\"\",\"\",【ルース】入力欄!F147)","v":""},{"$f":"IF(【ルース】入力欄!G147=\"\",\"\",【ルース】入力欄!G147)","v":""},{"$f":"IF(【ルース】入力欄!H147=\"\",\"\",【ルース】入力欄!H147)","v":""},{"$f":"IF(【ルース】入力欄!I147=\"\",\"\",【ルース】入力欄!I147)","v":""},{"$f":"IF(【ルース】入力欄!K147=\"\",\"\",【ルース】入力欄!K147)","v":""},{"$f":"IF(【ルース】入力欄!J147=\"\",\"\",【ルース】入力欄!J147)","v":""},{"$f":"IF(【ルース】入力欄!M147=\"\",\"\",【ルース】入力欄!M147)","v":""}]
["３",{"$f":"IF(【ルース】入力欄!E148=\"\",\"\",【ルース】入力欄!E148)","v":""},{"$f":"IF(【ルース】入力欄!F148=\"\",\"\",【ルース】入力欄!F148)","v":""},{"$f":"IF(【ルース】入力欄!G148=\"\",\"\",【ルース】入力欄!G148)","v":""},{"$f":"IF(【ルース】入力欄!H148=\"\",\"\",【ルース】入力欄!H148)","v":""},{"$f":"IF(【ルース】入力欄!I148=\"\",\"\",【ルース】入力欄!I148)","v":""},{"$f":"IF(【ルース】入力欄!K148=\"\",\"\",【ルース】入力欄!K148)","v":""},{"$f":"IF(【ルース】入力欄!J148=\"\",\"\",【ルース】入力欄!J148)","v":""},{"$f":"IF(【ルース】入力欄!M148=\"\",\"\",【ルース】入力欄!M148)","v":""}]
["４",{"$f":"IF(【ルース】入力欄!E149=\"\",\"\",【ルース】入力欄!E149)","v":""},{"$f":"IF(【ルース】入力欄!F149=\"\",\"\",【ルース】入力欄!F149)","v":""},{"$f":"IF(【ルース】入力欄!G149=\"\",\"\",【ルース】入力欄!G149)","v":""},{"$f":"IF(【ルース】入力欄!H149=\"\",\"\",【ルース】入力欄!H149)","v":""},{"$f":"IF(【ルース】入力欄!I149=\"\",\"\",【ルース】入力欄!I149)","v":""},{"$f":"IF(【ルース】入力欄!K149=\"\",\"\",【ルース】入力欄!K149)","v":""},{"$f":"IF(【ルース】入力欄!J149=\"\",\"\",【ルース】入力欄!J149)","v":""},{"$f":"IF(【ルース】入力欄!M149=\"\",\"\",【ルース】入力欄!M149)","v":""}]
["５",{"$f":"IF(【ルース】入力欄!E150=\"\",\"\",【ルース】入力欄!E150)","v":""},{"$f":"IF(【ルース】入力欄!F150=\"\",\"\",【ルース】入力欄!F150)","v":""},{"$f":"IF(【ルース】入力欄!G150=\"\",\"\",【ルース】入力欄!G150)","v":""},{"$f":"IF(【ルース】入力欄!H150=\"\",\"\",【ルース】入力欄!H150)","v":""},{"$f":"IF(【ルース】入力欄!I150=\"\",\"\",【ルース】入力欄!I150)","v":""},{"$f":"IF(【ルース】入力欄!K150=\"\",\"\",【ルース】入力欄!K150)","v":""},{"$f":"IF(【ルース】入力欄!J150=\"\",\"\",【ルース】入力欄!J150)","v":""},{"$f":"IF(【ルース】入力欄!M150=\"\",\"\",【ルース】入力欄!M150)","v":""}]
["６",{"$f":"IF(【ルース】入力欄!E151=\"\",\"\",【ルース】入力欄!E151)","v":""},{"$f":"IF(【ルース】入力欄!F151=\"\",\"\",【ルース】入力欄!F151)","v":""},{"$f":"IF(【ルース】入力欄!G151=\"\",\"\",【ルース】入力欄!G151)","v":""},{"$f":"IF(【ルース】入力欄!H151=\"\",\"\",【ルース】入力欄!H151)","v":""},{"$f":"IF(【ルース】入力欄!I151=\"\",\"\",【ルース】入力欄!I151)","v":""},{"$f":"IF(【ルース】入力欄!K151=\"\",\"\",【ルース】入力欄!K151)","v":""},{"$f":"IF(【ルース】入力欄!J151=\"\",\"\",【ルース】入力欄!J151)","v":""},{"$f":"IF(【ルース】入力欄!M151=\"\",\"\",【ルース】入力欄!M151)","v":""}]
["７",{"$f":"IF(【ルース】入力欄!E152=\"\",\"\",【ルース】入力欄!E152)","v":""},{"$f":"IF(【ルース】入力欄!F152=\"\",\"\",【ルース】入力欄!F152)","v":""},{"$f":"IF(【ルース】入力欄!G152=\"\",\"\",【ルース】入力欄!G152)","v":""},{"$f":"IF(【ルース】入力欄!H152=\"\",\"\",【ルース】入力欄!H152)","v":""},{"$f":"IF(【ルース】入力欄!I152=\"\",\"\",【ルース】入力欄!I152)","v":""},{"$f":"IF(【ルース】入力欄!K152=\"\",\"\",【ルース】入力欄!K152)","v":""},{"$f":"IF(【ルース】入力欄!J152=\"\",\"\",【ルース】入力欄!J152)","v":""},{"$f":"IF(【ルース】入力欄!M152=\"\",\"\",【ルース】入力欄!M152)","v":""}]
["８",{"$f":"IF(【ルース】入力欄!E153=\"\",\"\",【ルース】入力欄!E153)","v":""},{"$f":"IF(【ルース】入力欄!F153=\"\",\"\",【ルース】入力欄!F153)","v":""},{"$f":"IF(【ルース】入力欄!G153=\"\",\"\",【ルース】入力欄!G153)","v":""},{"$f":"IF(【ルース】入力欄!H153=\"\",\"\",【ルース】入力欄!H153)","v":""},{"$f":"IF(【ルース】入力欄!I153=\"\",\"\",【ルース】入力欄!I153)","v":""},{"$f":"IF(【ルース】入力欄!K153=\"\",\"\",【ルース】入力欄!K153)","v":""},{"$f":"IF(【ルース】入力欄!J153=\"\",\"\",【ルース】入力欄!J153)","v":""},{"$f":"IF(【ルース】入力欄!M153=\"\",\"\",【ルース】入力欄!M153)","v":""}]
["９",{"$f":"IF(【ルース】入力欄!E154=\"\",\"\",【ルース】入力欄!E154)","v":""},{"$f":"IF(【ルース】入力欄!F154=\"\",\"\",【ルース】入力欄!F154)","v":""},{"$f":"IF(【ルース】入力欄!G154=\"\",\"\",【ルース】入力欄!G154)","v":""},{"$f":"IF(【ルース】入力欄!H154=\"\",\"\",【ルース】入力欄!H154)","v":""},{"$f":"IF(【ルース】入力欄!I154=\"\",\"\",【ルース】入力欄!I154)","v":""},{"$f":"IF(【ルース】入力欄!K154=\"\",\"\",【ルース】入力欄!K154)","v":""},{"$f":"IF(【ルース】入力欄!J154=\"\",\"\",【ルース】入力欄!J154)","v":""},{"$f":"IF(【ルース】入力欄!M154=\"\",\"\",【ルース】入力欄!M154)","v":""}]
["１０",{"$f":"IF(【ルース】入力欄!E155=\"\",\"\",【ルース】入力欄!E155)","v":""},{"$f":"IF(【ルース】入力欄!F155=\"\",\"\",【ルース】入力欄!F155)","v":""},{"$f":"IF(【ルース】入力欄!G155=\"\",\"\",【ルース】入力欄!G155)","v":""},{"$f":"IF(【ルース】入力欄!H155=\"\",\"\",【ルース】入力欄!H155)","v":""},{"$f":"IF(【ルース】入力欄!I155=\"\",\"\",【ルース】入力欄!I155)","v":""},{"$f":"IF(【ルース】入力欄!K155=\"\",\"\",【ルース】入力欄!K155)","v":""},{"$f":"IF(【ルース】入力欄!J155=\"\",\"\",【ルース】入力欄!J155)","v":""},{"$f":"IF(【ルース】入力欄!M155=\"\",\"\",【ルース】入力欄!M155)","v":""}]
[]
[null,{"$f":"CONCATENATE(\"出品表　（　\",【ルース】入力欄!I$3,\"　大吉オークション　ルース）\")","v":"出品表　（　　大吉オークション　ルース）"}]
[]
[null,"箱番：",{"$f":"IF(【ルース】入力欄!C156=\"\",\"\",【ルース】入力欄!C156)","v":""},null,null,"※太枠の中をご記入ください",null,"会社名",{"$f":"IF(【ルース】入力欄!C$3=\"\",\"\",【ルース】入力欄!C$3)","v":""}]
[]
["番号","ｃｔ","カラー","クラリティ","カット","蛍光性","備考","付属品","指値\n（2万円以上）","発句"]
["１",{"$f":"IF(【ルース】入力欄!E156=\"\",\"\",【ルース】入力欄!E156)","v":""},{"$f":"IF(【ルース】入力欄!F156=\"\",\"\",【ルース】入力欄!F156)","v":""},{"$f":"IF(【ルース】入力欄!G156=\"\",\"\",【ルース】入力欄!G156)","v":""},{"$f":"IF(【ルース】入力欄!H156=\"\",\"\",【ルース】入力欄!H156)","v":""},{"$f":"IF(【ルース】入力欄!I156=\"\",\"\",【ルース】入力欄!I156)","v":""},{"$f":"IF(【ルース】入力欄!K156=\"\",\"\",【ルース】入力欄!K156)","v":""},{"$f":"IF(【ルース】入力欄!J156=\"\",\"\",【ルース】入力欄!J156)","v":""},{"$f":"IF(【ルース】入力欄!M156=\"\",\"\",【ルース】入力欄!M156)","v":""}]
["２",{"$f":"IF(【ルース】入力欄!E157=\"\",\"\",【ルース】入力欄!E157)","v":""},{"$f":"IF(【ルース】入力欄!F157=\"\",\"\",【ルース】入力欄!F157)","v":""},{"$f":"IF(【ルース】入力欄!G157=\"\",\"\",【ルース】入力欄!G157)","v":""},{"$f":"IF(【ルース】入力欄!H157=\"\",\"\",【ルース】入力欄!H157)","v":""},{"$f":"IF(【ルース】入力欄!I157=\"\",\"\",【ルース】入力欄!I157)","v":""},{"$f":"IF(【ルース】入力欄!K157=\"\",\"\",【ルース】入力欄!K157)","v":""},{"$f":"IF(【ルース】入力欄!J157=\"\",\"\",【ルース】入力欄!J157)","v":""},{"$f":"IF(【ルース】入力欄!M157=\"\",\"\",【ルース】入力欄!M157)","v":""}]
["３",{"$f":"IF(【ルース】入力欄!E158=\"\",\"\",【ルース】入力欄!E158)","v":""},{"$f":"IF(【ルース】入力欄!F158=\"\",\"\",【ルース】入力欄!F158)","v":""},{"$f":"IF(【ルース】入力欄!G158=\"\",\"\",【ルース】入力欄!G158)","v":""},{"$f":"IF(【ルース】入力欄!H158=\"\",\"\",【ルース】入力欄!H158)","v":""},{"$f":"IF(【ルース】入力欄!I158=\"\",\"\",【ルース】入力欄!I158)","v":""},{"$f":"IF(【ルース】入力欄!K158=\"\",\"\",【ルース】入力欄!K158)","v":""},{"$f":"IF(【ルース】入力欄!J158=\"\",\"\",【ルース】入力欄!J158)","v":""},{"$f":"IF(【ルース】入力欄!M158=\"\",\"\",【ルース】入力欄!M158)","v":""}]
["４",{"$f":"IF(【ルース】入力欄!E159=\"\",\"\",【ルース】入力欄!E159)","v":""},{"$f":"IF(【ルース】入力欄!F159=\"\",\"\",【ルース】入力欄!F159)","v":""},{"$f":"IF(【ルース】入力欄!G159=\"\",\"\",【ルース】入力欄!G159)","v":""},{"$f":"IF(【ルース】入力欄!H159=\"\",\"\",【ルース】入力欄!H159)","v":""},{"$f":"IF(【ルース】入力欄!I159=\"\",\"\",【ルース】入力欄!I159)","v":""},{"$f":"IF(【ルース】入力欄!K159=\"\",\"\",【ルース】入力欄!K159)","v":""},{"$f":"IF(【ルース】入力欄!J159=\"\",\"\",【ルース】入力欄!J159)","v":""},{"$f":"IF(【ルース】入力欄!M159=\"\",\"\",【ルース】入力欄!M159)","v":""}]
["５",{"$f":"IF(【ルース】入力欄!E160=\"\",\"\",【ルース】入力欄!E160)","v":""},{"$f":"IF(【ルース】入力欄!F160=\"\",\"\",【ルース】入力欄!F160)","v":""},{"$f":"IF(【ルース】入力欄!G160=\"\",\"\",【ルース】入力欄!G160)","v":""},{"$f":"IF(【ルース】入力欄!H160=\"\",\"\",【ルース】入力欄!H160)","v":""},{"$f":"IF(【ルース】入力欄!I160=\"\",\"\",【ルース】入力欄!I160)","v":""},{"$f":"IF(【ルース】入力欄!K160=\"\",\"\",【ルース】入力欄!K160)","v":""},{"$f":"IF(【ルース】入力欄!J160=\"\",\"\",【ルース】入力欄!J160)","v":""},{"$f":"IF(【ルース】入力欄!M160=\"\",\"\",【ルース】入力欄!M160)","v":""}]
["６",{"$f":"IF(【ルース】入力欄!E161=\"\",\"\",【ルース】入力欄!E161)","v":""},{"$f":"IF(【ルース】入力欄!F161=\"\",\"\",【ルース】入力欄!F161)","v":""},{"$f":"IF(【ルース】入力欄!G161=\"\",\"\",【ルース】入力欄!G161)","v":""},{"$f":"IF(【ルース】入力欄!H161=\"\",\"\",【ルース】入力欄!H161)","v":""},{"$f":"IF(【ルース】入力欄!I161=\"\",\"\",【ルース】入力欄!I161)","v":""},{"$f":"IF(【ルース】入力欄!K161=\"\",\"\",【ルース】入力欄!K161)","v":""},{"$f":"IF(【ルース】入力欄!J161=\"\",\"\",【ルース】入力欄!J161)","v":""},{"$f":"IF(【ルース】入力欄!M161=\"\",\"\",【ルース】入力欄!M161)","v":""}]
["７",{"$f":"IF(【ルース】入力欄!E162=\"\",\"\",【ルース】入力欄!E162)","v":""},{"$f":"IF(【ルース】入力欄!F162=\"\",\"\",【ルース】入力欄!F162)","v":""},{"$f":"IF(【ルース】入力欄!G162=\"\",\"\",【ルース】入力欄!G162)","v":""},{"$f":"IF(【ルース】入力欄!H162=\"\",\"\",【ルース】入力欄!H162)","v":""},{"$f":"IF(【ルース】入力欄!I162=\"\",\"\",【ルース】入力欄!I162)","v":""},{"$f":"IF(【ルース】入力欄!K162=\"\",\"\",【ルース】入力欄!K162)","v":""},{"$f":"IF(【ルース】入力欄!J162=\"\",\"\",【ルース】入力欄!J162)","v":""},{"$f":"IF(【ルース】入力欄!M162=\"\",\"\",【ルース】入力欄!M162)","v":""}]
["８",{"$f":"IF(【ルース】入力欄!E163=\"\",\"\",【ルース】入力欄!E163)","v":""},{"$f":"IF(【ルース】入力欄!F163=\"\",\"\",【ルース】入力欄!F163)","v":""},{"$f":"IF(【ルース】入力欄!G163=\"\",\"\",【ルース】入力欄!G163)","v":""},{"$f":"IF(【ルース】入力欄!H163=\"\",\"\",【ルース】入力欄!H163)","v":""},{"$f":"IF(【ルース】入力欄!I163=\"\",\"\",【ルース】入力欄!I163)","v":""},{"$f":"IF(【ルース】入力欄!K163=\"\",\"\",【ルース】入力欄!K163)","v":""},{"$f":"IF(【ルース】入力欄!J163=\"\",\"\",【ルース】入力欄!J163)","v":""},{"$f":"IF(【ルース】入力欄!M163=\"\",\"\",【ルース】入力欄!M163)","v":""}]
["９",{"$f":"IF(【ルース】入力欄!E164=\"\",\"\",【ルース】入力欄!E164)","v":""},{"$f":"IF(【ルース】入力欄!F164=\"\",\"\",【ルース】入力欄!F164)","v":""},{"$f":"IF(【ルース】入力欄!G164=\"\",\"\",【ルース】入力欄!G164)","v":""},{"$f":"IF(【ルース】入力欄!H164=\"\",\"\",【ルース】入力欄!H164)","v":""},{"$f":"IF(【ルース】入力欄!I164=\"\",\"\",【ルース】入力欄!I164)","v":""},{"$f":"IF(【ルース】入力欄!K164=\"\",\"\",【ルース】入力欄!K164)","v":""},{"$f":"IF(【ルース】入力欄!J164=\"\",\"\",【ルース】入力欄!J164)","v":""},{"$f":"IF(【ルース】入力欄!M164=\"\",\"\",【ルース】入力欄!M164)","v":""}]
["１０",{"$f":"IF(【ルース】入力欄!E165=\"\",\"\",【ルース】入力欄!E165)","v":""},{"$f":"IF(【ルース】入力欄!F165=\"\",\"\",【ルース】入力欄!F165)","v":""},{"$f":"IF(【ルース】入力欄!G165=\"\",\"\",【ルース】入力欄!G165)","v":""},{"$f":"IF(【ルース】入力欄!H165=\"\",\"\",【ルース】入力欄!H165)","v":""},{"$f":"IF(【ルース】入力欄!I165=\"\",\"\",【ルース】入力欄!I165)","v":""},{"$f":"IF(【ルース】入力欄!K165=\"\",\"\",【ルース】入力欄!K165)","v":""},{"$f":"IF(【ルース】入力欄!J165=\"\",\"\",【ルース】入力欄!J165)","v":""},{"$f":"IF(【ルース】入力欄!M165=\"\",\"\",【ルース】入力欄!M165)","v":""}]
[]
[null,{"$f":"CONCATENATE(\"出品表　（　\",【ルース】入力欄!I$3,\"　大吉オークション　ルース）\")","v":"出品表　（　　大吉オークション　ルース）"}]
[]
[null,"箱番：",{"$f":"IF(【ルース】入力欄!C166=\"\",\"\",【ルース】入力欄!C166)","v":""},null,null,"※太枠の中をご記入ください",null,"会社名",{"$f":"IF(【ルース】入力欄!C$3=\"\",\"\",【ルース】入力欄!C$3)","v":""}]
[]
["番号","ｃｔ","カラー","クラリティ","カット","蛍光性","備考","付属品","指値\n（2万円以上）","発句"]
["１",{"$f":"IF(【ルース】入力欄!E166=\"\",\"\",【ルース】入力欄!E166)","v":""},{"$f":"IF(【ルース】入力欄!F166=\"\",\"\",【ルース】入力欄!F166)","v":""},{"$f":"IF(【ルース】入力欄!G166=\"\",\"\",【ルース】入力欄!G166)","v":""},{"$f":"IF(【ルース】入力欄!H166=\"\",\"\",【ルース】入力欄!H166)","v":""},{"$f":"IF(【ルース】入力欄!I166=\"\",\"\",【ルース】入力欄!I166)","v":""},{"$f":"IF(【ルース】入力欄!K166=\"\",\"\",【ルース】入力欄!K166)","v":""},{"$f":"IF(【ルース】入力欄!J166=\"\",\"\",【ルース】入力欄!J166)","v":""},{"$f":"IF(【ルース】入力欄!M166=\"\",\"\",【ルース】入力欄!M166)","v":""}]
["２",{"$f":"IF(【ルース】入力欄!E167=\"\",\"\",【ルース】入力欄!E167)","v":""},{"$f":"IF(【ルース】入力欄!F167=\"\",\"\",【ルース】入力欄!F167)","v":""},{"$f":"IF(【ルース】入力欄!G167=\"\",\"\",【ルース】入力欄!G167)","v":""},{"$f":"IF(【ルース】入力欄!H167=\"\",\"\",【ルース】入力欄!H167)","v":""},{"$f":"IF(【ルース】入力欄!I167=\"\",\"\",【ルース】入力欄!I167)","v":""},{"$f":"IF(【ルース】入力欄!K167=\"\",\"\",【ルース】入力欄!K167)","v":""},{"$f":"IF(【ルース】入力欄!J167=\"\",\"\",【ルース】入力欄!J167)","v":""},{"$f":"IF(【ルース】入力欄!M167=\"\",\"\",【ルース】入力欄!M167)","v":""}]
["３",{"$f":"IF(【ルース】入力欄!E168=\"\",\"\",【ルース】入力欄!E168)","v":""},{"$f":"IF(【ルース】入力欄!F168=\"\",\"\",【ルース】入力欄!F168)","v":""},{"$f":"IF(【ルース】入力欄!G168=\"\",\"\",【ルース】入力欄!G168)","v":""},{"$f":"IF(【ルース】入力欄!H168=\"\",\"\",【ルース】入力欄!H168)","v":""},{"$f":"IF(【ルース】入力欄!I168=\"\",\"\",【ルース】入力欄!I168)","v":""},{"$f":"IF(【ルース】入力欄!K168=\"\",\"\",【ルース】入力欄!K168)","v":""},{"$f":"IF(【ルース】入力欄!J168=\"\",\"\",【ルース】入力欄!J168)","v":""},{"$f":"IF(【ルース】入力欄!M168=\"\",\"\",【ルース】入力欄!M168)","v":""}]
["４",{"$f":"IF(【ルース】入力欄!E169=\"\",\"\",【ルース】入力欄!E169)","v":""},{"$f":"IF(【ルース】入力欄!F169=\"\",\"\",【ルース】入力欄!F169)","v":""},{"$f":"IF(【ルース】入力欄!G169=\"\",\"\",【ルース】入力欄!G169)","v":""},{"$f":"IF(【ルース】入力欄!H169=\"\",\"\",【ルース】入力欄!H169)","v":""},{"$f":"IF(【ルース】入力欄!I169=\"\",\"\",【ルース】入力欄!I169)","v":""},{"$f":"IF(【ルース】入力欄!K169=\"\",\"\",【ルース】入力欄!K169)","v":""},{"$f":"IF(【ルース】入力欄!J169=\"\",\"\",【ルース】入力欄!J169)","v":""},{"$f":"IF(【ルース】入力欄!M169=\"\",\"\",【ルース】入力欄!M169)","v":""}]
["５",{"$f":"IF(【ルース】入力欄!E170=\"\",\"\",【ルース】入力欄!E170)","v":""},{"$f":"IF(【ルース】入力欄!F170=\"\",\"\",【ルース】入力欄!F170)","v":""},{"$f":"IF(【ルース】入力欄!G170=\"\",\"\",【ルース】入力欄!G170)","v":""},{"$f":"IF(【ルース】入力欄!H170=\"\",\"\",【ルース】入力欄!H170)","v":""},{"$f":"IF(【ルース】入力欄!I170=\"\",\"\",【ルース】入力欄!I170)","v":""},{"$f":"IF(【ルース】入力欄!K170=\"\",\"\",【ルース】入力欄!K170)","v":""},{"$f":"IF(【ルース】入力欄!J170=\"\",\"\",【ルース】入力欄!J170)","v":""},{"$f":"IF(【ルース】入力欄!M170=\"\",\"\",【ルース】入力欄!M170)","v":""}]
["６",{"$f":"IF(【ルース】入力欄!E171=\"\",\"\",【ルース】入力欄!E171)","v":""},{"$f":"IF(【ルース】入力欄!F171=\"\",\"\",【ルース】入力欄!F171)","v":""},{"$f":"IF(【ルース】入力欄!G171=\"\",\"\",【ルース】入力欄!G171)","v":""},{"$f":"IF(【ルース】入力欄!H171=\"\",\"\",【ルース】入力欄!H171)","v":""},{"$f":"IF(【ルース】入力欄!I171=\"\",\"\",【ルース】入力欄!I171)","v":""},{"$f":"IF(【ルース】入力欄!K171=\"\",\"\",【ルース】入力欄!K171)","v":""},{"$f":"IF(【ルース】入力欄!J171=\"\",\"\",【ルース】入力欄!J171)","v":""},{"$f":"IF(【ルース】入力欄!M171=\"\",\"\",【ルース】入力欄!M171)","v":""}]
["７",{"$f":"IF(【ルース】入力欄!E172=\"\",\"\",【ルース】入力欄!E172)","v":""},{"$f":"IF(【ルース】入力欄!F172=\"\",\"\",【ルース】入力欄!F172)","v":""},{"$f":"IF(【ルース】入力欄!G172=\"\",\"\",【ルース】入力欄!G172)","v":""},{"$f":"IF(【ルース】入力欄!H172=\"\",\"\",【ルース】入力欄!H172)","v":""},{"$f":"IF(【ルース】入力欄!I172=\"\",\"\",【ルース】入力欄!I172)","v":""},{"$f":"IF(【ルース】入力欄!K172=\"\",\"\",【ルース】入力欄!K172)","v":""},{"$f":"IF(【ルース】入力欄!J172=\"\",\"\",【ルース】入力欄!J172)","v":""},{"$f":"IF(【ルース】入力欄!M172=\"\",\"\",【ルース】入力欄!M172)","v":""}]
["８",{"$f":"IF(【ルース】入力欄!E173=\"\",\"\",【ルース】入力欄!E173)","v":""},{"$f":"IF(【ルース】入力欄!F173=\"\",\"\",【ルース】入力欄!F173)","v":""},{"$f":"IF(【ルース】入力欄!G173=\"\",\"\",【ルース】入力欄!G173)","v":""},{"$f":"IF(【ルース】入力欄!H173=\"\",\"\",【ルース】入力欄!H173)","v":""},{"$f":"IF(【ルース】入力欄!I173=\"\",\"\",【ルース】入力欄!I173)","v":""},{"$f":"IF(【ルース】入力欄!K173=\"\",\"\",【ルース】入力欄!K173)","v":""},{"$f":"IF(【ルース】入力欄!J173=\"\",\"\",【ルース】入力欄!J173)","v":""},{"$f":"IF(【ルース】入力欄!M173=\"\",\"\",【ルース】入力欄!M173)","v":""}]
["９",{"$f":"IF(【ルース】入力欄!E174=\"\",\"\",【ルース】入力欄!E174)","v":""},{"$f":"IF(【ルース】入力欄!F174=\"\",\"\",【ルース】入力欄!F174)","v":""},{"$f":"IF(【ルース】入力欄!G174=\"\",\"\",【ルース】入力欄!G174)","v":""},{"$f":"IF(【ルース】入力欄!H174=\"\",\"\",【ルース】入力欄!H174)","v":""},{"$f":"IF(【ルース】入力欄!I174=\"\",\"\",【ルース】入力欄!I174)","v":""},{"$f":"IF(【ルース】入力欄!K174=\"\",\"\",【ルース】入力欄!K174)","v":""},{"$f":"IF(【ルース】入力欄!J174=\"\",\"\",【ルース】入力欄!J174)","v":""},{"$f":"IF(【ルース】入力欄!M174=\"\",\"\",【ルース】入力欄!M174)","v":""}]
["１０",{"$f":"IF(【ルース】入力欄!E175=\"\",\"\",【ルース】入力欄!E175)","v":""},{"$f":"IF(【ルース】入力欄!F175=\"\",\"\",【ルース】入力欄!F175)","v":""},{"$f":"IF(【ルース】入力欄!G175=\"\",\"\",【ルース】入力欄!G175)","v":""},{"$f":"IF(【ルース】入力欄!H175=\"\",\"\",【ルース】入力欄!H175)","v":""},{"$f":"IF(【ルース】入力欄!I175=\"\",\"\",【ルース】入力欄!I175)","v":""},{"$f":"IF(【ルース】入力欄!K175=\"\",\"\",【ルース】入力欄!K175)","v":""},{"$f":"IF(【ルース】入力欄!J175=\"\",\"\",【ルース】入力欄!J175)","v":""},{"$f":"IF(【ルース】入力欄!M175=\"\",\"\",【ルース】入力欄!M175)","v":""}]
[]
[null,{"$f":"CONCATENATE(\"出品表　（　\",【ルース】入力欄!I$3,\"　大吉オークション　ルース）\")","v":"出品表　（　　大吉オークション　ルース）"}]
[]
[null,"箱番：",{"$f":"IF(【ルース】入力欄!C176=\"\",\"\",【ルース】入力欄!C176)","v":""},null,null,"※太枠の中をご記入ください",null,"会社名",{"$f":"IF(【ルース】入力欄!C$3=\"\",\"\",【ルース】入力欄!C$3)","v":""}]
[]
["番号","ｃｔ","カラー","クラリティ","カット","蛍光性","備考","付属品","指値\n（2万円以上）","発句"]
["１",{"$f":"IF(【ルース】入力欄!E176=\"\",\"\",【ルース】入力欄!E176)","v":""},{"$f":"IF(【ルース】入力欄!F176=\"\",\"\",【ルース】入力欄!F176)","v":""},{"$f":"IF(【ルース】入力欄!G176=\"\",\"\",【ルース】入力欄!G176)","v":""},{"$f":"IF(【ルース】入力欄!H176=\"\",\"\",【ルース】入力欄!H176)","v":""},{"$f":"IF(【ルース】入力欄!I176=\"\",\"\",【ルース】入力欄!I176)","v":""},{"$f":"IF(【ルース】入力欄!K176=\"\",\"\",【ルース】入力欄!K176)","v":""},{"$f":"IF(【ルース】入力欄!J176=\"\",\"\",【ルース】入力欄!J176)","v":""},{"$f":"IF(【ルース】入力欄!M176=\"\",\"\",【ルース】入力欄!M176)","v":""}]
["２",{"$f":"IF(【ルース】入力欄!E177=\"\",\"\",【ルース】入力欄!E177)","v":""},{"$f":"IF(【ルース】入力欄!F177=\"\",\"\",【ルース】入力欄!F177)","v":""},{"$f":"IF(【ルース】入力欄!G177=\"\",\"\",【ルース】入力欄!G177)","v":""},{"$f":"IF(【ルース】入力欄!H177=\"\",\"\",【ルース】入力欄!H177)","v":""},{"$f":"IF(【ルース】入力欄!I177=\"\",\"\",【ルース】入力欄!I177)","v":""},{"$f":"IF(【ルース】入力欄!K177=\"\",\"\",【ルース】入力欄!K177)","v":""},{"$f":"IF(【ルース】入力欄!J177=\"\",\"\",【ルース】入力欄!J177)","v":""},{"$f":"IF(【ルース】入力欄!M177=\"\",\"\",【ルース】入力欄!M177)","v":""}]
["３",{"$f":"IF(【ルース】入力欄!E178=\"\",\"\",【ルース】入力欄!E178)","v":""},{"$f":"IF(【ルース】入力欄!F178=\"\",\"\",【ルース】入力欄!F178)","v":""},{"$f":"IF(【ルース】入力欄!G178=\"\",\"\",【ルース】入力欄!G178)","v":""},{"$f":"IF(【ルース】入力欄!H178=\"\",\"\",【ルース】入力欄!H178)","v":""},{"$f":"IF(【ルース】入力欄!I178=\"\",\"\",【ルース】入力欄!I178)","v":""},{"$f":"IF(【ルース】入力欄!K178=\"\",\"\",【ルース】入力欄!K178)","v":""},{"$f":"IF(【ルース】入力欄!J178=\"\",\"\",【ルース】入力欄!J178)","v":""},{"$f":"IF(【ルース】入力欄!M178=\"\",\"\",【ルース】入力欄!M178)","v":""}]
["４",{"$f":"IF(【ルース】入力欄!E179=\"\",\"\",【ルース】入力欄!E179)","v":""},{"$f":"IF(【ルース】入力欄!F179=\"\",\"\",【ルース】入力欄!F179)","v":""},{"$f":"IF(【ルース】入力欄!G179=\"\",\"\",【ルース】入力欄!G179)","v":""},{"$f":"IF(【ルース】入力欄!H179=\"\",\"\",【ルース】入力欄!H179)","v":""},{"$f":"IF(【ルース】入力欄!I179=\"\",\"\",【ルース】入力欄!I179)","v":""},{"$f":"IF(【ルース】入力欄!K179=\"\",\"\",【ルース】入力欄!K179)","v":""},{"$f":"IF(【ルース】入力欄!J179=\"\",\"\",【ルース】入力欄!J179)","v":""},{"$f":"IF(【ルース】入力欄!M179=\"\",\"\",【ルース】入力欄!M179)","v":""}]
["５",{"$f":"IF(【ルース】入力欄!E180=\"\",\"\",【ルース】入力欄!E180)","v":""},{"$f":"IF(【ルース】入力欄!F180=\"\",\"\",【ルース】入力欄!F180)","v":""},{"$f":"IF(【ルース】入力欄!G180=\"\",\"\",【ルース】入力欄!G180)","v":""},{"$f":"IF(【ルース】入力欄!H180=\"\",\"\",【ルース】入力欄!H180)","v":""},{"$f":"IF(【ルース】入力欄!I180=\"\",\"\",【ルース】入力欄!I180)","v":""},{"$f":"IF(【ルース】入力欄!K180=\"\",\"\",【ルース】入力欄!K180)","v":""},{"$f":"IF(【ルース】入力欄!J180=\"\",\"\",【ルース】入力欄!J180)","v":""},{"$f":"IF(【ルース】入力欄!M180=\"\",\"\",【ルース】入力欄!M180)","v":""}]
["６",{"$f":"IF(【ルース】入力欄!E181=\"\",\"\",【ルース】入力欄!E181)","v":""},{"$f":"IF(【ルース】入力欄!F181=\"\",\"\",【ルース】入力欄!F181)","v":""},{"$f":"IF(【ルース】入力欄!G181=\"\",\"\",【ルース】入力欄!G181)","v":""},{"$f":"IF(【ルース】入力欄!H181=\"\",\"\",【ルース】入力欄!H181)","v":""},{"$f":"IF(【ルース】入力欄!I181=\"\",\"\",【ルース】入力欄!I181)","v":""},{"$f":"IF(【ルース】入力欄!K181=\"\",\"\",【ルース】入力欄!K181)","v":""},{"$f":"IF(【ルース】入力欄!J181=\"\",\"\",【ルース】入力欄!J181)","v":""},{"$f":"IF(【ルース】入力欄!M181=\"\",\"\",【ルース】入力欄!M181)","v":""}]
["７",{"$f":"IF(【ルース】入力欄!E182=\"\",\"\",【ルース】入力欄!E182)","v":""},{"$f":"IF(【ルース】入力欄!F182=\"\",\"\",【ルース】入力欄!F182)","v":""},{"$f":"IF(【ルース】入力欄!G182=\"\",\"\",【ルース】入力欄!G182)","v":""},{"$f":"IF(【ルース】入力欄!H182=\"\",\"\",【ルース】入力欄!H182)","v":""},{"$f":"IF(【ルース】入力欄!I182=\"\",\"\",【ルース】入力欄!I182)","v":""},{"$f":"IF(【ルース】入力欄!K182=\"\",\"\",【ルース】入力欄!K182)","v":""},{"$f":"IF(【ルース】入力欄!J182=\"\",\"\",【ルース】入力欄!J182)","v":""},{"$f":"IF(【ルース】入力欄!M182=\"\",\"\",【ルース】入力欄!M182)","v":""}]
["８",{"$f":"IF(【ルース】入力欄!E183=\"\",\"\",【ルース】入力欄!E183)","v":""},{"$f":"IF(【ルース】入力欄!F183=\"\",\"\",【ルース】入力欄!F183)","v":""},{"$f":"IF(【ルース】入力欄!G183=\"\",\"\",【ルース】入力欄!G183)","v":""},{"$f":"IF(【ルース】入力欄!H183=\"\",\"\",【ルース】入力欄!H183)","v":""},{"$f":"IF(【ルース】入力欄!I183=\"\",\"\",【ルース】入力欄!I183)","v":""},{"$f":"IF(【ルース】入力欄!K183=\"\",\"\",【ルース】入力欄!K183)","v":""},{"$f":"IF(【ルース】入力欄!J183=\"\",\"\",【ルース】入力欄!J183)","v":""},{"$f":"IF(【ルース】入力欄!M183=\"\",\"\",【ルース】入力欄!M183)","v":""}]
["９",{"$f":"IF(【ルース】入力欄!E184=\"\",\"\",【ルース】入力欄!E184)","v":""},{"$f":"IF(【ルース】入力欄!F184=\"\",\"\",【ルース】入力欄!F184)","v":""},{"$f":"IF(【ルース】入力欄!G184=\"\",\"\",【ルース】入力欄!G184)","v":""},{"$f":"IF(【ルース】入力欄!H184=\"\",\"\",【ルース】入力欄!H184)","v":""},{"$f":"IF(【ルース】入力欄!I184=\"\",\"\",【ルース】入力欄!I184)","v":""},{"$f":"IF(【ルース】入力欄!K184=\"\",\"\",【ルース】入力欄!K184)","v":""},{"$f":"IF(【ルース】入力欄!J184=\"\",\"\",【ルース】入力欄!J184)","v":""},{"$f":"IF(【ルース】入力欄!M184=\"\",\"\",【ルース】入力欄!M184)","v":""}]
["１０",{"$f":"IF(【ルース】入力欄!E185=\"\",\"\",【ルース】入力欄!E185)","v":""},{"$f":"IF(【ルース】入力欄!F185=\"\",\"\",【ルース】入力欄!F185)","v":""},{"$f":"IF(【ルース】入力欄!G185=\"\",\"\",【ルース】入力欄!G185)","v":""},{"$f":"IF(【ルース】入力欄!H185=\"\",\"\",【ルース】入力欄!H185)","v":""},{"$f":"IF(【ルース】入力欄!I185=\"\",\"\",【ルース】入力欄!I185)","v":""},{"$f":"IF(【ルース】入力欄!K185=\"\",\"\",【ルース】入力欄!K185)","v":""},{"$f":"IF(【ルース】入力欄!J185=\"\",\"\",【ルース】入力欄!J185)","v":""},{"$f":"IF(【ルース】入力欄!M185=\"\",\"\",【ルース】入力欄!M185)","v":""}]
[]
[null,{"$f":"CONCATENATE(\"出品表　（　\",【ルース】入力欄!I$3,\"　大吉オークション　ルース）\")","v":"出品表　（　　大吉オークション　ルース）"}]
[]
[null,"箱番：",{"$f":"IF(【ルース】入力欄!C186=\"\",\"\",【ルース】入力欄!C186)","v":""},null,null,"※太枠の中をご記入ください",null,"会社名",{"$f":"IF(【ルース】入力欄!C$3=\"\",\"\",【ルース】入力欄!C$3)","v":""}]
[]
["番号","ｃｔ","カラー","クラリティ","カット","蛍光性","備考","付属品","指値\n（2万円以上）","発句"]
["１",{"$f":"IF(【ルース】入力欄!E186=\"\",\"\",【ルース】入力欄!E186)","v":""},{"$f":"IF(【ルース】入力欄!F186=\"\",\"\",【ルース】入力欄!F186)","v":""},{"$f":"IF(【ルース】入力欄!G186=\"\",\"\",【ルース】入力欄!G186)","v":""},{"$f":"IF(【ルース】入力欄!H186=\"\",\"\",【ルース】入力欄!H186)","v":""},{"$f":"IF(【ルース】入力欄!I186=\"\",\"\",【ルース】入力欄!I186)","v":""},{"$f":"IF(【ルース】入力欄!K186=\"\",\"\",【ルース】入力欄!K186)","v":""},{"$f":"IF(【ルース】入力欄!J186=\"\",\"\",【ルース】入力欄!J186)","v":""},{"$f":"IF(【ルース】入力欄!M186=\"\",\"\",【ルース】入力欄!M186)","v":""}]
["２",{"$f":"IF(【ルース】入力欄!E187=\"\",\"\",【ルース】入力欄!E187)","v":""},{"$f":"IF(【ルース】入力欄!F187=\"\",\"\",【ルース】入力欄!F187)","v":""},{"$f":"IF(【ルース】入力欄!G187=\"\",\"\",【ルース】入力欄!G187)","v":""},{"$f":"IF(【ルース】入力欄!H187=\"\",\"\",【ルース】入力欄!H187)","v":""},{"$f":"IF(【ルース】入力欄!I187=\"\",\"\",【ルース】入力欄!I187)","v":""},{"$f":"IF(【ルース】入力欄!K187=\"\",\"\",【ルース】入力欄!K187)","v":""},{"$f":"IF(【ルース】入力欄!J187=\"\",\"\",【ルース】入力欄!J187)","v":""},{"$f":"IF(【ルース】入力欄!M187=\"\",\"\",【ルース】入力欄!M187)","v":""}]
["３",{"$f":"IF(【ルース】入力欄!E188=\"\",\"\",【ルース】入力欄!E188)","v":""},{"$f":"IF(【ルース】入力欄!F188=\"\",\"\",【ルース】入力欄!F188)","v":""},{"$f":"IF(【ルース】入力欄!G188=\"\",\"\",【ルース】入力欄!G188)","v":""},{"$f":"IF(【ルース】入力欄!H188=\"\",\"\",【ルース】入力欄!H188)","v":""},{"$f":"IF(【ルース】入力欄!I188=\"\",\"\",【ルース】入力欄!I188)","v":""},{"$f":"IF(【ルース】入力欄!K188=\"\",\"\",【ルース】入力欄!K188)","v":""},{"$f":"IF(【ルース】入力欄!J188=\"\",\"\",【ルース】入力欄!J188)","v":""},{"$f":"IF(【ルース】入力欄!M188=\"\",\"\",【ルース】入力欄!M188)","v":""}]
["４",{"$f":"IF(【ルース】入力欄!E189=\"\",\"\",【ルース】入力欄!E189)","v":""},{"$f":"IF(【ルース】入力欄!F189=\"\",\"\",【ルース】入力欄!F189)","v":""},{"$f":"IF(【ルース】入力欄!G189=\"\",\"\",【ルース】入力欄!G189)","v":""},{"$f":"IF(【ルース】入力欄!H189=\"\",\"\",【ルース】入力欄!H189)","v":""},{"$f":"IF(【ルース】入力欄!I189=\"\",\"\",【ルース】入力欄!I189)","v":""},{"$f":"IF(【ルース】入力欄!K189=\"\",\"\",【ルース】入力欄!K189)","v":""},{"$f":"IF(【ルース】入力欄!J189=\"\",\"\",【ルース】入力欄!J189)","v":""},{"$f":"IF(【ルース】入力欄!M189=\"\",\"\",【ルース】入力欄!M189)","v":""}]
["５",{"$f":"IF(【ルース】入力欄!E190=\"\",\"\",【ルース】入力欄!E190)","v":""},{"$f":"IF(【ルース】入力欄!F190=\"\",\"\",【ルース】入力欄!F190)","v":""},{"$f":"IF(【ルース】入力欄!G190=\"\",\"\",【ルース】入力欄!G190)","v":""},{"$f":"IF(【ルース】入力欄!H190=\"\",\"\",【ルース】入力欄!H190)","v":""},{"$f":"IF(【ルース】入力欄!I190=\"\",\"\",【ルース】入力欄!I190)","v":""},{"$f":"IF(【ルース】入力欄!K190=\"\",\"\",【ルース】入力欄!K190)","v":""},{"$f":"IF(【ルース】入力欄!J190=\"\",\"\",【ルース】入力欄!J190)","v":""},{"$f":"IF(【ルース】入力欄!M190=\"\",\"\",【ルース】入力欄!M190)","v":""}]
["６",{"$f":"IF(【ルース】入力欄!E191=\"\",\"\",【ルース】入力欄!E191)","v":""},{"$f":"IF(【ルース】入力欄!F191=\"\",\"\",【ルース】入力欄!F191)","v":""},{"$f":"IF(【ルース】入力欄!G191=\"\",\"\",【ルース】入力欄!G191)","v":""},{"$f":"IF(【ルース】入力欄!H191=\"\",\"\",【ルース】入力欄!H191)","v":""},{"$f":"IF(【ルース】入力欄!I191=\"\",\"\",【ルース】入力欄!I191)","v":""},{"$f":"IF(【ルース】入力欄!K191=\"\",\"\",【ルース】入力欄!K191)","v":""},{"$f":"IF(【ルース】入力欄!J191=\"\",\"\",【ルース】入力欄!J191)","v":""},{"$f":"IF(【ルース】入力欄!M191=\"\",\"\",【ルース】入力欄!M191)","v":""}]
["７",{"$f":"IF(【ルース】入力欄!E192=\"\",\"\",【ルース】入力欄!E192)","v":""},{"$f":"IF(【ルース】入力欄!F192=\"\",\"\",【ルース】入力欄!F192)","v":""},{"$f":"IF(【ルース】入力欄!G192=\"\",\"\",【ルース】入力欄!G192)","v":""},{"$f":"IF(【ルース】入力欄!H192=\"\",\"\",【ルース】入力欄!H192)","v":""},{"$f":"IF(【ルース】入力欄!I192=\"\",\"\",【ルース】入力欄!I192)","v":""},{"$f":"IF(【ルース】入力欄!K192=\"\",\"\",【ルース】入力欄!K192)","v":""},{"$f":"IF(【ルース】入力欄!J192=\"\",\"\",【ルース】入力欄!J192)","v":""},{"$f":"IF(【ルース】入力欄!M192=\"\",\"\",【ルース】入力欄!M192)","v":""}]
["８",{"$f":"IF(【ルース】入力欄!E193=\"\",\"\",【ルース】入力欄!E193)","v":""},{"$f":"IF(【ルース】入力欄!F193=\"\",\"\",【ルース】入力欄!F193)","v":""},{"$f":"IF(【ルース】入力欄!G193=\"\",\"\",【ルース】入力欄!G193)","v":""},{"$f":"IF(【ルース】入力欄!H193=\"\",\"\",【ルース】入力欄!H193)","v":""},{"$f":"IF(【ルース】入力欄!I193=\"\",\"\",【ルース】入力欄!I193)","v":""},{"$f":"IF(【ルース】入力欄!K193=\"\",\"\",【ルース】入力欄!K193)","v":""},{"$f":"IF(【ルース】入力欄!J193=\"\",\"\",【ルース】入力欄!J193)","v":""},{"$f":"IF(【ルース】入力欄!M193=\"\",\"\",【ルース】入力欄!M193)","v":""}]
["９",{"$f":"IF(【ルース】入力欄!E194=\"\",\"\",【ルース】入力欄!E194)","v":""},{"$f":"IF(【ルース】入力欄!F194=\"\",\"\",【ルース】入力欄!F194)","v":""},{"$f":"IF(【ルース】入力欄!G194=\"\",\"\",【ルース】入力欄!G194)","v":""},{"$f":"IF(【ルース】入力欄!H194=\"\",\"\",【ルース】入力欄!H194)","v":""},{"$f":"IF(【ルース】入力欄!I194=\"\",\"\",【ルース】入力欄!I194)","v":""},{"$f":"IF(【ルース】入力欄!K194=\"\",\"\",【ルース】入力欄!K194)","v":""},{"$f":"IF(【ルース】入力欄!J194=\"\",\"\",【ルース】入力欄!J194)","v":""},{"$f":"IF(【ルース】入力欄!M194=\"\",\"\",【ルース】入力欄!M194)","v":""}]
["１０",{"$f":"IF(【ルース】入力欄!E195=\"\",\"\",【ルース】入力欄!E195)","v":""},{"$f":"IF(【ルース】入力欄!F195=\"\",\"\",【ルース】入力欄!F195)","v":""},{"$f":"IF(【ルース】入力欄!G195=\"\",\"\",【ルース】入力欄!G195)","v":""},{"$f":"IF(【ルース】入力欄!H195=\"\",\"\",【ルース】入力欄!H195)","v":""},{"$f":"IF(【ルース】入力欄!I195=\"\",\"\",【ルース】入力欄!I195)","v":""},{"$f":"IF(【ルース】入力欄!K195=\"\",\"\",【ルース】入力欄!K195)","v":""},{"$f":"IF(【ルース】入力欄!J195=\"\",\"\",【ルース】入力欄!J195)","v":""},{"$f":"IF(【ルース】入力欄!M195=\"\",\"\",【ルース】入力欄!M195)","v":""}]
[]
[null,{"$f":"CONCATENATE(\"出品表　（　\",【ルース】入力欄!I$3,\"　大吉オークション　ルース）\")","v":"出品表　（　　大吉オークション　ルース）"}]
[]
[null,"箱番：",{"$f":"IF(【ルース】入力欄!C196=\"\",\"\",【ルース】入力欄!C196)","v":""},null,null,"※太枠の中をご記入ください",null,"会社名",{"$f":"IF(【ルース】入力欄!C$3=\"\",\"\",【ルース】入力欄!C$3)","v":""}]
[]
["番号","ｃｔ","カラー","クラリティ","カット","蛍光性","備考","付属品","指値\n（2万円以上）","発句"]
["１",{"$f":"IF(【ルース】入力欄!E196=\"\",\"\",【ルース】入力欄!E196)","v":""},{"$f":"IF(【ルース】入力欄!F196=\"\",\"\",【ルース】入力欄!F196)","v":""},{"$f":"IF(【ルース】入力欄!G196=\"\",\"\",【ルース】入力欄!G196)","v":""},{"$f":"IF(【ルース】入力欄!H196=\"\",\"\",【ルース】入力欄!H196)","v":""},{"$f":"IF(【ルース】入力欄!I196=\"\",\"\",【ルース】入力欄!I196)","v":""},{"$f":"IF(【ルース】入力欄!K196=\"\",\"\",【ルース】入力欄!K196)","v":""},{"$f":"IF(【ルース】入力欄!J196=\"\",\"\",【ルース】入力欄!J196)","v":""},{"$f":"IF(【ルース】入力欄!M196=\"\",\"\",【ルース】入力欄!M196)","v":""}]
["２",{"$f":"IF(【ルース】入力欄!E197=\"\",\"\",【ルース】入力欄!E197)","v":""},{"$f":"IF(【ルース】入力欄!F197=\"\",\"\",【ルース】入力欄!F197)","v":""},{"$f":"IF(【ルース】入力欄!G197=\"\",\"\",【ルース】入力欄!G197)","v":""},{"$f":"IF(【ルース】入力欄!H197=\"\",\"\",【ルース】入力欄!H197)","v":""},{"$f":"IF(【ルース】入力欄!I197=\"\",\"\",【ルース】入力欄!I197)","v":""},{"$f":"IF(【ルース】入力欄!K197=\"\",\"\",【ルース】入力欄!K197)","v":""},{"$f":"IF(【ルース】入力欄!J197=\"\",\"\",【ルース】入力欄!J197)","v":""},{"$f":"IF(【ルース】入力欄!M197=\"\",\"\",【ルース】入力欄!M197)","v":""}]
["３",{"$f":"IF(【ルース】入力欄!E198=\"\",\"\",【ルース】入力欄!E198)","v":""},{"$f":"IF(【ルース】入力欄!F198=\"\",\"\",【ルース】入力欄!F198)","v":""},{"$f":"IF(【ルース】入力欄!G198=\"\",\"\",【ルース】入力欄!G198)","v":""},{"$f":"IF(【ルース】入力欄!H198=\"\",\"\",【ルース】入力欄!H198)","v":""},{"$f":"IF(【ルース】入力欄!I198=\"\",\"\",【ルース】入力欄!I198)","v":""},{"$f":"IF(【ルース】入力欄!K198=\"\",\"\",【ルース】入力欄!K198)","v":""},{"$f":"IF(【ルース】入力欄!J198=\"\",\"\",【ルース】入力欄!J198)","v":""},{"$f":"IF(【ルース】入力欄!M198=\"\",\"\",【ルース】入力欄!M198)","v":""}]
["４",{"$f":"IF(【ルース】入力欄!E199=\"\",\"\",【ルース】入力欄!E199)","v":""},{"$f":"IF(【ルース】入力欄!F199=\"\",\"\",【ルース】入力欄!F199)","v":""},{"$f":"IF(【ルース】入力欄!G199=\"\",\"\",【ルース】入力欄!G199)","v":""},{"$f":"IF(【ルース】入力欄!H199=\"\",\"\",【ルース】入力欄!H199)","v":""},{"$f":"IF(【ルース】入力欄!I199=\"\",\"\",【ルース】入力欄!I199)","v":""},{"$f":"IF(【ルース】入力欄!K199=\"\",\"\",【ルース】入力欄!K199)","v":""},{"$f":"IF(【ルース】入力欄!J199=\"\",\"\",【ルース】入力欄!J199)","v":""},{"$f":"IF(【ルース】入力欄!M199=\"\",\"\",【ルース】入力欄!M199)","v":""}]
["５",{"$f":"IF(【ルース】入力欄!E200=\"\",\"\",【ルース】入力欄!E200)","v":""},{"$f":"IF(【ルース】入力欄!F200=\"\",\"\",【ルース】入力欄!F200)","v":""},{"$f":"IF(【ルース】入力欄!G200=\"\",\"\",【ルース】入力欄!G200)","v":""},{"$f":"IF(【ルース】入力欄!H200=\"\",\"\",【ルース】入力欄!H200)","v":""},{"$f":"IF(【ルース】入力欄!I200=\"\",\"\",【ルース】入力欄!I200)","v":""},{"$f":"IF(【ルース】入力欄!K200=\"\",\"\",【ルース】入力欄!K200)","v":""},{"$f":"IF(【ルース】入力欄!J200=\"\",\"\",【ルース】入力欄!J200)","v":""},{"$f":"IF(【ルース】入力欄!M200=\"\",\"\",【ルース】入力欄!M200)","v":""}]
["６",{"$f":"IF(【ルース】入力欄!E201=\"\",\"\",【ルース】入力欄!E201)","v":""},{"$f":"IF(【ルース】入力欄!F201=\"\",\"\",【ルース】入力欄!F201)","v":""},{"$f":"IF(【ルース】入力欄!G201=\"\",\"\",【ルース】入力欄!G201)","v":""},{"$f":"IF(【ルース】入力欄!H201=\"\",\"\",【ルース】入力欄!H201)","v":""},{"$f":"IF(【ルース】入力欄!I201=\"\",\"\",【ルース】入力欄!I201)","v":""},{"$f":"IF(【ルース】入力欄!K201=\"\",\"\",【ルース】入力欄!K201)","v":""},{"$f":"IF(【ルース】入力欄!J201=\"\",\"\",【ルース】入力欄!J201)","v":""},{"$f":"IF(【ルース】入力欄!M201=\"\",\"\",【ルース】入力欄!M201)","v":""}]
["７",{"$f":"IF(【ルース】入力欄!E202=\"\",\"\",【ルース】入力欄!E202)","v":""},{"$f":"IF(【ルース】入力欄!F202=\"\",\"\",【ルース】入力欄!F202)","v":""},{"$f":"IF(【ルース】入力欄!G202=\"\",\"\",【ルース】入力欄!G202)","v":""},{"$f":"IF(【ルース】入力欄!H202=\"\",\"\",【ルース】入力欄!H202)","v":""},{"$f":"IF(【ルース】入力欄!I202=\"\",\"\",【ルース】入力欄!I202)","v":""},{"$f":"IF(【ルース】入力欄!K202=\"\",\"\",【ルース】入力欄!K202)","v":""},{"$f":"IF(【ルース】入力欄!J202=\"\",\"\",【ルース】入力欄!J202)","v":""},{"$f":"IF(【ルース】入力欄!M202=\"\",\"\",【ルース】入力欄!M202)","v":""}]
["８",{"$f":"IF(【ルース】入力欄!E203=\"\",\"\",【ルース】入力欄!E203)","v":""},{"$f":"IF(【ルース】入力欄!F203=\"\",\"\",【ルース】入力欄!F203)","v":""},{"$f":"IF(【ルース】入力欄!G203=\"\",\"\",【ルース】入力欄!G203)","v":""},{"$f":"IF(【ルース】入力欄!H203=\"\",\"\",【ルース】入力欄!H203)","v":""},{"$f":"IF(【ルース】入力欄!I203=\"\",\"\",【ルース】入力欄!I203)","v":""},{"$f":"IF(【ルース】入力欄!K203=\"\",\"\",【ルース】入力欄!K203)","v":""},{"$f":"IF(【ルース】入力欄!J203=\"\",\"\",【ルース】入力欄!J203)","v":""},{"$f":"IF(【ルース】入力欄!M203=\"\",\"\",【ルース】入力欄!M203)","v":""}]
["９",{"$f":"IF(【ルース】入力欄!E204=\"\",\"\",【ルース】入力欄!E204)","v":""},{"$f":"IF(【ルース】入力欄!F204=\"\",\"\",【ルース】入力欄!F204)","v":""},{"$f":"IF(【ルース】入力欄!G204=\"\",\"\",【ルース】入力欄!G204)","v":""},{"$f":"IF(【ルース】入力欄!H204=\"\",\"\",【ルース】入力欄!H204)","v":""},{"$f":"IF(【ルース】入力欄!I204=\"\",\"\",【ルース】入力欄!I204)","v":""},{"$f":"IF(【ルース】入力欄!K204=\"\",\"\",【ルース】入力欄!K204)","v":""},{"$f":"IF(【ルース】入力欄!J204=\"\",\"\",【ルース】入力欄!J204)","v":""},{"$f":"IF(【ルース】入力欄!M204=\"\",\"\",【ルース】入力欄!M204)","v":""}]
["１０",{"$f":"IF(【ルース】入力欄!E205=\"\",\"\",【ルース】入力欄!E205)","v":""},{"$f":"IF(【ルース】入力欄!F205=\"\",\"\",【ルース】入力欄!F205)","v":""},{"$f":"IF(【ルース】入力欄!G205=\"\",\"\",【ルース】入力欄!G205)","v":""},{"$f":"IF(【ルース】入力欄!H205=\"\",\"\",【ルース】入力欄!H205)","v":""},{"$f":"IF(【ルース】入力欄!I205=\"\",\"\",【ルース】入力欄!I205)","v":""},{"$f":"IF(【ルース】入力欄!K205=\"\",\"\",【ルース】入力欄!K205)","v":""},{"$f":"IF(【ルース】入力欄!J205=\"\",\"\",【ルース】入力欄!J205)","v":""},{"$f":"IF(【ルース】入力欄!M205=\"\",\"\",【ルース】入力欄!M205)","v":""}]
[]
[null,{"$f":"CONCATENATE(\"出品表　（　\",【ルース】入力欄!I$3,\"　APREオークション　ルース）\")","v":"出品表　（　　APREオークション　ルース）"}]
[]
[null,"箱番：",{"$f":"IF(【ルース】入力欄!C206=\"\",\"\",【ルース】入力欄!C206)","v":""},null,null,"※太枠の中をご記入ください",null,"会社名",{"$f":"IF(【ルース】入力欄!C$3=\"\",\"\",【ルース】入力欄!C$3)","v":""}]
[]
["番号","ｃｔ","カラー","クラリティ","カット","蛍光性","備考","付属品","指値\n（2万円以上）","発句"]
["１",{"$f":"IF(【ルース】入力欄!E206=\"\",\"\",【ルース】入力欄!E206)","v":""},{"$f":"IF(【ルース】入力欄!F206=\"\",\"\",【ルース】入力欄!F206)","v":""},{"$f":"IF(【ルース】入力欄!G206=\"\",\"\",【ルース】入力欄!G206)","v":""},{"$f":"IF(【ルース】入力欄!H206=\"\",\"\",【ルース】入力欄!H206)","v":""},{"$f":"IF(【ルース】入力欄!I206=\"\",\"\",【ルース】入力欄!I206)","v":""},{"$f":"IF(【ルース】入力欄!K206=\"\",\"\",【ルース】入力欄!K206)","v":""},{"$f":"IF(【ルース】入力欄!J206=\"\",\"\",【ルース】入力欄!J206)","v":""},{"$f":"IF(【ルース】入力欄!M206=\"\",\"\",【ルース】入力欄!M206)","v":""}]
["２",{"$f":"IF(【ルース】入力欄!E207=\"\",\"\",【ルース】入力欄!E207)","v":""},{"$f":"IF(【ルース】入力欄!F207=\"\",\"\",【ルース】入力欄!F207)","v":""},{"$f":"IF(【ルース】入力欄!G207=\"\",\"\",【ルース】入力欄!G207)","v":""},{"$f":"IF(【ルース】入力欄!H207=\"\",\"\",【ルース】入力欄!H207)","v":""},{"$f":"IF(【ルース】入力欄!I207=\"\",\"\",【ルース】入力欄!I207)","v":""},{"$f":"IF(【ルース】入力欄!K207=\"\",\"\",【ルース】入力欄!K207)","v":""},{"$f":"IF(【ルース】入力欄!J207=\"\",\"\",【ルース】入力欄!J207)","v":""},{"$f":"IF(【ルース】入力欄!M207=\"\",\"\",【ルース】入力欄!M207)","v":""}]
["３",{"$f":"IF(【ルース】入力欄!E208=\"\",\"\",【ルース】入力欄!E208)","v":""},{"$f":"IF(【ルース】入力欄!F208=\"\",\"\",【ルース】入力欄!F208)","v":""},{"$f":"IF(【ルース】入力欄!G208=\"\",\"\",【ルース】入力欄!G208)","v":""},{"$f":"IF(【ルース】入力欄!H208=\"\",\"\",【ルース】入力欄!H208)","v":""},{"$f":"IF(【ルース】入力欄!I208=\"\",\"\",【ルース】入力欄!I208)","v":""},{"$f":"IF(【ルース】入力欄!K208=\"\",\"\",【ルース】入力欄!K208)","v":""},{"$f":"IF(【ルース】入力欄!J208=\"\",\"\",【ルース】入力欄!J208)","v":""},{"$f":"IF(【ルース】入力欄!M208=\"\",\"\",【ルース】入力欄!M208)","v":""}]
["４",{"$f":"IF(【ルース】入力欄!E209=\"\",\"\",【ルース】入力欄!E209)","v":""},{"$f":"IF(【ルース】入力欄!F209=\"\",\"\",【ルース】入力欄!F209)","v":""},{"$f":"IF(【ルース】入力欄!G209=\"\",\"\",【ルース】入力欄!G209)","v":""},{"$f":"IF(【ルース】入力欄!H209=\"\",\"\",【ルース】入力欄!H209)","v":""},{"$f":"IF(【ルース】入力欄!I209=\"\",\"\",【ルース】入力欄!I209)","v":""},{"$f":"IF(【ルース】入力欄!K209=\"\",\"\",【ルース】入力欄!K209)","v":""},{"$f":"IF(【ルース】入力欄!J209=\"\",\"\",【ルース】入力欄!J209)","v":""},{"$f":"IF(【ルース】入力欄!M209=\"\",\"\",【ルース】入力欄!M209)","v":""}]
["５",{"$f":"IF(【ルース】入力欄!E210=\"\",\"\",【ルース】入力欄!E210)","v":""},{"$f":"IF(【ルース】入力欄!F210=\"\",\"\",【ルース】入力欄!F210)","v":""},{"$f":"IF(【ルース】入力欄!G210=\"\",\"\",【ルース】入力欄!G210)","v":""},{"$f":"IF(【ルース】入力欄!H210=\"\",\"\",【ルース】入力欄!H210)","v":""},{"$f":"IF(【ルース】入力欄!I210=\"\",\"\",【ルース】入力欄!I210)","v":""},{"$f":"IF(【ルース】入力欄!K210=\"\",\"\",【ルース】入力欄!K210)","v":""},{"$f":"IF(【ルース】入力欄!J210=\"\",\"\",【ルース】入力欄!J210)","v":""},{"$f":"IF(【ルース】入力欄!M210=\"\",\"\",【ルース】入力欄!M210)","v":""}]
["６",{"$f":"IF(【ルース】入力欄!E211=\"\",\"\",【ルース】入力欄!E211)","v":""},{"$f":"IF(【ルース】入力欄!F211=\"\",\"\",【ルース】入力欄!F211)","v":""},{"$f":"IF(【ルース】入力欄!G211=\"\",\"\",【ルース】入力欄!G211)","v":""},{"$f":"IF(【ルース】入力欄!H211=\"\",\"\",【ルース】入力欄!H211)","v":""},{"$f":"IF(【ルース】入力欄!I211=\"\",\"\",【ルース】入力欄!I211)","v":""},{"$f":"IF(【ルース】入力欄!K211=\"\",\"\",【ルース】入力欄!K211)","v":""},{"$f":"IF(【ルース】入力欄!J211=\"\",\"\",【ルース】入力欄!J211)","v":""},{"$f":"IF(【ルース】入力欄!M211=\"\",\"\",【ルース】入力欄!M211)","v":""}]
["７",{"$f":"IF(【ルース】入力欄!E212=\"\",\"\",【ルース】入力欄!E212)","v":""},{"$f":"IF(【ルース】入力欄!F212=\"\",\"\",【ルース】入力欄!F212)","v":""},{"$f":"IF(【ルース】入力欄!G212=\"\",\"\",【ルース】入力欄!G212)","v":""},{"$f":"IF(【ルース】入力欄!H212=\"\",\"\",【ルース】入力欄!H212)","v":""},{"$f":"IF(【ルース】入力欄!I212=\"\",\"\",【ルース】入力欄!I212)","v":""},{"$f":"IF(【ルース】入力欄!K212=\"\",\"\",【ルース】入力欄!K212)","v":""},{"$f":"IF(【ルース】入力欄!J212=\"\",\"\",【ルース】入力欄!J212)","v":""},{"$f":"IF(【ルース】入力欄!M212=\"\",\"\",【ルース】入力欄!M212)","v":""}]
["８",{"$f":"IF(【ルース】入力欄!E213=\"\",\"\",【ルース】入力欄!E213)","v":""},{"$f":"IF(【ルース】入力欄!F213=\"\",\"\",【ルース】入力欄!F213)","v":""},{"$f":"IF(【ルース】入力欄!G213=\"\",\"\",【ルース】入力欄!G213)","v":""},{"$f":"IF(【ルース】入力欄!H213=\"\",\"\",【ルース】入力欄!H213)","v":""},{"$f":"IF(【ルース】入力欄!I213=\"\",\"\",【ルース】入力欄!I213)","v":""},{"$f":"IF(【ルース】入力欄!K213=\"\",\"\",【ルース】入力欄!K213)","v":""},{"$f":"IF(【ルース】入力欄!J213=\"\",\"\",【ルース】入力欄!J213)","v":""},{"$f":"IF(【ルース】入力欄!M213=\"\",\"\",【ルース】入力欄!M213)","v":""}]
["９",{"$f":"IF(【ルース】入力欄!E214=\"\",\"\",【ルース】入力欄!E214)","v":""},{"$f":"IF(【ルース】入力欄!F214=\"\",\"\",【ルース】入力欄!F214)","v":""},{"$f":"IF(【ルース】入力欄!G214=\"\",\"\",【ルース】入力欄!G214)","v":""},{"$f":"IF(【ルース】入力欄!H214=\"\",\"\",【ルース】入力欄!H214)","v":""},{"$f":"IF(【ルース】入力欄!I214=\"\",\"\",【ルース】入力欄!I214)","v":""},{"$f":"IF(【ルース】入力欄!K214=\"\",\"\",【ルース】入力欄!K214)","v":""},{"$f":"IF(【ルース】入力欄!J214=\"\",\"\",【ルース】入力欄!J214)","v":""},{"$f":"IF(【ルース】入力欄!M214=\"\",\"\",【ルース】入力欄!M214)","v":""}]
["１０",{"$f":"IF(【ルース】入力欄!E215=\"\",\"\",【ルース】入力欄!E215)","v":""},{"$f":"IF(【ルース】入力欄!F215=\"\",\"\",【ルース】入力欄!F215)","v":""},{"$f":"IF(【ルース】入力欄!G215=\"\",\"\",【ルース】入力欄!G215)","v":""},{"$f":"IF(【ルース】入力欄!H215=\"\",\"\",【ルース】入力欄!H215)","v":""},{"$f":"IF(【ルース】入力欄!I215=\"\",\"\",【ルース】入力欄!I215)","v":""},{"$f":"IF(【ルース】入力欄!K215=\"\",\"\",【ルース】入力欄!K215)","v":""},{"$f":"IF(【ルース】入力欄!J215=\"\",\"\",【ルース】入力欄!J215)","v":""},{"$f":"IF(【ルース】入力欄!M215=\"\",\"\",【ルース】入力欄!M215)","v":""}]
[]
[null,{"$f":"CONCATENATE(\"出品表　（　\",【ルース】入力欄!I$3,\"　大吉オークション　ルース）\")","v":"出品表　（　　大吉オークション　ルース）"}]
[]
[null,"箱番：",{"$f":"IF(【ルース】入力欄!C216=\"\",\"\",【ルース】入力欄!C216)","v":""},null,null,"※太枠の中をご記入ください",null,"会社名",{"$f":"IF(【ルース】入力欄!C$3=\"\",\"\",【ルース】入力欄!C$3)","v":""}]
[]
["番号","ｃｔ","カラー","クラリティ","カット","蛍光性","備考","付属品","指値\n（2万円以上）","発句"]
["１",{"$f":"IF(【ルース】入力欄!E216=\"\",\"\",【ルース】入力欄!E216)","v":""},{"$f":"IF(【ルース】入力欄!F216=\"\",\"\",【ルース】入力欄!F216)","v":""},{"$f":"IF(【ルース】入力欄!G216=\"\",\"\",【ルース】入力欄!G216)","v":""},{"$f":"IF(【ルース】入力欄!H216=\"\",\"\",【ルース】入力欄!H216)","v":""},{"$f":"IF(【ルース】入力欄!I216=\"\",\"\",【ルース】入力欄!I216)","v":""},{"$f":"IF(【ルース】入力欄!K216=\"\",\"\",【ルース】入力欄!K216)","v":""},{"$f":"IF(【ルース】入力欄!J216=\"\",\"\",【ルース】入力欄!J216)","v":""},{"$f":"IF(【ルース】入力欄!M216=\"\",\"\",【ルース】入力欄!M216)","v":""}]
["２",{"$f":"IF(【ルース】入力欄!E217=\"\",\"\",【ルース】入力欄!E217)","v":""},{"$f":"IF(【ルース】入力欄!F217=\"\",\"\",【ルース】入力欄!F217)","v":""},{"$f":"IF(【ルース】入力欄!G217=\"\",\"\",【ルース】入力欄!G217)","v":""},{"$f":"IF(【ルース】入力欄!H217=\"\",\"\",【ルース】入力欄!H217)","v":""},{"$f":"IF(【ルース】入力欄!I217=\"\",\"\",【ルース】入力欄!I217)","v":""},{"$f":"IF(【ルース】入力欄!K217=\"\",\"\",【ルース】入力欄!K217)","v":""},{"$f":"IF(【ルース】入力欄!J217=\"\",\"\",【ルース】入力欄!J217)","v":""},{"$f":"IF(【ルース】入力欄!M217=\"\",\"\",【ルース】入力欄!M217)","v":""}]
["３",{"$f":"IF(【ルース】入力欄!E218=\"\",\"\",【ルース】入力欄!E218)","v":""},{"$f":"IF(【ルース】入力欄!F218=\"\",\"\",【ルース】入力欄!F218)","v":""},{"$f":"IF(【ルース】入力欄!G218=\"\",\"\",【ルース】入力欄!G218)","v":""},{"$f":"IF(【ルース】入力欄!H218=\"\",\"\",【ルース】入力欄!H218)","v":""},{"$f":"IF(【ルース】入力欄!I218=\"\",\"\",【ルース】入力欄!I218)","v":""},{"$f":"IF(【ルース】入力欄!K218=\"\",\"\",【ルース】入力欄!K218)","v":""},{"$f":"IF(【ルース】入力欄!J218=\"\",\"\",【ルース】入力欄!J218)","v":""},{"$f":"IF(【ルース】入力欄!M218=\"\",\"\",【ルース】入力欄!M218)","v":""}]
["４",{"$f":"IF(【ルース】入力欄!E219=\"\",\"\",【ルース】入力欄!E219)","v":""},{"$f":"IF(【ルース】入力欄!F219=\"\",\"\",【ルース】入力欄!F219)","v":""},{"$f":"IF(【ルース】入力欄!G219=\"\",\"\",【ルース】入力欄!G219)","v":""},{"$f":"IF(【ルース】入力欄!H219=\"\",\"\",【ルース】入力欄!H219)","v":""},{"$f":"IF(【ルース】入力欄!I219=\"\",\"\",【ルース】入力欄!I219)","v":""},{"$f":"IF(【ルース】入力欄!K219=\"\",\"\",【ルース】入力欄!K219)","v":""},{"$f":"IF(【ルース】入力欄!J219=\"\",\"\",【ルース】入力欄!J219)","v":""},{"$f":"IF(【ルース】入力欄!M219=\"\",\"\",【ルース】入力欄!M219)","v":""}]
["５",{"$f":"IF(【ルース】入力欄!E220=\"\",\"\",【ルース】入力欄!E220)","v":""},{"$f":"IF(【ルース】入力欄!F220=\"\",\"\",【ルース】入力欄!F220)","v":""},{"$f":"IF(【ルース】入力欄!G220=\"\",\"\",【ルース】入力欄!G220)","v":""},{"$f":"IF(【ルース】入力欄!H220=\"\",\"\",【ルース】入力欄!H220)","v":""},{"$f":"IF(【ルース】入力欄!I220=\"\",\"\",【ルース】入力欄!I220)","v":""},{"$f":"IF(【ルース】入力欄!K220=\"\",\"\",【ルース】入力欄!K220)","v":""},{"$f":"IF(【ルース】入力欄!J220=\"\",\"\",【ルース】入力欄!J220)","v":""},{"$f":"IF(【ルース】入力欄!M220=\"\",\"\",【ルース】入力欄!M220)","v":""}]
["６",{"$f":"IF(【ルース】入力欄!E221=\"\",\"\",【ルース】入力欄!E221)","v":""},{"$f":"IF(【ルース】入力欄!F221=\"\",\"\",【ルース】入力欄!F221)","v":""},{"$f":"IF(【ルース】入力欄!G221=\"\",\"\",【ルース】入力欄!G221)","v":""},{"$f":"IF(【ルース】入力欄!H221=\"\",\"\",【ルース】入力欄!H221)","v":""},{"$f":"IF(【ルース】入力欄!I221=\"\",\"\",【ルース】入力欄!I221)","v":""},{"$f":"IF(【ルース】入力欄!K221=\"\",\"\",【ルース】入力欄!K221)","v":""},{"$f":"IF(【ルース】入力欄!J221=\"\",\"\",【ルース】入力欄!J221)","v":""},{"$f":"IF(【ルース】入力欄!M221=\"\",\"\",【ルース】入力欄!M221)","v":""}]
["７",{"$f":"IF(【ルース】入力欄!E222=\"\",\"\",【ルース】入力欄!E222)","v":""},{"$f":"IF(【ルース】入力欄!F222=\"\",\"\",【ルース】入力欄!F222)","v":""},{"$f":"IF(【ルース】入力欄!G222=\"\",\"\",【ルース】入力欄!G222)","v":""},{"$f":"IF(【ルース】入力欄!H222=\"\",\"\",【ルース】入力欄!H222)","v":""},{"$f":"IF(【ルース】入力欄!I222=\"\",\"\",【ルース】入力欄!I222)","v":""},{"$f":"IF(【ルース】入力欄!K222=\"\",\"\",【ルース】入力欄!K222)","v":""},{"$f":"IF(【ルース】入力欄!J222=\"\",\"\",【ルース】入力欄!J222)","v":""},{"$f":"IF(【ルース】入力欄!M222=\"\",\"\",【ルース】入力欄!M222)","v":""}]
["８",{"$f":"IF(【ルース】入力欄!E223=\"\",\"\",【ルース】入力欄!E223)","v":""},{"$f":"IF(【ルース】入力欄!F223=\"\",\"\",【ルース】入力欄!F223)","v":""},{"$f":"IF(【ルース】入力欄!G223=\"\",\"\",【ルース】入力欄!G223)","v":""},{"$f":"IF(【ルース】入力欄!H223=\"\",\"\",【ルース】入力欄!H223)","v":""},{"$f":"IF(【ルース】入力欄!I223=\"\",\"\",【ルース】入力欄!I223)","v":""},{"$f":"IF(【ルース】入力欄!K223=\"\",\"\",【ルース】入力欄!K223)","v":""},{"$f":"IF(【ルース】入力欄!J223=\"\",\"\",【ルース】入力欄!J223)","v":""},{"$f":"IF(【ルース】入力欄!M223=\"\",\"\",【ルース】入力欄!M223)","v":""}]
["９",{"$f":"IF(【ルース】入力欄!E224=\"\",\"\",【ルース】入力欄!E224)","v":""},{"$f":"IF(【ルース】入力欄!F224=\"\",\"\",【ルース】入力欄!F224)","v":""},{"$f":"IF(【ルース】入力欄!G224=\"\",\"\",【ルース】入力欄!G224)","v":""},{"$f":"IF(【ルース】入力欄!H224=\"\",\"\",【ルース】入力欄!H224)","v":""},{"$f":"IF(【ルース】入力欄!I224=\"\",\"\",【ルース】入力欄!I224)","v":""},{"$f":"IF(【ルース】入力欄!K224=\"\",\"\",【ルース】入力欄!K224)","v":""},{"$f":"IF(【ルース】入力欄!J224=\"\",\"\",【ルース】入力欄!J224)","v":""},{"$f":"IF(【ルース】入力欄!M224=\"\",\"\",【ルース】入力欄!M224)","v":""}]
["１０",{"$f":"IF(【ルース】入力欄!E225=\"\",\"\",【ルース】入力欄!E225)","v":""},{"$f":"IF(【ルース】入力欄!F225=\"\",\"\",【ルース】入力欄!F225)","v":""},{"$f":"IF(【ルース】入力欄!G225=\"\",\"\",【ルース】入力欄!G225)","v":""},{"$f":"IF(【ルース】入力欄!H225=\"\",\"\",【ルース】入力欄!H225)","v":""},{"$f":"IF(【ルース】入力欄!I225=\"\",\"\",【ルース】入力欄!I225)","v":""},{"$f":"IF(【ルース】入力欄!K225=\"\",\"\",【ルース】入力欄!K225)","v":""},{"$f":"IF(【ルース】入力欄!J225=\"\",\"\",【ルース】入力欄!J225)","v":""},{"$f":"IF(【ルース】入力欄!M225=\"\",\"\",【ルース】入力欄!M225)","v":""}]
[]
[null,{"$f":"CONCATENATE(\"出品表　（　\",【ルース】入力欄!I$3,\"　大吉オークション　ルース）\")","v":"出品表　（　　大吉オークション　ルース）"}]
[]
[null,"箱番：",{"$f":"IF(【ルース】入力欄!C226=\"\",\"\",【ルース】入力欄!C226)","v":""},null,null,"※太枠の中をご記入ください",null,"会社名",{"$f":"IF(【ルース】入力欄!C$3=\"\",\"\",【ルース】入力欄!C$3)","v":""}]
[]
["番号","ｃｔ","カラー","クラリティ","カット","蛍光性","備考","付属品","指値\n（2万円以上）","発句"]
["１",{"$f":"IF(【ルース】入力欄!E226=\"\",\"\",【ルース】入力欄!E226)","v":""},{"$f":"IF(【ルース】入力欄!F226=\"\",\"\",【ルース】入力欄!F226)","v":""},{"$f":"IF(【ルース】入力欄!G226=\"\",\"\",【ルース】入力欄!G226)","v":""},{"$f":"IF(【ルース】入力欄!H226=\"\",\"\",【ルース】入力欄!H226)","v":""},{"$f":"IF(【ルース】入力欄!I226=\"\",\"\",【ルース】入力欄!I226)","v":""},{"$f":"IF(【ルース】入力欄!K226=\"\",\"\",【ルース】入力欄!K226)","v":""},{"$f":"IF(【ルース】入力欄!J226=\"\",\"\",【ルース】入力欄!J226)","v":""},{"$f":"IF(【ルース】入力欄!M226=\"\",\"\",【ルース】入力欄!M226)","v":""}]
["２",{"$f":"IF(【ルース】入力欄!E227=\"\",\"\",【ルース】入力欄!E227)","v":""},{"$f":"IF(【ルース】入力欄!F227=\"\",\"\",【ルース】入力欄!F227)","v":""},{"$f":"IF(【ルース】入力欄!G227=\"\",\"\",【ルース】入力欄!G227)","v":""},{"$f":"IF(【ルース】入力欄!H227=\"\",\"\",【ルース】入力欄!H227)","v":""},{"$f":"IF(【ルース】入力欄!I227=\"\",\"\",【ルース】入力欄!I227)","v":""},{"$f":"IF(【ルース】入力欄!K227=\"\",\"\",【ルース】入力欄!K227)","v":""},{"$f":"IF(【ルース】入力欄!J227=\"\",\"\",【ルース】入力欄!J227)","v":""},{"$f":"IF(【ルース】入力欄!M227=\"\",\"\",【ルース】入力欄!M227)","v":""}]
["３",{"$f":"IF(【ルース】入力欄!E228=\"\",\"\",【ルース】入力欄!E228)","v":""},{"$f":"IF(【ルース】入力欄!F228=\"\",\"\",【ルース】入力欄!F228)","v":""},{"$f":"IF(【ルース】入力欄!G228=\"\",\"\",【ルース】入力欄!G228)","v":""},{"$f":"IF(【ルース】入力欄!H228=\"\",\"\",【ルース】入力欄!H228)","v":""},{"$f":"IF(【ルース】入力欄!I228=\"\",\"\",【ルース】入力欄!I228)","v":""},{"$f":"IF(【ルース】入力欄!K228=\"\",\"\",【ルース】入力欄!K228)","v":""},{"$f":"IF(【ルース】入力欄!J228=\"\",\"\",【ルース】入力欄!J228)","v":""},{"$f":"IF(【ルース】入力欄!M228=\"\",\"\",【ルース】入力欄!M228)","v":""}]
["４",{"$f":"IF(【ルース】入力欄!E229=\"\",\"\",【ルース】入力欄!E229)","v":""},{"$f":"IF(【ルース】入力欄!F229=\"\",\"\",【ルース】入力欄!F229)","v":""},{"$f":"IF(【ルース】入力欄!G229=\"\",\"\",【ルース】入力欄!G229)","v":""},{"$f":"IF(【ルース】入力欄!H229=\"\",\"\",【ルース】入力欄!H229)","v":""},{"$f":"IF(【ルース】入力欄!I229=\"\",\"\",【ルース】入力欄!I229)","v":""},{"$f":"IF(【ルース】入力欄!K229=\"\",\"\",【ルース】入力欄!K229)","v":""},{"$f":"IF(【ルース】入力欄!J229=\"\",\"\",【ルース】入力欄!J229)","v":""},{"$f":"IF(【ルース】入力欄!M229=\"\",\"\",【ルース】入力欄!M229)","v":""}]
["５",{"$f":"IF(【ルース】入力欄!E230=\"\",\"\",【ルース】入力欄!E230)","v":""},{"$f":"IF(【ルース】入力欄!F230=\"\",\"\",【ルース】入力欄!F230)","v":""},{"$f":"IF(【ルース】入力欄!G230=\"\",\"\",【ルース】入力欄!G230)","v":""},{"$f":"IF(【ルース】入力欄!H230=\"\",\"\",【ルース】入力欄!H230)","v":""},{"$f":"IF(【ルース】入力欄!I230=\"\",\"\",【ルース】入力欄!I230)","v":""},{"$f":"IF(【ルース】入力欄!K230=\"\",\"\",【ルース】入力欄!K230)","v":""},{"$f":"IF(【ルース】入力欄!J230=\"\",\"\",【ルース】入力欄!J230)","v":""},{"$f":"IF(【ルース】入力欄!M230=\"\",\"\",【ルース】入力欄!M230)","v":""}]
["６",{"$f":"IF(【ルース】入力欄!E231=\"\",\"\",【ルース】入力欄!E231)","v":""},{"$f":"IF(【ルース】入力欄!F231=\"\",\"\",【ルース】入力欄!F231)","v":""},{"$f":"IF(【ルース】入力欄!G231=\"\",\"\",【ルース】入力欄!G231)","v":""},{"$f":"IF(【ルース】入力欄!H231=\"\",\"\",【ルース】入力欄!H231)","v":""},{"$f":"IF(【ルース】入力欄!I231=\"\",\"\",【ルース】入力欄!I231)","v":""},{"$f":"IF(【ルース】入力欄!K231=\"\",\"\",【ルース】入力欄!K231)","v":""},{"$f":"IF(【ルース】入力欄!J231=\"\",\"\",【ルース】入力欄!J231)","v":""},{"$f":"IF(【ルース】入力欄!M231=\"\",\"\",【ルース】入力欄!M231)","v":""}]
["７",{"$f":"IF(【ルース】入力欄!E232=\"\",\"\",【ルース】入力欄!E232)","v":""},{"$f":"IF(【ルース】入力欄!F232=\"\",\"\",【ルース】入力欄!F232)","v":""},{"$f":"IF(【ルース】入力欄!G232=\"\",\"\",【ルース】入力欄!G232)","v":""},{"$f":"IF(【ルース】入力欄!H232=\"\",\"\",【ルース】入力欄!H232)","v":""},{"$f":"IF(【ルース】入力欄!I232=\"\",\"\",【ルース】入力欄!I232)","v":""},{"$f":"IF(【ルース】入力欄!K232=\"\",\"\",【ルース】入力欄!K232)","v":""},{"$f":"IF(【ルース】入力欄!J232=\"\",\"\",【ルース】入力欄!J232)","v":""},{"$f":"IF(【ルース】入力欄!M232=\"\",\"\",【ルース】入力欄!M232)","v":""}]
["８",{"$f":"IF(【ルース】入力欄!E233=\"\",\"\",【ルース】入力欄!E233)","v":""},{"$f":"IF(【ルース】入力欄!F233=\"\",\"\",【ルース】入力欄!F233)","v":""},{"$f":"IF(【ルース】入力欄!G233=\"\",\"\",【ルース】入力欄!G233)","v":""},{"$f":"IF(【ルース】入力欄!H233=\"\",\"\",【ルース】入力欄!H233)","v":""},{"$f":"IF(【ルース】入力欄!I233=\"\",\"\",【ルース】入力欄!I233)","v":""},{"$f":"IF(【ルース】入力欄!K233=\"\",\"\",【ルース】入力欄!K233)","v":""},{"$f":"IF(【ルース】入力欄!J233=\"\",\"\",【ルース】入力欄!J233)","v":""},{"$f":"IF(【ルース】入力欄!M233=\"\",\"\",【ルース】入力欄!M233)","v":""}]
["９",{"$f":"IF(【ルース】入力欄!E234=\"\",\"\",【ルース】入力欄!E234)","v":""},{"$f":"IF(【ルース】入力欄!F234=\"\",\"\",【ルース】入力欄!F234)","v":""},{"$f":"IF(【ルース】入力欄!G234=\"\",\"\",【ルース】入力欄!G234)","v":""},{"$f":"IF(【ルース】入力欄!H234=\"\",\"\",【ルース】入力欄!H234)","v":""},{"$f":"IF(【ルース】入力欄!I234=\"\",\"\",【ルース】入力欄!I234)","v":""},{"$f":"IF(【ルース】入力欄!K234=\"\",\"\",【ルース】入力欄!K234)","v":""},{"$f":"IF(【ルース】入力欄!J234=\"\",\"\",【ルース】入力欄!J234)","v":""},{"$f":"IF(【ルース】入力欄!M234=\"\",\"\",【ルース】入力欄!M234)","v":""}]
["１０",{"$f":"IF(【ルース】入力欄!E235=\"\",\"\",【ルース】入力欄!E235)","v":""},{"$f":"IF(【ルース】入力欄!F235=\"\",\"\",【ルース】入力欄!F235)","v":""},{"$f":"IF(【ルース】入力欄!G235=\"\",\"\",【ルース】入力欄!G235)","v":""},{"$f":"IF(【ルース】入力欄!H235=\"\",\"\",【ルース】入力欄!H235)","v":""},{"$f":"IF(【ルース】入力欄!I235=\"\",\"\",【ルース】入力欄!I235)","v":""},{"$f":"IF(【ルース】入力欄!K235=\"\",\"\",【ルース】入力欄!K235)","v":""},{"$f":"IF(【ルース】入力欄!J235=\"\",\"\",【ルース】入力欄!J235)","v":""},{"$f":"IF(【ルース】入力欄!M235=\"\",\"\",【ルース】入力欄!M235)","v":""}]
[]
[null,{"$f":"CONCATENATE(\"出品表　（　\",【ルース】入力欄!I$3,\"　大吉オークション　ルース）\")","v":"出品表　（　　大吉オークション　ルース）"}]
[]
[null,"箱番：",{"$f":"IF(【ルース】入力欄!C236=\"\",\"\",【ルース】入力欄!C236)","v":""},null,null,"※太枠の中をご記入ください",null,"会社名",{"$f":"IF(【ルース】入力欄!C$3=\"\",\"\",【ルース】入力欄!C$3)","v":""}]
[]
["番号","ｃｔ","カラー","クラリティ","カット","蛍光性","備考","付属品","指値\n（2万円以上）","発句"]
["１",{"$f":"IF(【ルース】入力欄!E236=\"\",\"\",【ルース】入力欄!E236)","v":""},{"$f":"IF(【ルース】入力欄!F236=\"\",\"\",【ルース】入力欄!F236)","v":""},{"$f":"IF(【ルース】入力欄!G236=\"\",\"\",【ルース】入力欄!G236)","v":""},{"$f":"IF(【ルース】入力欄!H236=\"\",\"\",【ルース】入力欄!H236)","v":""},{"$f":"IF(【ルース】入力欄!I236=\"\",\"\",【ルース】入力欄!I236)","v":""},{"$f":"IF(【ルース】入力欄!K236=\"\",\"\",【ルース】入力欄!K236)","v":""},{"$f":"IF(【ルース】入力欄!J236=\"\",\"\",【ルース】入力欄!J236)","v":""},{"$f":"IF(【ルース】入力欄!M236=\"\",\"\",【ルース】入力欄!M236)","v":""}]
["２",{"$f":"IF(【ルース】入力欄!E237=\"\",\"\",【ルース】入力欄!E237)","v":""},{"$f":"IF(【ルース】入力欄!F237=\"\",\"\",【ルース】入力欄!F237)","v":""},{"$f":"IF(【ルース】入力欄!G237=\"\",\"\",【ルース】入力欄!G237)","v":""},{"$f":"IF(【ルース】入力欄!H237=\"\",\"\",【ルース】入力欄!H237)","v":""},{"$f":"IF(【ルース】入力欄!I237=\"\",\"\",【ルース】入力欄!I237)","v":""},{"$f":"IF(【ルース】入力欄!K237=\"\",\"\",【ルース】入力欄!K237)","v":""},{"$f":"IF(【ルース】入力欄!J237=\"\",\"\",【ルース】入力欄!J237)","v":""},{"$f":"IF(【ルース】入力欄!M237=\"\",\"\",【ルース】入力欄!M237)","v":""}]
["３",{"$f":"IF(【ルース】入力欄!E238=\"\",\"\",【ルース】入力欄!E238)","v":""},{"$f":"IF(【ルース】入力欄!F238=\"\",\"\",【ルース】入力欄!F238)","v":""},{"$f":"IF(【ルース】入力欄!G238=\"\",\"\",【ルース】入力欄!G238)","v":""},{"$f":"IF(【ルース】入力欄!H238=\"\",\"\",【ルース】入力欄!H238)","v":""},{"$f":"IF(【ルース】入力欄!I238=\"\",\"\",【ルース】入力欄!I238)","v":""},{"$f":"IF(【ルース】入力欄!K238=\"\",\"\",【ルース】入力欄!K238)","v":""},{"$f":"IF(【ルース】入力欄!J238=\"\",\"\",【ルース】入力欄!J238)","v":""},{"$f":"IF(【ルース】入力欄!M238=\"\",\"\",【ルース】入力欄!M238)","v":""}]
["４",{"$f":"IF(【ルース】入力欄!E239=\"\",\"\",【ルース】入力欄!E239)","v":""},{"$f":"IF(【ルース】入力欄!F239=\"\",\"\",【ルース】入力欄!F239)","v":""},{"$f":"IF(【ルース】入力欄!G239=\"\",\"\",【ルース】入力欄!G239)","v":""},{"$f":"IF(【ルース】入力欄!H239=\"\",\"\",【ルース】入力欄!H239)","v":""},{"$f":"IF(【ルース】入力欄!I239=\"\",\"\",【ルース】入力欄!I239)","v":""},{"$f":"IF(【ルース】入力欄!K239=\"\",\"\",【ルース】入力欄!K239)","v":""},{"$f":"IF(【ルース】入力欄!J239=\"\",\"\",【ルース】入力欄!J239)","v":""},{"$f":"IF(【ルース】入力欄!M239=\"\",\"\",【ルース】入力欄!M239)","v":""}]
["５",{"$f":"IF(【ルース】入力欄!E240=\"\",\"\",【ルース】入力欄!E240)","v":""},{"$f":"IF(【ルース】入力欄!F240=\"\",\"\",【ルース】入力欄!F240)","v":""},{"$f":"IF(【ルース】入力欄!G240=\"\",\"\",【ルース】入力欄!G240)","v":""},{"$f":"IF(【ルース】入力欄!H240=\"\",\"\",【ルース】入力欄!H240)","v":""},{"$f":"IF(【ルース】入力欄!I240=\"\",\"\",【ルース】入力欄!I240)","v":""},{"$f":"IF(【ルース】入力欄!K240=\"\",\"\",【ルース】入力欄!K240)","v":""},{"$f":"IF(【ルース】入力欄!J240=\"\",\"\",【ルース】入力欄!J240)","v":""},{"$f":"IF(【ルース】入力欄!M240=\"\",\"\",【ルース】入力欄!M240)","v":""}]
["６",{"$f":"IF(【ルース】入力欄!E241=\"\",\"\",【ルース】入力欄!E241)","v":""},{"$f":"IF(【ルース】入力欄!F241=\"\",\"\",【ルース】入力欄!F241)","v":""},{"$f":"IF(【ルース】入力欄!G241=\"\",\"\",【ルース】入力欄!G241)","v":""},{"$f":"IF(【ルース】入力欄!H241=\"\",\"\",【ルース】入力欄!H241)","v":""},{"$f":"IF(【ルース】入力欄!I241=\"\",\"\",【ルース】入力欄!I241)","v":""},{"$f":"IF(【ルース】入力欄!K241=\"\",\"\",【ルース】入力欄!K241)","v":""},{"$f":"IF(【ルース】入力欄!J241=\"\",\"\",【ルース】入力欄!J241)","v":""},{"$f":"IF(【ルース】入力欄!M241=\"\",\"\",【ルース】入力欄!M241)","v":""}]
["７",{"$f":"IF(【ルース】入力欄!E242=\"\",\"\",【ルース】入力欄!E242)","v":""},{"$f":"IF(【ルース】入力欄!F242=\"\",\"\",【ルース】入力欄!F242)","v":""},{"$f":"IF(【ルース】入力欄!G242=\"\",\"\",【ルース】入力欄!G242)","v":""},{"$f":"IF(【ルース】入力欄!H242=\"\",\"\",【ルース】入力欄!H242)","v":""},{"$f":"IF(【ルース】入力欄!I242=\"\",\"\",【ルース】入力欄!I242)","v":""},{"$f":"IF(【ルース】入力欄!K242=\"\",\"\",【ルース】入力欄!K242)","v":""},{"$f":"IF(【ルース】入力欄!J242=\"\",\"\",【ルース】入力欄!J242)","v":""},{"$f":"IF(【ルース】入力欄!M242=\"\",\"\",【ルース】入力欄!M242)","v":""}]
["８",{"$f":"IF(【ルース】入力欄!E243=\"\",\"\",【ルース】入力欄!E243)","v":""},{"$f":"IF(【ルース】入力欄!F243=\"\",\"\",【ルース】入力欄!F243)","v":""},{"$f":"IF(【ルース】入力欄!G243=\"\",\"\",【ルース】入力欄!G243)","v":""},{"$f":"IF(【ルース】入力欄!H243=\"\",\"\",【ルース】入力欄!H243)","v":""},{"$f":"IF(【ルース】入力欄!I243=\"\",\"\",【ルース】入力欄!I243)","v":""},{"$f":"IF(【ルース】入力欄!K243=\"\",\"\",【ルース】入力欄!K243)","v":""},{"$f":"IF(【ルース】入力欄!J243=\"\",\"\",【ルース】入力欄!J243)","v":""},{"$f":"IF(【ルース】入力欄!M243=\"\",\"\",【ルース】入力欄!M243)","v":""}]
["９",{"$f":"IF(【ルース】入力欄!E244=\"\",\"\",【ルース】入力欄!E244)","v":""},{"$f":"IF(【ルース】入力欄!F244=\"\",\"\",【ルース】入力欄!F244)","v":""},{"$f":"IF(【ルース】入力欄!G244=\"\",\"\",【ルース】入力欄!G244)","v":""},{"$f":"IF(【ルース】入力欄!H244=\"\",\"\",【ルース】入力欄!H244)","v":""},{"$f":"IF(【ルース】入力欄!I244=\"\",\"\",【ルース】入力欄!I244)","v":""},{"$f":"IF(【ルース】入力欄!K244=\"\",\"\",【ルース】入力欄!K244)","v":""},{"$f":"IF(【ルース】入力欄!J244=\"\",\"\",【ルース】入力欄!J244)","v":""},{"$f":"IF(【ルース】入力欄!M244=\"\",\"\",【ルース】入力欄!M244)","v":""}]
["１０",{"$f":"IF(【ルース】入力欄!E245=\"\",\"\",【ルース】入力欄!E245)","v":""},{"$f":"IF(【ルース】入力欄!F245=\"\",\"\",【ルース】入力欄!F245)","v":""},{"$f":"IF(【ルース】入力欄!G245=\"\",\"\",【ルース】入力欄!G245)","v":""},{"$f":"IF(【ルース】入力欄!H245=\"\",\"\",【ルース】入力欄!H245)","v":""},{"$f":"IF(【ルース】入力欄!I245=\"\",\"\",【ルース】入力欄!I245)","v":""},{"$f":"IF(【ルース】入力欄!K245=\"\",\"\",【ルース】入力欄!K245)","v":""},{"$f":"IF(【ルース】入力欄!J245=\"\",\"\",【ルース】入力欄!J245)","v":""},{"$f":"IF(【ルース】入力欄!M245=\"\",\"\",【ルース】入力欄!M245)","v":""}]
[]
[null,{"$f":"CONCATENATE(\"出品表　（　\",【ルース】入力欄!I$3,\"　大吉オークション　ルース）\")","v":"出品表　（　　大吉オークション　ルース）"}]
[]
[null,"箱番：",{"$f":"IF(【ルース】入力欄!C246=\"\",\"\",【ルース】入力欄!C246)","v":""},null,null,"※太枠の中をご記入ください",null,"会社名",{"$f":"IF(【ルース】入力欄!C$3=\"\",\"\",【ルース】入力欄!C$3)","v":""}]
[]
["番号","ｃｔ","カラー","クラリティ","カット","蛍光性","備考","付属品","指値\n（2万円以上）","発句"]
["１",{"$f":"IF(【ルース】入力欄!E246=\"\",\"\",【ルース】入力欄!E246)","v":""},{"$f":"IF(【ルース】入力欄!F246=\"\",\"\",【ルース】入力欄!F246)","v":""},{"$f":"IF(【ルース】入力欄!G246=\"\",\"\",【ルース】入力欄!G246)","v":""},{"$f":"IF(【ルース】入力欄!H246=\"\",\"\",【ルース】入力欄!H246)","v":""},{"$f":"IF(【ルース】入力欄!I246=\"\",\"\",【ルース】入力欄!I246)","v":""},{"$f":"IF(【ルース】入力欄!K246=\"\",\"\",【ルース】入力欄!K246)","v":""},{"$f":"IF(【ルース】入力欄!J246=\"\",\"\",【ルース】入力欄!J246)","v":""},{"$f":"IF(【ルース】入力欄!M246=\"\",\"\",【ルース】入力欄!M246)","v":""}]
["２",{"$f":"IF(【ルース】入力欄!E247=\"\",\"\",【ルース】入力欄!E247)","v":""},{"$f":"IF(【ルース】入力欄!F247=\"\",\"\",【ルース】入力欄!F247)","v":""},{"$f":"IF(【ルース】入力欄!G247=\"\",\"\",【ルース】入力欄!G247)","v":""},{"$f":"IF(【ルース】入力欄!H247=\"\",\"\",【ルース】入力欄!H247)","v":""},{"$f":"IF(【ルース】入力欄!I247=\"\",\"\",【ルース】入力欄!I247)","v":""},{"$f":"IF(【ルース】入力欄!K247=\"\",\"\",【ルース】入力欄!K247)","v":""},{"$f":"IF(【ルース】入力欄!J247=\"\",\"\",【ルース】入力欄!J247)","v":""},{"$f":"IF(【ルース】入力欄!M247=\"\",\"\",【ルース】入力欄!M247)","v":""}]
["３",{"$f":"IF(【ルース】入力欄!E248=\"\",\"\",【ルース】入力欄!E248)","v":""},{"$f":"IF(【ルース】入力欄!F248=\"\",\"\",【ルース】入力欄!F248)","v":""},{"$f":"IF(【ルース】入力欄!G248=\"\",\"\",【ルース】入力欄!G248)","v":""},{"$f":"IF(【ルース】入力欄!H248=\"\",\"\",【ルース】入力欄!H248)","v":""},{"$f":"IF(【ルース】入力欄!I248=\"\",\"\",【ルース】入力欄!I248)","v":""},{"$f":"IF(【ルース】入力欄!K248=\"\",\"\",【ルース】入力欄!K248)","v":""},{"$f":"IF(【ルース】入力欄!J248=\"\",\"\",【ルース】入力欄!J248)","v":""},{"$f":"IF(【ルース】入力欄!M248=\"\",\"\",【ルース】入力欄!M248)","v":""}]
["４",{"$f":"IF(【ルース】入力欄!E249=\"\",\"\",【ルース】入力欄!E249)","v":""},{"$f":"IF(【ルース】入力欄!F249=\"\",\"\",【ルース】入力欄!F249)","v":""},{"$f":"IF(【ルース】入力欄!G249=\"\",\"\",【ルース】入力欄!G249)","v":""},{"$f":"IF(【ルース】入力欄!H249=\"\",\"\",【ルース】入力欄!H249)","v":""},{"$f":"IF(【ルース】入力欄!I249=\"\",\"\",【ルース】入力欄!I249)","v":""},{"$f":"IF(【ルース】入力欄!K249=\"\",\"\",【ルース】入力欄!K249)","v":""},{"$f":"IF(【ルース】入力欄!J249=\"\",\"\",【ルース】入力欄!J249)","v":""},{"$f":"IF(【ルース】入力欄!M249=\"\",\"\",【ルース】入力欄!M249)","v":""}]
["５",{"$f":"IF(【ルース】入力欄!E250=\"\",\"\",【ルース】入力欄!E250)","v":""},{"$f":"IF(【ルース】入力欄!F250=\"\",\"\",【ルース】入力欄!F250)","v":""},{"$f":"IF(【ルース】入力欄!G250=\"\",\"\",【ルース】入力欄!G250)","v":""},{"$f":"IF(【ルース】入力欄!H250=\"\",\"\",【ルース】入力欄!H250)","v":""},{"$f":"IF(【ルース】入力欄!I250=\"\",\"\",【ルース】入力欄!I250)","v":""},{"$f":"IF(【ルース】入力欄!K250=\"\",\"\",【ルース】入力欄!K250)","v":""},{"$f":"IF(【ルース】入力欄!J250=\"\",\"\",【ルース】入力欄!J250)","v":""},{"$f":"IF(【ルース】入力欄!M250=\"\",\"\",【ルース】入力欄!M250)","v":""}]
["６",{"$f":"IF(【ルース】入力欄!E251=\"\",\"\",【ルース】入力欄!E251)","v":""},{"$f":"IF(【ルース】入力欄!F251=\"\",\"\",【ルース】入力欄!F251)","v":""},{"$f":"IF(【ルース】入力欄!G251=\"\",\"\",【ルース】入力欄!G251)","v":""},{"$f":"IF(【ルース】入力欄!H251=\"\",\"\",【ルース】入力欄!H251)","v":""},{"$f":"IF(【ルース】入力欄!I251=\"\",\"\",【ルース】入力欄!I251)","v":""},{"$f":"IF(【ルース】入力欄!K251=\"\",\"\",【ルース】入力欄!K251)","v":""},{"$f":"IF(【ルース】入力欄!J251=\"\",\"\",【ルース】入力欄!J251)","v":""},{"$f":"IF(【ルース】入力欄!M251=\"\",\"\",【ルース】入力欄!M251)","v":""}]
["７",{"$f":"IF(【ルース】入力欄!E252=\"\",\"\",【ルース】入力欄!E252)","v":""},{"$f":"IF(【ルース】入力欄!F252=\"\",\"\",【ルース】入力欄!F252)","v":""},{"$f":"IF(【ルース】入力欄!G252=\"\",\"\",【ルース】入力欄!G252)","v":""},{"$f":"IF(【ルース】入力欄!H252=\"\",\"\",【ルース】入力欄!H252)","v":""},{"$f":"IF(【ルース】入力欄!I252=\"\",\"\",【ルース】入力欄!I252)","v":""},{"$f":"IF(【ルース】入力欄!K252=\"\",\"\",【ルース】入力欄!K252)","v":""},{"$f":"IF(【ルース】入力欄!J252=\"\",\"\",【ルース】入力欄!J252)","v":""},{"$f":"IF(【ルース】入力欄!M252=\"\",\"\",【ルース】入力欄!M252)","v":""}]
["８",{"$f":"IF(【ルース】入力欄!E253=\"\",\"\",【ルース】入力欄!E253)","v":""},{"$f":"IF(【ルース】入力欄!F253=\"\",\"\",【ルース】入力欄!F253)","v":""},{"$f":"IF(【ルース】入力欄!G253=\"\",\"\",【ルース】入力欄!G253)","v":""},{"$f":"IF(【ルース】入力欄!H253=\"\",\"\",【ルース】入力欄!H253)","v":""},{"$f":"IF(【ルース】入力欄!I253=\"\",\"\",【ルース】入力欄!I253)","v":""},{"$f":"IF(【ルース】入力欄!K253=\"\",\"\",【ルース】入力欄!K253)","v":""},{"$f":"IF(【ルース】入力欄!J253=\"\",\"\",【ルース】入力欄!J253)","v":""},{"$f":"IF(【ルース】入力欄!M253=\"\",\"\",【ルース】入力欄!M253)","v":""}]
["９",{"$f":"IF(【ルース】入力欄!E254=\"\",\"\",【ルース】入力欄!E254)","v":""},{"$f":"IF(【ルース】入力欄!F254=\"\",\"\",【ルース】入力欄!F254)","v":""},{"$f":"IF(【ルース】入力欄!G254=\"\",\"\",【ルース】入力欄!G254)","v":""},{"$f":"IF(【ルース】入力欄!H254=\"\",\"\",【ルース】入力欄!H254)","v":""},{"$f":"IF(【ルース】入力欄!I254=\"\",\"\",【ルース】入力欄!I254)","v":""},{"$f":"IF(【ルース】入力欄!K254=\"\",\"\",【ルース】入力欄!K254)","v":""},{"$f":"IF(【ルース】入力欄!J254=\"\",\"\",【ルース】入力欄!J254)","v":""},{"$f":"IF(【ルース】入力欄!M254=\"\",\"\",【ルース】入力欄!M254)","v":""}]
["１０",{"$f":"IF(【ルース】入力欄!E255=\"\",\"\",【ルース】入力欄!E255)","v":""},{"$f":"IF(【ルース】入力欄!F255=\"\",\"\",【ルース】入力欄!F255)","v":""},{"$f":"IF(【ルース】入力欄!G255=\"\",\"\",【ルース】入力欄!G255)","v":""},{"$f":"IF(【ルース】入力欄!H255=\"\",\"\",【ルース】入力欄!H255)","v":""},{"$f":"IF(【ルース】入力欄!I255=\"\",\"\",【ルース】入力欄!I255)","v":""},{"$f":"IF(【ルース】入力欄!K255=\"\",\"\",【ルース】入力欄!K255)","v":""},{"$f":"IF(【ルース】入力欄!J255=\"\",\"\",【ルース】入力欄!J255)","v":""},{"$f":"IF(【ルース】入力欄!M255=\"\",\"\",【ルース】入力欄!M255)","v":""}]
[]
[null,{"$f":"CONCATENATE(\"出品表　（　\",【ルース】入力欄!I$3,\"　大吉オークション　ルース）\")","v":"出品表　（　　大吉オークション　ルース）"}]
[]
[null,"箱番：",{"$f":"IF(【ルース】入力欄!C256=\"\",\"\",【ルース】入力欄!C256)","v":""},null,null,"※太枠の中をご記入ください",null,"会社名",{"$f":"IF(【ルース】入力欄!C$3=\"\",\"\",【ルース】入力欄!C$3)","v":""}]
[]
["番号","ｃｔ","カラー","クラリティ","カット","蛍光性","備考","付属品","指値\n（2万円以上）","発句"]
["１",{"$f":"IF(【ルース】入力欄!E256=\"\",\"\",【ルース】入力欄!E256)","v":""},{"$f":"IF(【ルース】入力欄!F256=\"\",\"\",【ルース】入力欄!F256)","v":""},{"$f":"IF(【ルース】入力欄!G256=\"\",\"\",【ルース】入力欄!G256)","v":""},{"$f":"IF(【ルース】入力欄!H256=\"\",\"\",【ルース】入力欄!H256)","v":""},{"$f":"IF(【ルース】入力欄!I256=\"\",\"\",【ルース】入力欄!I256)","v":""},{"$f":"IF(【ルース】入力欄!K256=\"\",\"\",【ルース】入力欄!K256)","v":""},{"$f":"IF(【ルース】入力欄!J256=\"\",\"\",【ルース】入力欄!J256)","v":""},{"$f":"IF(【ルース】入力欄!M256=\"\",\"\",【ルース】入力欄!M256)","v":""}]
["２",{"$f":"IF(【ルース】入力欄!E257=\"\",\"\",【ルース】入力欄!E257)","v":""},{"$f":"IF(【ルース】入力欄!F257=\"\",\"\",【ルース】入力欄!F257)","v":""},{"$f":"IF(【ルース】入力欄!G257=\"\",\"\",【ルース】入力欄!G257)","v":""},{"$f":"IF(【ルース】入力欄!H257=\"\",\"\",【ルース】入力欄!H257)","v":""},{"$f":"IF(【ルース】入力欄!I257=\"\",\"\",【ルース】入力欄!I257)","v":""},{"$f":"IF(【ルース】入力欄!K257=\"\",\"\",【ルース】入力欄!K257)","v":""},{"$f":"IF(【ルース】入力欄!J257=\"\",\"\",【ルース】入力欄!J257)","v":""},{"$f":"IF(【ルース】入力欄!M257=\"\",\"\",【ルース】入力欄!M257)","v":""}]
["３",{"$f":"IF(【ルース】入力欄!E258=\"\",\"\",【ルース】入力欄!E258)","v":""},{"$f":"IF(【ルース】入力欄!F258=\"\",\"\",【ルース】入力欄!F258)","v":""},{"$f":"IF(【ルース】入力欄!G258=\"\",\"\",【ルース】入力欄!G258)","v":""},{"$f":"IF(【ルース】入力欄!H258=\"\",\"\",【ルース】入力欄!H258)","v":""},{"$f":"IF(【ルース】入力欄!I258=\"\",\"\",【ルース】入力欄!I258)","v":""},{"$f":"IF(【ルース】入力欄!K258=\"\",\"\",【ルース】入力欄!K258)","v":""},{"$f":"IF(【ルース】入力欄!J258=\"\",\"\",【ルース】入力欄!J258)","v":""},{"$f":"IF(【ルース】入力欄!M258=\"\",\"\",【ルース】入力欄!M258)","v":""}]
["４",{"$f":"IF(【ルース】入力欄!E259=\"\",\"\",【ルース】入力欄!E259)","v":""},{"$f":"IF(【ルース】入力欄!F259=\"\",\"\",【ルース】入力欄!F259)","v":""},{"$f":"IF(【ルース】入力欄!G259=\"\",\"\",【ルース】入力欄!G259)","v":""},{"$f":"IF(【ルース】入力欄!H259=\"\",\"\",【ルース】入力欄!H259)","v":""},{"$f":"IF(【ルース】入力欄!I259=\"\",\"\",【ルース】入力欄!I259)","v":""},{"$f":"IF(【ルース】入力欄!K259=\"\",\"\",【ルース】入力欄!K259)","v":""},{"$f":"IF(【ルース】入力欄!J259=\"\",\"\",【ルース】入力欄!J259)","v":""},{"$f":"IF(【ルース】入力欄!M259=\"\",\"\",【ルース】入力欄!M259)","v":""}]
["５",{"$f":"IF(【ルース】入力欄!E260=\"\",\"\",【ルース】入力欄!E260)","v":""},{"$f":"IF(【ルース】入力欄!F260=\"\",\"\",【ルース】入力欄!F260)","v":""},{"$f":"IF(【ルース】入力欄!G260=\"\",\"\",【ルース】入力欄!G260)","v":""},{"$f":"IF(【ルース】入力欄!H260=\"\",\"\",【ルース】入力欄!H260)","v":""},{"$f":"IF(【ルース】入力欄!I260=\"\",\"\",【ルース】入力欄!I260)","v":""},{"$f":"IF(【ルース】入力欄!K260=\"\",\"\",【ルース】入力欄!K260)","v":""},{"$f":"IF(【ルース】入力欄!J260=\"\",\"\",【ルース】入力欄!J260)","v":""},{"$f":"IF(【ルース】入力欄!M260=\"\",\"\",【ルース】入力欄!M260)","v":""}]
["６",{"$f":"IF(【ルース】入力欄!E261=\"\",\"\",【ルース】入力欄!E261)","v":""},{"$f":"IF(【ルース】入力欄!F261=\"\",\"\",【ルース】入力欄!F261)","v":""},{"$f":"IF(【ルース】入力欄!G261=\"\",\"\",【ルース】入力欄!G261)","v":""},{"$f":"IF(【ルース】入力欄!H261=\"\",\"\",【ルース】入力欄!H261)","v":""},{"$f":"IF(【ルース】入力欄!I261=\"\",\"\",【ルース】入力欄!I261)","v":""},{"$f":"IF(【ルース】入力欄!K261=\"\",\"\",【ルース】入力欄!K261)","v":""},{"$f":"IF(【ルース】入力欄!J261=\"\",\"\",【ルース】入力欄!J261)","v":""},{"$f":"IF(【ルース】入力欄!M261=\"\",\"\",【ルース】入力欄!M261)","v":""}]
["７",{"$f":"IF(【ルース】入力欄!E262=\"\",\"\",【ルース】入力欄!E262)","v":""},{"$f":"IF(【ルース】入力欄!F262=\"\",\"\",【ルース】入力欄!F262)","v":""},{"$f":"IF(【ルース】入力欄!G262=\"\",\"\",【ルース】入力欄!G262)","v":""},{"$f":"IF(【ルース】入力欄!H262=\"\",\"\",【ルース】入力欄!H262)","v":""},{"$f":"IF(【ルース】入力欄!I262=\"\",\"\",【ルース】入力欄!I262)","v":""},{"$f":"IF(【ルース】入力欄!K262=\"\",\"\",【ルース】入力欄!K262)","v":""},{"$f":"IF(【ルース】入力欄!J262=\"\",\"\",【ルース】入力欄!J262)","v":""},{"$f":"IF(【ルース】入力欄!M262=\"\",\"\",【ルース】入力欄!M262)","v":""}]
["８",{"$f":"IF(【ルース】入力欄!E263=\"\",\"\",【ルース】入力欄!E263)","v":""},{"$f":"IF(【ルース】入力欄!F263=\"\",\"\",【ルース】入力欄!F263)","v":""},{"$f":"IF(【ルース】入力欄!G263=\"\",\"\",【ルース】入力欄!G263)","v":""},{"$f":"IF(【ルース】入力欄!H263=\"\",\"\",【ルース】入力欄!H263)","v":""},{"$f":"IF(【ルース】入力欄!I263=\"\",\"\",【ルース】入力欄!I263)","v":""},{"$f":"IF(【ルース】入力欄!K263=\"\",\"\",【ルース】入力欄!K263)","v":""},{"$f":"IF(【ルース】入力欄!J263=\"\",\"\",【ルース】入力欄!J263)","v":""},{"$f":"IF(【ルース】入力欄!M263=\"\",\"\",【ルース】入力欄!M263)","v":""}]
["９",{"$f":"IF(【ルース】入力欄!E264=\"\",\"\",【ルース】入力欄!E264)","v":""},{"$f":"IF(【ルース】入力欄!F264=\"\",\"\",【ルース】入力欄!F264)","v":""},{"$f":"IF(【ルース】入力欄!G264=\"\",\"\",【ルース】入力欄!G264)","v":""},{"$f":"IF(【ルース】入力欄!H264=\"\",\"\",【ルース】入力欄!H264)","v":""},{"$f":"IF(【ルース】入力欄!I264=\"\",\"\",【ルース】入力欄!I264)","v":""},{"$f":"IF(【ルース】入力欄!K264=\"\",\"\",【ルース】入力欄!K264)","v":""},{"$f":"IF(【ルース】入力欄!J264=\"\",\"\",【ルース】入力欄!J264)","v":""},{"$f":"IF(【ルース】入力欄!M264=\"\",\"\",【ルース】入力欄!M264)","v":""}]
["１０",{"$f":"IF(【ルース】入力欄!E265=\"\",\"\",【ルース】入力欄!E265)","v":""},{"$f":"IF(【ルース】入力欄!F265=\"\",\"\",【ルース】入力欄!F265)","v":""},{"$f":"IF(【ルース】入力欄!G265=\"\",\"\",【ルース】入力欄!G265)","v":""},{"$f":"IF(【ルース】入力欄!H265=\"\",\"\",【ルース】入力欄!H265)","v":""},{"$f":"IF(【ルース】入力欄!I265=\"\",\"\",【ルース】入力欄!I265)","v":""},{"$f":"IF(【ルース】入力欄!K265=\"\",\"\",【ルース】入力欄!K265)","v":""},{"$f":"IF(【ルース】入力欄!J265=\"\",\"\",【ルース】入力欄!J265)","v":""},{"$f":"IF(【ルース】入力欄!M265=\"\",\"\",【ルース】入力欄!M265)","v":""}]
[]
[null,{"$f":"CONCATENATE(\"出品表　（　\",【ルース】入力欄!I$3,\"　大吉オークション　ルース）\")","v":"出品表　（　　大吉オークション　ルース）"}]
[]
[null,"箱番：",{"$f":"IF(【ルース】入力欄!C266=\"\",\"\",【ルース】入力欄!C266)","v":""},null,null,"※太枠の中をご記入ください",null,"会社名",{"$f":"IF(【ルース】入力欄!C$3=\"\",\"\",【ルース】入力欄!C$3)","v":""}]
[]
["番号","ｃｔ","カラー","クラリティ","カット","蛍光性","備考","付属品","指値\n（2万円以上）","発句"]
["１",{"$f":"IF(【ルース】入力欄!E266=\"\",\"\",【ルース】入力欄!E266)","v":""},{"$f":"IF(【ルース】入力欄!F266=\"\",\"\",【ルース】入力欄!F266)","v":""},{"$f":"IF(【ルース】入力欄!G266=\"\",\"\",【ルース】入力欄!G266)","v":""},{"$f":"IF(【ルース】入力欄!H266=\"\",\"\",【ルース】入力欄!H266)","v":""},{"$f":"IF(【ルース】入力欄!I266=\"\",\"\",【ルース】入力欄!I266)","v":""},{"$f":"IF(【ルース】入力欄!K266=\"\",\"\",【ルース】入力欄!K266)","v":""},{"$f":"IF(【ルース】入力欄!J266=\"\",\"\",【ルース】入力欄!J266)","v":""},{"$f":"IF(【ルース】入力欄!M266=\"\",\"\",【ルース】入力欄!M266)","v":""}]
["２",{"$f":"IF(【ルース】入力欄!E267=\"\",\"\",【ルース】入力欄!E267)","v":""},{"$f":"IF(【ルース】入力欄!F267=\"\",\"\",【ルース】入力欄!F267)","v":""},{"$f":"IF(【ルース】入力欄!G267=\"\",\"\",【ルース】入力欄!G267)","v":""},{"$f":"IF(【ルース】入力欄!H267=\"\",\"\",【ルース】入力欄!H267)","v":""},{"$f":"IF(【ルース】入力欄!I267=\"\",\"\",【ルース】入力欄!I267)","v":""},{"$f":"IF(【ルース】入力欄!K267=\"\",\"\",【ルース】入力欄!K267)","v":""},{"$f":"IF(【ルース】入力欄!J267=\"\",\"\",【ルース】入力欄!J267)","v":""},{"$f":"IF(【ルース】入力欄!M267=\"\",\"\",【ルース】入力欄!M267)","v":""}]
["３",{"$f":"IF(【ルース】入力欄!E268=\"\",\"\",【ルース】入力欄!E268)","v":""},{"$f":"IF(【ルース】入力欄!F268=\"\",\"\",【ルース】入力欄!F268)","v":""},{"$f":"IF(【ルース】入力欄!G268=\"\",\"\",【ルース】入力欄!G268)","v":""},{"$f":"IF(【ルース】入力欄!H268=\"\",\"\",【ルース】入力欄!H268)","v":""},{"$f":"IF(【ルース】入力欄!I268=\"\",\"\",【ルース】入力欄!I268)","v":""},{"$f":"IF(【ルース】入力欄!K268=\"\",\"\",【ルース】入力欄!K268)","v":""},{"$f":"IF(【ルース】入力欄!J268=\"\",\"\",【ルース】入力欄!J268)","v":""},{"$f":"IF(【ルース】入力欄!M268=\"\",\"\",【ルース】入力欄!M268)","v":""}]
["４",{"$f":"IF(【ルース】入力欄!E269=\"\",\"\",【ルース】入力欄!E269)","v":""},{"$f":"IF(【ルース】入力欄!F269=\"\",\"\",【ルース】入力欄!F269)","v":""},{"$f":"IF(【ルース】入力欄!G269=\"\",\"\",【ルース】入力欄!G269)","v":""},{"$f":"IF(【ルース】入力欄!H269=\"\",\"\",【ルース】入力欄!H269)","v":""},{"$f":"IF(【ルース】入力欄!I269=\"\",\"\",【ルース】入力欄!I269)","v":""},{"$f":"IF(【ルース】入力欄!K269=\"\",\"\",【ルース】入力欄!K269)","v":""},{"$f":"IF(【ルース】入力欄!J269=\"\",\"\",【ルース】入力欄!J269)","v":""},{"$f":"IF(【ルース】入力欄!M269=\"\",\"\",【ルース】入力欄!M269)","v":""}]
["５",{"$f":"IF(【ルース】入力欄!E270=\"\",\"\",【ルース】入力欄!E270)","v":""},{"$f":"IF(【ルース】入力欄!F270=\"\",\"\",【ルース】入力欄!F270)","v":""},{"$f":"IF(【ルース】入力欄!G270=\"\",\"\",【ルース】入力欄!G270)","v":""},{"$f":"IF(【ルース】入力欄!H270=\"\",\"\",【ルース】入力欄!H270)","v":""},{"$f":"IF(【ルース】入力欄!I270=\"\",\"\",【ルース】入力欄!I270)","v":""},{"$f":"IF(【ルース】入力欄!K270=\"\",\"\",【ルース】入力欄!K270)","v":""},{"$f":"IF(【ルース】入力欄!J270=\"\",\"\",【ルース】入力欄!J270)","v":""},{"$f":"IF(【ルース】入力欄!M270=\"\",\"\",【ルース】入力欄!M270)","v":""}]
["６",{"$f":"IF(【ルース】入力欄!E271=\"\",\"\",【ルース】入力欄!E271)","v":""},{"$f":"IF(【ルース】入力欄!F271=\"\",\"\",【ルース】入力欄!F271)","v":""},{"$f":"IF(【ルース】入力欄!G271=\"\",\"\",【ルース】入力欄!G271)","v":""},{"$f":"IF(【ルース】入力欄!H271=\"\",\"\",【ルース】入力欄!H271)","v":""},{"$f":"IF(【ルース】入力欄!I271=\"\",\"\",【ルース】入力欄!I271)","v":""},{"$f":"IF(【ルース】入力欄!K271=\"\",\"\",【ルース】入力欄!K271)","v":""},{"$f":"IF(【ルース】入力欄!J271=\"\",\"\",【ルース】入力欄!J271)","v":""},{"$f":"IF(【ルース】入力欄!M271=\"\",\"\",【ルース】入力欄!M271)","v":""}]
["７",{"$f":"IF(【ルース】入力欄!E272=\"\",\"\",【ルース】入力欄!E272)","v":""},{"$f":"IF(【ルース】入力欄!F272=\"\",\"\",【ルース】入力欄!F272)","v":""},{"$f":"IF(【ルース】入力欄!G272=\"\",\"\",【ルース】入力欄!G272)","v":""},{"$f":"IF(【ルース】入力欄!H272=\"\",\"\",【ルース】入力欄!H272)","v":""},{"$f":"IF(【ルース】入力欄!I272=\"\",\"\",【ルース】入力欄!I272)","v":""},{"$f":"IF(【ルース】入力欄!K272=\"\",\"\",【ルース】入力欄!K272)","v":""},{"$f":"IF(【ルース】入力欄!J272=\"\",\"\",【ルース】入力欄!J272)","v":""},{"$f":"IF(【ルース】入力欄!M272=\"\",\"\",【ルース】入力欄!M272)","v":""}]
["８",{"$f":"IF(【ルース】入力欄!E273=\"\",\"\",【ルース】入力欄!E273)","v":""},{"$f":"IF(【ルース】入力欄!F273=\"\",\"\",【ルース】入力欄!F273)","v":""},{"$f":"IF(【ルース】入力欄!G273=\"\",\"\",【ルース】入力欄!G273)","v":""},{"$f":"IF(【ルース】入力欄!H273=\"\",\"\",【ルース】入力欄!H273)","v":""},{"$f":"IF(【ルース】入力欄!I273=\"\",\"\",【ルース】入力欄!I273)","v":""},{"$f":"IF(【ルース】入力欄!K273=\"\",\"\",【ルース】入力欄!K273)","v":""},{"$f":"IF(【ルース】入力欄!J273=\"\",\"\",【ルース】入力欄!J273)","v":""},{"$f":"IF(【ルース】入力欄!M273=\"\",\"\",【ルース】入力欄!M273)","v":""}]
["９",{"$f":"IF(【ルース】入力欄!E274=\"\",\"\",【ルース】入力欄!E274)","v":""},{"$f":"IF(【ルース】入力欄!F274=\"\",\"\",【ルース】入力欄!F274)","v":""},{"$f":"IF(【ルース】入力欄!G274=\"\",\"\",【ルース】入力欄!G274)","v":""},{"$f":"IF(【ルース】入力欄!H274=\"\",\"\",【ルース】入力欄!H274)","v":""},{"$f":"IF(【ルース】入力欄!I274=\"\",\"\",【ルース】入力欄!I274)","v":""},{"$f":"IF(【ルース】入力欄!K274=\"\",\"\",【ルース】入力欄!K274)","v":""},{"$f":"IF(【ルース】入力欄!J274=\"\",\"\",【ルース】入力欄!J274)","v":""},{"$f":"IF(【ルース】入力欄!M274=\"\",\"\",【ルース】入力欄!M274)","v":""}]
["１０",{"$f":"IF(【ルース】入力欄!E275=\"\",\"\",【ルース】入力欄!E275)","v":""},{"$f":"IF(【ルース】入力欄!F275=\"\",\"\",【ルース】入力欄!F275)","v":""},{"$f":"IF(【ルース】入力欄!G275=\"\",\"\",【ルース】入力欄!G275)","v":""},{"$f":"IF(【ルース】入力欄!H275=\"\",\"\",【ルース】入力欄!H275)","v":""},{"$f":"IF(【ルース】入力欄!I275=\"\",\"\",【ルース】入力欄!I275)","v":""},{"$f":"IF(【ルース】入力欄!K275=\"\",\"\",【ルース】入力欄!K275)","v":""},{"$f":"IF(【ルース】入力欄!J275=\"\",\"\",【ルース】入力欄!J275)","v":""},{"$f":"IF(【ルース】入力欄!M275=\"\",\"\",【ルース】入力欄!M275)","v":""}]
[]
[null,{"$f":"CONCATENATE(\"出品表　（　\",【ルース】入力欄!I$3,\"　大吉オークション　ルース）\")","v":"出品表　（　　大吉オークション　ルース）"}]
[]
[null,"箱番：",{"$f":"IF(【ルース】入力欄!C276=\"\",\"\",【ルース】入力欄!C276)","v":""},null,null,"※太枠の中をご記入ください",null,"会社名",{"$f":"IF(【ルース】入力欄!C$3=\"\",\"\",【ルース】入力欄!C$3)","v":""}]
[]
["番号","ｃｔ","カラー","クラリティ","カット","蛍光性","備考","付属品","指値\n（2万円以上）","発句"]
["１",{"$f":"IF(【ルース】入力欄!E276=\"\",\"\",【ルース】入力欄!E276)","v":""},{"$f":"IF(【ルース】入力欄!F276=\"\",\"\",【ルース】入力欄!F276)","v":""},{"$f":"IF(【ルース】入力欄!G276=\"\",\"\",【ルース】入力欄!G276)","v":""},{"$f":"IF(【ルース】入力欄!H276=\"\",\"\",【ルース】入力欄!H276)","v":""},{"$f":"IF(【ルース】入力欄!I276=\"\",\"\",【ルース】入力欄!I276)","v":""},{"$f":"IF(【ルース】入力欄!K276=\"\",\"\",【ルース】入力欄!K276)","v":""},{"$f":"IF(【ルース】入力欄!J276=\"\",\"\",【ルース】入力欄!J276)","v":""},{"$f":"IF(【ルース】入力欄!M276=\"\",\"\",【ルース】入力欄!M276)","v":""}]
["２",{"$f":"IF(【ルース】入力欄!E277=\"\",\"\",【ルース】入力欄!E277)","v":""},{"$f":"IF(【ルース】入力欄!F277=\"\",\"\",【ルース】入力欄!F277)","v":""},{"$f":"IF(【ルース】入力欄!G277=\"\",\"\",【ルース】入力欄!G277)","v":""},{"$f":"IF(【ルース】入力欄!H277=\"\",\"\",【ルース】入力欄!H277)","v":""},{"$f":"IF(【ルース】入力欄!I277=\"\",\"\",【ルース】入力欄!I277)","v":""},{"$f":"IF(【ルース】入力欄!K277=\"\",\"\",【ルース】入力欄!K277)","v":""},{"$f":"IF(【ルース】入力欄!J277=\"\",\"\",【ルース】入力欄!J277)","v":""},{"$f":"IF(【ルース】入力欄!M277=\"\",\"\",【ルース】入力欄!M277)","v":""}]
["３",{"$f":"IF(【ルース】入力欄!E278=\"\",\"\",【ルース】入力欄!E278)","v":""},{"$f":"IF(【ルース】入力欄!F278=\"\",\"\",【ルース】入力欄!F278)","v":""},{"$f":"IF(【ルース】入力欄!G278=\"\",\"\",【ルース】入力欄!G278)","v":""},{"$f":"IF(【ルース】入力欄!H278=\"\",\"\",【ルース】入力欄!H278)","v":""},{"$f":"IF(【ルース】入力欄!I278=\"\",\"\",【ルース】入力欄!I278)","v":""},{"$f":"IF(【ルース】入力欄!K278=\"\",\"\",【ルース】入力欄!K278)","v":""},{"$f":"IF(【ルース】入力欄!J278=\"\",\"\",【ルース】入力欄!J278)","v":""},{"$f":"IF(【ルース】入力欄!M278=\"\",\"\",【ルース】入力欄!M278)","v":""}]
["４",{"$f":"IF(【ルース】入力欄!E279=\"\",\"\",【ルース】入力欄!E279)","v":""},{"$f":"IF(【ルース】入力欄!F279=\"\",\"\",【ルース】入力欄!F279)","v":""},{"$f":"IF(【ルース】入力欄!G279=\"\",\"\",【ルース】入力欄!G279)","v":""},{"$f":"IF(【ルース】入力欄!H279=\"\",\"\",【ルース】入力欄!H279)","v":""},{"$f":"IF(【ルース】入力欄!I279=\"\",\"\",【ルース】入力欄!I279)","v":""},{"$f":"IF(【ルース】入力欄!K279=\"\",\"\",【ルース】入力欄!K279)","v":""},{"$f":"IF(【ルース】入力欄!J279=\"\",\"\",【ルース】入力欄!J279)","v":""},{"$f":"IF(【ルース】入力欄!M279=\"\",\"\",【ルース】入力欄!M279)","v":""}]
["５",{"$f":"IF(【ルース】入力欄!E280=\"\",\"\",【ルース】入力欄!E280)","v":""},{"$f":"IF(【ルース】入力欄!F280=\"\",\"\",【ルース】入力欄!F280)","v":""},{"$f":"IF(【ルース】入力欄!G280=\"\",\"\",【ルース】入力欄!G280)","v":""},{"$f":"IF(【ルース】入力欄!H280=\"\",\"\",【ルース】入力欄!H280)","v":""},{"$f":"IF(【ルース】入力欄!I280=\"\",\"\",【ルース】入力欄!I280)","v":""},{"$f":"IF(【ルース】入力欄!K280=\"\",\"\",【ルース】入力欄!K280)","v":""},{"$f":"IF(【ルース】入力欄!J280=\"\",\"\",【ルース】入力欄!J280)","v":""},{"$f":"IF(【ルース】入力欄!M280=\"\",\"\",【ルース】入力欄!M280)","v":""}]
["６",{"$f":"IF(【ルース】入力欄!E281=\"\",\"\",【ルース】入力欄!E281)","v":""},{"$f":"IF(【ルース】入力欄!F281=\"\",\"\",【ルース】入力欄!F281)","v":""},{"$f":"IF(【ルース】入力欄!G281=\"\",\"\",【ルース】入力欄!G281)","v":""},{"$f":"IF(【ルース】入力欄!H281=\"\",\"\",【ルース】入力欄!H281)","v":""},{"$f":"IF(【ルース】入力欄!I281=\"\",\"\",【ルース】入力欄!I281)","v":""},{"$f":"IF(【ルース】入力欄!K281=\"\",\"\",【ルース】入力欄!K281)","v":""},{"$f":"IF(【ルース】入力欄!J281=\"\",\"\",【ルース】入力欄!J281)","v":""},{"$f":"IF(【ルース】入力欄!M281=\"\",\"\",【ルース】入力欄!M281)","v":""}]
["７",{"$f":"IF(【ルース】入力欄!E282=\"\",\"\",【ルース】入力欄!E282)","v":""},{"$f":"IF(【ルース】入力欄!F282=\"\",\"\",【ルース】入力欄!F282)","v":""},{"$f":"IF(【ルース】入力欄!G282=\"\",\"\",【ルース】入力欄!G282)","v":""},{"$f":"IF(【ルース】入力欄!H282=\"\",\"\",【ルース】入力欄!H282)","v":""},{"$f":"IF(【ルース】入力欄!I282=\"\",\"\",【ルース】入力欄!I282)","v":""},{"$f":"IF(【ルース】入力欄!K282=\"\",\"\",【ルース】入力欄!K282)","v":""},{"$f":"IF(【ルース】入力欄!J282=\"\",\"\",【ルース】入力欄!J282)","v":""},{"$f":"IF(【ルース】入力欄!M282=\"\",\"\",【ルース】入力欄!M282)","v":""}]
["８",{"$f":"IF(【ルース】入力欄!E283=\"\",\"\",【ルース】入力欄!E283)","v":""},{"$f":"IF(【ルース】入力欄!F283=\"\",\"\",【ルース】入力欄!F283)","v":""},{"$f":"IF(【ルース】入力欄!G283=\"\",\"\",【ルース】入力欄!G283)","v":""},{"$f":"IF(【ルース】入力欄!H283=\"\",\"\",【ルース】入力欄!H283)","v":""},{"$f":"IF(【ルース】入力欄!I283=\"\",\"\",【ルース】入力欄!I283)","v":""},{"$f":"IF(【ルース】入力欄!K283=\"\",\"\",【ルース】入力欄!K283)","v":""},{"$f":"IF(【ルース】入力欄!J283=\"\",\"\",【ルース】入力欄!J283)","v":""},{"$f":"IF(【ルース】入力欄!M283=\"\",\"\",【ルース】入力欄!M283)","v":""}]
["９",{"$f":"IF(【ルース】入力欄!E284=\"\",\"\",【ルース】入力欄!E284)","v":""},{"$f":"IF(【ルース】入力欄!F284=\"\",\"\",【ルース】入力欄!F284)","v":""},{"$f":"IF(【ルース】入力欄!G284=\"\",\"\",【ルース】入力欄!G284)","v":""},{"$f":"IF(【ルース】入力欄!H284=\"\",\"\",【ルース】入力欄!H284)","v":""},{"$f":"IF(【ルース】入力欄!I284=\"\",\"\",【ルース】入力欄!I284)","v":""},{"$f":"IF(【ルース】入力欄!K284=\"\",\"\",【ルース】入力欄!K284)","v":""},{"$f":"IF(【ルース】入力欄!J284=\"\",\"\",【ルース】入力欄!J284)","v":""},{"$f":"IF(【ルース】入力欄!M284=\"\",\"\",【ルース】入力欄!M284)","v":""}]
["１０",{"$f":"IF(【ルース】入力欄!E285=\"\",\"\",【ルース】入力欄!E285)","v":""},{"$f":"IF(【ルース】入力欄!F285=\"\",\"\",【ルース】入力欄!F285)","v":""},{"$f":"IF(【ルース】入力欄!G285=\"\",\"\",【ルース】入力欄!G285)","v":""},{"$f":"IF(【ルース】入力欄!H285=\"\",\"\",【ルース】入力欄!H285)","v":""},{"$f":"IF(【ルース】入力欄!I285=\"\",\"\",【ルース】入力欄!I285)","v":""},{"$f":"IF(【ルース】入力欄!K285=\"\",\"\",【ルース】入力欄!K285)","v":""},{"$f":"IF(【ルース】入力欄!J285=\"\",\"\",【ルース】入力欄!J285)","v":""},{"$f":"IF(【ルース】入力欄!M285=\"\",\"\",【ルース】入力欄!M285)","v":""}]
[]
[null,{"$f":"CONCATENATE(\"出品表　（　\",【ルース】入力欄!I$3,\"　大吉オークション　ルース）\")","v":"出品表　（　　大吉オークション　ルース）"}]
[]
[null,"箱番：",{"$f":"IF(【ルース】入力欄!C286=\"\",\"\",【ルース】入力欄!C286)","v":""},null,null,"※太枠の中をご記入ください",null,"会社名",{"$f":"IF(【ルース】入力欄!C$3=\"\",\"\",【ルース】入力欄!C$3)","v":""}]
[]
["番号","ｃｔ","カラー","クラリティ","カット","蛍光性","備考","付属品","指値\n（2万円以上）","発句"]
["１",{"$f":"IF(【ルース】入力欄!E286=\"\",\"\",【ルース】入力欄!E286)","v":""},{"$f":"IF(【ルース】入力欄!F286=\"\",\"\",【ルース】入力欄!F286)","v":""},{"$f":"IF(【ルース】入力欄!G286=\"\",\"\",【ルース】入力欄!G286)","v":""},{"$f":"IF(【ルース】入力欄!H286=\"\",\"\",【ルース】入力欄!H286)","v":""},{"$f":"IF(【ルース】入力欄!I286=\"\",\"\",【ルース】入力欄!I286)","v":""},{"$f":"IF(【ルース】入力欄!K286=\"\",\"\",【ルース】入力欄!K286)","v":""},{"$f":"IF(【ルース】入力欄!J286=\"\",\"\",【ルース】入力欄!J286)","v":""},{"$f":"IF(【ルース】入力欄!M286=\"\",\"\",【ルース】入力欄!M286)","v":""}]
["２",{"$f":"IF(【ルース】入力欄!E287=\"\",\"\",【ルース】入力欄!E287)","v":""},{"$f":"IF(【ルース】入力欄!F287=\"\",\"\",【ルース】入力欄!F287)","v":""},{"$f":"IF(【ルース】入力欄!G287=\"\",\"\",【ルース】入力欄!G287)","v":""},{"$f":"IF(【ルース】入力欄!H287=\"\",\"\",【ルース】入力欄!H287)","v":""},{"$f":"IF(【ルース】入力欄!I287=\"\",\"\",【ルース】入力欄!I287)","v":""},{"$f":"IF(【ルース】入力欄!K287=\"\",\"\",【ルース】入力欄!K287)","v":""},{"$f":"IF(【ルース】入力欄!J287=\"\",\"\",【ルース】入力欄!J287)","v":""},{"$f":"IF(【ルース】入力欄!M287=\"\",\"\",【ルース】入力欄!M287)","v":""}]
["３",{"$f":"IF(【ルース】入力欄!E288=\"\",\"\",【ルース】入力欄!E288)","v":""},{"$f":"IF(【ルース】入力欄!F288=\"\",\"\",【ルース】入力欄!F288)","v":""},{"$f":"IF(【ルース】入力欄!G288=\"\",\"\",【ルース】入力欄!G288)","v":""},{"$f":"IF(【ルース】入力欄!H288=\"\",\"\",【ルース】入力欄!H288)","v":""},{"$f":"IF(【ルース】入力欄!I288=\"\",\"\",【ルース】入力欄!I288)","v":""},{"$f":"IF(【ルース】入力欄!K288=\"\",\"\",【ルース】入力欄!K288)","v":""},{"$f":"IF(【ルース】入力欄!J288=\"\",\"\",【ルース】入力欄!J288)","v":""},{"$f":"IF(【ルース】入力欄!M288=\"\",\"\",【ルース】入力欄!M288)","v":""}]
["４",{"$f":"IF(【ルース】入力欄!E289=\"\",\"\",【ルース】入力欄!E289)","v":""},{"$f":"IF(【ルース】入力欄!F289=\"\",\"\",【ルース】入力欄!F289)","v":""},{"$f":"IF(【ルース】入力欄!G289=\"\",\"\",【ルース】入力欄!G289)","v":""},{"$f":"IF(【ルース】入力欄!H289=\"\",\"\",【ルース】入力欄!H289)","v":""},{"$f":"IF(【ルース】入力欄!I289=\"\",\"\",【ルース】入力欄!I289)","v":""},{"$f":"IF(【ルース】入力欄!K289=\"\",\"\",【ルース】入力欄!K289)","v":""},{"$f":"IF(【ルース】入力欄!J289=\"\",\"\",【ルース】入力欄!J289)","v":""},{"$f":"IF(【ルース】入力欄!M289=\"\",\"\",【ルース】入力欄!M289)","v":""}]
["５",{"$f":"IF(【ルース】入力欄!E290=\"\",\"\",【ルース】入力欄!E290)","v":""},{"$f":"IF(【ルース】入力欄!F290=\"\",\"\",【ルース】入力欄!F290)","v":""},{"$f":"IF(【ルース】入力欄!G290=\"\",\"\",【ルース】入力欄!G290)","v":""},{"$f":"IF(【ルース】入力欄!H290=\"\",\"\",【ルース】入力欄!H290)","v":""},{"$f":"IF(【ルース】入力欄!I290=\"\",\"\",【ルース】入力欄!I290)","v":""},{"$f":"IF(【ルース】入力欄!K290=\"\",\"\",【ルース】入力欄!K290)","v":""},{"$f":"IF(【ルース】入力欄!J290=\"\",\"\",【ルース】入力欄!J290)","v":""},{"$f":"IF(【ルース】入力欄!M290=\"\",\"\",【ルース】入力欄!M290)","v":""}]
["６",{"$f":"IF(【ルース】入力欄!E291=\"\",\"\",【ルース】入力欄!E291)","v":""},{"$f":"IF(【ルース】入力欄!F291=\"\",\"\",【ルース】入力欄!F291)","v":""},{"$f":"IF(【ルース】入力欄!G291=\"\",\"\",【ルース】入力欄!G291)","v":""},{"$f":"IF(【ルース】入力欄!H291=\"\",\"\",【ルース】入力欄!H291)","v":""},{"$f":"IF(【ルース】入力欄!I291=\"\",\"\",【ルース】入力欄!I291)","v":""},{"$f":"IF(【ルース】入力欄!K291=\"\",\"\",【ルース】入力欄!K291)","v":""},{"$f":"IF(【ルース】入力欄!J291=\"\",\"\",【ルース】入力欄!J291)","v":""},{"$f":"IF(【ルース】入力欄!M291=\"\",\"\",【ルース】入力欄!M291)","v":""}]
["７",{"$f":"IF(【ルース】入力欄!E292=\"\",\"\",【ルース】入力欄!E292)","v":""},{"$f":"IF(【ルース】入力欄!F292=\"\",\"\",【ルース】入力欄!F292)","v":""},{"$f":"IF(【ルース】入力欄!G292=\"\",\"\",【ルース】入力欄!G292)","v":""},{"$f":"IF(【ルース】入力欄!H292=\"\",\"\",【ルース】入力欄!H292)","v":""},{"$f":"IF(【ルース】入力欄!I292=\"\",\"\",【ルース】入力欄!I292)","v":""},{"$f":"IF(【ルース】入力欄!K292=\"\",\"\",【ルース】入力欄!K292)","v":""},{"$f":"IF(【ルース】入力欄!J292=\"\",\"\",【ルース】入力欄!J292)","v":""},{"$f":"IF(【ルース】入力欄!M292=\"\",\"\",【ルース】入力欄!M292)","v":""}]
["８",{"$f":"IF(【ルース】入力欄!E293=\"\",\"\",【ルース】入力欄!E293)","v":""},{"$f":"IF(【ルース】入力欄!F293=\"\",\"\",【ルース】入力欄!F293)","v":""},{"$f":"IF(【ルース】入力欄!G293=\"\",\"\",【ルース】入力欄!G293)","v":""},{"$f":"IF(【ルース】入力欄!H293=\"\",\"\",【ルース】入力欄!H293)","v":""},{"$f":"IF(【ルース】入力欄!I293=\"\",\"\",【ルース】入力欄!I293)","v":""},{"$f":"IF(【ルース】入力欄!K293=\"\",\"\",【ルース】入力欄!K293)","v":""},{"$f":"IF(【ルース】入力欄!J293=\"\",\"\",【ルース】入力欄!J293)","v":""},{"$f":"IF(【ルース】入力欄!M293=\"\",\"\",【ルース】入力欄!M293)","v":""}]
["９",{"$f":"IF(【ルース】入力欄!E294=\"\",\"\",【ルース】入力欄!E294)","v":""},{"$f":"IF(【ルース】入力欄!F294=\"\",\"\",【ルース】入力欄!F294)","v":""},{"$f":"IF(【ルース】入力欄!G294=\"\",\"\",【ルース】入力欄!G294)","v":""},{"$f":"IF(【ルース】入力欄!H294=\"\",\"\",【ルース】入力欄!H294)","v":""},{"$f":"IF(【ルース】入力欄!I294=\"\",\"\",【ルース】入力欄!I294)","v":""},{"$f":"IF(【ルース】入力欄!K294=\"\",\"\",【ルース】入力欄!K294)","v":""},{"$f":"IF(【ルース】入力欄!J294=\"\",\"\",【ルース】入力欄!J294)","v":""},{"$f":"IF(【ルース】入力欄!M294=\"\",\"\",【ルース】入力欄!M294)","v":""}]
["１０",{"$f":"IF(【ルース】入力欄!E295=\"\",\"\",【ルース】入力欄!E295)","v":""},{"$f":"IF(【ルース】入力欄!F295=\"\",\"\",【ルース】入力欄!F295)","v":""},{"$f":"IF(【ルース】入力欄!G295=\"\",\"\",【ルース】入力欄!G295)","v":""},{"$f":"IF(【ルース】入力欄!H295=\"\",\"\",【ルース】入力欄!H295)","v":""},{"$f":"IF(【ルース】入力欄!I295=\"\",\"\",【ルース】入力欄!I295)","v":""},{"$f":"IF(【ルース】入力欄!K295=\"\",\"\",【ルース】入力欄!K295)","v":""},{"$f":"IF(【ルース】入力欄!J295=\"\",\"\",【ルース】入力欄!J295)","v":""},{"$f":"IF(【ルース】入力欄!M295=\"\",\"\",【ルース】入力欄!M295)","v":""}]
[]
[null,{"$f":"CONCATENATE(\"出品表　（　\",【ルース】入力欄!I$3,\"　大吉オークション　ルース）\")","v":"出品表　（　　大吉オークション　ルース）"}]
[]
[null,"箱番：",{"$f":"IF(【ルース】入力欄!C296=\"\",\"\",【ルース】入力欄!C296)","v":""},null,null,"※太枠の中をご記入ください",null,"会社名",{"$f":"IF(【ルース】入力欄!C$3=\"\",\"\",【ルース】入力欄!C$3)","v":""}]
[]
["番号","ｃｔ","カラー","クラリティ","カット","蛍光性","備考","付属品","指値\n（2万円以上）","発句"]
["１",{"$f":"IF(【ルース】入力欄!E296=\"\",\"\",【ルース】入力欄!E296)","v":""},{"$f":"IF(【ルース】入力欄!F296=\"\",\"\",【ルース】入力欄!F296)","v":""},{"$f":"IF(【ルース】入力欄!G296=\"\",\"\",【ルース】入力欄!G296)","v":""},{"$f":"IF(【ルース】入力欄!H296=\"\",\"\",【ルース】入力欄!H296)","v":""},{"$f":"IF(【ルース】入力欄!I296=\"\",\"\",【ルース】入力欄!I296)","v":""},{"$f":"IF(【ルース】入力欄!K296=\"\",\"\",【ルース】入力欄!K296)","v":""},{"$f":"IF(【ルース】入力欄!J296=\"\",\"\",【ルース】入力欄!J296)","v":""},{"$f":"IF(【ルース】入力欄!M296=\"\",\"\",【ルース】入力欄!M296)","v":""}]
["２",{"$f":"IF(【ルース】入力欄!E297=\"\",\"\",【ルース】入力欄!E297)","v":""},{"$f":"IF(【ルース】入力欄!F297=\"\",\"\",【ルース】入力欄!F297)","v":""},{"$f":"IF(【ルース】入力欄!G297=\"\",\"\",【ルース】入力欄!G297)","v":""},{"$f":"IF(【ルース】入力欄!H297=\"\",\"\",【ルース】入力欄!H297)","v":""},{"$f":"IF(【ルース】入力欄!I297=\"\",\"\",【ルース】入力欄!I297)","v":""},{"$f":"IF(【ルース】入力欄!K297=\"\",\"\",【ルース】入力欄!K297)","v":""},{"$f":"IF(【ルース】入力欄!J297=\"\",\"\",【ルース】入力欄!J297)","v":""},{"$f":"IF(【ルース】入力欄!M297=\"\",\"\",【ルース】入力欄!M297)","v":""}]
["３",{"$f":"IF(【ルース】入力欄!E298=\"\",\"\",【ルース】入力欄!E298)","v":""},{"$f":"IF(【ルース】入力欄!F298=\"\",\"\",【ルース】入力欄!F298)","v":""},{"$f":"IF(【ルース】入力欄!G298=\"\",\"\",【ルース】入力欄!G298)","v":""},{"$f":"IF(【ルース】入力欄!H298=\"\",\"\",【ルース】入力欄!H298)","v":""},{"$f":"IF(【ルース】入力欄!I298=\"\",\"\",【ルース】入力欄!I298)","v":""},{"$f":"IF(【ルース】入力欄!K298=\"\",\"\",【ルース】入力欄!K298)","v":""},{"$f":"IF(【ルース】入力欄!J298=\"\",\"\",【ルース】入力欄!J298)","v":""},{"$f":"IF(【ルース】入力欄!M298=\"\",\"\",【ルース】入力欄!M298)","v":""}]
["４",{"$f":"IF(【ルース】入力欄!E299=\"\",\"\",【ルース】入力欄!E299)","v":""},{"$f":"IF(【ルース】入力欄!F299=\"\",\"\",【ルース】入力欄!F299)","v":""},{"$f":"IF(【ルース】入力欄!G299=\"\",\"\",【ルース】入力欄!G299)","v":""},{"$f":"IF(【ルース】入力欄!H299=\"\",\"\",【ルース】入力欄!H299)","v":""},{"$f":"IF(【ルース】入力欄!I299=\"\",\"\",【ルース】入力欄!I299)","v":""},{"$f":"IF(【ルース】入力欄!K299=\"\",\"\",【ルース】入力欄!K299)","v":""},{"$f":"IF(【ルース】入力欄!J299=\"\",\"\",【ルース】入力欄!J299)","v":""},{"$f":"IF(【ルース】入力欄!M299=\"\",\"\",【ルース】入力欄!M299)","v":""}]
["５",{"$f":"IF(【ルース】入力欄!E300=\"\",\"\",【ルース】入力欄!E300)","v":""},{"$f":"IF(【ルース】入力欄!F300=\"\",\"\",【ルース】入力欄!F300)","v":""},{"$f":"IF(【ルース】入力欄!G300=\"\",\"\",【ルース】入力欄!G300)","v":""},{"$f":"IF(【ルース】入力欄!H300=\"\",\"\",【ルース】入力欄!H300)","v":""},{"$f":"IF(【ルース】入力欄!I300=\"\",\"\",【ルース】入力欄!I300)","v":""},{"$f":"IF(【ルース】入力欄!K300=\"\",\"\",【ルース】入力欄!K300)","v":""},{"$f":"IF(【ルース】入力欄!J300=\"\",\"\",【ルース】入力欄!J300)","v":""},{"$f":"IF(【ルース】入力欄!M300=\"\",\"\",【ルース】入力欄!M300)","v":""}]
["６",{"$f":"IF(【ルース】入力欄!E301=\"\",\"\",【ルース】入力欄!E301)","v":""},{"$f":"IF(【ルース】入力欄!F301=\"\",\"\",【ルース】入力欄!F301)","v":""},{"$f":"IF(【ルース】入力欄!G301=\"\",\"\",【ルース】入力欄!G301)","v":""},{"$f":"IF(【ルース】入力欄!H301=\"\",\"\",【ルース】入力欄!H301)","v":""},{"$f":"IF(【ルース】入力欄!I301=\"\",\"\",【ルース】入力欄!I301)","v":""},{"$f":"IF(【ルース】入力欄!K301=\"\",\"\",【ルース】入力欄!K301)","v":""},{"$f":"IF(【ルース】入力欄!J301=\"\",\"\",【ルース】入力欄!J301)","v":""},{"$f":"IF(【ルース】入力欄!M301=\"\",\"\",【ルース】入力欄!M301)","v":""}]
["７",{"$f":"IF(【ルース】入力欄!E302=\"\",\"\",【ルース】入力欄!E302)","v":""},{"$f":"IF(【ルース】入力欄!F302=\"\",\"\",【ルース】入力欄!F302)","v":""},{"$f":"IF(【ルース】入力欄!G302=\"\",\"\",【ルース】入力欄!G302)","v":""},{"$f":"IF(【ルース】入力欄!H302=\"\",\"\",【ルース】入力欄!H302)","v":""},{"$f":"IF(【ルース】入力欄!I302=\"\",\"\",【ルース】入力欄!I302)","v":""},{"$f":"IF(【ルース】入力欄!K302=\"\",\"\",【ルース】入力欄!K302)","v":""},{"$f":"IF(【ルース】入力欄!J302=\"\",\"\",【ルース】入力欄!J302)","v":""},{"$f":"IF(【ルース】入力欄!M302=\"\",\"\",【ルース】入力欄!M302)","v":""}]
["８",{"$f":"IF(【ルース】入力欄!E303=\"\",\"\",【ルース】入力欄!E303)","v":""},{"$f":"IF(【ルース】入力欄!F303=\"\",\"\",【ルース】入力欄!F303)","v":""},{"$f":"IF(【ルース】入力欄!G303=\"\",\"\",【ルース】入力欄!G303)","v":""},{"$f":"IF(【ルース】入力欄!H303=\"\",\"\",【ルース】入力欄!H303)","v":""},{"$f":"IF(【ルース】入力欄!I303=\"\",\"\",【ルース】入力欄!I303)","v":""},{"$f":"IF(【ルース】入力欄!K303=\"\",\"\",【ルース】入力欄!K303)","v":""},{"$f":"IF(【ルース】入力欄!J303=\"\",\"\",【ルース】入力欄!J303)","v":""},{"$f":"IF(【ルース】入力欄!M303=\"\",\"\",【ルース】入力欄!M303)","v":""}]
["９",{"$f":"IF(【ルース】入力欄!E304=\"\",\"\",【ルース】入力欄!E304)","v":""},{"$f":"IF(【ルース】入力欄!F304=\"\",\"\",【ルース】入力欄!F304)","v":""},{"$f":"IF(【ルース】入力欄!G304=\"\",\"\",【ルース】入力欄!G304)","v":""},{"$f":"IF(【ルース】入力欄!H304=\"\",\"\",【ルース】入力欄!H304)","v":""},{"$f":"IF(【ルース】入力欄!I304=\"\",\"\",【ルース】入力欄!I304)","v":""},{"$f":"IF(【ルース】入力欄!K304=\"\",\"\",【ルース】入力欄!K304)","v":""},{"$f":"IF(【ルース】入力欄!J304=\"\",\"\",【ルース】入力欄!J304)","v":""},{"$f":"IF(【ルース】入力欄!M304=\"\",\"\",【ルース】入力欄!M304)","v":""}]
["１０",{"$f":"IF(【ルース】入力欄!E305=\"\",\"\",【ルース】入力欄!E305)","v":""},{"$f":"IF(【ルース】入力欄!F305=\"\",\"\",【ルース】入力欄!F305)","v":""},{"$f":"IF(【ルース】入力欄!G305=\"\",\"\",【ルース】入力欄!G305)","v":""},{"$f":"IF(【ルース】入力欄!H305=\"\",\"\",【ルース】入力欄!H305)","v":""},{"$f":"IF(【ルース】入力欄!I305=\"\",\"\",【ルース】入力欄!I305)","v":""},{"$f":"IF(【ルース】入力欄!K305=\"\",\"\",【ルース】入力欄!K305)","v":""},{"$f":"IF(【ルース】入力欄!J305=\"\",\"\",【ルース】入力欄!J305)","v":""},{"$f":"IF(【ルース】入力欄!M305=\"\",\"\",【ルース】入力欄!M305)","v":""}]
[]
[null,{"$f":"CONCATENATE(\"出品表　（　\",【ルース】入力欄!I$3,\"　大吉オークション　ルース）\")","v":"出品表　（　　大吉オークション　ルース）"}]
[]
[null,"箱番：",{"$f":"IF(【ルース】入力欄!C306=\"\",\"\",【ルース】入力欄!C306)","v":""},null,null,"※太枠の中をご記入ください",null,"会社名",{"$f":"IF(【ルース】入力欄!C$3=\"\",\"\",【ルース】入力欄!C$3)","v":""}]
[]
["番号","ｃｔ","カラー","クラリティ","カット","蛍光性","備考","付属品","指値\n（2万円以上）","発句"]
["１",{"$f":"IF(【ルース】入力欄!E306=\"\",\"\",【ルース】入力欄!E306)","v":""},{"$f":"IF(【ルース】入力欄!F306=\"\",\"\",【ルース】入力欄!F306)","v":""},{"$f":"IF(【ルース】入力欄!G306=\"\",\"\",【ルース】入力欄!G306)","v":""},{"$f":"IF(【ルース】入力欄!H306=\"\",\"\",【ルース】入力欄!H306)","v":""},{"$f":"IF(【ルース】入力欄!I306=\"\",\"\",【ルース】入力欄!I306)","v":""},{"$f":"IF(【ルース】入力欄!K306=\"\",\"\",【ルース】入力欄!K306)","v":""},{"$f":"IF(【ルース】入力欄!J306=\"\",\"\",【ルース】入力欄!J306)","v":""},{"$f":"IF(【ルース】入力欄!M306=\"\",\"\",【ルース】入力欄!M306)","v":""}]
["２",{"$f":"IF(【ルース】入力欄!E307=\"\",\"\",【ルース】入力欄!E307)","v":""},{"$f":"IF(【ルース】入力欄!F307=\"\",\"\",【ルース】入力欄!F307)","v":""},{"$f":"IF(【ルース】入力欄!G307=\"\",\"\",【ルース】入力欄!G307)","v":""},{"$f":"IF(【ルース】入力欄!H307=\"\",\"\",【ルース】入力欄!H307)","v":""},{"$f":"IF(【ルース】入力欄!I307=\"\",\"\",【ルース】入力欄!I307)","v":""},{"$f":"IF(【ルース】入力欄!K307=\"\",\"\",【ルース】入力欄!K307)","v":""},{"$f":"IF(【ルース】入力欄!J307=\"\",\"\",【ルース】入力欄!J307)","v":""},{"$f":"IF(【ルース】入力欄!M307=\"\",\"\",【ルース】入力欄!M307)","v":""}]
["３",{"$f":"IF(【ルース】入力欄!E308=\"\",\"\",【ルース】入力欄!E308)","v":""},{"$f":"IF(【ルース】入力欄!F308=\"\",\"\",【ルース】入力欄!F308)","v":""},{"$f":"IF(【ルース】入力欄!G308=\"\",\"\",【ルース】入力欄!G308)","v":""},{"$f":"IF(【ルース】入力欄!H308=\"\",\"\",【ルース】入力欄!H308)","v":""},{"$f":"IF(【ルース】入力欄!I308=\"\",\"\",【ルース】入力欄!I308)","v":""},{"$f":"IF(【ルース】入力欄!K308=\"\",\"\",【ルース】入力欄!K308)","v":""},{"$f":"IF(【ルース】入力欄!J308=\"\",\"\",【ルース】入力欄!J308)","v":""},{"$f":"IF(【ルース】入力欄!M308=\"\",\"\",【ルース】入力欄!M308)","v":""}]
["４",{"$f":"IF(【ルース】入力欄!E309=\"\",\"\",【ルース】入力欄!E309)","v":""},{"$f":"IF(【ルース】入力欄!F309=\"\",\"\",【ルース】入力欄!F309)","v":""},{"$f":"IF(【ルース】入力欄!G309=\"\",\"\",【ルース】入力欄!G309)","v":""},{"$f":"IF(【ルース】入力欄!H309=\"\",\"\",【ルース】入力欄!H309)","v":""},{"$f":"IF(【ルース】入力欄!I309=\"\",\"\",【ルース】入力欄!I309)","v":""},{"$f":"IF(【ルース】入力欄!K309=\"\",\"\",【ルース】入力欄!K309)","v":""},{"$f":"IF(【ルース】入力欄!J309=\"\",\"\",【ルース】入力欄!J309)","v":""},{"$f":"IF(【ルース】入力欄!M309=\"\",\"\",【ルース】入力欄!M309)","v":""}]
["５",{"$f":"IF(【ルース】入力欄!E310=\"\",\"\",【ルース】入力欄!E310)","v":""},{"$f":"IF(【ルース】入力欄!F310=\"\",\"\",【ルース】入力欄!F310)","v":""},{"$f":"IF(【ルース】入力欄!G310=\"\",\"\",【ルース】入力欄!G310)","v":""},{"$f":"IF(【ルース】入力欄!H310=\"\",\"\",【ルース】入力欄!H310)","v":""},{"$f":"IF(【ルース】入力欄!I310=\"\",\"\",【ルース】入力欄!I310)","v":""},{"$f":"IF(【ルース】入力欄!K310=\"\",\"\",【ルース】入力欄!K310)","v":""},{"$f":"IF(【ルース】入力欄!J310=\"\",\"\",【ルース】入力欄!J310)","v":""},{"$f":"IF(【ルース】入力欄!M310=\"\",\"\",【ルース】入力欄!M310)","v":""}]
["６",{"$f":"IF(【ルース】入力欄!E311=\"\",\"\",【ルース】入力欄!E311)","v":""},{"$f":"IF(【ルース】入力欄!F311=\"\",\"\",【ルース】入力欄!F311)","v":""},{"$f":"IF(【ルース】入力欄!G311=\"\",\"\",【ルース】入力欄!G311)","v":""},{"$f":"IF(【ルース】入力欄!H311=\"\",\"\",【ルース】入力欄!H311)","v":""},{"$f":"IF(【ルース】入力欄!I311=\"\",\"\",【ルース】入力欄!I311)","v":""},{"$f":"IF(【ルース】入力欄!K311=\"\",\"\",【ルース】入力欄!K311)","v":""},{"$f":"IF(【ルース】入力欄!J311=\"\",\"\",【ルース】入力欄!J311)","v":""},{"$f":"IF(【ルース】入力欄!M311=\"\",\"\",【ルース】入力欄!M311)","v":""}]
["７",{"$f":"IF(【ルース】入力欄!E312=\"\",\"\",【ルース】入力欄!E312)","v":""},{"$f":"IF(【ルース】入力欄!F312=\"\",\"\",【ルース】入力欄!F312)","v":""},{"$f":"IF(【ルース】入力欄!G312=\"\",\"\",【ルース】入力欄!G312)","v":""},{"$f":"IF(【ルース】入力欄!H312=\"\",\"\",【ルース】入力欄!H312)","v":""},{"$f":"IF(【ルース】入力欄!I312=\"\",\"\",【ルース】入力欄!I312)","v":""},{"$f":"IF(【ルース】入力欄!K312=\"\",\"\",【ルース】入力欄!K312)","v":""},{"$f":"IF(【ルース】入力欄!J312=\"\",\"\",【ルース】入力欄!J312)","v":""},{"$f":"IF(【ルース】入力欄!M312=\"\",\"\",【ルース】入力欄!M312)","v":""}]
["８",{"$f":"IF(【ルース】入力欄!E313=\"\",\"\",【ルース】入力欄!E313)","v":""},{"$f":"IF(【ルース】入力欄!F313=\"\",\"\",【ルース】入力欄!F313)","v":""},{"$f":"IF(【ルース】入力欄!G313=\"\",\"\",【ルース】入力欄!G313)","v":""},{"$f":"IF(【ルース】入力欄!H313=\"\",\"\",【ルース】入力欄!H313)","v":""},{"$f":"IF(【ルース】入力欄!I313=\"\",\"\",【ルース】入力欄!I313)","v":""},{"$f":"IF(【ルース】入力欄!K313=\"\",\"\",【ルース】入力欄!K313)","v":""},{"$f":"IF(【ルース】入力欄!J313=\"\",\"\",【ルース】入力欄!J313)","v":""},{"$f":"IF(【ルース】入力欄!M313=\"\",\"\",【ルース】入力欄!M313)","v":""}]
["９",{"$f":"IF(【ルース】入力欄!E314=\"\",\"\",【ルース】入力欄!E314)","v":""},{"$f":"IF(【ルース】入力欄!F314=\"\",\"\",【ルース】入力欄!F314)","v":""},{"$f":"IF(【ルース】入力欄!G314=\"\",\"\",【ルース】入力欄!G314)","v":""},{"$f":"IF(【ルース】入力欄!H314=\"\",\"\",【ルース】入力欄!H314)","v":""},{"$f":"IF(【ルース】入力欄!I314=\"\",\"\",【ルース】入力欄!I314)","v":""},{"$f":"IF(【ルース】入力欄!K314=\"\",\"\",【ルース】入力欄!K314)","v":""},{"$f":"IF(【ルース】入力欄!J314=\"\",\"\",【ルース】入力欄!J314)","v":""},{"$f":"IF(【ルース】入力欄!M314=\"\",\"\",【ルース】入力欄!M314)","v":""}]
["１０",{"$f":"IF(【ルース】入力欄!E315=\"\",\"\",【ルース】入力欄!E315)","v":""},{"$f":"IF(【ルース】入力欄!F315=\"\",\"\",【ルース】入力欄!F315)","v":""},{"$f":"IF(【ルース】入力欄!G315=\"\",\"\",【ルース】入力欄!G315)","v":""},{"$f":"IF(【ルース】入力欄!H315=\"\",\"\",【ルース】入力欄!H315)","v":""},{"$f":"IF(【ルース】入力欄!I315=\"\",\"\",【ルース】入力欄!I315)","v":""},{"$f":"IF(【ルース】入力欄!K315=\"\",\"\",【ルース】入力欄!K315)","v":""},{"$f":"IF(【ルース】入力欄!J315=\"\",\"\",【ルース】入力欄!J315)","v":""},{"$f":"IF(【ルース】入力欄!M315=\"\",\"\",【ルース】入力欄!M315)","v":""}]
[]
[null,{"$f":"CONCATENATE(\"出品表　（　\",【ルース】入力欄!I$3,\"　大吉オークション　ルース）\")","v":"出品表　（　　大吉オークション　ルース）"}]
[]
[null,"箱番：",{"$f":"IF(【ルース】入力欄!C316=\"\",\"\",【ルース】入力欄!C316)","v":""},null,null,"※太枠の中をご記入ください",null,"会社名",{"$f":"IF(【ルース】入力欄!C$3=\"\",\"\",【ルース】入力欄!C$3)","v":""}]
[]
["番号","ｃｔ","カラー","クラリティ","カット","蛍光性","備考","付属品","指値\n（2万円以上）","発句"]
["１",{"$f":"IF(【ルース】入力欄!E316=\"\",\"\",【ルース】入力欄!E316)","v":""},{"$f":"IF(【ルース】入力欄!F316=\"\",\"\",【ルース】入力欄!F316)","v":""},{"$f":"IF(【ルース】入力欄!G316=\"\",\"\",【ルース】入力欄!G316)","v":""},{"$f":"IF(【ルース】入力欄!H316=\"\",\"\",【ルース】入力欄!H316)","v":""},{"$f":"IF(【ルース】入力欄!I316=\"\",\"\",【ルース】入力欄!I316)","v":""},{"$f":"IF(【ルース】入力欄!K316=\"\",\"\",【ルース】入力欄!K316)","v":""},{"$f":"IF(【ルース】入力欄!J316=\"\",\"\",【ルース】入力欄!J316)","v":""},{"$f":"IF(【ルース】入力欄!M316=\"\",\"\",【ルース】入力欄!M316)","v":""}]
["２",{"$f":"IF(【ルース】入力欄!E317=\"\",\"\",【ルース】入力欄!E317)","v":""},{"$f":"IF(【ルース】入力欄!F317=\"\",\"\",【ルース】入力欄!F317)","v":""},{"$f":"IF(【ルース】入力欄!G317=\"\",\"\",【ルース】入力欄!G317)","v":""},{"$f":"IF(【ルース】入力欄!H317=\"\",\"\",【ルース】入力欄!H317)","v":""},{"$f":"IF(【ルース】入力欄!I317=\"\",\"\",【ルース】入力欄!I317)","v":""},{"$f":"IF(【ルース】入力欄!K317=\"\",\"\",【ルース】入力欄!K317)","v":""},{"$f":"IF(【ルース】入力欄!J317=\"\",\"\",【ルース】入力欄!J317)","v":""},{"$f":"IF(【ルース】入力欄!M317=\"\",\"\",【ルース】入力欄!M317)","v":""}]
["３",{"$f":"IF(【ルース】入力欄!E318=\"\",\"\",【ルース】入力欄!E318)","v":""},{"$f":"IF(【ルース】入力欄!F318=\"\",\"\",【ルース】入力欄!F318)","v":""},{"$f":"IF(【ルース】入力欄!G318=\"\",\"\",【ルース】入力欄!G318)","v":""},{"$f":"IF(【ルース】入力欄!H318=\"\",\"\",【ルース】入力欄!H318)","v":""},{"$f":"IF(【ルース】入力欄!I318=\"\",\"\",【ルース】入力欄!I318)","v":""},{"$f":"IF(【ルース】入力欄!K318=\"\",\"\",【ルース】入力欄!K318)","v":""},{"$f":"IF(【ルース】入力欄!J318=\"\",\"\",【ルース】入力欄!J318)","v":""},{"$f":"IF(【ルース】入力欄!M318=\"\",\"\",【ルース】入力欄!M318)","v":""}]
["４",{"$f":"IF(【ルース】入力欄!E319=\"\",\"\",【ルース】入力欄!E319)","v":""},{"$f":"IF(【ルース】入力欄!F319=\"\",\"\",【ルース】入力欄!F319)","v":""},{"$f":"IF(【ルース】入力欄!G319=\"\",\"\",【ルース】入力欄!G319)","v":""},{"$f":"IF(【ルース】入力欄!H319=\"\",\"\",【ルース】入力欄!H319)","v":""},{"$f":"IF(【ルース】入力欄!I319=\"\",\"\",【ルース】入力欄!I319)","v":""},{"$f":"IF(【ルース】入力欄!K319=\"\",\"\",【ルース】入力欄!K319)","v":""},{"$f":"IF(【ルース】入力欄!J319=\"\",\"\",【ルース】入力欄!J319)","v":""},{"$f":"IF(【ルース】入力欄!M319=\"\",\"\",【ルース】入力欄!M319)","v":""}]
["５",{"$f":"IF(【ルース】入力欄!E320=\"\",\"\",【ルース】入力欄!E320)","v":""},{"$f":"IF(【ルース】入力欄!F320=\"\",\"\",【ルース】入力欄!F320)","v":""},{"$f":"IF(【ルース】入力欄!G320=\"\",\"\",【ルース】入力欄!G320)","v":""},{"$f":"IF(【ルース】入力欄!H320=\"\",\"\",【ルース】入力欄!H320)","v":""},{"$f":"IF(【ルース】入力欄!I320=\"\",\"\",【ルース】入力欄!I320)","v":""},{"$f":"IF(【ルース】入力欄!K320=\"\",\"\",【ルース】入力欄!K320)","v":""},{"$f":"IF(【ルース】入力欄!J320=\"\",\"\",【ルース】入力欄!J320)","v":""},{"$f":"IF(【ルース】入力欄!M320=\"\",\"\",【ルース】入力欄!M320)","v":""}]
["６",{"$f":"IF(【ルース】入力欄!E321=\"\",\"\",【ルース】入力欄!E321)","v":""},{"$f":"IF(【ルース】入力欄!F321=\"\",\"\",【ルース】入力欄!F321)","v":""},{"$f":"IF(【ルース】入力欄!G321=\"\",\"\",【ルース】入力欄!G321)","v":""},{"$f":"IF(【ルース】入力欄!H321=\"\",\"\",【ルース】入力欄!H321)","v":""},{"$f":"IF(【ルース】入力欄!I321=\"\",\"\",【ルース】入力欄!I321)","v":""},{"$f":"IF(【ルース】入力欄!K321=\"\",\"\",【ルース】入力欄!K321)","v":""},{"$f":"IF(【ルース】入力欄!J321=\"\",\"\",【ルース】入力欄!J321)","v":""},{"$f":"IF(【ルース】入力欄!M321=\"\",\"\",【ルース】入力欄!M321)","v":""}]
["７",{"$f":"IF(【ルース】入力欄!E322=\"\",\"\",【ルース】入力欄!E322)","v":""},{"$f":"IF(【ルース】入力欄!F322=\"\",\"\",【ルース】入力欄!F322)","v":""},{"$f":"IF(【ルース】入力欄!G322=\"\",\"\",【ルース】入力欄!G322)","v":""},{"$f":"IF(【ルース】入力欄!H322=\"\",\"\",【ルース】入力欄!H322)","v":""},{"$f":"IF(【ルース】入力欄!I322=\"\",\"\",【ルース】入力欄!I322)","v":""},{"$f":"IF(【ルース】入力欄!K322=\"\",\"\",【ルース】入力欄!K322)","v":""},{"$f":"IF(【ルース】入力欄!J322=\"\",\"\",【ルース】入力欄!J322)","v":""},{"$f":"IF(【ルース】入力欄!M322=\"\",\"\",【ルース】入力欄!M322)","v":""}]
["８",{"$f":"IF(【ルース】入力欄!E323=\"\",\"\",【ルース】入力欄!E323)","v":""},{"$f":"IF(【ルース】入力欄!F323=\"\",\"\",【ルース】入力欄!F323)","v":""},{"$f":"IF(【ルース】入力欄!G323=\"\",\"\",【ルース】入力欄!G323)","v":""},{"$f":"IF(【ルース】入力欄!H323=\"\",\"\",【ルース】入力欄!H323)","v":""},{"$f":"IF(【ルース】入力欄!I323=\"\",\"\",【ルース】入力欄!I323)","v":""},{"$f":"IF(【ルース】入力欄!K323=\"\",\"\",【ルース】入力欄!K323)","v":""},{"$f":"IF(【ルース】入力欄!J323=\"\",\"\",【ルース】入力欄!J323)","v":""},{"$f":"IF(【ルース】入力欄!M323=\"\",\"\",【ルース】入力欄!M323)","v":""}]
["９",{"$f":"IF(【ルース】入力欄!E324=\"\",\"\",【ルース】入力欄!E324)","v":""},{"$f":"IF(【ルース】入力欄!F324=\"\",\"\",【ルース】入力欄!F324)","v":""},{"$f":"IF(【ルース】入力欄!G324=\"\",\"\",【ルース】入力欄!G324)","v":""},{"$f":"IF(【ルース】入力欄!H324=\"\",\"\",【ルース】入力欄!H324)","v":""},{"$f":"IF(【ルース】入力欄!I324=\"\",\"\",【ルース】入力欄!I324)","v":""},{"$f":"IF(【ルース】入力欄!K324=\"\",\"\",【ルース】入力欄!K324)","v":""},{"$f":"IF(【ルース】入力欄!J324=\"\",\"\",【ルース】入力欄!J324)","v":""},{"$f":"IF(【ルース】入力欄!M324=\"\",\"\",【ルース】入力欄!M324)","v":""}]
["１０",{"$f":"IF(【ルース】入力欄!E325=\"\",\"\",【ルース】入力欄!E325)","v":""},{"$f":"IF(【ルース】入力欄!F325=\"\",\"\",【ルース】入力欄!F325)","v":""},{"$f":"IF(【ルース】入力欄!G325=\"\",\"\",【ルース】入力欄!G325)","v":""},{"$f":"IF(【ルース】入力欄!H325=\"\",\"\",【ルース】入力欄!H325)","v":""},{"$f":"IF(【ルース】入力欄!I325=\"\",\"\",【ルース】入力欄!I325)","v":""},{"$f":"IF(【ルース】入力欄!K325=\"\",\"\",【ルース】入力欄!K325)","v":""},{"$f":"IF(【ルース】入力欄!J325=\"\",\"\",【ルース】入力欄!J325)","v":""},{"$f":"IF(【ルース】入力欄!M325=\"\",\"\",【ルース】入力欄!M325)","v":""}]
[]
[null,{"$f":"CONCATENATE(\"出品表　（　\",【ルース】入力欄!I$3,\"　大吉オークション　ルース）\")","v":"出品表　（　　大吉オークション　ルース）"}]
[]
[null,"箱番：",{"$f":"IF(【ルース】入力欄!C326=\"\",\"\",【ルース】入力欄!C326)","v":""},null,null,"※太枠の中をご記入ください",null,"会社名",{"$f":"IF(【ルース】入力欄!C$3=\"\",\"\",【ルース】入力欄!C$3)","v":""}]
[]
["番号","ｃｔ","カラー","クラリティ","カット","蛍光性","備考","付属品","指値\n（2万円以上）","発句"]
["１",{"$f":"IF(【ルース】入力欄!E326=\"\",\"\",【ルース】入力欄!E326)","v":""},{"$f":"IF(【ルース】入力欄!F326=\"\",\"\",【ルース】入力欄!F326)","v":""},{"$f":"IF(【ルース】入力欄!G326=\"\",\"\",【ルース】入力欄!G326)","v":""},{"$f":"IF(【ルース】入力欄!H326=\"\",\"\",【ルース】入力欄!H326)","v":""},{"$f":"IF(【ルース】入力欄!I326=\"\",\"\",【ルース】入力欄!I326)","v":""},{"$f":"IF(【ルース】入力欄!K326=\"\",\"\",【ルース】入力欄!K326)","v":""},{"$f":"IF(【ルース】入力欄!J326=\"\",\"\",【ルース】入力欄!J326)","v":""},{"$f":"IF(【ルース】入力欄!M326=\"\",\"\",【ルース】入力欄!M326)","v":""}]
["２",{"$f":"IF(【ルース】入力欄!E327=\"\",\"\",【ルース】入力欄!E327)","v":""},{"$f":"IF(【ルース】入力欄!F327=\"\",\"\",【ルース】入力欄!F327)","v":""},{"$f":"IF(【ルース】入力欄!G327=\"\",\"\",【ルース】入力欄!G327)","v":""},{"$f":"IF(【ルース】入力欄!H327=\"\",\"\",【ルース】入力欄!H327)","v":""},{"$f":"IF(【ルース】入力欄!I327=\"\",\"\",【ルース】入力欄!I327)","v":""},{"$f":"IF(【ルース】入力欄!K327=\"\",\"\",【ルース】入力欄!K327)","v":""},{"$f":"IF(【ルース】入力欄!J327=\"\",\"\",【ルース】入力欄!J327)","v":""},{"$f":"IF(【ルース】入力欄!M327=\"\",\"\",【ルース】入力欄!M327)","v":""}]
["３",{"$f":"IF(【ルース】入力欄!E328=\"\",\"\",【ルース】入力欄!E328)","v":""},{"$f":"IF(【ルース】入力欄!F328=\"\",\"\",【ルース】入力欄!F328)","v":""},{"$f":"IF(【ルース】入力欄!G328=\"\",\"\",【ルース】入力欄!G328)","v":""},{"$f":"IF(【ルース】入力欄!H328=\"\",\"\",【ルース】入力欄!H328)","v":""},{"$f":"IF(【ルース】入力欄!I328=\"\",\"\",【ルース】入力欄!I328)","v":""},{"$f":"IF(【ルース】入力欄!K328=\"\",\"\",【ルース】入力欄!K328)","v":""},{"$f":"IF(【ルース】入力欄!J328=\"\",\"\",【ルース】入力欄!J328)","v":""},{"$f":"IF(【ルース】入力欄!M328=\"\",\"\",【ルース】入力欄!M328)","v":""}]
["４",{"$f":"IF(【ルース】入力欄!E329=\"\",\"\",【ルース】入力欄!E329)","v":""},{"$f":"IF(【ルース】入力欄!F329=\"\",\"\",【ルース】入力欄!F329)","v":""},{"$f":"IF(【ルース】入力欄!G329=\"\",\"\",【ルース】入力欄!G329)","v":""},{"$f":"IF(【ルース】入力欄!H329=\"\",\"\",【ルース】入力欄!H329)","v":""},{"$f":"IF(【ルース】入力欄!I329=\"\",\"\",【ルース】入力欄!I329)","v":""},{"$f":"IF(【ルース】入力欄!K329=\"\",\"\",【ルース】入力欄!K329)","v":""},{"$f":"IF(【ルース】入力欄!J329=\"\",\"\",【ルース】入力欄!J329)","v":""},{"$f":"IF(【ルース】入力欄!M329=\"\",\"\",【ルース】入力欄!M329)","v":""}]
["５",{"$f":"IF(【ルース】入力欄!E330=\"\",\"\",【ルース】入力欄!E330)","v":""},{"$f":"IF(【ルース】入力欄!F330=\"\",\"\",【ルース】入力欄!F330)","v":""},{"$f":"IF(【ルース】入力欄!G330=\"\",\"\",【ルース】入力欄!G330)","v":""},{"$f":"IF(【ルース】入力欄!H330=\"\",\"\",【ルース】入力欄!H330)","v":""},{"$f":"IF(【ルース】入力欄!I330=\"\",\"\",【ルース】入力欄!I330)","v":""},{"$f":"IF(【ルース】入力欄!K330=\"\",\"\",【ルース】入力欄!K330)","v":""},{"$f":"IF(【ルース】入力欄!J330=\"\",\"\",【ルース】入力欄!J330)","v":""},{"$f":"IF(【ルース】入力欄!M330=\"\",\"\",【ルース】入力欄!M330)","v":""}]
["６",{"$f":"IF(【ルース】入力欄!E331=\"\",\"\",【ルース】入力欄!E331)","v":""},{"$f":"IF(【ルース】入力欄!F331=\"\",\"\",【ルース】入力欄!F331)","v":""},{"$f":"IF(【ルース】入力欄!G331=\"\",\"\",【ルース】入力欄!G331)","v":""},{"$f":"IF(【ルース】入力欄!H331=\"\",\"\",【ルース】入力欄!H331)","v":""},{"$f":"IF(【ルース】入力欄!I331=\"\",\"\",【ルース】入力欄!I331)","v":""},{"$f":"IF(【ルース】入力欄!K331=\"\",\"\",【ルース】入力欄!K331)","v":""},{"$f":"IF(【ルース】入力欄!J331=\"\",\"\",【ルース】入力欄!J331)","v":""},{"$f":"IF(【ルース】入力欄!M331=\"\",\"\",【ルース】入力欄!M331)","v":""}]
["７",{"$f":"IF(【ルース】入力欄!E332=\"\",\"\",【ルース】入力欄!E332)","v":""},{"$f":"IF(【ルース】入力欄!F332=\"\",\"\",【ルース】入力欄!F332)","v":""},{"$f":"IF(【ルース】入力欄!G332=\"\",\"\",【ルース】入力欄!G332)","v":""},{"$f":"IF(【ルース】入力欄!H332=\"\",\"\",【ルース】入力欄!H332)","v":""},{"$f":"IF(【ルース】入力欄!I332=\"\",\"\",【ルース】入力欄!I332)","v":""},{"$f":"IF(【ルース】入力欄!K332=\"\",\"\",【ルース】入力欄!K332)","v":""},{"$f":"IF(【ルース】入力欄!J332=\"\",\"\",【ルース】入力欄!J332)","v":""},{"$f":"IF(【ルース】入力欄!M332=\"\",\"\",【ルース】入力欄!M332)","v":""}]
["８",{"$f":"IF(【ルース】入力欄!E333=\"\",\"\",【ルース】入力欄!E333)","v":""},{"$f":"IF(【ルース】入力欄!F333=\"\",\"\",【ルース】入力欄!F333)","v":""},{"$f":"IF(【ルース】入力欄!G333=\"\",\"\",【ルース】入力欄!G333)","v":""},{"$f":"IF(【ルース】入力欄!H333=\"\",\"\",【ルース】入力欄!H333)","v":""},{"$f":"IF(【ルース】入力欄!I333=\"\",\"\",【ルース】入力欄!I333)","v":""},{"$f":"IF(【ルース】入力欄!K333=\"\",\"\",【ルース】入力欄!K333)","v":""},{"$f":"IF(【ルース】入力欄!J333=\"\",\"\",【ルース】入力欄!J333)","v":""},{"$f":"IF(【ルース】入力欄!M333=\"\",\"\",【ルース】入力欄!M333)","v":""}]
["９",{"$f":"IF(【ルース】入力欄!E334=\"\",\"\",【ルース】入力欄!E334)","v":""},{"$f":"IF(【ルース】入力欄!F334=\"\",\"\",【ルース】入力欄!F334)","v":""},{"$f":"IF(【ルース】入力欄!G334=\"\",\"\",【ルース】入力欄!G334)","v":""},{"$f":"IF(【ルース】入力欄!H334=\"\",\"\",【ルース】入力欄!H334)","v":""},{"$f":"IF(【ルース】入力欄!I334=\"\",\"\",【ルース】入力欄!I334)","v":""},{"$f":"IF(【ルース】入力欄!K334=\"\",\"\",【ルース】入力欄!K334)","v":""},{"$f":"IF(【ルース】入力欄!J334=\"\",\"\",【ルース】入力欄!J334)","v":""},{"$f":"IF(【ルース】入力欄!M334=\"\",\"\",【ルース】入力欄!M334)","v":""}]
["１０",{"$f":"IF(【ルース】入力欄!E335=\"\",\"\",【ルース】入力欄!E335)","v":""},{"$f":"IF(【ルース】入力欄!F335=\"\",\"\",【ルース】入力欄!F335)","v":""},{"$f":"IF(【ルース】入力欄!G335=\"\",\"\",【ルース】入力欄!G335)","v":""},{"$f":"IF(【ルース】入力欄!H335=\"\",\"\",【ルース】入力欄!H335)","v":""},{"$f":"IF(【ルース】入力欄!I335=\"\",\"\",【ルース】入力欄!I335)","v":""},{"$f":"IF(【ルース】入力欄!K335=\"\",\"\",【ルース】入力欄!K335)","v":""},{"$f":"IF(【ルース】入力欄!J335=\"\",\"\",【ルース】入力欄!J335)","v":""},{"$f":"IF(【ルース】入力欄!M335=\"\",\"\",【ルース】入力欄!M335)","v":""}]
[]
[null,{"$f":"CONCATENATE(\"出品表　（　\",【ルース】入力欄!I$3,\"　大吉オークション　ルース）\")","v":"出品表　（　　大吉オークション　ルース）"}]
[]
[null,"箱番：",{"$f":"IF(【ルース】入力欄!C336=\"\",\"\",【ルース】入力欄!C336)","v":""},null,null,"※太枠の中をご記入ください",null,"会社名",{"$f":"IF(【ルース】入力欄!C$3=\"\",\"\",【ルース】入力欄!C$3)","v":""}]
[]
["番号","ｃｔ","カラー","クラリティ","カット","蛍光性","備考","付属品","指値\n（2万円以上）","発句"]
["１",{"$f":"IF(【ルース】入力欄!E336=\"\",\"\",【ルース】入力欄!E336)","v":""},{"$f":"IF(【ルース】入力欄!F336=\"\",\"\",【ルース】入力欄!F336)","v":""},{"$f":"IF(【ルース】入力欄!G336=\"\",\"\",【ルース】入力欄!G336)","v":""},{"$f":"IF(【ルース】入力欄!H336=\"\",\"\",【ルース】入力欄!H336)","v":""},{"$f":"IF(【ルース】入力欄!I336=\"\",\"\",【ルース】入力欄!I336)","v":""},{"$f":"IF(【ルース】入力欄!K336=\"\",\"\",【ルース】入力欄!K336)","v":""},{"$f":"IF(【ルース】入力欄!J336=\"\",\"\",【ルース】入力欄!J336)","v":""},{"$f":"IF(【ルース】入力欄!M336=\"\",\"\",【ルース】入力欄!M336)","v":""}]
["２",{"$f":"IF(【ルース】入力欄!E337=\"\",\"\",【ルース】入力欄!E337)","v":""},{"$f":"IF(【ルース】入力欄!F337=\"\",\"\",【ルース】入力欄!F337)","v":""},{"$f":"IF(【ルース】入力欄!G337=\"\",\"\",【ルース】入力欄!G337)","v":""},{"$f":"IF(【ルース】入力欄!H337=\"\",\"\",【ルース】入力欄!H337)","v":""},{"$f":"IF(【ルース】入力欄!I337=\"\",\"\",【ルース】入力欄!I337)","v":""},{"$f":"IF(【ルース】入力欄!K337=\"\",\"\",【ルース】入力欄!K337)","v":""},{"$f":"IF(【ルース】入力欄!J337=\"\",\"\",【ルース】入力欄!J337)","v":""},{"$f":"IF(【ルース】入力欄!M337=\"\",\"\",【ルース】入力欄!M337)","v":""}]
["３",{"$f":"IF(【ルース】入力欄!E338=\"\",\"\",【ルース】入力欄!E338)","v":""},{"$f":"IF(【ルース】入力欄!F338=\"\",\"\",【ルース】入力欄!F338)","v":""},{"$f":"IF(【ルース】入力欄!G338=\"\",\"\",【ルース】入力欄!G338)","v":""},{"$f":"IF(【ルース】入力欄!H338=\"\",\"\",【ルース】入力欄!H338)","v":""},{"$f":"IF(【ルース】入力欄!I338=\"\",\"\",【ルース】入力欄!I338)","v":""},{"$f":"IF(【ルース】入力欄!K338=\"\",\"\",【ルース】入力欄!K338)","v":""},{"$f":"IF(【ルース】入力欄!J338=\"\",\"\",【ルース】入力欄!J338)","v":""},{"$f":"IF(【ルース】入力欄!M338=\"\",\"\",【ルース】入力欄!M338)","v":""}]
["４",{"$f":"IF(【ルース】入力欄!E339=\"\",\"\",【ルース】入力欄!E339)","v":""},{"$f":"IF(【ルース】入力欄!F339=\"\",\"\",【ルース】入力欄!F339)","v":""},{"$f":"IF(【ルース】入力欄!G339=\"\",\"\",【ルース】入力欄!G339)","v":""},{"$f":"IF(【ルース】入力欄!H339=\"\",\"\",【ルース】入力欄!H339)","v":""},{"$f":"IF(【ルース】入力欄!I339=\"\",\"\",【ルース】入力欄!I339)","v":""},{"$f":"IF(【ルース】入力欄!K339=\"\",\"\",【ルース】入力欄!K339)","v":""},{"$f":"IF(【ルース】入力欄!J339=\"\",\"\",【ルース】入力欄!J339)","v":""},{"$f":"IF(【ルース】入力欄!M339=\"\",\"\",【ルース】入力欄!M339)","v":""}]
["５",{"$f":"IF(【ルース】入力欄!E340=\"\",\"\",【ルース】入力欄!E340)","v":""},{"$f":"IF(【ルース】入力欄!F340=\"\",\"\",【ルース】入力欄!F340)","v":""},{"$f":"IF(【ルース】入力欄!G340=\"\",\"\",【ルース】入力欄!G340)","v":""},{"$f":"IF(【ルース】入力欄!H340=\"\",\"\",【ルース】入力欄!H340)","v":""},{"$f":"IF(【ルース】入力欄!I340=\"\",\"\",【ルース】入力欄!I340)","v":""},{"$f":"IF(【ルース】入力欄!K340=\"\",\"\",【ルース】入力欄!K340)","v":""},{"$f":"IF(【ルース】入力欄!J340=\"\",\"\",【ルース】入力欄!J340)","v":""},{"$f":"IF(【ルース】入力欄!M340=\"\",\"\",【ルース】入力欄!M340)","v":""}]
["６",{"$f":"IF(【ルース】入力欄!E341=\"\",\"\",【ルース】入力欄!E341)","v":""},{"$f":"IF(【ルース】入力欄!F341=\"\",\"\",【ルース】入力欄!F341)","v":""},{"$f":"IF(【ルース】入力欄!G341=\"\",\"\",【ルース】入力欄!G341)","v":""},{"$f":"IF(【ルース】入力欄!H341=\"\",\"\",【ルース】入力欄!H341)","v":""},{"$f":"IF(【ルース】入力欄!I341=\"\",\"\",【ルース】入力欄!I341)","v":""},{"$f":"IF(【ルース】入力欄!K341=\"\",\"\",【ルース】入力欄!K341)","v":""},{"$f":"IF(【ルース】入力欄!J341=\"\",\"\",【ルース】入力欄!J341)","v":""},{"$f":"IF(【ルース】入力欄!M341=\"\",\"\",【ルース】入力欄!M341)","v":""}]
["７",{"$f":"IF(【ルース】入力欄!E342=\"\",\"\",【ルース】入力欄!E342)","v":""},{"$f":"IF(【ルース】入力欄!F342=\"\",\"\",【ルース】入力欄!F342)","v":""},{"$f":"IF(【ルース】入力欄!G342=\"\",\"\",【ルース】入力欄!G342)","v":""},{"$f":"IF(【ルース】入力欄!H342=\"\",\"\",【ルース】入力欄!H342)","v":""},{"$f":"IF(【ルース】入力欄!I342=\"\",\"\",【ルース】入力欄!I342)","v":""},{"$f":"IF(【ルース】入力欄!K342=\"\",\"\",【ルース】入力欄!K342)","v":""},{"$f":"IF(【ルース】入力欄!J342=\"\",\"\",【ルース】入力欄!J342)","v":""},{"$f":"IF(【ルース】入力欄!M342=\"\",\"\",【ルース】入力欄!M342)","v":""}]
["８",{"$f":"IF(【ルース】入力欄!E343=\"\",\"\",【ルース】入力欄!E343)","v":""},{"$f":"IF(【ルース】入力欄!F343=\"\",\"\",【ルース】入力欄!F343)","v":""},{"$f":"IF(【ルース】入力欄!G343=\"\",\"\",【ルース】入力欄!G343)","v":""},{"$f":"IF(【ルース】入力欄!H343=\"\",\"\",【ルース】入力欄!H343)","v":""},{"$f":"IF(【ルース】入力欄!I343=\"\",\"\",【ルース】入力欄!I343)","v":""},{"$f":"IF(【ルース】入力欄!K343=\"\",\"\",【ルース】入力欄!K343)","v":""},{"$f":"IF(【ルース】入力欄!J343=\"\",\"\",【ルース】入力欄!J343)","v":""},{"$f":"IF(【ルース】入力欄!M343=\"\",\"\",【ルース】入力欄!M343)","v":""}]
["９",{"$f":"IF(【ルース】入力欄!E344=\"\",\"\",【ルース】入力欄!E344)","v":""},{"$f":"IF(【ルース】入力欄!F344=\"\",\"\",【ルース】入力欄!F344)","v":""},{"$f":"IF(【ルース】入力欄!G344=\"\",\"\",【ルース】入力欄!G344)","v":""},{"$f":"IF(【ルース】入力欄!H344=\"\",\"\",【ルース】入力欄!H344)","v":""},{"$f":"IF(【ルース】入力欄!I344=\"\",\"\",【ルース】入力欄!I344)","v":""},{"$f":"IF(【ルース】入力欄!K344=\"\",\"\",【ルース】入力欄!K344)","v":""},{"$f":"IF(【ルース】入力欄!J344=\"\",\"\",【ルース】入力欄!J344)","v":""},{"$f":"IF(【ルース】入力欄!M344=\"\",\"\",【ルース】入力欄!M344)","v":""}]
["１０",{"$f":"IF(【ルース】入力欄!E345=\"\",\"\",【ルース】入力欄!E345)","v":""},{"$f":"IF(【ルース】入力欄!F345=\"\",\"\",【ルース】入力欄!F345)","v":""},{"$f":"IF(【ルース】入力欄!G345=\"\",\"\",【ルース】入力欄!G345)","v":""},{"$f":"IF(【ルース】入力欄!H345=\"\",\"\",【ルース】入力欄!H345)","v":""},{"$f":"IF(【ルース】入力欄!I345=\"\",\"\",【ルース】入力欄!I345)","v":""},{"$f":"IF(【ルース】入力欄!K345=\"\",\"\",【ルース】入力欄!K345)","v":""},{"$f":"IF(【ルース】入力欄!J345=\"\",\"\",【ルース】入力欄!J345)","v":""},{"$f":"IF(【ルース】入力欄!M345=\"\",\"\",【ルース】入力欄!M345)","v":""}]
[]
[null,{"$f":"CONCATENATE(\"出品表　（　\",【ルース】入力欄!I$3,\"　大吉オークション　ルース）\")","v":"出品表　（　　大吉オークション　ルース）"}]
[]
[null,"箱番：",{"$f":"IF(【ルース】入力欄!C346=\"\",\"\",【ルース】入力欄!C346)","v":""},null,null,"※太枠の中をご記入ください",null,"会社名",{"$f":"IF(【ルース】入力欄!C$3=\"\",\"\",【ルース】入力欄!C$3)","v":""}]
[]
["番号","ｃｔ","カラー","クラリティ","カット","蛍光性","備考","付属品","指値\n（2万円以上）","発句"]
["１",{"$f":"IF(【ルース】入力欄!E346=\"\",\"\",【ルース】入力欄!E346)","v":""},{"$f":"IF(【ルース】入力欄!F346=\"\",\"\",【ルース】入力欄!F346)","v":""},{"$f":"IF(【ルース】入力欄!G346=\"\",\"\",【ルース】入力欄!G346)","v":""},{"$f":"IF(【ルース】入力欄!H346=\"\",\"\",【ルース】入力欄!H346)","v":""},{"$f":"IF(【ルース】入力欄!I346=\"\",\"\",【ルース】入力欄!I346)","v":""},{"$f":"IF(【ルース】入力欄!K346=\"\",\"\",【ルース】入力欄!K346)","v":""},{"$f":"IF(【ルース】入力欄!J346=\"\",\"\",【ルース】入力欄!J346)","v":""},{"$f":"IF(【ルース】入力欄!M346=\"\",\"\",【ルース】入力欄!M346)","v":""}]
["２",{"$f":"IF(【ルース】入力欄!E347=\"\",\"\",【ルース】入力欄!E347)","v":""},{"$f":"IF(【ルース】入力欄!F347=\"\",\"\",【ルース】入力欄!F347)","v":""},{"$f":"IF(【ルース】入力欄!G347=\"\",\"\",【ルース】入力欄!G347)","v":""},{"$f":"IF(【ルース】入力欄!H347=\"\",\"\",【ルース】入力欄!H347)","v":""},{"$f":"IF(【ルース】入力欄!I347=\"\",\"\",【ルース】入力欄!I347)","v":""},{"$f":"IF(【ルース】入力欄!K347=\"\",\"\",【ルース】入力欄!K347)","v":""},{"$f":"IF(【ルース】入力欄!J347=\"\",\"\",【ルース】入力欄!J347)","v":""},{"$f":"IF(【ルース】入力欄!M347=\"\",\"\",【ルース】入力欄!M347)","v":""}]
["３",{"$f":"IF(【ルース】入力欄!E348=\"\",\"\",【ルース】入力欄!E348)","v":""},{"$f":"IF(【ルース】入力欄!F348=\"\",\"\",【ルース】入力欄!F348)","v":""},{"$f":"IF(【ルース】入力欄!G348=\"\",\"\",【ルース】入力欄!G348)","v":""},{"$f":"IF(【ルース】入力欄!H348=\"\",\"\",【ルース】入力欄!H348)","v":""},{"$f":"IF(【ルース】入力欄!I348=\"\",\"\",【ルース】入力欄!I348)","v":""},{"$f":"IF(【ルース】入力欄!K348=\"\",\"\",【ルース】入力欄!K348)","v":""},{"$f":"IF(【ルース】入力欄!J348=\"\",\"\",【ルース】入力欄!J348)","v":""},{"$f":"IF(【ルース】入力欄!M348=\"\",\"\",【ルース】入力欄!M348)","v":""}]
["４",{"$f":"IF(【ルース】入力欄!E349=\"\",\"\",【ルース】入力欄!E349)","v":""},{"$f":"IF(【ルース】入力欄!F349=\"\",\"\",【ルース】入力欄!F349)","v":""},{"$f":"IF(【ルース】入力欄!G349=\"\",\"\",【ルース】入力欄!G349)","v":""},{"$f":"IF(【ルース】入力欄!H349=\"\",\"\",【ルース】入力欄!H349)","v":""},{"$f":"IF(【ルース】入力欄!I349=\"\",\"\",【ルース】入力欄!I349)","v":""},{"$f":"IF(【ルース】入力欄!K349=\"\",\"\",【ルース】入力欄!K349)","v":""},{"$f":"IF(【ルース】入力欄!J349=\"\",\"\",【ルース】入力欄!J349)","v":""},{"$f":"IF(【ルース】入力欄!M349=\"\",\"\",【ルース】入力欄!M349)","v":""}]
["５",{"$f":"IF(【ルース】入力欄!E350=\"\",\"\",【ルース】入力欄!E350)","v":""},{"$f":"IF(【ルース】入力欄!F350=\"\",\"\",【ルース】入力欄!F350)","v":""},{"$f":"IF(【ルース】入力欄!G350=\"\",\"\",【ルース】入力欄!G350)","v":""},{"$f":"IF(【ルース】入力欄!H350=\"\",\"\",【ルース】入力欄!H350)","v":""},{"$f":"IF(【ルース】入力欄!I350=\"\",\"\",【ルース】入力欄!I350)","v":""},{"$f":"IF(【ルース】入力欄!K350=\"\",\"\",【ルース】入力欄!K350)","v":""},{"$f":"IF(【ルース】入力欄!J350=\"\",\"\",【ルース】入力欄!J350)","v":""},{"$f":"IF(【ルース】入力欄!M350=\"\",\"\",【ルース】入力欄!M350)","v":""}]
["６",{"$f":"IF(【ルース】入力欄!E351=\"\",\"\",【ルース】入力欄!E351)","v":""},{"$f":"IF(【ルース】入力欄!F351=\"\",\"\",【ルース】入力欄!F351)","v":""},{"$f":"IF(【ルース】入力欄!G351=\"\",\"\",【ルース】入力欄!G351)","v":""},{"$f":"IF(【ルース】入力欄!H351=\"\",\"\",【ルース】入力欄!H351)","v":""},{"$f":"IF(【ルース】入力欄!I351=\"\",\"\",【ルース】入力欄!I351)","v":""},{"$f":"IF(【ルース】入力欄!K351=\"\",\"\",【ルース】入力欄!K351)","v":""},{"$f":"IF(【ルース】入力欄!J351=\"\",\"\",【ルース】入力欄!J351)","v":""},{"$f":"IF(【ルース】入力欄!M351=\"\",\"\",【ルース】入力欄!M351)","v":""}]
["７",{"$f":"IF(【ルース】入力欄!E352=\"\",\"\",【ルース】入力欄!E352)","v":""},{"$f":"IF(【ルース】入力欄!F352=\"\",\"\",【ルース】入力欄!F352)","v":""},{"$f":"IF(【ルース】入力欄!G352=\"\",\"\",【ルース】入力欄!G352)","v":""},{"$f":"IF(【ルース】入力欄!H352=\"\",\"\",【ルース】入力欄!H352)","v":""},{"$f":"IF(【ルース】入力欄!I352=\"\",\"\",【ルース】入力欄!I352)","v":""},{"$f":"IF(【ルース】入力欄!K352=\"\",\"\",【ルース】入力欄!K352)","v":""},{"$f":"IF(【ルース】入力欄!J352=\"\",\"\",【ルース】入力欄!J352)","v":""},{"$f":"IF(【ルース】入力欄!M352=\"\",\"\",【ルース】入力欄!M352)","v":""}]
["８",{"$f":"IF(【ルース】入力欄!E353=\"\",\"\",【ルース】入力欄!E353)","v":""},{"$f":"IF(【ルース】入力欄!F353=\"\",\"\",【ルース】入力欄!F353)","v":""},{"$f":"IF(【ルース】入力欄!G353=\"\",\"\",【ルース】入力欄!G353)","v":""},{"$f":"IF(【ルース】入力欄!H353=\"\",\"\",【ルース】入力欄!H353)","v":""},{"$f":"IF(【ルース】入力欄!I353=\"\",\"\",【ルース】入力欄!I353)","v":""},{"$f":"IF(【ルース】入力欄!K353=\"\",\"\",【ルース】入力欄!K353)","v":""},{"$f":"IF(【ルース】入力欄!J353=\"\",\"\",【ルース】入力欄!J353)","v":""},{"$f":"IF(【ルース】入力欄!M353=\"\",\"\",【ルース】入力欄!M353)","v":""}]
["９",{"$f":"IF(【ルース】入力欄!E354=\"\",\"\",【ルース】入力欄!E354)","v":""},{"$f":"IF(【ルース】入力欄!F354=\"\",\"\",【ルース】入力欄!F354)","v":""},{"$f":"IF(【ルース】入力欄!G354=\"\",\"\",【ルース】入力欄!G354)","v":""},{"$f":"IF(【ルース】入力欄!H354=\"\",\"\",【ルース】入力欄!H354)","v":""},{"$f":"IF(【ルース】入力欄!I354=\"\",\"\",【ルース】入力欄!I354)","v":""},{"$f":"IF(【ルース】入力欄!K354=\"\",\"\",【ルース】入力欄!K354)","v":""},{"$f":"IF(【ルース】入力欄!J354=\"\",\"\",【ルース】入力欄!J354)","v":""},{"$f":"IF(【ルース】入力欄!M354=\"\",\"\",【ルース】入力欄!M354)","v":""}]
["１０",{"$f":"IF(【ルース】入力欄!E355=\"\",\"\",【ルース】入力欄!E355)","v":""},{"$f":"IF(【ルース】入力欄!F355=\"\",\"\",【ルース】入力欄!F355)","v":""},{"$f":"IF(【ルース】入力欄!G355=\"\",\"\",【ルース】入力欄!G355)","v":""},{"$f":"IF(【ルース】入力欄!H355=\"\",\"\",【ルース】入力欄!H355)","v":""},{"$f":"IF(【ルース】入力欄!I355=\"\",\"\",【ルース】入力欄!I355)","v":""},{"$f":"IF(【ルース】入力欄!K355=\"\",\"\",【ルース】入力欄!K355)","v":""},{"$f":"IF(【ルース】入力欄!J355=\"\",\"\",【ルース】入力欄!J355)","v":""},{"$f":"IF(【ルース】入力欄!M355=\"\",\"\",【ルース】入力欄!M355)","v":""}]
[]
[null,{"$f":"CONCATENATE(\"出品表　（　\",【ルース】入力欄!I$3,\"　大吉オークション　ルース）\")","v":"出品表　（　　大吉オークション　ルース）"}]
[]
[null,"箱番：",{"$f":"IF(【ルース】入力欄!C356=\"\",\"\",【ルース】入力欄!C356)","v":""},null,null,"※太枠の中をご記入ください",null,"会社名",{"$f":"IF(【ルース】入力欄!C$3=\"\",\"\",【ルース】入力欄!C$3)","v":""}]
[]
["番号","ｃｔ","カラー","クラリティ","カット","蛍光性","備考","付属品","指値\n（2万円以上）","発句"]
["１",{"$f":"IF(【ルース】入力欄!E356=\"\",\"\",【ルース】入力欄!E356)","v":""},{"$f":"IF(【ルース】入力欄!F356=\"\",\"\",【ルース】入力欄!F356)","v":""},{"$f":"IF(【ルース】入力欄!G356=\"\",\"\",【ルース】入力欄!G356)","v":""},{"$f":"IF(【ルース】入力欄!H356=\"\",\"\",【ルース】入力欄!H356)","v":""},{"$f":"IF(【ルース】入力欄!I356=\"\",\"\",【ルース】入力欄!I356)","v":""},{"$f":"IF(【ルース】入力欄!K356=\"\",\"\",【ルース】入力欄!K356)","v":""},{"$f":"IF(【ルース】入力欄!J356=\"\",\"\",【ルース】入力欄!J356)","v":""},{"$f":"IF(【ルース】入力欄!M356=\"\",\"\",【ルース】入力欄!M356)","v":""}]
["２",{"$f":"IF(【ルース】入力欄!E357=\"\",\"\",【ルース】入力欄!E357)","v":""},{"$f":"IF(【ルース】入力欄!F357=\"\",\"\",【ルース】入力欄!F357)","v":""},{"$f":"IF(【ルース】入力欄!G357=\"\",\"\",【ルース】入力欄!G357)","v":""},{"$f":"IF(【ルース】入力欄!H357=\"\",\"\",【ルース】入力欄!H357)","v":""},{"$f":"IF(【ルース】入力欄!I357=\"\",\"\",【ルース】入力欄!I357)","v":""},{"$f":"IF(【ルース】入力欄!K357=\"\",\"\",【ルース】入力欄!K357)","v":""},{"$f":"IF(【ルース】入力欄!J357=\"\",\"\",【ルース】入力欄!J357)","v":""},{"$f":"IF(【ルース】入力欄!M357=\"\",\"\",【ルース】入力欄!M357)","v":""}]
["３",{"$f":"IF(【ルース】入力欄!E358=\"\",\"\",【ルース】入力欄!E358)","v":""},{"$f":"IF(【ルース】入力欄!F358=\"\",\"\",【ルース】入力欄!F358)","v":""},{"$f":"IF(【ルース】入力欄!G358=\"\",\"\",【ルース】入力欄!G358)","v":""},{"$f":"IF(【ルース】入力欄!H358=\"\",\"\",【ルース】入力欄!H358)","v":""},{"$f":"IF(【ルース】入力欄!I358=\"\",\"\",【ルース】入力欄!I358)","v":""},{"$f":"IF(【ルース】入力欄!K358=\"\",\"\",【ルース】入力欄!K358)","v":""},{"$f":"IF(【ルース】入力欄!J358=\"\",\"\",【ルース】入力欄!J358)","v":""},{"$f":"IF(【ルース】入力欄!M358=\"\",\"\",【ルース】入力欄!M358)","v":""}]
["４",{"$f":"IF(【ルース】入力欄!E359=\"\",\"\",【ルース】入力欄!E359)","v":""},{"$f":"IF(【ルース】入力欄!F359=\"\",\"\",【ルース】入力欄!F359)","v":""},{"$f":"IF(【ルース】入力欄!G359=\"\",\"\",【ルース】入力欄!G359)","v":""},{"$f":"IF(【ルース】入力欄!H359=\"\",\"\",【ルース】入力欄!H359)","v":""},{"$f":"IF(【ルース】入力欄!I359=\"\",\"\",【ルース】入力欄!I359)","v":""},{"$f":"IF(【ルース】入力欄!K359=\"\",\"\",【ルース】入力欄!K359)","v":""},{"$f":"IF(【ルース】入力欄!J359=\"\",\"\",【ルース】入力欄!J359)","v":""},{"$f":"IF(【ルース】入力欄!M359=\"\",\"\",【ルース】入力欄!M359)","v":""}]
["５",{"$f":"IF(【ルース】入力欄!E360=\"\",\"\",【ルース】入力欄!E360)","v":""},{"$f":"IF(【ルース】入力欄!F360=\"\",\"\",【ルース】入力欄!F360)","v":""},{"$f":"IF(【ルース】入力欄!G360=\"\",\"\",【ルース】入力欄!G360)","v":""},{"$f":"IF(【ルース】入力欄!H360=\"\",\"\",【ルース】入力欄!H360)","v":""},{"$f":"IF(【ルース】入力欄!I360=\"\",\"\",【ルース】入力欄!I360)","v":""},{"$f":"IF(【ルース】入力欄!K360=\"\",\"\",【ルース】入力欄!K360)","v":""},{"$f":"IF(【ルース】入力欄!J360=\"\",\"\",【ルース】入力欄!J360)","v":""},{"$f":"IF(【ルース】入力欄!M360=\"\",\"\",【ルース】入力欄!M360)","v":""}]
["６",{"$f":"IF(【ルース】入力欄!E361=\"\",\"\",【ルース】入力欄!E361)","v":""},{"$f":"IF(【ルース】入力欄!F361=\"\",\"\",【ルース】入力欄!F361)","v":""},{"$f":"IF(【ルース】入力欄!G361=\"\",\"\",【ルース】入力欄!G361)","v":""},{"$f":"IF(【ルース】入力欄!H361=\"\",\"\",【ルース】入力欄!H361)","v":""},{"$f":"IF(【ルース】入力欄!I361=\"\",\"\",【ルース】入力欄!I361)","v":""},{"$f":"IF(【ルース】入力欄!K361=\"\",\"\",【ルース】入力欄!K361)","v":""},{"$f":"IF(【ルース】入力欄!J361=\"\",\"\",【ルース】入力欄!J361)","v":""},{"$f":"IF(【ルース】入力欄!M361=\"\",\"\",【ルース】入力欄!M361)","v":""}]
["７",{"$f":"IF(【ルース】入力欄!E362=\"\",\"\",【ルース】入力欄!E362)","v":""},{"$f":"IF(【ルース】入力欄!F362=\"\",\"\",【ルース】入力欄!F362)","v":""},{"$f":"IF(【ルース】入力欄!G362=\"\",\"\",【ルース】入力欄!G362)","v":""},{"$f":"IF(【ルース】入力欄!H362=\"\",\"\",【ルース】入力欄!H362)","v":""},{"$f":"IF(【ルース】入力欄!I362=\"\",\"\",【ルース】入力欄!I362)","v":""},{"$f":"IF(【ルース】入力欄!K362=\"\",\"\",【ルース】入力欄!K362)","v":""},{"$f":"IF(【ルース】入力欄!J362=\"\",\"\",【ルース】入力欄!J362)","v":""},{"$f":"IF(【ルース】入力欄!M362=\"\",\"\",【ルース】入力欄!M362)","v":""}]
["８",{"$f":"IF(【ルース】入力欄!E363=\"\",\"\",【ルース】入力欄!E363)","v":""},{"$f":"IF(【ルース】入力欄!F363=\"\",\"\",【ルース】入力欄!F363)","v":""},{"$f":"IF(【ルース】入力欄!G363=\"\",\"\",【ルース】入力欄!G363)","v":""},{"$f":"IF(【ルース】入力欄!H363=\"\",\"\",【ルース】入力欄!H363)","v":""},{"$f":"IF(【ルース】入力欄!I363=\"\",\"\",【ルース】入力欄!I363)","v":""},{"$f":"IF(【ルース】入力欄!K363=\"\",\"\",【ルース】入力欄!K363)","v":""},{"$f":"IF(【ルース】入力欄!J363=\"\",\"\",【ルース】入力欄!J363)","v":""},{"$f":"IF(【ルース】入力欄!M363=\"\",\"\",【ルース】入力欄!M363)","v":""}]
["９",{"$f":"IF(【ルース】入力欄!E364=\"\",\"\",【ルース】入力欄!E364)","v":""},{"$f":"IF(【ルース】入力欄!F364=\"\",\"\",【ルース】入力欄!F364)","v":""},{"$f":"IF(【ルース】入力欄!G364=\"\",\"\",【ルース】入力欄!G364)","v":""},{"$f":"IF(【ルース】入力欄!H364=\"\",\"\",【ルース】入力欄!H364)","v":""},{"$f":"IF(【ルース】入力欄!I364=\"\",\"\",【ルース】入力欄!I364)","v":""},{"$f":"IF(【ルース】入力欄!K364=\"\",\"\",【ルース】入力欄!K364)","v":""},{"$f":"IF(【ルース】入力欄!J364=\"\",\"\",【ルース】入力欄!J364)","v":""},{"$f":"IF(【ルース】入力欄!M364=\"\",\"\",【ルース】入力欄!M364)","v":""}]
["１０",{"$f":"IF(【ルース】入力欄!E365=\"\",\"\",【ルース】入力欄!E365)","v":""},{"$f":"IF(【ルース】入力欄!F365=\"\",\"\",【ルース】入力欄!F365)","v":""},{"$f":"IF(【ルース】入力欄!G365=\"\",\"\",【ルース】入力欄!G365)","v":""},{"$f":"IF(【ルース】入力欄!H365=\"\",\"\",【ルース】入力欄!H365)","v":""},{"$f":"IF(【ルース】入力欄!I365=\"\",\"\",【ルース】入力欄!I365)","v":""},{"$f":"IF(【ルース】入力欄!K365=\"\",\"\",【ルース】入力欄!K365)","v":""},{"$f":"IF(【ルース】入力欄!J365=\"\",\"\",【ルース】入力欄!J365)","v":""},{"$f":"IF(【ルース】入力欄!M365=\"\",\"\",【ルース】入力欄!M365)","v":""}]
[]
[null,{"$f":"CONCATENATE(\"出品表　（　\",【ルース】入力欄!I$3,\"　大吉オークション　ルース）\")","v":"出品表　（　　大吉オークション　ルース）"}]
[]
[null,"箱番：",{"$f":"IF(【ルース】入力欄!C366=\"\",\"\",【ルース】入力欄!C366)","v":""},null,null,"※太枠の中をご記入ください",null,"会社名",{"$f":"IF(【ルース】入力欄!C$3=\"\",\"\",【ルース】入力欄!C$3)","v":""}]
[]
["番号","ｃｔ","カラー","クラリティ","カット","蛍光性","備考","付属品","指値\n（2万円以上）","発句"]
["１",{"$f":"IF(【ルース】入力欄!E366=\"\",\"\",【ルース】入力欄!E366)","v":""},{"$f":"IF(【ルース】入力欄!F366=\"\",\"\",【ルース】入力欄!F366)","v":""},{"$f":"IF(【ルース】入力欄!G366=\"\",\"\",【ルース】入力欄!G366)","v":""},{"$f":"IF(【ルース】入力欄!H366=\"\",\"\",【ルース】入力欄!H366)","v":""},{"$f":"IF(【ルース】入力欄!I366=\"\",\"\",【ルース】入力欄!I366)","v":""},{"$f":"IF(【ルース】入力欄!K366=\"\",\"\",【ルース】入力欄!K366)","v":""},{"$f":"IF(【ルース】入力欄!J366=\"\",\"\",【ルース】入力欄!J366)","v":""},{"$f":"IF(【ルース】入力欄!M366=\"\",\"\",【ルース】入力欄!M366)","v":""}]
["２",{"$f":"IF(【ルース】入力欄!E367=\"\",\"\",【ルース】入力欄!E367)","v":""},{"$f":"IF(【ルース】入力欄!F367=\"\",\"\",【ルース】入力欄!F367)","v":""},{"$f":"IF(【ルース】入力欄!G367=\"\",\"\",【ルース】入力欄!G367)","v":""},{"$f":"IF(【ルース】入力欄!H367=\"\",\"\",【ルース】入力欄!H367)","v":""},{"$f":"IF(【ルース】入力欄!I367=\"\",\"\",【ルース】入力欄!I367)","v":""},{"$f":"IF(【ルース】入力欄!K367=\"\",\"\",【ルース】入力欄!K367)","v":""},{"$f":"IF(【ルース】入力欄!J367=\"\",\"\",【ルース】入力欄!J367)","v":""},{"$f":"IF(【ルース】入力欄!M367=\"\",\"\",【ルース】入力欄!M367)","v":""}]
["３",{"$f":"IF(【ルース】入力欄!E368=\"\",\"\",【ルース】入力欄!E368)","v":""},{"$f":"IF(【ルース】入力欄!F368=\"\",\"\",【ルース】入力欄!F368)","v":""},{"$f":"IF(【ルース】入力欄!G368=\"\",\"\",【ルース】入力欄!G368)","v":""},{"$f":"IF(【ルース】入力欄!H368=\"\",\"\",【ルース】入力欄!H368)","v":""},{"$f":"IF(【ルース】入力欄!I368=\"\",\"\",【ルース】入力欄!I368)","v":""},{"$f":"IF(【ルース】入力欄!K368=\"\",\"\",【ルース】入力欄!K368)","v":""},{"$f":"IF(【ルース】入力欄!J368=\"\",\"\",【ルース】入力欄!J368)","v":""},{"$f":"IF(【ルース】入力欄!M368=\"\",\"\",【ルース】入力欄!M368)","v":""}]
["４",{"$f":"IF(【ルース】入力欄!E369=\"\",\"\",【ルース】入力欄!E369)","v":""},{"$f":"IF(【ルース】入力欄!F369=\"\",\"\",【ルース】入力欄!F369)","v":""},{"$f":"IF(【ルース】入力欄!G369=\"\",\"\",【ルース】入力欄!G369)","v":""},{"$f":"IF(【ルース】入力欄!H369=\"\",\"\",【ルース】入力欄!H369)","v":""},{"$f":"IF(【ルース】入力欄!I369=\"\",\"\",【ルース】入力欄!I369)","v":""},{"$f":"IF(【ルース】入力欄!K369=\"\",\"\",【ルース】入力欄!K369)","v":""},{"$f":"IF(【ルース】入力欄!J369=\"\",\"\",【ルース】入力欄!J369)","v":""},{"$f":"IF(【ルース】入力欄!M369=\"\",\"\",【ルース】入力欄!M369)","v":""}]
["５",{"$f":"IF(【ルース】入力欄!E370=\"\",\"\",【ルース】入力欄!E370)","v":""},{"$f":"IF(【ルース】入力欄!F370=\"\",\"\",【ルース】入力欄!F370)","v":""},{"$f":"IF(【ルース】入力欄!G370=\"\",\"\",【ルース】入力欄!G370)","v":""},{"$f":"IF(【ルース】入力欄!H370=\"\",\"\",【ルース】入力欄!H370)","v":""},{"$f":"IF(【ルース】入力欄!I370=\"\",\"\",【ルース】入力欄!I370)","v":""},{"$f":"IF(【ルース】入力欄!K370=\"\",\"\",【ルース】入力欄!K370)","v":""},{"$f":"IF(【ルース】入力欄!J370=\"\",\"\",【ルース】入力欄!J370)","v":""},{"$f":"IF(【ルース】入力欄!M370=\"\",\"\",【ルース】入力欄!M370)","v":""}]
["６",{"$f":"IF(【ルース】入力欄!E371=\"\",\"\",【ルース】入力欄!E371)","v":""},{"$f":"IF(【ルース】入力欄!F371=\"\",\"\",【ルース】入力欄!F371)","v":""},{"$f":"IF(【ルース】入力欄!G371=\"\",\"\",【ルース】入力欄!G371)","v":""},{"$f":"IF(【ルース】入力欄!H371=\"\",\"\",【ルース】入力欄!H371)","v":""},{"$f":"IF(【ルース】入力欄!I371=\"\",\"\",【ルース】入力欄!I371)","v":""},{"$f":"IF(【ルース】入力欄!K371=\"\",\"\",【ルース】入力欄!K371)","v":""},{"$f":"IF(【ルース】入力欄!J371=\"\",\"\",【ルース】入力欄!J371)","v":""},{"$f":"IF(【ルース】入力欄!M371=\"\",\"\",【ルース】入力欄!M371)","v":""}]
["７",{"$f":"IF(【ルース】入力欄!E372=\"\",\"\",【ルース】入力欄!E372)","v":""},{"$f":"IF(【ルース】入力欄!F372=\"\",\"\",【ルース】入力欄!F372)","v":""},{"$f":"IF(【ルース】入力欄!G372=\"\",\"\",【ルース】入力欄!G372)","v":""},{"$f":"IF(【ルース】入力欄!H372=\"\",\"\",【ルース】入力欄!H372)","v":""},{"$f":"IF(【ルース】入力欄!I372=\"\",\"\",【ルース】入力欄!I372)","v":""},{"$f":"IF(【ルース】入力欄!K372=\"\",\"\",【ルース】入力欄!K372)","v":""},{"$f":"IF(【ルース】入力欄!J372=\"\",\"\",【ルース】入力欄!J372)","v":""},{"$f":"IF(【ルース】入力欄!M372=\"\",\"\",【ルース】入力欄!M372)","v":""}]
["８",{"$f":"IF(【ルース】入力欄!E373=\"\",\"\",【ルース】入力欄!E373)","v":""},{"$f":"IF(【ルース】入力欄!F373=\"\",\"\",【ルース】入力欄!F373)","v":""},{"$f":"IF(【ルース】入力欄!G373=\"\",\"\",【ルース】入力欄!G373)","v":""},{"$f":"IF(【ルース】入力欄!H373=\"\",\"\",【ルース】入力欄!H373)","v":""},{"$f":"IF(【ルース】入力欄!I373=\"\",\"\",【ルース】入力欄!I373)","v":""},{"$f":"IF(【ルース】入力欄!K373=\"\",\"\",【ルース】入力欄!K373)","v":""},{"$f":"IF(【ルース】入力欄!J373=\"\",\"\",【ルース】入力欄!J373)","v":""},{"$f":"IF(【ルース】入力欄!M373=\"\",\"\",【ルース】入力欄!M373)","v":""}]
["９",{"$f":"IF(【ルース】入力欄!E374=\"\",\"\",【ルース】入力欄!E374)","v":""},{"$f":"IF(【ルース】入力欄!F374=\"\",\"\",【ルース】入力欄!F374)","v":""},{"$f":"IF(【ルース】入力欄!G374=\"\",\"\",【ルース】入力欄!G374)","v":""},{"$f":"IF(【ルース】入力欄!H374=\"\",\"\",【ルース】入力欄!H374)","v":""},{"$f":"IF(【ルース】入力欄!I374=\"\",\"\",【ルース】入力欄!I374)","v":""},{"$f":"IF(【ルース】入力欄!K374=\"\",\"\",【ルース】入力欄!K374)","v":""},{"$f":"IF(【ルース】入力欄!J374=\"\",\"\",【ルース】入力欄!J374)","v":""},{"$f":"IF(【ルース】入力欄!M374=\"\",\"\",【ルース】入力欄!M374)","v":""}]
["１０",{"$f":"IF(【ルース】入力欄!E375=\"\",\"\",【ルース】入力欄!E375)","v":""},{"$f":"IF(【ルース】入力欄!F375=\"\",\"\",【ルース】入力欄!F375)","v":""},{"$f":"IF(【ルース】入力欄!G375=\"\",\"\",【ルース】入力欄!G375)","v":""},{"$f":"IF(【ルース】入力欄!H375=\"\",\"\",【ルース】入力欄!H375)","v":""},{"$f":"IF(【ルース】入力欄!I375=\"\",\"\",【ルース】入力欄!I375)","v":""},{"$f":"IF(【ルース】入力欄!K375=\"\",\"\",【ルース】入力欄!K375)","v":""},{"$f":"IF(【ルース】入力欄!J375=\"\",\"\",【ルース】入力欄!J375)","v":""},{"$f":"IF(【ルース】入力欄!M375=\"\",\"\",【ルース】入力欄!M375)","v":""}]
[]
[null,{"$f":"CONCATENATE(\"出品表　（　\",【ルース】入力欄!I$3,\"　大吉オークション　ルース）\")","v":"出品表　（　　大吉オークション　ルース）"}]
[]
[null,"箱番：",{"$f":"IF(【ルース】入力欄!C376=\"\",\"\",【ルース】入力欄!C376)","v":""},null,null,"※太枠の中をご記入ください",null,"会社名",{"$f":"IF(【ルース】入力欄!C$3=\"\",\"\",【ルース】入力欄!C$3)","v":""}]
[]
["番号","ｃｔ","カラー","クラリティ","カット","蛍光性","備考","付属品","指値\n（2万円以上）","発句"]
["１",{"$f":"IF(【ルース】入力欄!E376=\"\",\"\",【ルース】入力欄!E376)","v":""},{"$f":"IF(【ルース】入力欄!F376=\"\",\"\",【ルース】入力欄!F376)","v":""},{"$f":"IF(【ルース】入力欄!G376=\"\",\"\",【ルース】入力欄!G376)","v":""},{"$f":"IF(【ルース】入力欄!H376=\"\",\"\",【ルース】入力欄!H376)","v":""},{"$f":"IF(【ルース】入力欄!I376=\"\",\"\",【ルース】入力欄!I376)","v":""},{"$f":"IF(【ルース】入力欄!K376=\"\",\"\",【ルース】入力欄!K376)","v":""},{"$f":"IF(【ルース】入力欄!J376=\"\",\"\",【ルース】入力欄!J376)","v":""},{"$f":"IF(【ルース】入力欄!M376=\"\",\"\",【ルース】入力欄!M376)","v":""}]
["２",{"$f":"IF(【ルース】入力欄!E377=\"\",\"\",【ルース】入力欄!E377)","v":""},{"$f":"IF(【ルース】入力欄!F377=\"\",\"\",【ルース】入力欄!F377)","v":""},{"$f":"IF(【ルース】入力欄!G377=\"\",\"\",【ルース】入力欄!G377)","v":""},{"$f":"IF(【ルース】入力欄!H377=\"\",\"\",【ルース】入力欄!H377)","v":""},{"$f":"IF(【ルース】入力欄!I377=\"\",\"\",【ルース】入力欄!I377)","v":""},{"$f":"IF(【ルース】入力欄!K377=\"\",\"\",【ルース】入力欄!K377)","v":""},{"$f":"IF(【ルース】入力欄!J377=\"\",\"\",【ルース】入力欄!J377)","v":""},{"$f":"IF(【ルース】入力欄!M377=\"\",\"\",【ルース】入力欄!M377)","v":""}]
["３",{"$f":"IF(【ルース】入力欄!E378=\"\",\"\",【ルース】入力欄!E378)","v":""},{"$f":"IF(【ルース】入力欄!F378=\"\",\"\",【ルース】入力欄!F378)","v":""},{"$f":"IF(【ルース】入力欄!G378=\"\",\"\",【ルース】入力欄!G378)","v":""},{"$f":"IF(【ルース】入力欄!H378=\"\",\"\",【ルース】入力欄!H378)","v":""},{"$f":"IF(【ルース】入力欄!I378=\"\",\"\",【ルース】入力欄!I378)","v":""},{"$f":"IF(【ルース】入力欄!K378=\"\",\"\",【ルース】入力欄!K378)","v":""},{"$f":"IF(【ルース】入力欄!J378=\"\",\"\",【ルース】入力欄!J378)","v":""},{"$f":"IF(【ルース】入力欄!M378=\"\",\"\",【ルース】入力欄!M378)","v":""}]
["４",{"$f":"IF(【ルース】入力欄!E379=\"\",\"\",【ルース】入力欄!E379)","v":""},{"$f":"IF(【ルース】入力欄!F379=\"\",\"\",【ルース】入力欄!F379)","v":""},{"$f":"IF(【ルース】入力欄!G379=\"\",\"\",【ルース】入力欄!G379)","v":""},{"$f":"IF(【ルース】入力欄!H379=\"\",\"\",【ルース】入力欄!H379)","v":""},{"$f":"IF(【ルース】入力欄!I379=\"\",\"\",【ルース】入力欄!I379)","v":""},{"$f":"IF(【ルース】入力欄!K379=\"\",\"\",【ルース】入力欄!K379)","v":""},{"$f":"IF(【ルース】入力欄!J379=\"\",\"\",【ルース】入力欄!J379)","v":""},{"$f":"IF(【ルース】入力欄!M379=\"\",\"\",【ルース】入力欄!M379)","v":""}]
["５",{"$f":"IF(【ルース】入力欄!E380=\"\",\"\",【ルース】入力欄!E380)","v":""},{"$f":"IF(【ルース】入力欄!F380=\"\",\"\",【ルース】入力欄!F380)","v":""},{"$f":"IF(【ルース】入力欄!G380=\"\",\"\",【ルース】入力欄!G380)","v":""},{"$f":"IF(【ルース】入力欄!H380=\"\",\"\",【ルース】入力欄!H380)","v":""},{"$f":"IF(【ルース】入力欄!I380=\"\",\"\",【ルース】入力欄!I380)","v":""},{"$f":"IF(【ルース】入力欄!K380=\"\",\"\",【ルース】入力欄!K380)","v":""},{"$f":"IF(【ルース】入力欄!J380=\"\",\"\",【ルース】入力欄!J380)","v":""},{"$f":"IF(【ルース】入力欄!M380=\"\",\"\",【ルース】入力欄!M380)","v":""}]
["６",{"$f":"IF(【ルース】入力欄!E381=\"\",\"\",【ルース】入力欄!E381)","v":""},{"$f":"IF(【ルース】入力欄!F381=\"\",\"\",【ルース】入力欄!F381)","v":""},{"$f":"IF(【ルース】入力欄!G381=\"\",\"\",【ルース】入力欄!G381)","v":""},{"$f":"IF(【ルース】入力欄!H381=\"\",\"\",【ルース】入力欄!H381)","v":""},{"$f":"IF(【ルース】入力欄!I381=\"\",\"\",【ルース】入力欄!I381)","v":""},{"$f":"IF(【ルース】入力欄!K381=\"\",\"\",【ルース】入力欄!K381)","v":""},{"$f":"IF(【ルース】入力欄!J381=\"\",\"\",【ルース】入力欄!J381)","v":""},{"$f":"IF(【ルース】入力欄!M381=\"\",\"\",【ルース】入力欄!M381)","v":""}]
["７",{"$f":"IF(【ルース】入力欄!E382=\"\",\"\",【ルース】入力欄!E382)","v":""},{"$f":"IF(【ルース】入力欄!F382=\"\",\"\",【ルース】入力欄!F382)","v":""},{"$f":"IF(【ルース】入力欄!G382=\"\",\"\",【ルース】入力欄!G382)","v":""},{"$f":"IF(【ルース】入力欄!H382=\"\",\"\",【ルース】入力欄!H382)","v":""},{"$f":"IF(【ルース】入力欄!I382=\"\",\"\",【ルース】入力欄!I382)","v":""},{"$f":"IF(【ルース】入力欄!K382=\"\",\"\",【ルース】入力欄!K382)","v":""},{"$f":"IF(【ルース】入力欄!J382=\"\",\"\",【ルース】入力欄!J382)","v":""},{"$f":"IF(【ルース】入力欄!M382=\"\",\"\",【ルース】入力欄!M382)","v":""}]
["８",{"$f":"IF(【ルース】入力欄!E383=\"\",\"\",【ルース】入力欄!E383)","v":""},{"$f":"IF(【ルース】入力欄!F383=\"\",\"\",【ルース】入力欄!F383)","v":""},{"$f":"IF(【ルース】入力欄!G383=\"\",\"\",【ルース】入力欄!G383)","v":""},{"$f":"IF(【ルース】入力欄!H383=\"\",\"\",【ルース】入力欄!H383)","v":""},{"$f":"IF(【ルース】入力欄!I383=\"\",\"\",【ルース】入力欄!I383)","v":""},{"$f":"IF(【ルース】入力欄!K383=\"\",\"\",【ルース】入力欄!K383)","v":""},{"$f":"IF(【ルース】入力欄!J383=\"\",\"\",【ルース】入力欄!J383)","v":""},{"$f":"IF(【ルース】入力欄!M383=\"\",\"\",【ルース】入力欄!M383)","v":""}]
["９",{"$f":"IF(【ルース】入力欄!E384=\"\",\"\",【ルース】入力欄!E384)","v":""},{"$f":"IF(【ルース】入力欄!F384=\"\",\"\",【ルース】入力欄!F384)","v":""},{"$f":"IF(【ルース】入力欄!G384=\"\",\"\",【ルース】入力欄!G384)","v":""},{"$f":"IF(【ルース】入力欄!H384=\"\",\"\",【ルース】入力欄!H384)","v":""},{"$f":"IF(【ルース】入力欄!I384=\"\",\"\",【ルース】入力欄!I384)","v":""},{"$f":"IF(【ルース】入力欄!K384=\"\",\"\",【ルース】入力欄!K384)","v":""},{"$f":"IF(【ルース】入力欄!J384=\"\",\"\",【ルース】入力欄!J384)","v":""},{"$f":"IF(【ルース】入力欄!M384=\"\",\"\",【ルース】入力欄!M384)","v":""}]
["１０",{"$f":"IF(【ルース】入力欄!E385=\"\",\"\",【ルース】入力欄!E385)","v":""},{"$f":"IF(【ルース】入力欄!F385=\"\",\"\",【ルース】入力欄!F385)","v":""},{"$f":"IF(【ルース】入力欄!G385=\"\",\"\",【ルース】入力欄!G385)","v":""},{"$f":"IF(【ルース】入力欄!H385=\"\",\"\",【ルース】入力欄!H385)","v":""},{"$f":"IF(【ルース】入力欄!I385=\"\",\"\",【ルース】入力欄!I385)","v":""},{"$f":"IF(【ルース】入力欄!K385=\"\",\"\",【ルース】入力欄!K385)","v":""},{"$f":"IF(【ルース】入力欄!J385=\"\",\"\",【ルース】入力欄!J385)","v":""},{"$f":"IF(【ルース】入力欄!M385=\"\",\"\",【ルース】入力欄!M385)","v":""}]
[]
[null,{"$f":"CONCATENATE(\"出品表　（　\",【ルース】入力欄!I$3,\"　大吉オークション　ルース）\")","v":"出品表　（　　大吉オークション　ルース）"}]
[]
[null,"箱番：",{"$f":"IF(【ルース】入力欄!C386=\"\",\"\",【ルース】入力欄!C386)","v":""},null,null,"※太枠の中をご記入ください",null,"会社名",{"$f":"IF(【ルース】入力欄!C$3=\"\",\"\",【ルース】入力欄!C$3)","v":""}]
[]
["番号","ｃｔ","カラー","クラリティ","カット","蛍光性","備考","付属品","指値\n（2万円以上）","発句"]
["１",{"$f":"IF(【ルース】入力欄!E386=\"\",\"\",【ルース】入力欄!E386)","v":""},{"$f":"IF(【ルース】入力欄!F386=\"\",\"\",【ルース】入力欄!F386)","v":""},{"$f":"IF(【ルース】入力欄!G386=\"\",\"\",【ルース】入力欄!G386)","v":""},{"$f":"IF(【ルース】入力欄!H386=\"\",\"\",【ルース】入力欄!H386)","v":""},{"$f":"IF(【ルース】入力欄!I386=\"\",\"\",【ルース】入力欄!I386)","v":""},{"$f":"IF(【ルース】入力欄!K386=\"\",\"\",【ルース】入力欄!K386)","v":""},{"$f":"IF(【ルース】入力欄!J386=\"\",\"\",【ルース】入力欄!J386)","v":""},{"$f":"IF(【ルース】入力欄!M386=\"\",\"\",【ルース】入力欄!M386)","v":""}]
["２",{"$f":"IF(【ルース】入力欄!E387=\"\",\"\",【ルース】入力欄!E387)","v":""},{"$f":"IF(【ルース】入力欄!F387=\"\",\"\",【ルース】入力欄!F387)","v":""},{"$f":"IF(【ルース】入力欄!G387=\"\",\"\",【ルース】入力欄!G387)","v":""},{"$f":"IF(【ルース】入力欄!H387=\"\",\"\",【ルース】入力欄!H387)","v":""},{"$f":"IF(【ルース】入力欄!I387=\"\",\"\",【ルース】入力欄!I387)","v":""},{"$f":"IF(【ルース】入力欄!K387=\"\",\"\",【ルース】入力欄!K387)","v":""},{"$f":"IF(【ルース】入力欄!J387=\"\",\"\",【ルース】入力欄!J387)","v":""},{"$f":"IF(【ルース】入力欄!M387=\"\",\"\",【ルース】入力欄!M387)","v":""}]
["３",{"$f":"IF(【ルース】入力欄!E388=\"\",\"\",【ルース】入力欄!E388)","v":""},{"$f":"IF(【ルース】入力欄!F388=\"\",\"\",【ルース】入力欄!F388)","v":""},{"$f":"IF(【ルース】入力欄!G388=\"\",\"\",【ルース】入力欄!G388)","v":""},{"$f":"IF(【ルース】入力欄!H388=\"\",\"\",【ルース】入力欄!H388)","v":""},{"$f":"IF(【ルース】入力欄!I388=\"\",\"\",【ルース】入力欄!I388)","v":""},{"$f":"IF(【ルース】入力欄!K388=\"\",\"\",【ルース】入力欄!K388)","v":""},{"$f":"IF(【ルース】入力欄!J388=\"\",\"\",【ルース】入力欄!J388)","v":""},{"$f":"IF(【ルース】入力欄!M388=\"\",\"\",【ルース】入力欄!M388)","v":""}]
["４",{"$f":"IF(【ルース】入力欄!E389=\"\",\"\",【ルース】入力欄!E389)","v":""},{"$f":"IF(【ルース】入力欄!F389=\"\",\"\",【ルース】入力欄!F389)","v":""},{"$f":"IF(【ルース】入力欄!G389=\"\",\"\",【ルース】入力欄!G389)","v":""},{"$f":"IF(【ルース】入力欄!H389=\"\",\"\",【ルース】入力欄!H389)","v":""},{"$f":"IF(【ルース】入力欄!I389=\"\",\"\",【ルース】入力欄!I389)","v":""},{"$f":"IF(【ルース】入力欄!K389=\"\",\"\",【ルース】入力欄!K389)","v":""},{"$f":"IF(【ルース】入力欄!J389=\"\",\"\",【ルース】入力欄!J389)","v":""},{"$f":"IF(【ルース】入力欄!M389=\"\",\"\",【ルース】入力欄!M389)","v":""}]
["５",{"$f":"IF(【ルース】入力欄!E390=\"\",\"\",【ルース】入力欄!E390)","v":""},{"$f":"IF(【ルース】入力欄!F390=\"\",\"\",【ルース】入力欄!F390)","v":""},{"$f":"IF(【ルース】入力欄!G390=\"\",\"\",【ルース】入力欄!G390)","v":""},{"$f":"IF(【ルース】入力欄!H390=\"\",\"\",【ルース】入力欄!H390)","v":""},{"$f":"IF(【ルース】入力欄!I390=\"\",\"\",【ルース】入力欄!I390)","v":""},{"$f":"IF(【ルース】入力欄!K390=\"\",\"\",【ルース】入力欄!K390)","v":""},{"$f":"IF(【ルース】入力欄!J390=\"\",\"\",【ルース】入力欄!J390)","v":""},{"$f":"IF(【ルース】入力欄!M390=\"\",\"\",【ルース】入力欄!M390)","v":""}]
["６",{"$f":"IF(【ルース】入力欄!E391=\"\",\"\",【ルース】入力欄!E391)","v":""},{"$f":"IF(【ルース】入力欄!F391=\"\",\"\",【ルース】入力欄!F391)","v":""},{"$f":"IF(【ルース】入力欄!G391=\"\",\"\",【ルース】入力欄!G391)","v":""},{"$f":"IF(【ルース】入力欄!H391=\"\",\"\",【ルース】入力欄!H391)","v":""},{"$f":"IF(【ルース】入力欄!I391=\"\",\"\",【ルース】入力欄!I391)","v":""},{"$f":"IF(【ルース】入力欄!K391=\"\",\"\",【ルース】入力欄!K391)","v":""},{"$f":"IF(【ルース】入力欄!J391=\"\",\"\",【ルース】入力欄!J391)","v":""},{"$f":"IF(【ルース】入力欄!M391=\"\",\"\",【ルース】入力欄!M391)","v":""}]
["７",{"$f":"IF(【ルース】入力欄!E392=\"\",\"\",【ルース】入力欄!E392)","v":""},{"$f":"IF(【ルース】入力欄!F392=\"\",\"\",【ルース】入力欄!F392)","v":""},{"$f":"IF(【ルース】入力欄!G392=\"\",\"\",【ルース】入力欄!G392)","v":""},{"$f":"IF(【ルース】入力欄!H392=\"\",\"\",【ルース】入力欄!H392)","v":""},{"$f":"IF(【ルース】入力欄!I392=\"\",\"\",【ルース】入力欄!I392)","v":""},{"$f":"IF(【ルース】入力欄!K392=\"\",\"\",【ルース】入力欄!K392)","v":""},{"$f":"IF(【ルース】入力欄!J392=\"\",\"\",【ルース】入力欄!J392)","v":""},{"$f":"IF(【ルース】入力欄!M392=\"\",\"\",【ルース】入力欄!M392)","v":""}]
["８",{"$f":"IF(【ルース】入力欄!E393=\"\",\"\",【ルース】入力欄!E393)","v":""},{"$f":"IF(【ルース】入力欄!F393=\"\",\"\",【ルース】入力欄!F393)","v":""},{"$f":"IF(【ルース】入力欄!G393=\"\",\"\",【ルース】入力欄!G393)","v":""},{"$f":"IF(【ルース】入力欄!H393=\"\",\"\",【ルース】入力欄!H393)","v":""},{"$f":"IF(【ルース】入力欄!I393=\"\",\"\",【ルース】入力欄!I393)","v":""},{"$f":"IF(【ルース】入力欄!K393=\"\",\"\",【ルース】入力欄!K393)","v":""},{"$f":"IF(【ルース】入力欄!J393=\"\",\"\",【ルース】入力欄!J393)","v":""},{"$f":"IF(【ルース】入力欄!M393=\"\",\"\",【ルース】入力欄!M393)","v":""}]
["９",{"$f":"IF(【ルース】入力欄!E394=\"\",\"\",【ルース】入力欄!E394)","v":""},{"$f":"IF(【ルース】入力欄!F394=\"\",\"\",【ルース】入力欄!F394)","v":""},{"$f":"IF(【ルース】入力欄!G394=\"\",\"\",【ルース】入力欄!G394)","v":""},{"$f":"IF(【ルース】入力欄!H394=\"\",\"\",【ルース】入力欄!H394)","v":""},{"$f":"IF(【ルース】入力欄!I394=\"\",\"\",【ルース】入力欄!I394)","v":""},{"$f":"IF(【ルース】入力欄!K394=\"\",\"\",【ルース】入力欄!K394)","v":""},{"$f":"IF(【ルース】入力欄!J394=\"\",\"\",【ルース】入力欄!J394)","v":""},{"$f":"IF(【ルース】入力欄!M394=\"\",\"\",【ルース】入力欄!M394)","v":""}]
["１０",{"$f":"IF(【ルース】入力欄!E395=\"\",\"\",【ルース】入力欄!E395)","v":""},{"$f":"IF(【ルース】入力欄!F395=\"\",\"\",【ルース】入力欄!F395)","v":""},{"$f":"IF(【ルース】入力欄!G395=\"\",\"\",【ルース】入力欄!G395)","v":""},{"$f":"IF(【ルース】入力欄!H395=\"\",\"\",【ルース】入力欄!H395)","v":""},{"$f":"IF(【ルース】入力欄!I395=\"\",\"\",【ルース】入力欄!I395)","v":""},{"$f":"IF(【ルース】入力欄!K395=\"\",\"\",【ルース】入力欄!K395)","v":""},{"$f":"IF(【ルース】入力欄!J395=\"\",\"\",【ルース】入力欄!J395)","v":""},{"$f":"IF(【ルース】入力欄!M395=\"\",\"\",【ルース】入力欄!M395)","v":""}]
[]
[null,{"$f":"CONCATENATE(\"出品表　（　\",【ルース】入力欄!I$3,\"　大吉オークション　ルース）\")","v":"出品表　（　　大吉オークション　ルース）"}]
[]
[null,"箱番：",{"$f":"IF(【ルース】入力欄!C396=\"\",\"\",【ルース】入力欄!C396)","v":""},null,null,"※太枠の中をご記入ください",null,"会社名",{"$f":"IF(【ルース】入力欄!C$3=\"\",\"\",【ルース】入力欄!C$3)","v":""}]
[]
["番号","ｃｔ","カラー","クラリティ","カット","蛍光性","備考","付属品","指値\n（2万円以上）","発句"]
["１",{"$f":"IF(【ルース】入力欄!E396=\"\",\"\",【ルース】入力欄!E396)","v":""},{"$f":"IF(【ルース】入力欄!F396=\"\",\"\",【ルース】入力欄!F396)","v":""},{"$f":"IF(【ルース】入力欄!G396=\"\",\"\",【ルース】入力欄!G396)","v":""},{"$f":"IF(【ルース】入力欄!H396=\"\",\"\",【ルース】入力欄!H396)","v":""},{"$f":"IF(【ルース】入力欄!I396=\"\",\"\",【ルース】入力欄!I396)","v":""},{"$f":"IF(【ルース】入力欄!K396=\"\",\"\",【ルース】入力欄!K396)","v":""},{"$f":"IF(【ルース】入力欄!J396=\"\",\"\",【ルース】入力欄!J396)","v":""},{"$f":"IF(【ルース】入力欄!M396=\"\",\"\",【ルース】入力欄!M396)","v":""}]
["２",{"$f":"IF(【ルース】入力欄!E397=\"\",\"\",【ルース】入力欄!E397)","v":""},{"$f":"IF(【ルース】入力欄!F397=\"\",\"\",【ルース】入力欄!F397)","v":""},{"$f":"IF(【ルース】入力欄!G397=\"\",\"\",【ルース】入力欄!G397)","v":""},{"$f":"IF(【ルース】入力欄!H397=\"\",\"\",【ルース】入力欄!H397)","v":""},{"$f":"IF(【ルース】入力欄!I397=\"\",\"\",【ルース】入力欄!I397)","v":""},{"$f":"IF(【ルース】入力欄!K397=\"\",\"\",【ルース】入力欄!K397)","v":""},{"$f":"IF(【ルース】入力欄!J397=\"\",\"\",【ルース】入力欄!J397)","v":""},{"$f":"IF(【ルース】入力欄!M397=\"\",\"\",【ルース】入力欄!M397)","v":""}]
["３",{"$f":"IF(【ルース】入力欄!E398=\"\",\"\",【ルース】入力欄!E398)","v":""},{"$f":"IF(【ルース】入力欄!F398=\"\",\"\",【ルース】入力欄!F398)","v":""},{"$f":"IF(【ルース】入力欄!G398=\"\",\"\",【ルース】入力欄!G398)","v":""},{"$f":"IF(【ルース】入力欄!H398=\"\",\"\",【ルース】入力欄!H398)","v":""},{"$f":"IF(【ルース】入力欄!I398=\"\",\"\",【ルース】入力欄!I398)","v":""},{"$f":"IF(【ルース】入力欄!K398=\"\",\"\",【ルース】入力欄!K398)","v":""},{"$f":"IF(【ルース】入力欄!J398=\"\",\"\",【ルース】入力欄!J398)","v":""},{"$f":"IF(【ルース】入力欄!M398=\"\",\"\",【ルース】入力欄!M398)","v":""}]
["４",{"$f":"IF(【ルース】入力欄!E399=\"\",\"\",【ルース】入力欄!E399)","v":""},{"$f":"IF(【ルース】入力欄!F399=\"\",\"\",【ルース】入力欄!F399)","v":""},{"$f":"IF(【ルース】入力欄!G399=\"\",\"\",【ルース】入力欄!G399)","v":""},{"$f":"IF(【ルース】入力欄!H399=\"\",\"\",【ルース】入力欄!H399)","v":""},{"$f":"IF(【ルース】入力欄!I399=\"\",\"\",【ルース】入力欄!I399)","v":""},{"$f":"IF(【ルース】入力欄!K399=\"\",\"\",【ルース】入力欄!K399)","v":""},{"$f":"IF(【ルース】入力欄!J399=\"\",\"\",【ルース】入力欄!J399)","v":""},{"$f":"IF(【ルース】入力欄!M399=\"\",\"\",【ルース】入力欄!M399)","v":""}]
["５",{"$f":"IF(【ルース】入力欄!E400=\"\",\"\",【ルース】入力欄!E400)","v":""},{"$f":"IF(【ルース】入力欄!F400=\"\",\"\",【ルース】入力欄!F400)","v":""},{"$f":"IF(【ルース】入力欄!G400=\"\",\"\",【ルース】入力欄!G400)","v":""},{"$f":"IF(【ルース】入力欄!H400=\"\",\"\",【ルース】入力欄!H400)","v":""},{"$f":"IF(【ルース】入力欄!I400=\"\",\"\",【ルース】入力欄!I400)","v":""},{"$f":"IF(【ルース】入力欄!K400=\"\",\"\",【ルース】入力欄!K400)","v":""},{"$f":"IF(【ルース】入力欄!J400=\"\",\"\",【ルース】入力欄!J400)","v":""},{"$f":"IF(【ルース】入力欄!M400=\"\",\"\",【ルース】入力欄!M400)","v":""}]
["６",{"$f":"IF(【ルース】入力欄!E401=\"\",\"\",【ルース】入力欄!E401)","v":""},{"$f":"IF(【ルース】入力欄!F401=\"\",\"\",【ルース】入力欄!F401)","v":""},{"$f":"IF(【ルース】入力欄!G401=\"\",\"\",【ルース】入力欄!G401)","v":""},{"$f":"IF(【ルース】入力欄!H401=\"\",\"\",【ルース】入力欄!H401)","v":""},{"$f":"IF(【ルース】入力欄!I401=\"\",\"\",【ルース】入力欄!I401)","v":""},{"$f":"IF(【ルース】入力欄!K401=\"\",\"\",【ルース】入力欄!K401)","v":""},{"$f":"IF(【ルース】入力欄!J401=\"\",\"\",【ルース】入力欄!J401)","v":""},{"$f":"IF(【ルース】入力欄!M401=\"\",\"\",【ルース】入力欄!M401)","v":""}]
["７",{"$f":"IF(【ルース】入力欄!E402=\"\",\"\",【ルース】入力欄!E402)","v":""},{"$f":"IF(【ルース】入力欄!F402=\"\",\"\",【ルース】入力欄!F402)","v":""},{"$f":"IF(【ルース】入力欄!G402=\"\",\"\",【ルース】入力欄!G402)","v":""},{"$f":"IF(【ルース】入力欄!H402=\"\",\"\",【ルース】入力欄!H402)","v":""},{"$f":"IF(【ルース】入力欄!I402=\"\",\"\",【ルース】入力欄!I402)","v":""},{"$f":"IF(【ルース】入力欄!K402=\"\",\"\",【ルース】入力欄!K402)","v":""},{"$f":"IF(【ルース】入力欄!J402=\"\",\"\",【ルース】入力欄!J402)","v":""},{"$f":"IF(【ルース】入力欄!M402=\"\",\"\",【ルース】入力欄!M402)","v":""}]
["８",{"$f":"IF(【ルース】入力欄!E403=\"\",\"\",【ルース】入力欄!E403)","v":""},{"$f":"IF(【ルース】入力欄!F403=\"\",\"\",【ルース】入力欄!F403)","v":""},{"$f":"IF(【ルース】入力欄!G403=\"\",\"\",【ルース】入力欄!G403)","v":""},{"$f":"IF(【ルース】入力欄!H403=\"\",\"\",【ルース】入力欄!H403)","v":""},{"$f":"IF(【ルース】入力欄!I403=\"\",\"\",【ルース】入力欄!I403)","v":""},{"$f":"IF(【ルース】入力欄!K403=\"\",\"\",【ルース】入力欄!K403)","v":""},{"$f":"IF(【ルース】入力欄!J403=\"\",\"\",【ルース】入力欄!J403)","v":""},{"$f":"IF(【ルース】入力欄!M403=\"\",\"\",【ルース】入力欄!M403)","v":""}]
["９",{"$f":"IF(【ルース】入力欄!E404=\"\",\"\",【ルース】入力欄!E404)","v":""},{"$f":"IF(【ルース】入力欄!F404=\"\",\"\",【ルース】入力欄!F404)","v":""},{"$f":"IF(【ルース】入力欄!G404=\"\",\"\",【ルース】入力欄!G404)","v":""},{"$f":"IF(【ルース】入力欄!H404=\"\",\"\",【ルース】入力欄!H404)","v":""},{"$f":"IF(【ルース】入力欄!I404=\"\",\"\",【ルース】入力欄!I404)","v":""},{"$f":"IF(【ルース】入力欄!K404=\"\",\"\",【ルース】入力欄!K404)","v":""},{"$f":"IF(【ルース】入力欄!J404=\"\",\"\",【ルース】入力欄!J404)","v":""},{"$f":"IF(【ルース】入力欄!M404=\"\",\"\",【ルース】入力欄!M404)","v":""}]
["１０",{"$f":"IF(【ルース】入力欄!E405=\"\",\"\",【ルース】入力欄!E405)","v":""},{"$f":"IF(【ルース】入力欄!F405=\"\",\"\",【ルース】入力欄!F405)","v":""},{"$f":"IF(【ルース】入力欄!G405=\"\",\"\",【ルース】入力欄!G405)","v":""},{"$f":"IF(【ルース】入力欄!H405=\"\",\"\",【ルース】入力欄!H405)","v":""},{"$f":"IF(【ルース】入力欄!I405=\"\",\"\",【ルース】入力欄!I405)","v":""},{"$f":"IF(【ルース】入力欄!K405=\"\",\"\",【ルース】入力欄!K405)","v":""},{"$f":"IF(【ルース】入力欄!J405=\"\",\"\",【ルース】入力欄!J405)","v":""},{"$f":"IF(【ルース】入力欄!M405=\"\",\"\",【ルース】入力欄!M405)","v":""}]
[]
[null,{"$f":"CONCATENATE(\"出品表　（　\",【ルース】入力欄!I$3,\"　大吉オークション　ルース）\")","v":"出品表　（　　大吉オークション　ルース）"}]
[]
[null,"箱番：",{"$f":"IF(【ルース】入力欄!C406=\"\",\"\",【ルース】入力欄!C406)","v":""},null,null,"※太枠の中をご記入ください",null,"会社名",{"$f":"IF(【ルース】入力欄!C$3=\"\",\"\",【ルース】入力欄!C$3)","v":""}]
[]
["番号","ｃｔ","カラー","クラリティ","カット","蛍光性","備考","付属品","指値\n（2万円以上）","発句"]
["１",{"$f":"IF(【ルース】入力欄!E406=\"\",\"\",【ルース】入力欄!E406)","v":""},{"$f":"IF(【ルース】入力欄!F406=\"\",\"\",【ルース】入力欄!F406)","v":""},{"$f":"IF(【ルース】入力欄!G406=\"\",\"\",【ルース】入力欄!G406)","v":""},{"$f":"IF(【ルース】入力欄!H406=\"\",\"\",【ルース】入力欄!H406)","v":""},{"$f":"IF(【ルース】入力欄!I406=\"\",\"\",【ルース】入力欄!I406)","v":""},{"$f":"IF(【ルース】入力欄!K406=\"\",\"\",【ルース】入力欄!K406)","v":""},{"$f":"IF(【ルース】入力欄!J406=\"\",\"\",【ルース】入力欄!J406)","v":""},{"$f":"IF(【ルース】入力欄!M406=\"\",\"\",【ルース】入力欄!M406)","v":""}]
["２",{"$f":"IF(【ルース】入力欄!E407=\"\",\"\",【ルース】入力欄!E407)","v":""},{"$f":"IF(【ルース】入力欄!F407=\"\",\"\",【ルース】入力欄!F407)","v":""},{"$f":"IF(【ルース】入力欄!G407=\"\",\"\",【ルース】入力欄!G407)","v":""},{"$f":"IF(【ルース】入力欄!H407=\"\",\"\",【ルース】入力欄!H407)","v":""},{"$f":"IF(【ルース】入力欄!I407=\"\",\"\",【ルース】入力欄!I407)","v":""},{"$f":"IF(【ルース】入力欄!K407=\"\",\"\",【ルース】入力欄!K407)","v":""},{"$f":"IF(【ルース】入力欄!J407=\"\",\"\",【ルース】入力欄!J407)","v":""},{"$f":"IF(【ルース】入力欄!M407=\"\",\"\",【ルース】入力欄!M407)","v":""}]
["３",{"$f":"IF(【ルース】入力欄!E408=\"\",\"\",【ルース】入力欄!E408)","v":""},{"$f":"IF(【ルース】入力欄!F408=\"\",\"\",【ルース】入力欄!F408)","v":""},{"$f":"IF(【ルース】入力欄!G408=\"\",\"\",【ルース】入力欄!G408)","v":""},{"$f":"IF(【ルース】入力欄!H408=\"\",\"\",【ルース】入力欄!H408)","v":""},{"$f":"IF(【ルース】入力欄!I408=\"\",\"\",【ルース】入力欄!I408)","v":""},{"$f":"IF(【ルース】入力欄!K408=\"\",\"\",【ルース】入力欄!K408)","v":""},{"$f":"IF(【ルース】入力欄!J408=\"\",\"\",【ルース】入力欄!J408)","v":""},{"$f":"IF(【ルース】入力欄!M408=\"\",\"\",【ルース】入力欄!M408)","v":""}]
["４",{"$f":"IF(【ルース】入力欄!E409=\"\",\"\",【ルース】入力欄!E409)","v":""},{"$f":"IF(【ルース】入力欄!F409=\"\",\"\",【ルース】入力欄!F409)","v":""},{"$f":"IF(【ルース】入力欄!G409=\"\",\"\",【ルース】入力欄!G409)","v":""},{"$f":"IF(【ルース】入力欄!H409=\"\",\"\",【ルース】入力欄!H409)","v":""},{"$f":"IF(【ルース】入力欄!I409=\"\",\"\",【ルース】入力欄!I409)","v":""},{"$f":"IF(【ルース】入力欄!K409=\"\",\"\",【ルース】入力欄!K409)","v":""},{"$f":"IF(【ルース】入力欄!J409=\"\",\"\",【ルース】入力欄!J409)","v":""},{"$f":"IF(【ルース】入力欄!M409=\"\",\"\",【ルース】入力欄!M409)","v":""}]
["５",{"$f":"IF(【ルース】入力欄!E410=\"\",\"\",【ルース】入力欄!E410)","v":""},{"$f":"IF(【ルース】入力欄!F410=\"\",\"\",【ルース】入力欄!F410)","v":""},{"$f":"IF(【ルース】入力欄!G410=\"\",\"\",【ルース】入力欄!G410)","v":""},{"$f":"IF(【ルース】入力欄!H410=\"\",\"\",【ルース】入力欄!H410)","v":""},{"$f":"IF(【ルース】入力欄!I410=\"\",\"\",【ルース】入力欄!I410)","v":""},{"$f":"IF(【ルース】入力欄!K410=\"\",\"\",【ルース】入力欄!K410)","v":""},{"$f":"IF(【ルース】入力欄!J410=\"\",\"\",【ルース】入力欄!J410)","v":""},{"$f":"IF(【ルース】入力欄!M410=\"\",\"\",【ルース】入力欄!M410)","v":""}]
["６",{"$f":"IF(【ルース】入力欄!E411=\"\",\"\",【ルース】入力欄!E411)","v":""},{"$f":"IF(【ルース】入力欄!F411=\"\",\"\",【ルース】入力欄!F411)","v":""},{"$f":"IF(【ルース】入力欄!G411=\"\",\"\",【ルース】入力欄!G411)","v":""},{"$f":"IF(【ルース】入力欄!H411=\"\",\"\",【ルース】入力欄!H411)","v":""},{"$f":"IF(【ルース】入力欄!I411=\"\",\"\",【ルース】入力欄!I411)","v":""},{"$f":"IF(【ルース】入力欄!K411=\"\",\"\",【ルース】入力欄!K411)","v":""},{"$f":"IF(【ルース】入力欄!J411=\"\",\"\",【ルース】入力欄!J411)","v":""},{"$f":"IF(【ルース】入力欄!M411=\"\",\"\",【ルース】入力欄!M411)","v":""}]
["７",{"$f":"IF(【ルース】入力欄!E412=\"\",\"\",【ルース】入力欄!E412)","v":""},{"$f":"IF(【ルース】入力欄!F412=\"\",\"\",【ルース】入力欄!F412)","v":""},{"$f":"IF(【ルース】入力欄!G412=\"\",\"\",【ルース】入力欄!G412)","v":""},{"$f":"IF(【ルース】入力欄!H412=\"\",\"\",【ルース】入力欄!H412)","v":""},{"$f":"IF(【ルース】入力欄!I412=\"\",\"\",【ルース】入力欄!I412)","v":""},{"$f":"IF(【ルース】入力欄!K412=\"\",\"\",【ルース】入力欄!K412)","v":""},{"$f":"IF(【ルース】入力欄!J412=\"\",\"\",【ルース】入力欄!J412)","v":""},{"$f":"IF(【ルース】入力欄!M412=\"\",\"\",【ルース】入力欄!M412)","v":""}]
["８",{"$f":"IF(【ルース】入力欄!E413=\"\",\"\",【ルース】入力欄!E413)","v":""},{"$f":"IF(【ルース】入力欄!F413=\"\",\"\",【ルース】入力欄!F413)","v":""},{"$f":"IF(【ルース】入力欄!G413=\"\",\"\",【ルース】入力欄!G413)","v":""},{"$f":"IF(【ルース】入力欄!H413=\"\",\"\",【ルース】入力欄!H413)","v":""},{"$f":"IF(【ルース】入力欄!I413=\"\",\"\",【ルース】入力欄!I413)","v":""},{"$f":"IF(【ルース】入力欄!K413=\"\",\"\",【ルース】入力欄!K413)","v":""},{"$f":"IF(【ルース】入力欄!J413=\"\",\"\",【ルース】入力欄!J413)","v":""},{"$f":"IF(【ルース】入力欄!M413=\"\",\"\",【ルース】入力欄!M413)","v":""}]
["９",{"$f":"IF(【ルース】入力欄!E414=\"\",\"\",【ルース】入力欄!E414)","v":""},{"$f":"IF(【ルース】入力欄!F414=\"\",\"\",【ルース】入力欄!F414)","v":""},{"$f":"IF(【ルース】入力欄!G414=\"\",\"\",【ルース】入力欄!G414)","v":""},{"$f":"IF(【ルース】入力欄!H414=\"\",\"\",【ルース】入力欄!H414)","v":""},{"$f":"IF(【ルース】入力欄!I414=\"\",\"\",【ルース】入力欄!I414)","v":""},{"$f":"IF(【ルース】入力欄!K414=\"\",\"\",【ルース】入力欄!K414)","v":""},{"$f":"IF(【ルース】入力欄!J414=\"\",\"\",【ルース】入力欄!J414)","v":""},{"$f":"IF(【ルース】入力欄!M414=\"\",\"\",【ルース】入力欄!M414)","v":""}]
["１０",{"$f":"IF(【ルース】入力欄!E415=\"\",\"\",【ルース】入力欄!E415)","v":""},{"$f":"IF(【ルース】入力欄!F415=\"\",\"\",【ルース】入力欄!F415)","v":""},{"$f":"IF(【ルース】入力欄!G415=\"\",\"\",【ルース】入力欄!G415)","v":""},{"$f":"IF(【ルース】入力欄!H415=\"\",\"\",【ルース】入力欄!H415)","v":""},{"$f":"IF(【ルース】入力欄!I415=\"\",\"\",【ルース】入力欄!I415)","v":""},{"$f":"IF(【ルース】入力欄!K415=\"\",\"\",【ルース】入力欄!K415)","v":""},{"$f":"IF(【ルース】入力欄!J415=\"\",\"\",【ルース】入力欄!J415)","v":""},{"$f":"IF(【ルース】入力欄!M415=\"\",\"\",【ルース】入力欄!M415)","v":""}]
[]
[null,{"$f":"CONCATENATE(\"出品表　（　\",【ルース】入力欄!I$3,\"　大吉オークション　ルース）\")","v":"出品表　（　　大吉オークション　ルース）"}]
[]
[null,"箱番：",{"$f":"IF(【ルース】入力欄!C416=\"\",\"\",【ルース】入力欄!C416)","v":""},null,null,"※太枠の中をご記入ください",null,"会社名",{"$f":"IF(【ルース】入力欄!C$3=\"\",\"\",【ルース】入力欄!C$3)","v":""}]
[]
["番号","ｃｔ","カラー","クラリティ","カット","蛍光性","備考","付属品","指値\n（2万円以上）","発句"]
["１",{"$f":"IF(【ルース】入力欄!E416=\"\",\"\",【ルース】入力欄!E416)","v":""},{"$f":"IF(【ルース】入力欄!F416=\"\",\"\",【ルース】入力欄!F416)","v":""},{"$f":"IF(【ルース】入力欄!G416=\"\",\"\",【ルース】入力欄!G416)","v":""},{"$f":"IF(【ルース】入力欄!H416=\"\",\"\",【ルース】入力欄!H416)","v":""},{"$f":"IF(【ルース】入力欄!I416=\"\",\"\",【ルース】入力欄!I416)","v":""},{"$f":"IF(【ルース】入力欄!K416=\"\",\"\",【ルース】入力欄!K416)","v":""},{"$f":"IF(【ルース】入力欄!J416=\"\",\"\",【ルース】入力欄!J416)","v":""},{"$f":"IF(【ルース】入力欄!M416=\"\",\"\",【ルース】入力欄!M416)","v":""}]
["２",{"$f":"IF(【ルース】入力欄!E417=\"\",\"\",【ルース】入力欄!E417)","v":""},{"$f":"IF(【ルース】入力欄!F417=\"\",\"\",【ルース】入力欄!F417)","v":""},{"$f":"IF(【ルース】入力欄!G417=\"\",\"\",【ルース】入力欄!G417)","v":""},{"$f":"IF(【ルース】入力欄!H417=\"\",\"\",【ルース】入力欄!H417)","v":""},{"$f":"IF(【ルース】入力欄!I417=\"\",\"\",【ルース】入力欄!I417)","v":""},{"$f":"IF(【ルース】入力欄!K417=\"\",\"\",【ルース】入力欄!K417)","v":""},{"$f":"IF(【ルース】入力欄!J417=\"\",\"\",【ルース】入力欄!J417)","v":""},{"$f":"IF(【ルース】入力欄!M417=\"\",\"\",【ルース】入力欄!M417)","v":""}]
["３",{"$f":"IF(【ルース】入力欄!E418=\"\",\"\",【ルース】入力欄!E418)","v":""},{"$f":"IF(【ルース】入力欄!F418=\"\",\"\",【ルース】入力欄!F418)","v":""},{"$f":"IF(【ルース】入力欄!G418=\"\",\"\",【ルース】入力欄!G418)","v":""},{"$f":"IF(【ルース】入力欄!H418=\"\",\"\",【ルース】入力欄!H418)","v":""},{"$f":"IF(【ルース】入力欄!I418=\"\",\"\",【ルース】入力欄!I418)","v":""},{"$f":"IF(【ルース】入力欄!K418=\"\",\"\",【ルース】入力欄!K418)","v":""},{"$f":"IF(【ルース】入力欄!J418=\"\",\"\",【ルース】入力欄!J418)","v":""},{"$f":"IF(【ルース】入力欄!M418=\"\",\"\",【ルース】入力欄!M418)","v":""}]
["４",{"$f":"IF(【ルース】入力欄!E419=\"\",\"\",【ルース】入力欄!E419)","v":""},{"$f":"IF(【ルース】入力欄!F419=\"\",\"\",【ルース】入力欄!F419)","v":""},{"$f":"IF(【ルース】入力欄!G419=\"\",\"\",【ルース】入力欄!G419)","v":""},{"$f":"IF(【ルース】入力欄!H419=\"\",\"\",【ルース】入力欄!H419)","v":""},{"$f":"IF(【ルース】入力欄!I419=\"\",\"\",【ルース】入力欄!I419)","v":""},{"$f":"IF(【ルース】入力欄!K419=\"\",\"\",【ルース】入力欄!K419)","v":""},{"$f":"IF(【ルース】入力欄!J419=\"\",\"\",【ルース】入力欄!J419)","v":""},{"$f":"IF(【ルース】入力欄!M419=\"\",\"\",【ルース】入力欄!M419)","v":""}]
["５",{"$f":"IF(【ルース】入力欄!E420=\"\",\"\",【ルース】入力欄!E420)","v":""},{"$f":"IF(【ルース】入力欄!F420=\"\",\"\",【ルース】入力欄!F420)","v":""},{"$f":"IF(【ルース】入力欄!G420=\"\",\"\",【ルース】入力欄!G420)","v":""},{"$f":"IF(【ルース】入力欄!H420=\"\",\"\",【ルース】入力欄!H420)","v":""},{"$f":"IF(【ルース】入力欄!I420=\"\",\"\",【ルース】入力欄!I420)","v":""},{"$f":"IF(【ルース】入力欄!K420=\"\",\"\",【ルース】入力欄!K420)","v":""},{"$f":"IF(【ルース】入力欄!J420=\"\",\"\",【ルース】入力欄!J420)","v":""},{"$f":"IF(【ルース】入力欄!M420=\"\",\"\",【ルース】入力欄!M420)","v":""}]
["６",{"$f":"IF(【ルース】入力欄!E421=\"\",\"\",【ルース】入力欄!E421)","v":""},{"$f":"IF(【ルース】入力欄!F421=\"\",\"\",【ルース】入力欄!F421)","v":""},{"$f":"IF(【ルース】入力欄!G421=\"\",\"\",【ルース】入力欄!G421)","v":""},{"$f":"IF(【ルース】入力欄!H421=\"\",\"\",【ルース】入力欄!H421)","v":""},{"$f":"IF(【ルース】入力欄!I421=\"\",\"\",【ルース】入力欄!I421)","v":""},{"$f":"IF(【ルース】入力欄!K421=\"\",\"\",【ルース】入力欄!K421)","v":""},{"$f":"IF(【ルース】入力欄!J421=\"\",\"\",【ルース】入力欄!J421)","v":""},{"$f":"IF(【ルース】入力欄!M421=\"\",\"\",【ルース】入力欄!M421)","v":""}]
["７",{"$f":"IF(【ルース】入力欄!E422=\"\",\"\",【ルース】入力欄!E422)","v":""},{"$f":"IF(【ルース】入力欄!F422=\"\",\"\",【ルース】入力欄!F422)","v":""},{"$f":"IF(【ルース】入力欄!G422=\"\",\"\",【ルース】入力欄!G422)","v":""},{"$f":"IF(【ルース】入力欄!H422=\"\",\"\",【ルース】入力欄!H422)","v":""},{"$f":"IF(【ルース】入力欄!I422=\"\",\"\",【ルース】入力欄!I422)","v":""},{"$f":"IF(【ルース】入力欄!K422=\"\",\"\",【ルース】入力欄!K422)","v":""},{"$f":"IF(【ルース】入力欄!J422=\"\",\"\",【ルース】入力欄!J422)","v":""},{"$f":"IF(【ルース】入力欄!M422=\"\",\"\",【ルース】入力欄!M422)","v":""}]
["８",{"$f":"IF(【ルース】入力欄!E423=\"\",\"\",【ルース】入力欄!E423)","v":""},{"$f":"IF(【ルース】入力欄!F423=\"\",\"\",【ルース】入力欄!F423)","v":""},{"$f":"IF(【ルース】入力欄!G423=\"\",\"\",【ルース】入力欄!G423)","v":""},{"$f":"IF(【ルース】入力欄!H423=\"\",\"\",【ルース】入力欄!H423)","v":""},{"$f":"IF(【ルース】入力欄!I423=\"\",\"\",【ルース】入力欄!I423)","v":""},{"$f":"IF(【ルース】入力欄!K423=\"\",\"\",【ルース】入力欄!K423)","v":""},{"$f":"IF(【ルース】入力欄!J423=\"\",\"\",【ルース】入力欄!J423)","v":""},{"$f":"IF(【ルース】入力欄!M423=\"\",\"\",【ルース】入力欄!M423)","v":""}]
["９",{"$f":"IF(【ルース】入力欄!E424=\"\",\"\",【ルース】入力欄!E424)","v":""},{"$f":"IF(【ルース】入力欄!F424=\"\",\"\",【ルース】入力欄!F424)","v":""},{"$f":"IF(【ルース】入力欄!G424=\"\",\"\",【ルース】入力欄!G424)","v":""},{"$f":"IF(【ルース】入力欄!H424=\"\",\"\",【ルース】入力欄!H424)","v":""},{"$f":"IF(【ルース】入力欄!I424=\"\",\"\",【ルース】入力欄!I424)","v":""},{"$f":"IF(【ルース】入力欄!K424=\"\",\"\",【ルース】入力欄!K424)","v":""},{"$f":"IF(【ルース】入力欄!J424=\"\",\"\",【ルース】入力欄!J424)","v":""},{"$f":"IF(【ルース】入力欄!M424=\"\",\"\",【ルース】入力欄!M424)","v":""}]
["１０",{"$f":"IF(【ルース】入力欄!E425=\"\",\"\",【ルース】入力欄!E425)","v":""},{"$f":"IF(【ルース】入力欄!F425=\"\",\"\",【ルース】入力欄!F425)","v":""},{"$f":"IF(【ルース】入力欄!G425=\"\",\"\",【ルース】入力欄!G425)","v":""},{"$f":"IF(【ルース】入力欄!H425=\"\",\"\",【ルース】入力欄!H425)","v":""},{"$f":"IF(【ルース】入力欄!I425=\"\",\"\",【ルース】入力欄!I425)","v":""},{"$f":"IF(【ルース】入力欄!K425=\"\",\"\",【ルース】入力欄!K425)","v":""},{"$f":"IF(【ルース】入力欄!J425=\"\",\"\",【ルース】入力欄!J425)","v":""},{"$f":"IF(【ルース】入力欄!M425=\"\",\"\",【ルース】入力欄!M425)","v":""}]
[]
[null,{"$f":"CONCATENATE(\"出品表　（　\",【ルース】入力欄!I$3,\"　大吉オークション　ルース）\")","v":"出品表　（　　大吉オークション　ルース）"}]
[]
[null,"箱番：",{"$f":"IF(【ルース】入力欄!C426=\"\",\"\",【ルース】入力欄!C426)","v":""},null,null,"※太枠の中をご記入ください",null,"会社名",{"$f":"IF(【ルース】入力欄!C$3=\"\",\"\",【ルース】入力欄!C$3)","v":""}]
[]
["番号","ｃｔ","カラー","クラリティ","カット","蛍光性","備考","付属品","指値\n（2万円以上）","発句"]
["１",{"$f":"IF(【ルース】入力欄!E426=\"\",\"\",【ルース】入力欄!E426)","v":""},{"$f":"IF(【ルース】入力欄!F426=\"\",\"\",【ルース】入力欄!F426)","v":""},{"$f":"IF(【ルース】入力欄!G426=\"\",\"\",【ルース】入力欄!G426)","v":""},{"$f":"IF(【ルース】入力欄!H426=\"\",\"\",【ルース】入力欄!H426)","v":""},{"$f":"IF(【ルース】入力欄!I426=\"\",\"\",【ルース】入力欄!I426)","v":""},{"$f":"IF(【ルース】入力欄!K426=\"\",\"\",【ルース】入力欄!K426)","v":""},{"$f":"IF(【ルース】入力欄!J426=\"\",\"\",【ルース】入力欄!J426)","v":""},{"$f":"IF(【ルース】入力欄!M426=\"\",\"\",【ルース】入力欄!M426)","v":""}]
["２",{"$f":"IF(【ルース】入力欄!E427=\"\",\"\",【ルース】入力欄!E427)","v":""},{"$f":"IF(【ルース】入力欄!F427=\"\",\"\",【ルース】入力欄!F427)","v":""},{"$f":"IF(【ルース】入力欄!G427=\"\",\"\",【ルース】入力欄!G427)","v":""},{"$f":"IF(【ルース】入力欄!H427=\"\",\"\",【ルース】入力欄!H427)","v":""},{"$f":"IF(【ルース】入力欄!I427=\"\",\"\",【ルース】入力欄!I427)","v":""},{"$f":"IF(【ルース】入力欄!K427=\"\",\"\",【ルース】入力欄!K427)","v":""},{"$f":"IF(【ルース】入力欄!J427=\"\",\"\",【ルース】入力欄!J427)","v":""},{"$f":"IF(【ルース】入力欄!M427=\"\",\"\",【ルース】入力欄!M427)","v":""}]
["３",{"$f":"IF(【ルース】入力欄!E428=\"\",\"\",【ルース】入力欄!E428)","v":""},{"$f":"IF(【ルース】入力欄!F428=\"\",\"\",【ルース】入力欄!F428)","v":""},{"$f":"IF(【ルース】入力欄!G428=\"\",\"\",【ルース】入力欄!G428)","v":""},{"$f":"IF(【ルース】入力欄!H428=\"\",\"\",【ルース】入力欄!H428)","v":""},{"$f":"IF(【ルース】入力欄!I428=\"\",\"\",【ルース】入力欄!I428)","v":""},{"$f":"IF(【ルース】入力欄!K428=\"\",\"\",【ルース】入力欄!K428)","v":""},{"$f":"IF(【ルース】入力欄!J428=\"\",\"\",【ルース】入力欄!J428)","v":""},{"$f":"IF(【ルース】入力欄!M428=\"\",\"\",【ルース】入力欄!M428)","v":""}]
["４",{"$f":"IF(【ルース】入力欄!E429=\"\",\"\",【ルース】入力欄!E429)","v":""},{"$f":"IF(【ルース】入力欄!F429=\"\",\"\",【ルース】入力欄!F429)","v":""},{"$f":"IF(【ルース】入力欄!G429=\"\",\"\",【ルース】入力欄!G429)","v":""},{"$f":"IF(【ルース】入力欄!H429=\"\",\"\",【ルース】入力欄!H429)","v":""},{"$f":"IF(【ルース】入力欄!I429=\"\",\"\",【ルース】入力欄!I429)","v":""},{"$f":"IF(【ルース】入力欄!K429=\"\",\"\",【ルース】入力欄!K429)","v":""},{"$f":"IF(【ルース】入力欄!J429=\"\",\"\",【ルース】入力欄!J429)","v":""},{"$f":"IF(【ルース】入力欄!M429=\"\",\"\",【ルース】入力欄!M429)","v":""}]
["５",{"$f":"IF(【ルース】入力欄!E430=\"\",\"\",【ルース】入力欄!E430)","v":""},{"$f":"IF(【ルース】入力欄!F430=\"\",\"\",【ルース】入力欄!F430)","v":""},{"$f":"IF(【ルース】入力欄!G430=\"\",\"\",【ルース】入力欄!G430)","v":""},{"$f":"IF(【ルース】入力欄!H430=\"\",\"\",【ルース】入力欄!H430)","v":""},{"$f":"IF(【ルース】入力欄!I430=\"\",\"\",【ルース】入力欄!I430)","v":""},{"$f":"IF(【ルース】入力欄!K430=\"\",\"\",【ルース】入力欄!K430)","v":""},{"$f":"IF(【ルース】入力欄!J430=\"\",\"\",【ルース】入力欄!J430)","v":""},{"$f":"IF(【ルース】入力欄!M430=\"\",\"\",【ルース】入力欄!M430)","v":""}]
["６",{"$f":"IF(【ルース】入力欄!E431=\"\",\"\",【ルース】入力欄!E431)","v":""},{"$f":"IF(【ルース】入力欄!F431=\"\",\"\",【ルース】入力欄!F431)","v":""},{"$f":"IF(【ルース】入力欄!G431=\"\",\"\",【ルース】入力欄!G431)","v":""},{"$f":"IF(【ルース】入力欄!H431=\"\",\"\",【ルース】入力欄!H431)","v":""},{"$f":"IF(【ルース】入力欄!I431=\"\",\"\",【ルース】入力欄!I431)","v":""},{"$f":"IF(【ルース】入力欄!K431=\"\",\"\",【ルース】入力欄!K431)","v":""},{"$f":"IF(【ルース】入力欄!J431=\"\",\"\",【ルース】入力欄!J431)","v":""},{"$f":"IF(【ルース】入力欄!M431=\"\",\"\",【ルース】入力欄!M431)","v":""}]
["７",{"$f":"IF(【ルース】入力欄!E432=\"\",\"\",【ルース】入力欄!E432)","v":""},{"$f":"IF(【ルース】入力欄!F432=\"\",\"\",【ルース】入力欄!F432)","v":""},{"$f":"IF(【ルース】入力欄!G432=\"\",\"\",【ルース】入力欄!G432)","v":""},{"$f":"IF(【ルース】入力欄!H432=\"\",\"\",【ルース】入力欄!H432)","v":""},{"$f":"IF(【ルース】入力欄!I432=\"\",\"\",【ルース】入力欄!I432)","v":""},{"$f":"IF(【ルース】入力欄!K432=\"\",\"\",【ルース】入力欄!K432)","v":""},{"$f":"IF(【ルース】入力欄!J432=\"\",\"\",【ルース】入力欄!J432)","v":""},{"$f":"IF(【ルース】入力欄!M432=\"\",\"\",【ルース】入力欄!M432)","v":""}]
["８",{"$f":"IF(【ルース】入力欄!E433=\"\",\"\",【ルース】入力欄!E433)","v":""},{"$f":"IF(【ルース】入力欄!F433=\"\",\"\",【ルース】入力欄!F433)","v":""},{"$f":"IF(【ルース】入力欄!G433=\"\",\"\",【ルース】入力欄!G433)","v":""},{"$f":"IF(【ルース】入力欄!H433=\"\",\"\",【ルース】入力欄!H433)","v":""},{"$f":"IF(【ルース】入力欄!I433=\"\",\"\",【ルース】入力欄!I433)","v":""},{"$f":"IF(【ルース】入力欄!K433=\"\",\"\",【ルース】入力欄!K433)","v":""},{"$f":"IF(【ルース】入力欄!J433=\"\",\"\",【ルース】入力欄!J433)","v":""},{"$f":"IF(【ルース】入力欄!M433=\"\",\"\",【ルース】入力欄!M433)","v":""}]
["９",{"$f":"IF(【ルース】入力欄!E434=\"\",\"\",【ルース】入力欄!E434)","v":""},{"$f":"IF(【ルース】入力欄!F434=\"\",\"\",【ルース】入力欄!F434)","v":""},{"$f":"IF(【ルース】入力欄!G434=\"\",\"\",【ルース】入力欄!G434)","v":""},{"$f":"IF(【ルース】入力欄!H434=\"\",\"\",【ルース】入力欄!H434)","v":""},{"$f":"IF(【ルース】入力欄!I434=\"\",\"\",【ルース】入力欄!I434)","v":""},{"$f":"IF(【ルース】入力欄!K434=\"\",\"\",【ルース】入力欄!K434)","v":""},{"$f":"IF(【ルース】入力欄!J434=\"\",\"\",【ルース】入力欄!J434)","v":""},{"$f":"IF(【ルース】入力欄!M434=\"\",\"\",【ルース】入力欄!M434)","v":""}]
["１０",{"$f":"IF(【ルース】入力欄!E435=\"\",\"\",【ルース】入力欄!E435)","v":""},{"$f":"IF(【ルース】入力欄!F435=\"\",\"\",【ルース】入力欄!F435)","v":""},{"$f":"IF(【ルース】入力欄!G435=\"\",\"\",【ルース】入力欄!G435)","v":""},{"$f":"IF(【ルース】入力欄!H435=\"\",\"\",【ルース】入力欄!H435)","v":""},{"$f":"IF(【ルース】入力欄!I435=\"\",\"\",【ルース】入力欄!I435)","v":""},{"$f":"IF(【ルース】入力欄!K435=\"\",\"\",【ルース】入力欄!K435)","v":""},{"$f":"IF(【ルース】入力欄!J435=\"\",\"\",【ルース】入力欄!J435)","v":""},{"$f":"IF(【ルース】入力欄!M435=\"\",\"\",【ルース】入力欄!M435)","v":""}]
[]
[null,{"$f":"CONCATENATE(\"出品表　（　\",【ルース】入力欄!I$3,\"　大吉オークション　ルース）\")","v":"出品表　（　　大吉オークション　ルース）"}]
[]
[null,"箱番：",{"$f":"IF(【ルース】入力欄!C436=\"\",\"\",【ルース】入力欄!C436)","v":""},null,null,"※太枠の中をご記入ください",null,"会社名",{"$f":"IF(【ルース】入力欄!C$3=\"\",\"\",【ルース】入力欄!C$3)","v":""}]
[]
["番号","ｃｔ","カラー","クラリティ","カット","蛍光性","備考","付属品","指値\n（2万円以上）","発句"]
["１",{"$f":"IF(【ルース】入力欄!E436=\"\",\"\",【ルース】入力欄!E436)","v":""},{"$f":"IF(【ルース】入力欄!F436=\"\",\"\",【ルース】入力欄!F436)","v":""},{"$f":"IF(【ルース】入力欄!G436=\"\",\"\",【ルース】入力欄!G436)","v":""},{"$f":"IF(【ルース】入力欄!H436=\"\",\"\",【ルース】入力欄!H436)","v":""},{"$f":"IF(【ルース】入力欄!I436=\"\",\"\",【ルース】入力欄!I436)","v":""},{"$f":"IF(【ルース】入力欄!K436=\"\",\"\",【ルース】入力欄!K436)","v":""},{"$f":"IF(【ルース】入力欄!J436=\"\",\"\",【ルース】入力欄!J436)","v":""},{"$f":"IF(【ルース】入力欄!M436=\"\",\"\",【ルース】入力欄!M436)","v":""}]
["２",{"$f":"IF(【ルース】入力欄!E437=\"\",\"\",【ルース】入力欄!E437)","v":""},{"$f":"IF(【ルース】入力欄!F437=\"\",\"\",【ルース】入力欄!F437)","v":""},{"$f":"IF(【ルース】入力欄!G437=\"\",\"\",【ルース】入力欄!G437)","v":""},{"$f":"IF(【ルース】入力欄!H437=\"\",\"\",【ルース】入力欄!H437)","v":""},{"$f":"IF(【ルース】入力欄!I437=\"\",\"\",【ルース】入力欄!I437)","v":""},{"$f":"IF(【ルース】入力欄!K437=\"\",\"\",【ルース】入力欄!K437)","v":""},{"$f":"IF(【ルース】入力欄!J437=\"\",\"\",【ルース】入力欄!J437)","v":""},{"$f":"IF(【ルース】入力欄!M437=\"\",\"\",【ルース】入力欄!M437)","v":""}]
["３",{"$f":"IF(【ルース】入力欄!E438=\"\",\"\",【ルース】入力欄!E438)","v":""},{"$f":"IF(【ルース】入力欄!F438=\"\",\"\",【ルース】入力欄!F438)","v":""},{"$f":"IF(【ルース】入力欄!G438=\"\",\"\",【ルース】入力欄!G438)","v":""},{"$f":"IF(【ルース】入力欄!H438=\"\",\"\",【ルース】入力欄!H438)","v":""},{"$f":"IF(【ルース】入力欄!I438=\"\",\"\",【ルース】入力欄!I438)","v":""},{"$f":"IF(【ルース】入力欄!K438=\"\",\"\",【ルース】入力欄!K438)","v":""},{"$f":"IF(【ルース】入力欄!J438=\"\",\"\",【ルース】入力欄!J438)","v":""},{"$f":"IF(【ルース】入力欄!M438=\"\",\"\",【ルース】入力欄!M438)","v":""}]
["４",{"$f":"IF(【ルース】入力欄!E439=\"\",\"\",【ルース】入力欄!E439)","v":""},{"$f":"IF(【ルース】入力欄!F439=\"\",\"\",【ルース】入力欄!F439)","v":""},{"$f":"IF(【ルース】入力欄!G439=\"\",\"\",【ルース】入力欄!G439)","v":""},{"$f":"IF(【ルース】入力欄!H439=\"\",\"\",【ルース】入力欄!H439)","v":""},{"$f":"IF(【ルース】入力欄!I439=\"\",\"\",【ルース】入力欄!I439)","v":""},{"$f":"IF(【ルース】入力欄!K439=\"\",\"\",【ルース】入力欄!K439)","v":""},{"$f":"IF(【ルース】入力欄!J439=\"\",\"\",【ルース】入力欄!J439)","v":""},{"$f":"IF(【ルース】入力欄!M439=\"\",\"\",【ルース】入力欄!M439)","v":""}]
["５",{"$f":"IF(【ルース】入力欄!E440=\"\",\"\",【ルース】入力欄!E440)","v":""},{"$f":"IF(【ルース】入力欄!F440=\"\",\"\",【ルース】入力欄!F440)","v":""},{"$f":"IF(【ルース】入力欄!G440=\"\",\"\",【ルース】入力欄!G440)","v":""},{"$f":"IF(【ルース】入力欄!H440=\"\",\"\",【ルース】入力欄!H440)","v":""},{"$f":"IF(【ルース】入力欄!I440=\"\",\"\",【ルース】入力欄!I440)","v":""},{"$f":"IF(【ルース】入力欄!K440=\"\",\"\",【ルース】入力欄!K440)","v":""},{"$f":"IF(【ルース】入力欄!J440=\"\",\"\",【ルース】入力欄!J440)","v":""},{"$f":"IF(【ルース】入力欄!M440=\"\",\"\",【ルース】入力欄!M440)","v":""}]
["６",{"$f":"IF(【ルース】入力欄!E441=\"\",\"\",【ルース】入力欄!E441)","v":""},{"$f":"IF(【ルース】入力欄!F441=\"\",\"\",【ルース】入力欄!F441)","v":""},{"$f":"IF(【ルース】入力欄!G441=\"\",\"\",【ルース】入力欄!G441)","v":""},{"$f":"IF(【ルース】入力欄!H441=\"\",\"\",【ルース】入力欄!H441)","v":""},{"$f":"IF(【ルース】入力欄!I441=\"\",\"\",【ルース】入力欄!I441)","v":""},{"$f":"IF(【ルース】入力欄!K441=\"\",\"\",【ルース】入力欄!K441)","v":""},{"$f":"IF(【ルース】入力欄!J441=\"\",\"\",【ルース】入力欄!J441)","v":""},{"$f":"IF(【ルース】入力欄!M441=\"\",\"\",【ルース】入力欄!M441)","v":""}]
["７",{"$f":"IF(【ルース】入力欄!E442=\"\",\"\",【ルース】入力欄!E442)","v":""},{"$f":"IF(【ルース】入力欄!F442=\"\",\"\",【ルース】入力欄!F442)","v":""},{"$f":"IF(【ルース】入力欄!G442=\"\",\"\",【ルース】入力欄!G442)","v":""},{"$f":"IF(【ルース】入力欄!H442=\"\",\"\",【ルース】入力欄!H442)","v":""},{"$f":"IF(【ルース】入力欄!I442=\"\",\"\",【ルース】入力欄!I442)","v":""},{"$f":"IF(【ルース】入力欄!K442=\"\",\"\",【ルース】入力欄!K442)","v":""},{"$f":"IF(【ルース】入力欄!J442=\"\",\"\",【ルース】入力欄!J442)","v":""},{"$f":"IF(【ルース】入力欄!M442=\"\",\"\",【ルース】入力欄!M442)","v":""}]
["８",{"$f":"IF(【ルース】入力欄!E443=\"\",\"\",【ルース】入力欄!E443)","v":""},{"$f":"IF(【ルース】入力欄!F443=\"\",\"\",【ルース】入力欄!F443)","v":""},{"$f":"IF(【ルース】入力欄!G443=\"\",\"\",【ルース】入力欄!G443)","v":""},{"$f":"IF(【ルース】入力欄!H443=\"\",\"\",【ルース】入力欄!H443)","v":""},{"$f":"IF(【ルース】入力欄!I443=\"\",\"\",【ルース】入力欄!I443)","v":""},{"$f":"IF(【ルース】入力欄!K443=\"\",\"\",【ルース】入力欄!K443)","v":""},{"$f":"IF(【ルース】入力欄!J443=\"\",\"\",【ルース】入力欄!J443)","v":""},{"$f":"IF(【ルース】入力欄!M443=\"\",\"\",【ルース】入力欄!M443)","v":""}]
["９",{"$f":"IF(【ルース】入力欄!E444=\"\",\"\",【ルース】入力欄!E444)","v":""},{"$f":"IF(【ルース】入力欄!F444=\"\",\"\",【ルース】入力欄!F444)","v":""},{"$f":"IF(【ルース】入力欄!G444=\"\",\"\",【ルース】入力欄!G444)","v":""},{"$f":"IF(【ルース】入力欄!H444=\"\",\"\",【ルース】入力欄!H444)","v":""},{"$f":"IF(【ルース】入力欄!I444=\"\",\"\",【ルース】入力欄!I444)","v":""},{"$f":"IF(【ルース】入力欄!K444=\"\",\"\",【ルース】入力欄!K444)","v":""},{"$f":"IF(【ルース】入力欄!J444=\"\",\"\",【ルース】入力欄!J444)","v":""},{"$f":"IF(【ルース】入力欄!M444=\"\",\"\",【ルース】入力欄!M444)","v":""}]
["１０",{"$f":"IF(【ルース】入力欄!E445=\"\",\"\",【ルース】入力欄!E445)","v":""},{"$f":"IF(【ルース】入力欄!F445=\"\",\"\",【ルース】入力欄!F445)","v":""},{"$f":"IF(【ルース】入力欄!G445=\"\",\"\",【ルース】入力欄!G445)","v":""},{"$f":"IF(【ルース】入力欄!H445=\"\",\"\",【ルース】入力欄!H445)","v":""},{"$f":"IF(【ルース】入力欄!I445=\"\",\"\",【ルース】入力欄!I445)","v":""},{"$f":"IF(【ルース】入力欄!K445=\"\",\"\",【ルース】入力欄!K445)","v":""},{"$f":"IF(【ルース】入力欄!J445=\"\",\"\",【ルース】入力欄!J445)","v":""},{"$f":"IF(【ルース】入力欄!M445=\"\",\"\",【ルース】入力欄!M445)","v":""}]
[]
[null,{"$f":"CONCATENATE(\"出品表　（　\",【ルース】入力欄!I$3,\"　大吉オークション　ルース）\")","v":"出品表　（　　大吉オークション　ルース）"}]
[]
[null,"箱番：",{"$f":"IF(【ルース】入力欄!C446=\"\",\"\",【ルース】入力欄!C446)","v":""},null,null,"※太枠の中をご記入ください",null,"会社名",{"$f":"IF(【ルース】入力欄!C$3=\"\",\"\",【ルース】入力欄!C$3)","v":""}]
[]
["番号","ｃｔ","カラー","クラリティ","カット","蛍光性","備考","付属品","指値\n（2万円以上）","発句"]
["１",{"$f":"IF(【ルース】入力欄!E446=\"\",\"\",【ルース】入力欄!E446)","v":""},{"$f":"IF(【ルース】入力欄!F446=\"\",\"\",【ルース】入力欄!F446)","v":""},{"$f":"IF(【ルース】入力欄!G446=\"\",\"\",【ルース】入力欄!G446)","v":""},{"$f":"IF(【ルース】入力欄!H446=\"\",\"\",【ルース】入力欄!H446)","v":""},{"$f":"IF(【ルース】入力欄!I446=\"\",\"\",【ルース】入力欄!I446)","v":""},{"$f":"IF(【ルース】入力欄!K446=\"\",\"\",【ルース】入力欄!K446)","v":""},{"$f":"IF(【ルース】入力欄!J446=\"\",\"\",【ルース】入力欄!J446)","v":""},{"$f":"IF(【ルース】入力欄!M446=\"\",\"\",【ルース】入力欄!M446)","v":""}]
["２",{"$f":"IF(【ルース】入力欄!E447=\"\",\"\",【ルース】入力欄!E447)","v":""},{"$f":"IF(【ルース】入力欄!F447=\"\",\"\",【ルース】入力欄!F447)","v":""},{"$f":"IF(【ルース】入力欄!G447=\"\",\"\",【ルース】入力欄!G447)","v":""},{"$f":"IF(【ルース】入力欄!H447=\"\",\"\",【ルース】入力欄!H447)","v":""},{"$f":"IF(【ルース】入力欄!I447=\"\",\"\",【ルース】入力欄!I447)","v":""},{"$f":"IF(【ルース】入力欄!K447=\"\",\"\",【ルース】入力欄!K447)","v":""},{"$f":"IF(【ルース】入力欄!J447=\"\",\"\",【ルース】入力欄!J447)","v":""},{"$f":"IF(【ルース】入力欄!M447=\"\",\"\",【ルース】入力欄!M447)","v":""}]
["３",{"$f":"IF(【ルース】入力欄!E448=\"\",\"\",【ルース】入力欄!E448)","v":""},{"$f":"IF(【ルース】入力欄!F448=\"\",\"\",【ルース】入力欄!F448)","v":""},{"$f":"IF(【ルース】入力欄!G448=\"\",\"\",【ルース】入力欄!G448)","v":""},{"$f":"IF(【ルース】入力欄!H448=\"\",\"\",【ルース】入力欄!H448)","v":""},{"$f":"IF(【ルース】入力欄!I448=\"\",\"\",【ルース】入力欄!I448)","v":""},{"$f":"IF(【ルース】入力欄!K448=\"\",\"\",【ルース】入力欄!K448)","v":""},{"$f":"IF(【ルース】入力欄!J448=\"\",\"\",【ルース】入力欄!J448)","v":""},{"$f":"IF(【ルース】入力欄!M448=\"\",\"\",【ルース】入力欄!M448)","v":""}]
["４",{"$f":"IF(【ルース】入力欄!E449=\"\",\"\",【ルース】入力欄!E449)","v":""},{"$f":"IF(【ルース】入力欄!F449=\"\",\"\",【ルース】入力欄!F449)","v":""},{"$f":"IF(【ルース】入力欄!G449=\"\",\"\",【ルース】入力欄!G449)","v":""},{"$f":"IF(【ルース】入力欄!H449=\"\",\"\",【ルース】入力欄!H449)","v":""},{"$f":"IF(【ルース】入力欄!I449=\"\",\"\",【ルース】入力欄!I449)","v":""},{"$f":"IF(【ルース】入力欄!K449=\"\",\"\",【ルース】入力欄!K449)","v":""},{"$f":"IF(【ルース】入力欄!J449=\"\",\"\",【ルース】入力欄!J449)","v":""},{"$f":"IF(【ルース】入力欄!M449=\"\",\"\",【ルース】入力欄!M449)","v":""}]
["５",{"$f":"IF(【ルース】入力欄!E450=\"\",\"\",【ルース】入力欄!E450)","v":""},{"$f":"IF(【ルース】入力欄!F450=\"\",\"\",【ルース】入力欄!F450)","v":""},{"$f":"IF(【ルース】入力欄!G450=\"\",\"\",【ルース】入力欄!G450)","v":""},{"$f":"IF(【ルース】入力欄!H450=\"\",\"\",【ルース】入力欄!H450)","v":""},{"$f":"IF(【ルース】入力欄!I450=\"\",\"\",【ルース】入力欄!I450)","v":""},{"$f":"IF(【ルース】入力欄!K450=\"\",\"\",【ルース】入力欄!K450)","v":""},{"$f":"IF(【ルース】入力欄!J450=\"\",\"\",【ルース】入力欄!J450)","v":""},{"$f":"IF(【ルース】入力欄!M450=\"\",\"\",【ルース】入力欄!M450)","v":""}]
["６",{"$f":"IF(【ルース】入力欄!E451=\"\",\"\",【ルース】入力欄!E451)","v":""},{"$f":"IF(【ルース】入力欄!F451=\"\",\"\",【ルース】入力欄!F451)","v":""},{"$f":"IF(【ルース】入力欄!G451=\"\",\"\",【ルース】入力欄!G451)","v":""},{"$f":"IF(【ルース】入力欄!H451=\"\",\"\",【ルース】入力欄!H451)","v":""},{"$f":"IF(【ルース】入力欄!I451=\"\",\"\",【ルース】入力欄!I451)","v":""},{"$f":"IF(【ルース】入力欄!K451=\"\",\"\",【ルース】入力欄!K451)","v":""},{"$f":"IF(【ルース】入力欄!J451=\"\",\"\",【ルース】入力欄!J451)","v":""},{"$f":"IF(【ルース】入力欄!M451=\"\",\"\",【ルース】入力欄!M451)","v":""}]
["７",{"$f":"IF(【ルース】入力欄!E452=\"\",\"\",【ルース】入力欄!E452)","v":""},{"$f":"IF(【ルース】入力欄!F452=\"\",\"\",【ルース】入力欄!F452)","v":""},{"$f":"IF(【ルース】入力欄!G452=\"\",\"\",【ルース】入力欄!G452)","v":""},{"$f":"IF(【ルース】入力欄!H452=\"\",\"\",【ルース】入力欄!H452)","v":""},{"$f":"IF(【ルース】入力欄!I452=\"\",\"\",【ルース】入力欄!I452)","v":""},{"$f":"IF(【ルース】入力欄!K452=\"\",\"\",【ルース】入力欄!K452)","v":""},{"$f":"IF(【ルース】入力欄!J452=\"\",\"\",【ルース】入力欄!J452)","v":""},{"$f":"IF(【ルース】入力欄!M452=\"\",\"\",【ルース】入力欄!M452)","v":""}]
["８",{"$f":"IF(【ルース】入力欄!E453=\"\",\"\",【ルース】入力欄!E453)","v":""},{"$f":"IF(【ルース】入力欄!F453=\"\",\"\",【ルース】入力欄!F453)","v":""},{"$f":"IF(【ルース】入力欄!G453=\"\",\"\",【ルース】入力欄!G453)","v":""},{"$f":"IF(【ルース】入力欄!H453=\"\",\"\",【ルース】入力欄!H453)","v":""},{"$f":"IF(【ルース】入力欄!I453=\"\",\"\",【ルース】入力欄!I453)","v":""},{"$f":"IF(【ルース】入力欄!K453=\"\",\"\",【ルース】入力欄!K453)","v":""},{"$f":"IF(【ルース】入力欄!J453=\"\",\"\",【ルース】入力欄!J453)","v":""},{"$f":"IF(【ルース】入力欄!M453=\"\",\"\",【ルース】入力欄!M453)","v":""}]
["９",{"$f":"IF(【ルース】入力欄!E454=\"\",\"\",【ルース】入力欄!E454)","v":""},{"$f":"IF(【ルース】入力欄!F454=\"\",\"\",【ルース】入力欄!F454)","v":""},{"$f":"IF(【ルース】入力欄!G454=\"\",\"\",【ルース】入力欄!G454)","v":""},{"$f":"IF(【ルース】入力欄!H454=\"\",\"\",【ルース】入力欄!H454)","v":""},{"$f":"IF(【ルース】入力欄!I454=\"\",\"\",【ルース】入力欄!I454)","v":""},{"$f":"IF(【ルース】入力欄!K454=\"\",\"\",【ルース】入力欄!K454)","v":""},{"$f":"IF(【ルース】入力欄!J454=\"\",\"\",【ルース】入力欄!J454)","v":""},{"$f":"IF(【ルース】入力欄!M454=\"\",\"\",【ルース】入力欄!M454)","v":""}]
["１０",{"$f":"IF(【ルース】入力欄!E455=\"\",\"\",【ルース】入力欄!E455)","v":""},{"$f":"IF(【ルース】入力欄!F455=\"\",\"\",【ルース】入力欄!F455)","v":""},{"$f":"IF(【ルース】入力欄!G455=\"\",\"\",【ルース】入力欄!G455)","v":""},{"$f":"IF(【ルース】入力欄!H455=\"\",\"\",【ルース】入力欄!H455)","v":""},{"$f":"IF(【ルース】入力欄!I455=\"\",\"\",【ルース】入力欄!I455)","v":""},{"$f":"IF(【ルース】入力欄!K455=\"\",\"\",【ルース】入力欄!K455)","v":""},{"$f":"IF(【ルース】入力欄!J455=\"\",\"\",【ルース】入力欄!J455)","v":""},{"$f":"IF(【ルース】入力欄!M455=\"\",\"\",【ルース】入力欄!M455)","v":""}]
[]
[null,{"$f":"CONCATENATE(\"出品表　（　\",【ルース】入力欄!I$3,\"　大吉オークション　ルース）\")","v":"出品表　（　　大吉オークション　ルース）"}]
[]
[null,"箱番：",{"$f":"IF(【ルース】入力欄!C456=\"\",\"\",【ルース】入力欄!C456)","v":""},null,null,"※太枠の中をご記入ください",null,"会社名",{"$f":"IF(【ルース】入力欄!C$3=\"\",\"\",【ルース】入力欄!C$3)","v":""}]
[]
["番号","ｃｔ","カラー","クラリティ","カット","蛍光性","備考","付属品","指値\n（2万円以上）","発句"]
["１",{"$f":"IF(【ルース】入力欄!E456=\"\",\"\",【ルース】入力欄!E456)","v":""},{"$f":"IF(【ルース】入力欄!F456=\"\",\"\",【ルース】入力欄!F456)","v":""},{"$f":"IF(【ルース】入力欄!G456=\"\",\"\",【ルース】入力欄!G456)","v":""},{"$f":"IF(【ルース】入力欄!H456=\"\",\"\",【ルース】入力欄!H456)","v":""},{"$f":"IF(【ルース】入力欄!I456=\"\",\"\",【ルース】入力欄!I456)","v":""},{"$f":"IF(【ルース】入力欄!K456=\"\",\"\",【ルース】入力欄!K456)","v":""},{"$f":"IF(【ルース】入力欄!J456=\"\",\"\",【ルース】入力欄!J456)","v":""},{"$f":"IF(【ルース】入力欄!M456=\"\",\"\",【ルース】入力欄!M456)","v":""}]
["２",{"$f":"IF(【ルース】入力欄!E457=\"\",\"\",【ルース】入力欄!E457)","v":""},{"$f":"IF(【ルース】入力欄!F457=\"\",\"\",【ルース】入力欄!F457)","v":""},{"$f":"IF(【ルース】入力欄!G457=\"\",\"\",【ルース】入力欄!G457)","v":""},{"$f":"IF(【ルース】入力欄!H457=\"\",\"\",【ルース】入力欄!H457)","v":""},{"$f":"IF(【ルース】入力欄!I457=\"\",\"\",【ルース】入力欄!I457)","v":""},{"$f":"IF(【ルース】入力欄!K457=\"\",\"\",【ルース】入力欄!K457)","v":""},{"$f":"IF(【ルース】入力欄!J457=\"\",\"\",【ルース】入力欄!J457)","v":""},{"$f":"IF(【ルース】入力欄!M457=\"\",\"\",【ルース】入力欄!M457)","v":""}]
["３",{"$f":"IF(【ルース】入力欄!E458=\"\",\"\",【ルース】入力欄!E458)","v":""},{"$f":"IF(【ルース】入力欄!F458=\"\",\"\",【ルース】入力欄!F458)","v":""},{"$f":"IF(【ルース】入力欄!G458=\"\",\"\",【ルース】入力欄!G458)","v":""},{"$f":"IF(【ルース】入力欄!H458=\"\",\"\",【ルース】入力欄!H458)","v":""},{"$f":"IF(【ルース】入力欄!I458=\"\",\"\",【ルース】入力欄!I458)","v":""},{"$f":"IF(【ルース】入力欄!K458=\"\",\"\",【ルース】入力欄!K458)","v":""},{"$f":"IF(【ルース】入力欄!J458=\"\",\"\",【ルース】入力欄!J458)","v":""},{"$f":"IF(【ルース】入力欄!M458=\"\",\"\",【ルース】入力欄!M458)","v":""}]
["４",{"$f":"IF(【ルース】入力欄!E459=\"\",\"\",【ルース】入力欄!E459)","v":""},{"$f":"IF(【ルース】入力欄!F459=\"\",\"\",【ルース】入力欄!F459)","v":""},{"$f":"IF(【ルース】入力欄!G459=\"\",\"\",【ルース】入力欄!G459)","v":""},{"$f":"IF(【ルース】入力欄!H459=\"\",\"\",【ルース】入力欄!H459)","v":""},{"$f":"IF(【ルース】入力欄!I459=\"\",\"\",【ルース】入力欄!I459)","v":""},{"$f":"IF(【ルース】入力欄!K459=\"\",\"\",【ルース】入力欄!K459)","v":""},{"$f":"IF(【ルース】入力欄!J459=\"\",\"\",【ルース】入力欄!J459)","v":""},{"$f":"IF(【ルース】入力欄!M459=\"\",\"\",【ルース】入力欄!M459)","v":""}]
["５",{"$f":"IF(【ルース】入力欄!E460=\"\",\"\",【ルース】入力欄!E460)","v":""},{"$f":"IF(【ルース】入力欄!F460=\"\",\"\",【ルース】入力欄!F460)","v":""},{"$f":"IF(【ルース】入力欄!G460=\"\",\"\",【ルース】入力欄!G460)","v":""},{"$f":"IF(【ルース】入力欄!H460=\"\",\"\",【ルース】入力欄!H460)","v":""},{"$f":"IF(【ルース】入力欄!I460=\"\",\"\",【ルース】入力欄!I460)","v":""},{"$f":"IF(【ルース】入力欄!K460=\"\",\"\",【ルース】入力欄!K460)","v":""},{"$f":"IF(【ルース】入力欄!J460=\"\",\"\",【ルース】入力欄!J460)","v":""},{"$f":"IF(【ルース】入力欄!M460=\"\",\"\",【ルース】入力欄!M460)","v":""}]
["６",{"$f":"IF(【ルース】入力欄!E461=\"\",\"\",【ルース】入力欄!E461)","v":""},{"$f":"IF(【ルース】入力欄!F461=\"\",\"\",【ルース】入力欄!F461)","v":""},{"$f":"IF(【ルース】入力欄!G461=\"\",\"\",【ルース】入力欄!G461)","v":""},{"$f":"IF(【ルース】入力欄!H461=\"\",\"\",【ルース】入力欄!H461)","v":""},{"$f":"IF(【ルース】入力欄!I461=\"\",\"\",【ルース】入力欄!I461)","v":""},{"$f":"IF(【ルース】入力欄!K461=\"\",\"\",【ルース】入力欄!K461)","v":""},{"$f":"IF(【ルース】入力欄!J461=\"\",\"\",【ルース】入力欄!J461)","v":""},{"$f":"IF(【ルース】入力欄!M461=\"\",\"\",【ルース】入力欄!M461)","v":""}]
["７",{"$f":"IF(【ルース】入力欄!E462=\"\",\"\",【ルース】入力欄!E462)","v":""},{"$f":"IF(【ルース】入力欄!F462=\"\",\"\",【ルース】入力欄!F462)","v":""},{"$f":"IF(【ルース】入力欄!G462=\"\",\"\",【ルース】入力欄!G462)","v":""},{"$f":"IF(【ルース】入力欄!H462=\"\",\"\",【ルース】入力欄!H462)","v":""},{"$f":"IF(【ルース】入力欄!I462=\"\",\"\",【ルース】入力欄!I462)","v":""},{"$f":"IF(【ルース】入力欄!K462=\"\",\"\",【ルース】入力欄!K462)","v":""},{"$f":"IF(【ルース】入力欄!J462=\"\",\"\",【ルース】入力欄!J462)","v":""},{"$f":"IF(【ルース】入力欄!M462=\"\",\"\",【ルース】入力欄!M462)","v":""}]
["８",{"$f":"IF(【ルース】入力欄!E463=\"\",\"\",【ルース】入力欄!E463)","v":""},{"$f":"IF(【ルース】入力欄!F463=\"\",\"\",【ルース】入力欄!F463)","v":""},{"$f":"IF(【ルース】入力欄!G463=\"\",\"\",【ルース】入力欄!G463)","v":""},{"$f":"IF(【ルース】入力欄!H463=\"\",\"\",【ルース】入力欄!H463)","v":""},{"$f":"IF(【ルース】入力欄!I463=\"\",\"\",【ルース】入力欄!I463)","v":""},{"$f":"IF(【ルース】入力欄!K463=\"\",\"\",【ルース】入力欄!K463)","v":""},{"$f":"IF(【ルース】入力欄!J463=\"\",\"\",【ルース】入力欄!J463)","v":""},{"$f":"IF(【ルース】入力欄!M463=\"\",\"\",【ルース】入力欄!M463)","v":""}]
["９",{"$f":"IF(【ルース】入力欄!E464=\"\",\"\",【ルース】入力欄!E464)","v":""},{"$f":"IF(【ルース】入力欄!F464=\"\",\"\",【ルース】入力欄!F464)","v":""},{"$f":"IF(【ルース】入力欄!G464=\"\",\"\",【ルース】入力欄!G464)","v":""},{"$f":"IF(【ルース】入力欄!H464=\"\",\"\",【ルース】入力欄!H464)","v":""},{"$f":"IF(【ルース】入力欄!I464=\"\",\"\",【ルース】入力欄!I464)","v":""},{"$f":"IF(【ルース】入力欄!K464=\"\",\"\",【ルース】入力欄!K464)","v":""},{"$f":"IF(【ルース】入力欄!J464=\"\",\"\",【ルース】入力欄!J464)","v":""},{"$f":"IF(【ルース】入力欄!M464=\"\",\"\",【ルース】入力欄!M464)","v":""}]
["１０",{"$f":"IF(【ルース】入力欄!E465=\"\",\"\",【ルース】入力欄!E465)","v":""},{"$f":"IF(【ルース】入力欄!F465=\"\",\"\",【ルース】入力欄!F465)","v":""},{"$f":"IF(【ルース】入力欄!G465=\"\",\"\",【ルース】入力欄!G465)","v":""},{"$f":"IF(【ルース】入力欄!H465=\"\",\"\",【ルース】入力欄!H465)","v":""},{"$f":"IF(【ルース】入力欄!I465=\"\",\"\",【ルース】入力欄!I465)","v":""},{"$f":"IF(【ルース】入力欄!K465=\"\",\"\",【ルース】入力欄!K465)","v":""},{"$f":"IF(【ルース】入力欄!J465=\"\",\"\",【ルース】入力欄!J465)","v":""},{"$f":"IF(【ルース】入力欄!M465=\"\",\"\",【ルース】入力欄!M465)","v":""}]
[]
[null,{"$f":"CONCATENATE(\"出品表　（　\",【ルース】入力欄!I$3,\"　大吉オークション　ルース）\")","v":"出品表　（　　大吉オークション　ルース）"}]
[]
[null,"箱番：",{"$f":"IF(【ルース】入力欄!C466=\"\",\"\",【ルース】入力欄!C466)","v":""},null,null,"※太枠の中をご記入ください",null,"会社名",{"$f":"IF(【ルース】入力欄!C$3=\"\",\"\",【ルース】入力欄!C$3)","v":""}]
[]
["番号","ｃｔ","カラー","クラリティ","カット","蛍光性","備考","付属品","指値\n（2万円以上）","発句"]
["１",{"$f":"IF(【ルース】入力欄!E466=\"\",\"\",【ルース】入力欄!E466)","v":""},{"$f":"IF(【ルース】入力欄!F466=\"\",\"\",【ルース】入力欄!F466)","v":""},{"$f":"IF(【ルース】入力欄!G466=\"\",\"\",【ルース】入力欄!G466)","v":""},{"$f":"IF(【ルース】入力欄!H466=\"\",\"\",【ルース】入力欄!H466)","v":""},{"$f":"IF(【ルース】入力欄!I466=\"\",\"\",【ルース】入力欄!I466)","v":""},{"$f":"IF(【ルース】入力欄!K466=\"\",\"\",【ルース】入力欄!K466)","v":""},{"$f":"IF(【ルース】入力欄!J466=\"\",\"\",【ルース】入力欄!J466)","v":""},{"$f":"IF(【ルース】入力欄!M466=\"\",\"\",【ルース】入力欄!M466)","v":""}]
["２",{"$f":"IF(【ルース】入力欄!E467=\"\",\"\",【ルース】入力欄!E467)","v":""},{"$f":"IF(【ルース】入力欄!F467=\"\",\"\",【ルース】入力欄!F467)","v":""},{"$f":"IF(【ルース】入力欄!G467=\"\",\"\",【ルース】入力欄!G467)","v":""},{"$f":"IF(【ルース】入力欄!H467=\"\",\"\",【ルース】入力欄!H467)","v":""},{"$f":"IF(【ルース】入力欄!I467=\"\",\"\",【ルース】入力欄!I467)","v":""},{"$f":"IF(【ルース】入力欄!K467=\"\",\"\",【ルース】入力欄!K467)","v":""},{"$f":"IF(【ルース】入力欄!J467=\"\",\"\",【ルース】入力欄!J467)","v":""},{"$f":"IF(【ルース】入力欄!M467=\"\",\"\",【ルース】入力欄!M467)","v":""}]
["３",{"$f":"IF(【ルース】入力欄!E468=\"\",\"\",【ルース】入力欄!E468)","v":""},{"$f":"IF(【ルース】入力欄!F468=\"\",\"\",【ルース】入力欄!F468)","v":""},{"$f":"IF(【ルース】入力欄!G468=\"\",\"\",【ルース】入力欄!G468)","v":""},{"$f":"IF(【ルース】入力欄!H468=\"\",\"\",【ルース】入力欄!H468)","v":""},{"$f":"IF(【ルース】入力欄!I468=\"\",\"\",【ルース】入力欄!I468)","v":""},{"$f":"IF(【ルース】入力欄!K468=\"\",\"\",【ルース】入力欄!K468)","v":""},{"$f":"IF(【ルース】入力欄!J468=\"\",\"\",【ルース】入力欄!J468)","v":""},{"$f":"IF(【ルース】入力欄!M468=\"\",\"\",【ルース】入力欄!M468)","v":""}]
["４",{"$f":"IF(【ルース】入力欄!E469=\"\",\"\",【ルース】入力欄!E469)","v":""},{"$f":"IF(【ルース】入力欄!F469=\"\",\"\",【ルース】入力欄!F469)","v":""},{"$f":"IF(【ルース】入力欄!G469=\"\",\"\",【ルース】入力欄!G469)","v":""},{"$f":"IF(【ルース】入力欄!H469=\"\",\"\",【ルース】入力欄!H469)","v":""},{"$f":"IF(【ルース】入力欄!I469=\"\",\"\",【ルース】入力欄!I469)","v":""},{"$f":"IF(【ルース】入力欄!K469=\"\",\"\",【ルース】入力欄!K469)","v":""},{"$f":"IF(【ルース】入力欄!J469=\"\",\"\",【ルース】入力欄!J469)","v":""},{"$f":"IF(【ルース】入力欄!M469=\"\",\"\",【ルース】入力欄!M469)","v":""}]
["５",{"$f":"IF(【ルース】入力欄!E470=\"\",\"\",【ルース】入力欄!E470)","v":""},{"$f":"IF(【ルース】入力欄!F470=\"\",\"\",【ルース】入力欄!F470)","v":""},{"$f":"IF(【ルース】入力欄!G470=\"\",\"\",【ルース】入力欄!G470)","v":""},{"$f":"IF(【ルース】入力欄!H470=\"\",\"\",【ルース】入力欄!H470)","v":""},{"$f":"IF(【ルース】入力欄!I470=\"\",\"\",【ルース】入力欄!I470)","v":""},{"$f":"IF(【ルース】入力欄!K470=\"\",\"\",【ルース】入力欄!K470)","v":""},{"$f":"IF(【ルース】入力欄!J470=\"\",\"\",【ルース】入力欄!J470)","v":""},{"$f":"IF(【ルース】入力欄!M470=\"\",\"\",【ルース】入力欄!M470)","v":""}]
["６",{"$f":"IF(【ルース】入力欄!E471=\"\",\"\",【ルース】入力欄!E471)","v":""},{"$f":"IF(【ルース】入力欄!F471=\"\",\"\",【ルース】入力欄!F471)","v":""},{"$f":"IF(【ルース】入力欄!G471=\"\",\"\",【ルース】入力欄!G471)","v":""},{"$f":"IF(【ルース】入力欄!H471=\"\",\"\",【ルース】入力欄!H471)","v":""},{"$f":"IF(【ルース】入力欄!I471=\"\",\"\",【ルース】入力欄!I471)","v":""},{"$f":"IF(【ルース】入力欄!K471=\"\",\"\",【ルース】入力欄!K471)","v":""},{"$f":"IF(【ルース】入力欄!J471=\"\",\"\",【ルース】入力欄!J471)","v":""},{"$f":"IF(【ルース】入力欄!M471=\"\",\"\",【ルース】入力欄!M471)","v":""}]
["７",{"$f":"IF(【ルース】入力欄!E472=\"\",\"\",【ルース】入力欄!E472)","v":""},{"$f":"IF(【ルース】入力欄!F472=\"\",\"\",【ルース】入力欄!F472)","v":""},{"$f":"IF(【ルース】入力欄!G472=\"\",\"\",【ルース】入力欄!G472)","v":""},{"$f":"IF(【ルース】入力欄!H472=\"\",\"\",【ルース】入力欄!H472)","v":""},{"$f":"IF(【ルース】入力欄!I472=\"\",\"\",【ルース】入力欄!I472)","v":""},{"$f":"IF(【ルース】入力欄!K472=\"\",\"\",【ルース】入力欄!K472)","v":""},{"$f":"IF(【ルース】入力欄!J472=\"\",\"\",【ルース】入力欄!J472)","v":""},{"$f":"IF(【ルース】入力欄!M472=\"\",\"\",【ルース】入力欄!M472)","v":""}]
["８",{"$f":"IF(【ルース】入力欄!E473=\"\",\"\",【ルース】入力欄!E473)","v":""},{"$f":"IF(【ルース】入力欄!F473=\"\",\"\",【ルース】入力欄!F473)","v":""},{"$f":"IF(【ルース】入力欄!G473=\"\",\"\",【ルース】入力欄!G473)","v":""},{"$f":"IF(【ルース】入力欄!H473=\"\",\"\",【ルース】入力欄!H473)","v":""},{"$f":"IF(【ルース】入力欄!I473=\"\",\"\",【ルース】入力欄!I473)","v":""},{"$f":"IF(【ルース】入力欄!K473=\"\",\"\",【ルース】入力欄!K473)","v":""},{"$f":"IF(【ルース】入力欄!J473=\"\",\"\",【ルース】入力欄!J473)","v":""},{"$f":"IF(【ルース】入力欄!M473=\"\",\"\",【ルース】入力欄!M473)","v":""}]
["９",{"$f":"IF(【ルース】入力欄!E474=\"\",\"\",【ルース】入力欄!E474)","v":""},{"$f":"IF(【ルース】入力欄!F474=\"\",\"\",【ルース】入力欄!F474)","v":""},{"$f":"IF(【ルース】入力欄!G474=\"\",\"\",【ルース】入力欄!G474)","v":""},{"$f":"IF(【ルース】入力欄!H474=\"\",\"\",【ルース】入力欄!H474)","v":""},{"$f":"IF(【ルース】入力欄!I474=\"\",\"\",【ルース】入力欄!I474)","v":""},{"$f":"IF(【ルース】入力欄!K474=\"\",\"\",【ルース】入力欄!K474)","v":""},{"$f":"IF(【ルース】入力欄!J474=\"\",\"\",【ルース】入力欄!J474)","v":""},{"$f":"IF(【ルース】入力欄!M474=\"\",\"\",【ルース】入力欄!M474)","v":""}]
["１０",{"$f":"IF(【ルース】入力欄!E475=\"\",\"\",【ルース】入力欄!E475)","v":""},{"$f":"IF(【ルース】入力欄!F475=\"\",\"\",【ルース】入力欄!F475)","v":""},{"$f":"IF(【ルース】入力欄!G475=\"\",\"\",【ルース】入力欄!G475)","v":""},{"$f":"IF(【ルース】入力欄!H475=\"\",\"\",【ルース】入力欄!H475)","v":""},{"$f":"IF(【ルース】入力欄!I475=\"\",\"\",【ルース】入力欄!I475)","v":""},{"$f":"IF(【ルース】入力欄!K475=\"\",\"\",【ルース】入力欄!K475)","v":""},{"$f":"IF(【ルース】入力欄!J475=\"\",\"\",【ルース】入力欄!J475)","v":""},{"$f":"IF(【ルース】入力欄!M475=\"\",\"\",【ルース】入力欄!M475)","v":""}]
[]
[null,{"$f":"CONCATENATE(\"出品表　（　\",【ルース】入力欄!I$3,\"　大吉オークション　ルース）\")","v":"出品表　（　　大吉オークション　ルース）"}]
[]
[null,"箱番：",{"$f":"IF(【ルース】入力欄!C476=\"\",\"\",【ルース】入力欄!C476)","v":""},null,null,"※太枠の中をご記入ください",null,"会社名",{"$f":"IF(【ルース】入力欄!C$3=\"\",\"\",【ルース】入力欄!C$3)","v":""}]
[]
["番号","ｃｔ","カラー","クラリティ","カット","蛍光性","備考","付属品","指値\n（2万円以上）","発句"]
["１",{"$f":"IF(【ルース】入力欄!E476=\"\",\"\",【ルース】入力欄!E476)","v":""},{"$f":"IF(【ルース】入力欄!F476=\"\",\"\",【ルース】入力欄!F476)","v":""},{"$f":"IF(【ルース】入力欄!G476=\"\",\"\",【ルース】入力欄!G476)","v":""},{"$f":"IF(【ルース】入力欄!H476=\"\",\"\",【ルース】入力欄!H476)","v":""},{"$f":"IF(【ルース】入力欄!I476=\"\",\"\",【ルース】入力欄!I476)","v":""},{"$f":"IF(【ルース】入力欄!K476=\"\",\"\",【ルース】入力欄!K476)","v":""},{"$f":"IF(【ルース】入力欄!J476=\"\",\"\",【ルース】入力欄!J476)","v":""},{"$f":"IF(【ルース】入力欄!M476=\"\",\"\",【ルース】入力欄!M476)","v":""}]
["２",{"$f":"IF(【ルース】入力欄!E477=\"\",\"\",【ルース】入力欄!E477)","v":""},{"$f":"IF(【ルース】入力欄!F477=\"\",\"\",【ルース】入力欄!F477)","v":""},{"$f":"IF(【ルース】入力欄!G477=\"\",\"\",【ルース】入力欄!G477)","v":""},{"$f":"IF(【ルース】入力欄!H477=\"\",\"\",【ルース】入力欄!H477)","v":""},{"$f":"IF(【ルース】入力欄!I477=\"\",\"\",【ルース】入力欄!I477)","v":""},{"$f":"IF(【ルース】入力欄!K477=\"\",\"\",【ルース】入力欄!K477)","v":""},{"$f":"IF(【ルース】入力欄!J477=\"\",\"\",【ルース】入力欄!J477)","v":""},{"$f":"IF(【ルース】入力欄!M477=\"\",\"\",【ルース】入力欄!M477)","v":""}]
["３",{"$f":"IF(【ルース】入力欄!E478=\"\",\"\",【ルース】入力欄!E478)","v":""},{"$f":"IF(【ルース】入力欄!F478=\"\",\"\",【ルース】入力欄!F478)","v":""},{"$f":"IF(【ルース】入力欄!G478=\"\",\"\",【ルース】入力欄!G478)","v":""},{"$f":"IF(【ルース】入力欄!H478=\"\",\"\",【ルース】入力欄!H478)","v":""},{"$f":"IF(【ルース】入力欄!I478=\"\",\"\",【ルース】入力欄!I478)","v":""},{"$f":"IF(【ルース】入力欄!K478=\"\",\"\",【ルース】入力欄!K478)","v":""},{"$f":"IF(【ルース】入力欄!J478=\"\",\"\",【ルース】入力欄!J478)","v":""},{"$f":"IF(【ルース】入力欄!M478=\"\",\"\",【ルース】入力欄!M478)","v":""}]
["４",{"$f":"IF(【ルース】入力欄!E479=\"\",\"\",【ルース】入力欄!E479)","v":""},{"$f":"IF(【ルース】入力欄!F479=\"\",\"\",【ルース】入力欄!F479)","v":""},{"$f":"IF(【ルース】入力欄!G479=\"\",\"\",【ルース】入力欄!G479)","v":""},{"$f":"IF(【ルース】入力欄!H479=\"\",\"\",【ルース】入力欄!H479)","v":""},{"$f":"IF(【ルース】入力欄!I479=\"\",\"\",【ルース】入力欄!I479)","v":""},{"$f":"IF(【ルース】入力欄!K479=\"\",\"\",【ルース】入力欄!K479)","v":""},{"$f":"IF(【ルース】入力欄!J479=\"\",\"\",【ルース】入力欄!J479)","v":""},{"$f":"IF(【ルース】入力欄!M479=\"\",\"\",【ルース】入力欄!M479)","v":""}]
["５",{"$f":"IF(【ルース】入力欄!E480=\"\",\"\",【ルース】入力欄!E480)","v":""},{"$f":"IF(【ルース】入力欄!F480=\"\",\"\",【ルース】入力欄!F480)","v":""},{"$f":"IF(【ルース】入力欄!G480=\"\",\"\",【ルース】入力欄!G480)","v":""},{"$f":"IF(【ルース】入力欄!H480=\"\",\"\",【ルース】入力欄!H480)","v":""},{"$f":"IF(【ルース】入力欄!I480=\"\",\"\",【ルース】入力欄!I480)","v":""},{"$f":"IF(【ルース】入力欄!K480=\"\",\"\",【ルース】入力欄!K480)","v":""},{"$f":"IF(【ルース】入力欄!J480=\"\",\"\",【ルース】入力欄!J480)","v":""},{"$f":"IF(【ルース】入力欄!M480=\"\",\"\",【ルース】入力欄!M480)","v":""}]
["６",{"$f":"IF(【ルース】入力欄!E481=\"\",\"\",【ルース】入力欄!E481)","v":""},{"$f":"IF(【ルース】入力欄!F481=\"\",\"\",【ルース】入力欄!F481)","v":""},{"$f":"IF(【ルース】入力欄!G481=\"\",\"\",【ルース】入力欄!G481)","v":""},{"$f":"IF(【ルース】入力欄!H481=\"\",\"\",【ルース】入力欄!H481)","v":""},{"$f":"IF(【ルース】入力欄!I481=\"\",\"\",【ルース】入力欄!I481)","v":""},{"$f":"IF(【ルース】入力欄!K481=\"\",\"\",【ルース】入力欄!K481)","v":""},{"$f":"IF(【ルース】入力欄!J481=\"\",\"\",【ルース】入力欄!J481)","v":""},{"$f":"IF(【ルース】入力欄!M481=\"\",\"\",【ルース】入力欄!M481)","v":""}]
["７",{"$f":"IF(【ルース】入力欄!E482=\"\",\"\",【ルース】入力欄!E482)","v":""},{"$f":"IF(【ルース】入力欄!F482=\"\",\"\",【ルース】入力欄!F482)","v":""},{"$f":"IF(【ルース】入力欄!G482=\"\",\"\",【ルース】入力欄!G482)","v":""},{"$f":"IF(【ルース】入力欄!H482=\"\",\"\",【ルース】入力欄!H482)","v":""},{"$f":"IF(【ルース】入力欄!I482=\"\",\"\",【ルース】入力欄!I482)","v":""},{"$f":"IF(【ルース】入力欄!K482=\"\",\"\",【ルース】入力欄!K482)","v":""},{"$f":"IF(【ルース】入力欄!J482=\"\",\"\",【ルース】入力欄!J482)","v":""},{"$f":"IF(【ルース】入力欄!M482=\"\",\"\",【ルース】入力欄!M482)","v":""}]
["８",{"$f":"IF(【ルース】入力欄!E483=\"\",\"\",【ルース】入力欄!E483)","v":""},{"$f":"IF(【ルース】入力欄!F483=\"\",\"\",【ルース】入力欄!F483)","v":""},{"$f":"IF(【ルース】入力欄!G483=\"\",\"\",【ルース】入力欄!G483)","v":""},{"$f":"IF(【ルース】入力欄!H483=\"\",\"\",【ルース】入力欄!H483)","v":""},{"$f":"IF(【ルース】入力欄!I483=\"\",\"\",【ルース】入力欄!I483)","v":""},{"$f":"IF(【ルース】入力欄!K483=\"\",\"\",【ルース】入力欄!K483)","v":""},{"$f":"IF(【ルース】入力欄!J483=\"\",\"\",【ルース】入力欄!J483)","v":""},{"$f":"IF(【ルース】入力欄!M483=\"\",\"\",【ルース】入力欄!M483)","v":""}]
["９",{"$f":"IF(【ルース】入力欄!E484=\"\",\"\",【ルース】入力欄!E484)","v":""},{"$f":"IF(【ルース】入力欄!F484=\"\",\"\",【ルース】入力欄!F484)","v":""},{"$f":"IF(【ルース】入力欄!G484=\"\",\"\",【ルース】入力欄!G484)","v":""},{"$f":"IF(【ルース】入力欄!H484=\"\",\"\",【ルース】入力欄!H484)","v":""},{"$f":"IF(【ルース】入力欄!I484=\"\",\"\",【ルース】入力欄!I484)","v":""},{"$f":"IF(【ルース】入力欄!K484=\"\",\"\",【ルース】入力欄!K484)","v":""},{"$f":"IF(【ルース】入力欄!J484=\"\",\"\",【ルース】入力欄!J484)","v":""},{"$f":"IF(【ルース】入力欄!M484=\"\",\"\",【ルース】入力欄!M484)","v":""}]
["１０",{"$f":"IF(【ルース】入力欄!E485=\"\",\"\",【ルース】入力欄!E485)","v":""},{"$f":"IF(【ルース】入力欄!F485=\"\",\"\",【ルース】入力欄!F485)","v":""},{"$f":"IF(【ルース】入力欄!G485=\"\",\"\",【ルース】入力欄!G485)","v":""},{"$f":"IF(【ルース】入力欄!H485=\"\",\"\",【ルース】入力欄!H485)","v":""},{"$f":"IF(【ルース】入力欄!I485=\"\",\"\",【ルース】入力欄!I485)","v":""},{"$f":"IF(【ルース】入力欄!K485=\"\",\"\",【ルース】入力欄!K485)","v":""},{"$f":"IF(【ルース】入力欄!J485=\"\",\"\",【ルース】入力欄!J485)","v":""},{"$f":"IF(【ルース】入力欄!M485=\"\",\"\",【ルース】入力欄!M485)","v":""}]
[]
[null,{"$f":"CONCATENATE(\"出品表　（　\",【ルース】入力欄!I$3,\"　大吉オークション　ルース）\")","v":"出品表　（　　大吉オークション　ルース）"}]
[]
[null,"箱番：",{"$f":"IF(【ルース】入力欄!C486=\"\",\"\",【ルース】入力欄!C486)","v":""},null,null,"※太枠の中をご記入ください",null,"会社名",{"$f":"IF(【ルース】入力欄!C$3=\"\",\"\",【ルース】入力欄!C$3)","v":""}]
[]
["番号","ｃｔ","カラー","クラリティ","カット","蛍光性","備考","付属品","指値\n（2万円以上）","発句"]
["１",{"$f":"IF(【ルース】入力欄!E486=\"\",\"\",【ルース】入力欄!E486)","v":""},{"$f":"IF(【ルース】入力欄!F486=\"\",\"\",【ルース】入力欄!F486)","v":""},{"$f":"IF(【ルース】入力欄!G486=\"\",\"\",【ルース】入力欄!G486)","v":""},{"$f":"IF(【ルース】入力欄!H486=\"\",\"\",【ルース】入力欄!H486)","v":""},{"$f":"IF(【ルース】入力欄!I486=\"\",\"\",【ルース】入力欄!I486)","v":""},{"$f":"IF(【ルース】入力欄!K486=\"\",\"\",【ルース】入力欄!K486)","v":""},{"$f":"IF(【ルース】入力欄!J486=\"\",\"\",【ルース】入力欄!J486)","v":""},{"$f":"IF(【ルース】入力欄!M486=\"\",\"\",【ルース】入力欄!M486)","v":""}]
["２",{"$f":"IF(【ルース】入力欄!E487=\"\",\"\",【ルース】入力欄!E487)","v":""},{"$f":"IF(【ルース】入力欄!F487=\"\",\"\",【ルース】入力欄!F487)","v":""},{"$f":"IF(【ルース】入力欄!G487=\"\",\"\",【ルース】入力欄!G487)","v":""},{"$f":"IF(【ルース】入力欄!H487=\"\",\"\",【ルース】入力欄!H487)","v":""},{"$f":"IF(【ルース】入力欄!I487=\"\",\"\",【ルース】入力欄!I487)","v":""},{"$f":"IF(【ルース】入力欄!K487=\"\",\"\",【ルース】入力欄!K487)","v":""},{"$f":"IF(【ルース】入力欄!J487=\"\",\"\",【ルース】入力欄!J487)","v":""},{"$f":"IF(【ルース】入力欄!M487=\"\",\"\",【ルース】入力欄!M487)","v":""}]
["３",{"$f":"IF(【ルース】入力欄!E488=\"\",\"\",【ルース】入力欄!E488)","v":""},{"$f":"IF(【ルース】入力欄!F488=\"\",\"\",【ルース】入力欄!F488)","v":""},{"$f":"IF(【ルース】入力欄!G488=\"\",\"\",【ルース】入力欄!G488)","v":""},{"$f":"IF(【ルース】入力欄!H488=\"\",\"\",【ルース】入力欄!H488)","v":""},{"$f":"IF(【ルース】入力欄!I488=\"\",\"\",【ルース】入力欄!I488)","v":""},{"$f":"IF(【ルース】入力欄!K488=\"\",\"\",【ルース】入力欄!K488)","v":""},{"$f":"IF(【ルース】入力欄!J488=\"\",\"\",【ルース】入力欄!J488)","v":""},{"$f":"IF(【ルース】入力欄!M488=\"\",\"\",【ルース】入力欄!M488)","v":""}]
["４",{"$f":"IF(【ルース】入力欄!E489=\"\",\"\",【ルース】入力欄!E489)","v":""},{"$f":"IF(【ルース】入力欄!F489=\"\",\"\",【ルース】入力欄!F489)","v":""},{"$f":"IF(【ルース】入力欄!G489=\"\",\"\",【ルース】入力欄!G489)","v":""},{"$f":"IF(【ルース】入力欄!H489=\"\",\"\",【ルース】入力欄!H489)","v":""},{"$f":"IF(【ルース】入力欄!I489=\"\",\"\",【ルース】入力欄!I489)","v":""},{"$f":"IF(【ルース】入力欄!K489=\"\",\"\",【ルース】入力欄!K489)","v":""},{"$f":"IF(【ルース】入力欄!J489=\"\",\"\",【ルース】入力欄!J489)","v":""},{"$f":"IF(【ルース】入力欄!M489=\"\",\"\",【ルース】入力欄!M489)","v":""}]
["５",{"$f":"IF(【ルース】入力欄!E490=\"\",\"\",【ルース】入力欄!E490)","v":""},{"$f":"IF(【ルース】入力欄!F490=\"\",\"\",【ルース】入力欄!F490)","v":""},{"$f":"IF(【ルース】入力欄!G490=\"\",\"\",【ルース】入力欄!G490)","v":""},{"$f":"IF(【ルース】入力欄!H490=\"\",\"\",【ルース】入力欄!H490)","v":""},{"$f":"IF(【ルース】入力欄!I490=\"\",\"\",【ルース】入力欄!I490)","v":""},{"$f":"IF(【ルース】入力欄!K490=\"\",\"\",【ルース】入力欄!K490)","v":""},{"$f":"IF(【ルース】入力欄!J490=\"\",\"\",【ルース】入力欄!J490)","v":""},{"$f":"IF(【ルース】入力欄!M490=\"\",\"\",【ルース】入力欄!M490)","v":""}]
["６",{"$f":"IF(【ルース】入力欄!E491=\"\",\"\",【ルース】入力欄!E491)","v":""},{"$f":"IF(【ルース】入力欄!F491=\"\",\"\",【ルース】入力欄!F491)","v":""},{"$f":"IF(【ルース】入力欄!G491=\"\",\"\",【ルース】入力欄!G491)","v":""},{"$f":"IF(【ルース】入力欄!H491=\"\",\"\",【ルース】入力欄!H491)","v":""},{"$f":"IF(【ルース】入力欄!I491=\"\",\"\",【ルース】入力欄!I491)","v":""},{"$f":"IF(【ルース】入力欄!K491=\"\",\"\",【ルース】入力欄!K491)","v":""},{"$f":"IF(【ルース】入力欄!J491=\"\",\"\",【ルース】入力欄!J491)","v":""},{"$f":"IF(【ルース】入力欄!M491=\"\",\"\",【ルース】入力欄!M491)","v":""}]
["７",{"$f":"IF(【ルース】入力欄!E492=\"\",\"\",【ルース】入力欄!E492)","v":""},{"$f":"IF(【ルース】入力欄!F492=\"\",\"\",【ルース】入力欄!F492)","v":""},{"$f":"IF(【ルース】入力欄!G492=\"\",\"\",【ルース】入力欄!G492)","v":""},{"$f":"IF(【ルース】入力欄!H492=\"\",\"\",【ルース】入力欄!H492)","v":""},{"$f":"IF(【ルース】入力欄!I492=\"\",\"\",【ルース】入力欄!I492)","v":""},{"$f":"IF(【ルース】入力欄!K492=\"\",\"\",【ルース】入力欄!K492)","v":""},{"$f":"IF(【ルース】入力欄!J492=\"\",\"\",【ルース】入力欄!J492)","v":""},{"$f":"IF(【ルース】入力欄!M492=\"\",\"\",【ルース】入力欄!M492)","v":""}]
["８",{"$f":"IF(【ルース】入力欄!E493=\"\",\"\",【ルース】入力欄!E493)","v":""},{"$f":"IF(【ルース】入力欄!F493=\"\",\"\",【ルース】入力欄!F493)","v":""},{"$f":"IF(【ルース】入力欄!G493=\"\",\"\",【ルース】入力欄!G493)","v":""},{"$f":"IF(【ルース】入力欄!H493=\"\",\"\",【ルース】入力欄!H493)","v":""},{"$f":"IF(【ルース】入力欄!I493=\"\",\"\",【ルース】入力欄!I493)","v":""},{"$f":"IF(【ルース】入力欄!K493=\"\",\"\",【ルース】入力欄!K493)","v":""},{"$f":"IF(【ルース】入力欄!J493=\"\",\"\",【ルース】入力欄!J493)","v":""},{"$f":"IF(【ルース】入力欄!M493=\"\",\"\",【ルース】入力欄!M493)","v":""}]
["９",{"$f":"IF(【ルース】入力欄!E494=\"\",\"\",【ルース】入力欄!E494)","v":""},{"$f":"IF(【ルース】入力欄!F494=\"\",\"\",【ルース】入力欄!F494)","v":""},{"$f":"IF(【ルース】入力欄!G494=\"\",\"\",【ルース】入力欄!G494)","v":""},{"$f":"IF(【ルース】入力欄!H494=\"\",\"\",【ルース】入力欄!H494)","v":""},{"$f":"IF(【ルース】入力欄!I494=\"\",\"\",【ルース】入力欄!I494)","v":""},{"$f":"IF(【ルース】入力欄!K494=\"\",\"\",【ルース】入力欄!K494)","v":""},{"$f":"IF(【ルース】入力欄!J494=\"\",\"\",【ルース】入力欄!J494)","v":""},{"$f":"IF(【ルース】入力欄!M494=\"\",\"\",【ルース】入力欄!M494)","v":""}]
["１０",{"$f":"IF(【ルース】入力欄!E495=\"\",\"\",【ルース】入力欄!E495)","v":""},{"$f":"IF(【ルース】入力欄!F495=\"\",\"\",【ルース】入力欄!F495)","v":""},{"$f":"IF(【ルース】入力欄!G495=\"\",\"\",【ルース】入力欄!G495)","v":""},{"$f":"IF(【ルース】入力欄!H495=\"\",\"\",【ルース】入力欄!H495)","v":""},{"$f":"IF(【ルース】入力欄!I495=\"\",\"\",【ルース】入力欄!I495)","v":""},{"$f":"IF(【ルース】入力欄!K495=\"\",\"\",【ルース】入力欄!K495)","v":""},{"$f":"IF(【ルース】入力欄!J495=\"\",\"\",【ルース】入力欄!J495)","v":""},{"$f":"IF(【ルース】入力欄!M495=\"\",\"\",【ルース】入力欄!M495)","v":""}]
[]
[null,{"$f":"CONCATENATE(\"出品表　（　\",【ルース】入力欄!I$3,\"　大吉オークション　ルース）\")","v":"出品表　（　　大吉オークション　ルース）"}]
[]
[null,"箱番：",{"$f":"IF(【ルース】入力欄!C496=\"\",\"\",【ルース】入力欄!C496)","v":""},null,null,"※太枠の中をご記入ください",null,"会社名",{"$f":"IF(【ルース】入力欄!C$3=\"\",\"\",【ルース】入力欄!C$3)","v":""}]
[]
["番号","ｃｔ","カラー","クラリティ","カット","蛍光性","備考","付属品","指値\n（2万円以上）","発句"]
["１",{"$f":"IF(【ルース】入力欄!E496=\"\",\"\",【ルース】入力欄!E496)","v":""},{"$f":"IF(【ルース】入力欄!F496=\"\",\"\",【ルース】入力欄!F496)","v":""},{"$f":"IF(【ルース】入力欄!G496=\"\",\"\",【ルース】入力欄!G496)","v":""},{"$f":"IF(【ルース】入力欄!H496=\"\",\"\",【ルース】入力欄!H496)","v":""},{"$f":"IF(【ルース】入力欄!I496=\"\",\"\",【ルース】入力欄!I496)","v":""},{"$f":"IF(【ルース】入力欄!K496=\"\",\"\",【ルース】入力欄!K496)","v":""},{"$f":"IF(【ルース】入力欄!J496=\"\",\"\",【ルース】入力欄!J496)","v":""},{"$f":"IF(【ルース】入力欄!M496=\"\",\"\",【ルース】入力欄!M496)","v":""}]
["２",{"$f":"IF(【ルース】入力欄!E497=\"\",\"\",【ルース】入力欄!E497)","v":""},{"$f":"IF(【ルース】入力欄!F497=\"\",\"\",【ルース】入力欄!F497)","v":""},{"$f":"IF(【ルース】入力欄!G497=\"\",\"\",【ルース】入力欄!G497)","v":""},{"$f":"IF(【ルース】入力欄!H497=\"\",\"\",【ルース】入力欄!H497)","v":""},{"$f":"IF(【ルース】入力欄!I497=\"\",\"\",【ルース】入力欄!I497)","v":""},{"$f":"IF(【ルース】入力欄!K497=\"\",\"\",【ルース】入力欄!K497)","v":""},{"$f":"IF(【ルース】入力欄!J497=\"\",\"\",【ルース】入力欄!J497)","v":""},{"$f":"IF(【ルース】入力欄!M497=\"\",\"\",【ルース】入力欄!M497)","v":""}]
["３",{"$f":"IF(【ルース】入力欄!E498=\"\",\"\",【ルース】入力欄!E498)","v":""},{"$f":"IF(【ルース】入力欄!F498=\"\",\"\",【ルース】入力欄!F498)","v":""},{"$f":"IF(【ルース】入力欄!G498=\"\",\"\",【ルース】入力欄!G498)","v":""},{"$f":"IF(【ルース】入力欄!H498=\"\",\"\",【ルース】入力欄!H498)","v":""},{"$f":"IF(【ルース】入力欄!I498=\"\",\"\",【ルース】入力欄!I498)","v":""},{"$f":"IF(【ルース】入力欄!K498=\"\",\"\",【ルース】入力欄!K498)","v":""},{"$f":"IF(【ルース】入力欄!J498=\"\",\"\",【ルース】入力欄!J498)","v":""},{"$f":"IF(【ルース】入力欄!M498=\"\",\"\",【ルース】入力欄!M498)","v":""}]
["４",{"$f":"IF(【ルース】入力欄!E499=\"\",\"\",【ルース】入力欄!E499)","v":""},{"$f":"IF(【ルース】入力欄!F499=\"\",\"\",【ルース】入力欄!F499)","v":""},{"$f":"IF(【ルース】入力欄!G499=\"\",\"\",【ルース】入力欄!G499)","v":""},{"$f":"IF(【ルース】入力欄!H499=\"\",\"\",【ルース】入力欄!H499)","v":""},{"$f":"IF(【ルース】入力欄!I499=\"\",\"\",【ルース】入力欄!I499)","v":""},{"$f":"IF(【ルース】入力欄!K499=\"\",\"\",【ルース】入力欄!K499)","v":""},{"$f":"IF(【ルース】入力欄!J499=\"\",\"\",【ルース】入力欄!J499)","v":""},{"$f":"IF(【ルース】入力欄!M499=\"\",\"\",【ルース】入力欄!M499)","v":""}]
["５",{"$f":"IF(【ルース】入力欄!E500=\"\",\"\",【ルース】入力欄!E500)","v":""},{"$f":"IF(【ルース】入力欄!F500=\"\",\"\",【ルース】入力欄!F500)","v":""},{"$f":"IF(【ルース】入力欄!G500=\"\",\"\",【ルース】入力欄!G500)","v":""},{"$f":"IF(【ルース】入力欄!H500=\"\",\"\",【ルース】入力欄!H500)","v":""},{"$f":"IF(【ルース】入力欄!I500=\"\",\"\",【ルース】入力欄!I500)","v":""},{"$f":"IF(【ルース】入力欄!K500=\"\",\"\",【ルース】入力欄!K500)","v":""},{"$f":"IF(【ルース】入力欄!J500=\"\",\"\",【ルース】入力欄!J500)","v":""},{"$f":"IF(【ルース】入力欄!M500=\"\",\"\",【ルース】入力欄!M500)","v":""}]
["６",{"$f":"IF(【ルース】入力欄!E501=\"\",\"\",【ルース】入力欄!E501)","v":""},{"$f":"IF(【ルース】入力欄!F501=\"\",\"\",【ルース】入力欄!F501)","v":""},{"$f":"IF(【ルース】入力欄!G501=\"\",\"\",【ルース】入力欄!G501)","v":""},{"$f":"IF(【ルース】入力欄!H501=\"\",\"\",【ルース】入力欄!H501)","v":""},{"$f":"IF(【ルース】入力欄!I501=\"\",\"\",【ルース】入力欄!I501)","v":""},{"$f":"IF(【ルース】入力欄!K501=\"\",\"\",【ルース】入力欄!K501)","v":""},{"$f":"IF(【ルース】入力欄!J501=\"\",\"\",【ルース】入力欄!J501)","v":""},{"$f":"IF(【ルース】入力欄!M501=\"\",\"\",【ルース】入力欄!M501)","v":""}]
["７",{"$f":"IF(【ルース】入力欄!E502=\"\",\"\",【ルース】入力欄!E502)","v":""},{"$f":"IF(【ルース】入力欄!F502=\"\",\"\",【ルース】入力欄!F502)","v":""},{"$f":"IF(【ルース】入力欄!G502=\"\",\"\",【ルース】入力欄!G502)","v":""},{"$f":"IF(【ルース】入力欄!H502=\"\",\"\",【ルース】入力欄!H502)","v":""},{"$f":"IF(【ルース】入力欄!I502=\"\",\"\",【ルース】入力欄!I502)","v":""},{"$f":"IF(【ルース】入力欄!K502=\"\",\"\",【ルース】入力欄!K502)","v":""},{"$f":"IF(【ルース】入力欄!J502=\"\",\"\",【ルース】入力欄!J502)","v":""},{"$f":"IF(【ルース】入力欄!M502=\"\",\"\",【ルース】入力欄!M502)","v":""}]
["８",{"$f":"IF(【ルース】入力欄!E503=\"\",\"\",【ルース】入力欄!E503)","v":""},{"$f":"IF(【ルース】入力欄!F503=\"\",\"\",【ルース】入力欄!F503)","v":""},{"$f":"IF(【ルース】入力欄!G503=\"\",\"\",【ルース】入力欄!G503)","v":""},{"$f":"IF(【ルース】入力欄!H503=\"\",\"\",【ルース】入力欄!H503)","v":""},{"$f":"IF(【ルース】入力欄!I503=\"\",\"\",【ルース】入力欄!I503)","v":""},{"$f":"IF(【ルース】入力欄!K503=\"\",\"\",【ルース】入力欄!K503)","v":""},{"$f":"IF(【ルース】入力欄!J503=\"\",\"\",【ルース】入力欄!J503)","v":""},{"$f":"IF(【ルース】入力欄!M503=\"\",\"\",【ルース】入力欄!M503)","v":""}]
["９",{"$f":"IF(【ルース】入力欄!E504=\"\",\"\",【ルース】入力欄!E504)","v":""},{"$f":"IF(【ルース】入力欄!F504=\"\",\"\",【ルース】入力欄!F504)","v":""},{"$f":"IF(【ルース】入力欄!G504=\"\",\"\",【ルース】入力欄!G504)","v":""},{"$f":"IF(【ルース】入力欄!H504=\"\",\"\",【ルース】入力欄!H504)","v":""},{"$f":"IF(【ルース】入力欄!I504=\"\",\"\",【ルース】入力欄!I504)","v":""},{"$f":"IF(【ルース】入力欄!K504=\"\",\"\",【ルース】入力欄!K504)","v":""},{"$f":"IF(【ルース】入力欄!J504=\"\",\"\",【ルース】入力欄!J504)","v":""},{"$f":"IF(【ルース】入力欄!M504=\"\",\"\",【ルース】入力欄!M504)","v":""}]
["１０",{"$f":"IF(【ルース】入力欄!E505=\"\",\"\",【ルース】入力欄!E505)","v":""},{"$f":"IF(【ルース】入力欄!F505=\"\",\"\",【ルース】入力欄!F505)","v":""},{"$f":"IF(【ルース】入力欄!G505=\"\",\"\",【ルース】入力欄!G505)","v":""},{"$f":"IF(【ルース】入力欄!H505=\"\",\"\",【ルース】入力欄!H505)","v":""},{"$f":"IF(【ルース】入力欄!I505=\"\",\"\",【ルース】入力欄!I505)","v":""},{"$f":"IF(【ルース】入力欄!K505=\"\",\"\",【ルース】入力欄!K505)","v":""},{"$f":"IF(【ルース】入力欄!J505=\"\",\"\",【ルース】入力欄!J505)","v":""},{"$f":"IF(【ルース】入力欄!M505=\"\",\"\",【ルース】入力欄!M505)","v":""}]

{"sheet":"【時計】記入例","index":6,"n_rows":505,"n_cols":20,"rows_kept":505,"cut":false,"hidden":false,"merged":[[475,2,484,2],[485,2,494,2],[495,2,504,2],[415,2,424,2],[425,2,434,2],[435,2,444,2],[445,2,454,2],[455,2,464,2],[465,2,474,2],[405,2,414,2],[295,2,304,2],[305,2,314,2],[315,2,324,2],[325,2,334,2],[335,2,344,2],[345,2,354,2],[355,2,364,2],[365,2,374,2],[375,2,384,2],[385,2,394,2],[395,2,404,2],[285,2,294,2],[175,2,184,2],[185,2,194,2],[195,2,204,2],[205,2,214,2],[215,2,224,2],[225,2,234,2],[235,2,244,2],[245,2,254,2],[255,2,264,2],[265,2,274,2],[275,2,284,2],[165,2,174,2],[55,2,64,2],[65,2,74,2],[75,2,84,2],[85,2,94,2],[95,2,104,2],[105,2,114,2],[115,2,124,2],[125,2,134,2],[135,2,144,2],[145,2,154,2],[155,2,164,2],[2,14,3,14],[45,2,54,2],[2,2,2,5],[5,2,14,2],[15,2,24,2],[25,2,34,2],[35,2,44,2]]}
["■大吉オークション出品リスト_入力画面（時計）"]
[]
[null,"会社名","株式会社エンパワー",null,null,null,null,"出品月","1月",null,null,null,null,null,"3万円以上"]
[]
[null,"通し番号","箱番","行番","ブランド名","素材","商品名","型番","シリアル\nナンバー","ムーブ\nメント","重量(g)","付属品","ランク","保留交渉\n可否","指値（税抜）","区分","ブランド名","ランク","可否","出品月"]
[null,1,7,1,"ロレックス","SS","デイトナ","116520","ランダム","AT",null,"箱・保","A",null,1000000,"J","ロレックス","N","可","1月"]
[null,2,null,2,null,null,null,null,null,null,null,null,null,null,null,"D","オメガ","S","否","2月"]
[null,3,null,3,null,null,null,null,null,null,null,null,null,null,null,"B","タグホイヤー","SA",null,"3月"]
[null,4,null,4,null,null,null,null,null,null,null,null,null,null,null,"W","カシオ","A",null,"4月"]
[null,5,null,5,null,null,null,null,null,null,null,null,null,null,null,null,"セイコー","AB",null,"5月"]
[null,6,null,6,null,null,null,null,null,null,null,null,null,null,null,null,"ルイ・ヴィトン","B",null,"6月"]
[null,7,null,7,null,null,null,null,null,null,null,null,null,null,null,null,"エルメス","BC",null,"7月"]
[null,8,null,8,null,null,null,null,null,null,null,null,null,null,null,null,"カルティエ","C",null,"8月"]
[null,9,null,9,null,null,null,null,null,null,null,null,null,null,null,null,"シャネル","ジャンク",null,"9月"]
[null,10,null,10,null,null,null,null,null,null,null,null,null,null,null,null,"ブルガリ",null,null,"10月"]
[null,11,null,1,null,null,null,null,null,null,null,null,null,null,null,null,"グッチ",null,null,"11月"]
[null,12,null,2,null,null,null,null,null,null,null,null,null,null,null,null,"IWC",null,null,"12月"]
[null,13,null,3,null,null,null,null,null,null,null,null,null,null,null,null,"アクアノウティック"]
[null,14,null,4,null,null,null,null,null,null,null,null,null,null,null,null,"アニエスベー"]
[null,15,null,5,null,null,null,null,null,null,null,null,null,null,null,null,"アラン・シルベスタイン"]
[null,16,null,6,null,null,null,null,null,null,null,null,null,null,null,null,"アルマーニ"]
[null,17,null,7,null,null,null,null,null,null,null,null,null,null,null,null,"アンテプリマ"]
[null,18,null,8,null,null,null,null,null,null,null,null,null,null,null,null,"イヴ・サンローラン"]
[null,19,null,9,null,null,null,null,null,null,null,null,null,null,null,null,"ヴァシュロン・コンスタンタン"]
[null,20,null,10,null,null,null,null,null,null,null,null,null,null,null,null,"ヴァベーネ"]
[null,21,null,1,null,null,null,null,null,null,null,null,null,null,null,null,"ヴァレンティノ"]
[null,22,null,2,null,null,null,null,null,null,null,null,null,null,null,null,"ヴァン　クリーフ&アーペル"]
[null,23,null,3,null,null,null,null,null,null,null,null,null,null,null,null,"ヴィヴィアン・ウエストウッド"]
[null,24,null,4,null,null,null,null,null,null,null,null,null,null,null,null,"ヴェルサーチ"]
[null,25,null,5,null,null,null,null,null,null,null,null,null,null,null,null,"ウェンガー"]
[null,26,null,6,null,null,null,null,null,null,null,null,null,null,null,null,"ウォルサム"]
[null,27,null,7,null,null,null,null,null,null,null,null,null,null,null,null,"ウブロ"]
[null,28,null,8,null,null,null,null,null,null,null,null,null,null,null,null,"エミリオ・プッチ"]
[null,29,null,9,null,null,null,null,null,null,null,null,null,null,null,null,"エルジン"]
[null,30,null,10,null,null,null,null,null,null,null,null,null,null,null,null,"MCM"]
[null,31,null,1,null,null,null,null,null,null,null,null,null,null,null,null,"オーデマピゲ"]
[null,32,null,2,null,null,null,null,null,null,null,null,null,null,null,null,"オリエント"]
[null,33,null,3,null,null,null,null,null,null,null,null,null,null,null,null,"オリス"]
[null,34,null,4,null,null,null,null,null,null,null,null,null,null,null,null,"オロビアンコ"]
[null,35,null,5,null,null,null,null,null,null,null,null,null,null,null,null,"ガガミラノ"]
[null,36,null,6,null,null,null,null,null,null,null,null,null,null,null,null,"カレラ・イ・カレラ"]
[null,37,null,7,null,null,null,null,null,null,null,null,null,null,null,null,"グラスヒュッテ・オリジナル"]
[null,38,null,8,null,null,null,null,null,null,null,null,null,null,null,null,"グラハム"]
[null,39,null,9,null,null,null,null,null,null,null,null,null,null,null,null,"クリスチャン・ディオール"]
[null,40,null,10,null,null,null,null,null,null,null,null,null,null,null,null,"グリモルディ"]
[null,41,null,1,null,null,null,null,null,null,null,null,null,null,null,null,"クレージュ"]
[null,42,null,2,null,null,null,null,null,null,null,null,null,null,null,null,"クロエ"]
[null,43,null,3,null,null,null,null,null,null,null,null,null,null,null,null,"クロス"]
[null,44,null,4,null,null,null,null,null,null,null,null,null,null,null,null,"ケイト・スペード"]
[null,45,null,5,null,null,null,null,null,null,null,null,null,null,null,null,"コーチ"]
[null,46,null,6,null,null,null,null,null,null,null,null,null,null,null,null,"コール・ハーン"]
[null,47,null,7,null,null,null,null,null,null,null,null,null,null,null,null,"コグ"]
[null,48,null,8,null,null,null,null,null,null,null,null,null,null,null,null,"コルム"]
[null,49,null,9,null,null,null,null,null,null,null,null,null,null,null,null,"コンコルド"]
[null,50,null,10,null,null,null,null,null,null,null,null,null,null,null,null,"サマンサタバサ"]
[null,51,null,1,null,null,null,null,null,null,null,null,null,null,null,null,"シーマ"]
[null,52,null,2,null,null,null,null,null,null,null,null,null,null,null,null,"ジェイコブ"]
[null,53,null,3,null,null,null,null,null,null,null,null,null,null,null,null,"ジェラルド・ジェンタ"]
[null,54,null,4,null,null,null,null,null,null,null,null,null,null,null,null,"シチズン"]
[null,55,null,5,null,null,null,null,null,null,null,null,null,null,null,null,"ジャガー・ルクルト"]
[null,56,null,6,null,null,null,null,null,null,null,null,null,null,null,null,"ショーメ"]
[null,57,null,7,null,null,null,null,null,null,null,null,null,null,null,null,"ショパール"]
[null,58,null,8,null,null,null,null,null,null,null,null,null,null,null,null,"ジラール・ペルゴ"]
[null,59,null,9,null,null,null,null,null,null,null,null,null,null,null,null,"ジン"]
[null,60,null,10,null,null,null,null,null,null,null,null,null,null,null,null,"スタージュエリー"]
[null,61,null,1,null,null,null,null,null,null,null,null,null,null,null,null,"スワロフスキー"]
[null,62,null,2,null,null,null,null,null,null,null,null,null,null,null,null,"ゼニス"]
[null,63,null,3,null,null,null,null,null,null,null,null,null,null,null,null,"セリーヌ"]
[null,64,null,4,null,null,null,null,null,null,null,null,null,null,null,null,"ゼロハリバートン"]
[null,65,null,5,null,null,null,null,null,null,null,null,null,null,null,null,"タサキ"]
[null,66,null,6,null,null,null,null,null,null,null,null,null,null,null,null,"タバー"]
[null,67,null,7,null,null,null,null,null,null,null,null,null,null,null,null,"ダミアーニ"]
[null,68,null,8,null,null,null,null,null,null,null,null,null,null,null,null,"ダンヒル"]
[null,69,null,9,null,null,null,null,null,null,null,null,null,null,null,null,"チュードル"]
[null,70,null,10,null,null,null,null,null,null,null,null,null,null,null,null,"ティソ"]
[null,71,null,1,null,null,null,null,null,null,null,null,null,null,null,null,"ティファニー"]
[null,72,null,2,null,null,null,null,null,null,null,null,null,null,null,null,"テクノス"]
[null,73,null,3,null,null,null,null,null,null,null,null,null,null,null,null,"デュポン"]
[null,74,null,4,null,null,null,null,null,null,null,null,null,null,null,null,"トムフォード"]
[null,75,null,5,null,null,null,null,null,null,null,null,null,null,null,null,"トリーバーチ"]
[null,76,null,6,null,null,null,null,null,null,null,null,null,null,null,null,"ドルチェ&ガッバーナ"]
[null,77,null,7,null,null,null,null,null,null,null,null,null,null,null,null,"ニクソン"]
[null,78,null,8,null,null,null,null,null,null,null,null,null,null,null,null,"バーバリー"]
[null,79,null,9,null,null,null,null,null,null,null,null,null,null,null,null,"パテックフィリップ"]
[null,80,null,10,null,null,null,null,null,null,null,null,null,null,null,null,"パネライ"]
[null,81,null,1,null,null,null,null,null,null,null,null,null,null,null,null,"ハミルトン"]
[null,82,null,2,null,null,null,null,null,null,null,null,null,null,null,null,"ハリー・ウィンストン"]
[null,83,null,3,null,null,null,null,null,null,null,null,null,null,null,null,"バレンシアガ"]
[null,84,null,4,null,null,null,null,null,null,null,null,null,null,null,null,"ハンティングワールド"]
[null,85,null,5,null,null,null,null,null,null,null,null,null,null,null,null,"ピアジェ"]
[null,86,null,6,null,null,null,null,null,null,null,null,null,null,null,null,"ピエール・カルダン"]
[null,87,null,7,null,null,null,null,null,null,null,null,null,null,null,null,"フェラガモ"]
[null,88,null,8,null,null,null,null,null,null,null,null,null,null,null,null,"フェンディ"]
[null,89,null,9,null,null,null,null,null,null,null,null,null,null,null,null,"フォリフォリ"]
[null,90,null,10,null,null,null,null,null,null,null,null,null,null,null,null,"ブシュロン"]
[null,91,null,1,null,null,null,null,null,null,null,null,null,null,null,null,"ブライトリング"]
[null,92,null,2,null,null,null,null,null,null,null,null,null,null,null,null,"フランク・ミュラー"]
[null,93,null,3,null,null,null,null,null,null,null,null,null,null,null,null,"フランチェスコ・ビアジア"]
[null,94,null,4,null,null,null,null,null,null,null,null,null,null,null,null,"ブランパン"]
[null,95,null,5,null,null,null,null,null,null,null,null,null,null,null,null,"プリマクラッセ"]
[null,96,null,6,null,null,null,null,null,null,null,null,null,null,null,null,"フルラ"]
[null,97,null,7,null,null,null,null,null,null,null,null,null,null,null,null,"ブレゲ"]
[null,98,null,8,null,null,null,null,null,null,null,null,null,null,null,null,"フレデリック・コンスタント"]
[null,99,null,9,null,null,null,null,null,null,null,null,null,null,null,null,"ベル&ロス"]
[null,100,null,10,null,null,null,null,null,null,null,null,null,null,null,null,"ボーム&メルシエ"]
[null,101,null,1,null,null,null,null,null,null,null,null,null,null,null,null,"ボール"]
[null,102,null,2,null,null,null,null,null,null,null,null,null,null,null,null,"ポール・スミス"]
[null,103,null,3,null,null,null,null,null,null,null,null,null,null,null,null,"ポメラート"]
[null,104,null,4,null,null,null,null,null,null,null,null,null,null,null,null,"ポリス"]
[null,105,null,5,null,null,null,null,null,null,null,null,null,null,null,null,"マークジェイコブス"]
[null,106,null,6,null,null,null,null,null,null,null,null,null,null,null,null,"ミキモト"]
[null,107,null,7,null,null,null,null,null,null,null,null,null,null,null,null,"ミラ・ショーン"]
[null,108,null,8,null,null,null,null,null,null,null,null,null,null,null,null,"モーブッサン"]
[null,109,null,9,null,null,null,null,null,null,null,null,null,null,null,null,"モーリス・ラクロワ"]
[null,110,null,10,null,null,null,null,null,null,null,null,null,null,null,null,"モンブラン"]
[null,111,null,1,null,null,null,null,null,null,null,null,null,null,null,null,"4℃"]
[null,112,null,2,null,null,null,null,null,null,null,null,null,null,null,null,"ラドー"]
[null,113,null,3,null,null,null,null,null,null,null,null,null,null,null,null,"ランゲ&ゾーネ"]
[null,114,null,4,null,null,null,null,null,null,null,null,null,null,null,null,"ルミノックス"]
[null,115,null,5,null,null,null,null,null,null,null,null,null,null,null,null,"ロエベ"]
[null,116,null,6,null,null,null,null,null,null,null,null,null,null,null,null,"ロジェ・デュブイ"]
[null,117,null,7,null,null,null,null,null,null,null,null,null,null,null,null,"ロベルタディカメリーノ"]
[null,118,null,8,null,null,null,null,null,null,null,null,null,null,null,null,"ロンジン"]
[null,119,null,9,null,null,null,null,null,null,null,null,null,null,null,null,"ノーブランド"]
[null,120,null,10,null,null,null,null,null,null,null,null,null,null,null,null,"その他"]
[null,121,null,1]
[null,122,null,2]
[null,123,null,3]
[null,124,null,4]
[null,125,null,5]
[null,126,null,6]
[null,127,null,7]
[null,128,null,8]
[null,129,null,9]
[null,130,null,10]
[null,131,null,1]
[null,132,null,2]
[null,133,null,3]
[null,134,null,4]
[null,135,null,5]
[null,136,null,6]
[null,137,null,7]
[null,138,null,8]
[null,139,null,9]
[null,140,null,10]
[null,141,null,1]
[null,142,null,2]
[null,143,null,3]
[null,144,null,4]
[null,145,null,5]
[null,146,null,6]
[null,147,null,7]
[null,148,null,8]
[null,149,null,9]
[null,150,null,10]
[null,151,null,1]
[null,152,null,2]
[null,153,null,3]
[null,154,null,4]
[null,155,null,5]
[null,156,null,6]
[null,157,null,7]
[null,158,null,8]
[null,159,null,9]
[null,160,null,10]
[null,161,null,1]
[null,162,null,2]
[null,163,null,3]
[null,164,null,4]
[null,165,null,5]
[null,166,null,6]
[null,167,null,7]
[null,168,null,8]
[null,169,null,9]
[null,170,null,10]
[null,171,null,1]
[null,172,null,2]
[null,173,null,3]
[null,174,null,4]
[null,175,null,5]
[null,176,null,6]
[null,177,null,7]
[null,178,null,8]
[null,179,null,9]
[null,180,null,10]
[null,181,null,1]
[null,182,null,2]
[null,183,null,3]
[null,184,null,4]
[null,185,null,5]
[null,186,null,6]
[null,187,null,7]
[null,188,null,8]
[null,189,null,9]
[null,190,null,10]
[null,191,null,1]
[null,192,null,2]
[null,193,null,3]
[null,194,null,4]
[null,195,null,5]
[null,196,null,6]
[null,197,null,7]
[null,198,null,8]
[null,199,null,9]
[null,200,null,10]
[null,201,null,1]
[null,202,null,2]
[null,203,null,3]
[null,204,null,4]
[null,205,null,5]
[null,206,null,6]
[null,207,null,7]
[null,208,null,8]
[null,209,null,9]
[null,210,null,10]
[null,211,null,1]
[null,212,null,2]
[null,213,null,3]
[null,214,null,4]
[null,215,null,5]
[null,216,null,6]
[null,217,null,7]
[null,218,null,8]
[null,219,null,9]
[null,220,null,10]
[null,221,null,1]
[null,222,null,2]
[null,223,null,3]
[null,224,null,4]
[null,225,null,5]
[null,226,null,6]
[null,227,null,7]
[null,228,null,8]
[null,229,null,9]
[null,230,null,10]
[null,231,null,1]
[null,232,null,2]
[null,233,null,3]
[null,234,null,4]
[null,235,null,5]
[null,236,null,6]
[null,237,null,7]
[null,238,null,8]
[null,239,null,9]
[null,240,null,10]
[null,241,null,1]
[null,242,null,2]
[null,243,null,3]
[null,244,null,4]
[null,245,null,5]
[null,246,null,6]
[null,247,null,7]
[null,248,null,8]
[null,249,null,9]
[null,250,null,10]
[null,251,null,1]
[null,252,null,2]
[null,253,null,3]
[null,254,null,4]
[null,255,null,5]
[null,256,null,6]
[null,257,null,7]
[null,258,null,8]
[null,259,null,9]
[null,260,null,10]
[null,261,null,1]
[null,262,null,2]
[null,263,null,3]
[null,264,null,4]
[null,265,null,5]
[null,266,null,6]
[null,267,null,7]
[null,268,null,8]
[null,269,null,9]
[null,270,null,10]
[null,271,null,1]
[null,272,null,2]
[null,273,null,3]
[null,274,null,4]
[null,275,null,5]
[null,276,null,6]
[null,277,null,7]
[null,278,null,8]
[null,279,null,9]
[null,280,null,10]
[null,281,null,1]
[null,282,null,2]
[null,283,null,3]
[null,284,null,4]
[null,285,null,5]
[null,286,null,6]
[null,287,null,7]
[null,288,null,8]
[null,289,null,9]
[null,290,null,10]
[null,291,null,1]
[null,292,null,2]
[null,293,null,3]
[null,294,null,4]
[null,295,null,5]
[null,296,null,6]
[null,297,null,7]
[null,298,null,8]
[null,299,null,9]
[null,300,null,10]
[null,301,null,1]
[null,302,null,2]
[null,303,null,3]
[null,304,null,4]
[null,305,null,5]
[null,306,null,6]
[null,307,null,7]
[null,308,null,8]
[null,309,null,9]
[null,310,null,10]
[null,311,null,1]
[null,312,null,2]
[null,313,null,3]
[null,314,null,4]
[null,315,null,5]
[null,316,null,6]
[null,317,null,7]
[null,318,null,8]
[null,319,null,9]
[null,320,null,10]
[null,321,null,1]
[null,322,null,2]
[null,323,null,3]
[null,324,null,4]
[null,325,null,5]
[null,326,null,6]
[null,327,null,7]
[null,328,null,8]
[null,329,null,9]
[null,330,null,10]
[null,331,null,1]
[null,332,null,2]
[null,333,null,3]
[null,334,null,4]
[null,335,null,5]
[null,336,null,6]
[null,337,null,7]
[null,338,null,8]
[null,339,null,9]
[null,340,null,10]
[null,341,null,1]
[null,342,null,2]
[null,343,null,3]
[null,344,null,4]
[null,345,null,5]
[null,346,null,6]
[null,347,null,7]
[null,348,null,8]
[null,349,null,9]
[null,350,null,10]
[null,351,null,1]
[null,352,null,2]
[null,353,null,3]
[null,354,null,4]
[null,355,null,5]
[null,356,null,6]
[null,357,null,7]
[null,358,null,8]
[null,359,null,9]
[null,360,null,10]
[null,361,null,1]
[null,362,null,2]
[null,363,null,3]
[null,364,null,4]
[null,365,null,5]
[null,366,null,6]
[null,367,null,7]
[null,368,null,8]
[null,369,null,9]
[null,370,null,10]
[null,371,null,1]
[null,372,null,2]
[null,373,null,3]
[null,374,null,4]
[null,375,null,5]
[null,376,null,6]
[null,377,null,7]
[null,378,null,8]
[null,379,null,9]
[null,380,null,10]
[null,381,null,1]
[null,382,null,2]
[null,383,null,3]
[null,384,null,4]
[null,385,null,5]
[null,386,null,6]
[null,387,null,7]
[null,388,null,8]
[null,389,null,9]
[null,390,null,10]
[null,391,null,1]
[null,392,null,2]
[null,393,null,3]
[null,394,null,4]
[null,395,null,5]
[null,396,null,6]
[null,397,null,7]
[null,398,null,8]
[null,399,null,9]
[null,400,null,10]
[null,401,null,1]
[null,402,null,2]
[null,403,null,3]
[null,404,null,4]
[null,405,null,5]
[null,406,null,6]
[null,407,null,7]
[null,408,null,8]
[null,409,null,9]
[null,410,null,10]
[null,411,null,1]
[null,412,null,2]
[null,413,null,3]
[null,414,null,4]
[null,415,null,5]
[null,416,null,6]
[null,417,null,7]
[null,418,null,8]
[null,419,null,9]
[null,420,null,10]
[null,421,null,1]
[null,422,null,2]
[null,423,null,3]
[null,424,null,4]
[null,425,null,5]
[null,426,null,6]
[null,427,null,7]
[null,428,null,8]
[null,429,null,9]
[null,430,null,10]
[null,431,null,1]
[null,432,null,2]
[null,433,null,3]
[null,434,null,4]
[null,435,null,5]
[null,436,null,6]
[null,437,null,7]
[null,438,null,8]
[null,439,null,9]
[null,440,null,10]
[null,441,null,1]
[null,442,null,2]
[null,443,null,3]
[null,444,null,4]
[null,445,null,5]
[null,446,null,6]
[null,447,null,7]
[null,448,null,8]
[null,449,null,9]
[null,450,null,10]
[null,451,null,1]
[null,452,null,2]
[null,453,null,3]
[null,454,null,4]
[null,455,null,5]
[null,456,null,6]
[null,457,null,7]
[null,458,null,8]
[null,459,null,9]
[null,460,null,10]
[null,461,null,1]
[null,462,null,2]
[null,463,null,3]
[null,464,null,4]
[null,465,null,5]
[null,466,null,6]
[null,467,null,7]
[null,468,null,8]
[null,469,null,9]
[null,470,null,10]
[null,471,null,1]
[null,472,null,2]
[null,473,null,3]
[null,474,null,4]
[null,475,null,5]
[null,476,null,6]
[null,477,null,7]
[null,478,null,8]
[null,479,null,9]
[null,480,null,10]
[null,481,null,1]
[null,482,null,2]
[null,483,null,3]
[null,484,null,4]
[null,485,null,5]
[null,486,null,6]
[null,487,null,7]
[null,488,null,8]
[null,489,null,9]
[null,490,null,10]
[null,491,null,1]
[null,492,null,2]
[null,493,null,3]
[null,494,null,4]
[null,495,null,5]
[null,496,null,6]
[null,497,null,7]
[null,498,null,8]
[null,499,null,9]
[null,500,null,10]

{"sheet":"【時計】入力欄","index":7,"n_rows":505,"n_cols":20,"rows_kept":505,"cut":false,"hidden":false,"merged":[[485,2,494,2],[495,2,504,2],[425,2,434,2],[435,2,444,2],[445,2,454,2],[455,2,464,2],[465,2,474,2],[475,2,484,2],[415,2,424,2],[305,2,314,2],[315,2,324,2],[325,2,334,2],[335,2,344,2],[345,2,354,2],[355,2,364,2],[365,2,374,2],[375,2,384,2],[385,2,394,2],[395,2,404,2],[405,2,414,2],[295,2,304,2],[185,2,194,2],[195,2,204,2],[205,2,214,2],[215,2,224,2],[225,2,234,2],[235,2,244,2],[245,2,254,2],[255,2,264,2],[265,2,274,2],[275,2,284,2],[285,2,294,2],[175,2,184,2],[65,2,74,2],[75,2,84,2],[85,2,94,2],[95,2,104,2],[105,2,114,2],[115,2,124,2],[125,2,134,2],[135,2,144,2],[145,2,154,2],[155,2,164,2],[165,2,174,2],[2,14,3,14],[55,2,64,2],[2,2,2,5],[5,2,14,2],[15,2,24,2],[25,2,34,2],[35,2,44,2],[45,2,54,2]]}
["■大吉オークション出品リスト_入力画面（時計）"]
[]
[null,"会社名",null,null,null,null,null,"出品月",null,null,null,null,null,null,"3万円以上"]
[]
[null,"通し番号","箱番","行番","ブランド名","素材","商品名","型番","シリアル\nナンバー","ムーブ\nメント","重量(g)","付属品","ランク","保留交渉\n可否","指値（税抜）","区分","ブランド名","ランク","可否","出品月"]
[null,1,null,1,null,null,null,null,null,null,null,null,null,null,null,"J","ロレックス","N","可","1月"]
[null,2,null,2,null,null,null,null,null,null,null,null,null,null,null,"D","オメガ","S","否","2月"]
[null,3,null,3,null,null,null,null,null,null,null,null,null,null,null,"B","タグホイヤー","SA",null,"3月"]
[null,4,null,4,null,null,null,null,null,null,null,null,null,null,null,"W","カシオ","A",null,"4月"]
[null,5,null,5,null,null,null,null,null,null,null,null,null,null,null,null,"セイコー","AB",null,"5月"]
[null,6,null,6,null,null,null,null,null,null,null,null,null,null,null,null,"ルイ・ヴィトン","B",null,"6月"]
[null,7,null,7,null,null,null,null,null,null,null,null,null,null,null,null,"エルメス","BC",null,"7月"]
[null,8,null,8,null,null,null,null,null,null,null,null,null,null,null,null,"カルティエ","C",null,"8月"]
[null,9,null,9,null,null,null,null,null,null,null,null,null,null,null,null,"シャネル","ジャンク",null,"9月"]
[null,10,null,10,null,null,null,null,null,null,null,null,null,null,null,null,"ブルガリ",null,null,"10月"]
[null,11,null,1,null,null,null,null,null,null,null,null,null,null,null,null,"グッチ",null,null,"11月"]
[null,12,null,2,null,null,null,null,null,null,null,null,null,null,null,null,"IWC",null,null,"12月"]
[null,13,null,3,null,null,null,null,null,null,null,null,null,null,null,null,"アクアノウティック"]
[null,14,null,4,null,null,null,null,null,null,null,null,null,null,null,null,"アニエスベー"]
[null,15,null,5,null,null,null,null,null,null,null,null,null,null,null,null,"アラン・シルベスタイン"]
[null,16,null,6,null,null,null,null,null,null,null,null,null,null,null,null,"アルマーニ"]
[null,17,null,7,null,null,null,null,null,null,null,null,null,null,null,null,"アンテプリマ"]
[null,18,null,8,null,null,null,null,null,null,null,null,null,null,null,null,"イヴ・サンローラン"]
[null,19,null,9,null,null,null,null,null,null,null,null,null,null,null,null,"ヴァシュロン・コンスタンタン"]
[null,20,null,10,null,null,null,null,null,null,null,null,null,null,null,null,"ヴァベーネ"]
[null,21,null,1,null,null,null,null,null,null,null,null,null,null,null,null,"ヴァレンティノ"]
[null,22,null,2,null,null,null,null,null,null,null,null,null,null,null,null,"ヴァン　クリーフ&アーペル"]
[null,23,null,3,null,null,null,null,null,null,null,null,null,null,null,null,"ヴィヴィアン・ウエストウッド"]
[null,24,null,4,null,null,null,null,null,null,null,null,null,null,null,null,"ヴェルサーチ"]
[null,25,null,5,null,null,null,null,null,null,null,null,null,null,null,null,"ウェンガー"]
[null,26,null,6,null,null,null,null,null,null,null,null,null,null,null,null,"ウォルサム"]
[null,27,null,7,null,null,null,null,null,null,null,null,null,null,null,null,"ウブロ"]
[null,28,null,8,null,null,null,null,null,null,null,null,null,null,null,null,"エミリオ・プッチ"]
[null,29,null,9,null,null,null,null,null,null,null,null,null,null,null,null,"エルジン"]
[null,30,null,10,null,null,null,null,null,null,null,null,null,null,null,null,"MCM"]
[null,31,null,1,null,null,null,null,null,null,null,null,null,null,null,null,"オーデマピゲ"]
[null,32,null,2,null,null,null,null,null,null,null,null,null,null,null,null,"オリエント"]
[null,33,null,3,null,null,null,null,null,null,null,null,null,null,null,null,"オリス"]
[null,34,null,4,null,null,null,null,null,null,null,null,null,null,null,null,"オロビアンコ"]
[null,35,null,5,null,null,null,null,null,null,null,null,null,null,null,null,"ガガミラノ"]
[null,36,null,6,null,null,null,null,null,null,null,null,null,null,null,null,"カレラ・イ・カレラ"]
[null,37,null,7,null,null,null,null,null,null,null,null,null,null,null,null,"グラスヒュッテ・オリジナル"]
[null,38,null,8,null,null,null,null,null,null,null,null,null,null,null,null,"グラハム"]
[null,39,null,9,null,null,null,null,null,null,null,null,null,null,null,null,"クリスチャン・ディオール"]
[null,40,null,10,null,null,null,null,null,null,null,null,null,null,null,null,"グリモルディ"]
[null,41,null,1,null,null,null,null,null,null,null,null,null,null,null,null,"クレージュ"]
[null,42,null,2,null,null,null,null,null,null,null,null,null,null,null,null,"クロエ"]
[null,43,null,3,null,null,null,null,null,null,null,null,null,null,null,null,"クロス"]
[null,44,null,4,null,null,null,null,null,null,null,null,null,null,null,null,"ケイト・スペード"]
[null,45,null,5,null,null,null,null,null,null,null,null,null,null,null,null,"コーチ"]
[null,46,null,6,null,null,null,null,null,null,null,null,null,null,null,null,"コール・ハーン"]
[null,47,null,7,null,null,null,null,null,null,null,null,null,null,null,null,"コグ"]
[null,48,null,8,null,null,null,null,null,null,null,null,null,null,null,null,"コルム"]
[null,49,null,9,null,null,null,null,null,null,null,null,null,null,null,null,"コンコルド"]
[null,50,null,10,null,null,null,null,null,null,null,null,null,null,null,null,"サマンサタバサ"]
[null,51,null,1,null,null,null,null,null,null,null,null,null,null,null,null,"シーマ"]
[null,52,null,2,null,null,null,null,null,null,null,null,null,null,null,null,"ジェイコブ"]
[null,53,null,3,null,null,null,null,null,null,null,null,null,null,null,null,"ジェラルド・ジェンタ"]
[null,54,null,4,null,null,null,null,null,null,null,null,null,null,null,null,"シチズン"]
[null,55,null,5,null,null,null,null,null,null,null,null,null,null,null,null,"ジャガー・ルクルト"]
[null,56,null,6,null,null,null,null,null,null,null,null,null,null,null,null,"ショーメ"]
[null,57,null,7,null,null,null,null,null,null,null,null,null,null,null,null,"ショパール"]
[null,58,null,8,null,null,null,null,null,null,null,null,null,null,null,null,"ジラール・ペルゴ"]
[null,59,null,9,null,null,null,null,null,null,null,null,null,null,null,null,"ジン"]
[null,60,null,10,null,null,null,null,null,null,null,null,null,null,null,null,"スタージュエリー"]
[null,61,null,1,null,null,null,null,null,null,null,null,null,null,null,null,"スワロフスキー"]
[null,62,null,2,null,null,null,null,null,null,null,null,null,null,null,null,"ゼニス"]
[null,63,null,3,null,null,null,null,null,null,null,null,null,null,null,null,"セリーヌ"]
[null,64,null,4,null,null,null,null,null,null,null,null,null,null,null,null,"ゼロハリバートン"]
[null,65,null,5,null,null,null,null,null,null,null,null,null,null,null,null,"タサキ"]
[null,66,null,6,null,null,null,null,null,null,null,null,null,null,null,null,"タバー"]
[null,67,null,7,null,null,null,null,null,null,null,null,null,null,null,null,"ダミアーニ"]
[null,68,null,8,null,null,null,null,null,null,null,null,null,null,null,null,"ダンヒル"]
[null,69,null,9,null,null,null,null,null,null,null,null,null,null,null,null,"チュードル"]
[null,70,null,10,null,null,null,null,null,null,null,null,null,null,null,null,"ティソ"]
[null,71,null,1,null,null,null,null,null,null,null,null,null,null,null,null,"ティファニー"]
[null,72,null,2,null,null,null,null,null,null,null,null,null,null,null,null,"テクノス"]
[null,73,null,3,null,null,null,null,null,null,null,null,null,null,null,null,"デュポン"]
[null,74,null,4,null,null,null,null,null,null,null,null,null,null,null,null,"トムフォード"]
[null,75,null,5,null,null,null,null,null,null,null,null,null,null,null,null,"トリーバーチ"]
[null,76,null,6,null,null,null,null,null,null,null,null,null,null,null,null,"ドルチェ&ガッバーナ"]
[null,77,null,7,null,null,null,null,null,null,null,null,null,null,null,null,"ニクソン"]
[null,78,null,8,null,null,null,null,null,null,null,null,null,null,null,null,"バーバリー"]
[null,79,null,9,null,null,null,null,null,null,null,null,null,null,null,null,"パテックフィリップ"]
[null,80,null,10,null,null,null,null,null,null,null,null,null,null,null,null,"パネライ"]
[null,81,null,1,null,null,null,null,null,null,null,null,null,null,null,null,"ハミルトン"]
[null,82,null,2,null,null,null,null,null,null,null,null,null,null,null,null,"ハリー・ウィンストン"]
[null,83,null,3,null,null,null,null,null,null,null,null,null,null,null,null,"バレンシアガ"]
[null,84,null,4,null,null,null,null,null,null,null,null,null,null,null,null,"ハンティングワールド"]
[null,85,null,5,null,null,null,null,null,null,null,null,null,null,null,null,"ピアジェ"]
[null,86,null,6,null,null,null,null,null,null,null,null,null,null,null,null,"ピエール・カルダン"]
[null,87,null,7,null,null,null,null,null,null,null,null,null,null,null,null,"フェラガモ"]
[null,88,null,8,null,null,null,null,null,null,null,null,null,null,null,null,"フェンディ"]
[null,89,null,9,null,null,null,null,null,null,null,null,null,null,null,null,"フォリフォリ"]
[null,90,null,10,null,null,null,null,null,null,null,null,null,null,null,null,"ブシュロン"]
[null,91,null,1,null,null,null,null,null,null,null,null,null,null,null,null,"ブライトリング"]
[null,92,null,2,null,null,null,null,null,null,null,null,null,null,null,null,"フランク・ミュラー"]
[null,93,null,3,null,null,null,null,null,null,null,null,null,null,null,null,"フランチェスコ・ビアジア"]
[null,94,null,4,null,null,null,null,null,null,null,null,null,null,null,null,"ブランパン"]
[null,95,null,5,null,null,null,null,null,null,null,null,null,null,null,null,"プリマクラッセ"]
[null,96,null,6,null,null,null,null,null,null,null,null,null,null,null,null,"フルラ"]
[null,97,null,7,null,null,null,null,null,null,null,null,null,null,null,null,"ブレゲ"]
[null,98,null,8,null,null,null,null,null,null,null,null,null,null,null,null,"フレデリック・コンスタント"]
[null,99,null,9,null,null,null,null,null,null,null,null,null,null,null,null,"ベル&ロス"]
[null,100,null,10,null,null,null,null,null,null,null,null,null,null,null,null,"ボーム&メルシエ"]
[null,101,null,1,null,null,null,null,null,null,null,null,null,null,null,null,"ボール"]
[null,102,null,2,null,null,null,null,null,null,null,null,null,null,null,null,"ポール・スミス"]
[null,103,null,3,null,null,null,null,null,null,null,null,null,null,null,null,"ポメラート"]
[null,104,null,4,null,null,null,null,null,null,null,null,null,null,null,null,"ポリス"]
[null,105,null,5,null,null,null,null,null,null,null,null,null,null,null,null,"マークジェイコブス"]
[null,106,null,6,null,null,null,null,null,null,null,null,null,null,null,null,"ミキモト"]
[null,107,null,7,null,null,null,null,null,null,null,null,null,null,null,null,"ミラ・ショーン"]
[null,108,null,8,null,null,null,null,null,null,null,null,null,null,null,null,"モーブッサン"]
[null,109,null,9,null,null,null,null,null,null,null,null,null,null,null,null,"モーリス・ラクロワ"]
[null,110,null,10,null,null,null,null,null,null,null,null,null,null,null,null,"モンブラン"]
[null,111,null,1,null,null,null,null,null,null,null,null,null,null,null,null,"4℃"]
[null,112,null,2,null,null,null,null,null,null,null,null,null,null,null,null,"ラドー"]
[null,113,null,3,null,null,null,null,null,null,null,null,null,null,null,null,"ランゲ&ゾーネ"]
[null,114,null,4,null,null,null,null,null,null,null,null,null,null,null,null,"ルミノックス"]
[null,115,null,5,null,null,null,null,null,null,null,null,null,null,null,null,"ロエベ"]
[null,116,null,6,null,null,null,null,null,null,null,null,null,null,null,null,"ロジェ・デュブイ"]
[null,117,null,7,null,null,null,null,null,null,null,null,null,null,null,null,"ロベルタディカメリーノ"]
[null,118,null,8,null,null,null,null,null,null,null,null,null,null,null,null,"ロンジン"]
[null,119,null,9,null,null,null,null,null,null,null,null,null,null,null,null,"ノーブランド"]
[null,120,null,10,null,null,null,null,null,null,null,null,null,null,null,null,"その他"]
[null,121,null,1]
[null,122,null,2]
[null,123,null,3]
[null,124,null,4]
[null,125,null,5]
[null,126,null,6]
[null,127,null,7]
[null,128,null,8]
[null,129,null,9]
[null,130,null,10]
[null,131,null,1]
[null,132,null,2]
[null,133,null,3]
[null,134,null,4]
[null,135,null,5]
[null,136,null,6]
[null,137,null,7]
[null,138,null,8]
[null,139,null,9]
[null,140,null,10]
[null,141,null,1]
[null,142,null,2]
[null,143,null,3]
[null,144,null,4]
[null,145,null,5]
[null,146,null,6]
[null,147,null,7]
[null,148,null,8]
[null,149,null,9]
[null,150,null,10]
[null,151,null,1]
[null,152,null,2]
[null,153,null,3]
[null,154,null,4]
[null,155,null,5]
[null,156,null,6]
[null,157,null,7]
[null,158,null,8]
[null,159,null,9]
[null,160,null,10]
[null,161,null,1]
[null,162,null,2]
[null,163,null,3]
[null,164,null,4]
[null,165,null,5]
[null,166,null,6]
[null,167,null,7]
[null,168,null,8]
[null,169,null,9]
[null,170,null,10]
[null,171,null,1]
[null,172,null,2]
[null,173,null,3]
[null,174,null,4]
[null,175,null,5]
[null,176,null,6]
[null,177,null,7]
[null,178,null,8]
[null,179,null,9]
[null,180,null,10]
[null,181,null,1]
[null,182,null,2]
[null,183,null,3]
[null,184,null,4]
[null,185,null,5]
[null,186,null,6]
[null,187,null,7]
[null,188,null,8]
[null,189,null,9]
[null,190,null,10]
[null,191,null,1]
[null,192,null,2]
[null,193,null,3]
[null,194,null,4]
[null,195,null,5]
[null,196,null,6]
[null,197,null,7]
[null,198,null,8]
[null,199,null,9]
[null,200,null,10]
[null,201,null,1]
[null,202,null,2]
[null,203,null,3]
[null,204,null,4]
[null,205,null,5]
[null,206,null,6]
[null,207,null,7]
[null,208,null,8]
[null,209,null,9]
[null,210,null,10]
[null,211,null,1]
[null,212,null,2]
[null,213,null,3]
[null,214,null,4]
[null,215,null,5]
[null,216,null,6]
[null,217,null,7]
[null,218,null,8]
[null,219,null,9]
[null,220,null,10]
[null,221,null,1]
[null,222,null,2]
[null,223,null,3]
[null,224,null,4]
[null,225,null,5]
[null,226,null,6]
[null,227,null,7]
[null,228,null,8]
[null,229,null,9]
[null,230,null,10]
[null,231,null,1]
[null,232,null,2]
[null,233,null,3]
[null,234,null,4]
[null,235,null,5]
[null,236,null,6]
[null,237,null,7]
[null,238,null,8]
[null,239,null,9]
[null,240,null,10]
[null,241,null,1]
[null,242,null,2]
[null,243,null,3]
[null,244,null,4]
[null,245,null,5]
[null,246,null,6]
[null,247,null,7]
[null,248,null,8]
[null,249,null,9]
[null,250,null,10]
[null,251,null,1]
[null,252,null,2]
[null,253,null,3]
[null,254,null,4]
[null,255,null,5]
[null,256,null,6]
[null,257,null,7]
[null,258,null,8]
[null,259,null,9]
[null,260,null,10]
[null,261,null,1]
[null,262,null,2]
[null,263,null,3]
[null,264,null,4]
[null,265,null,5]
[null,266,null,6]
[null,267,null,7]
[null,268,null,8]
[null,269,null,9]
[null,270,null,10]
[null,271,null,1]
[null,272,null,2]
[null,273,null,3]
[null,274,null,4]
[null,275,null,5]
[null,276,null,6]
[null,277,null,7]
[null,278,null,8]
[null,279,null,9]
[null,280,null,10]
[null,281,null,1]
[null,282,null,2]
[null,283,null,3]
[null,284,null,4]
[null,285,null,5]
[null,286,null,6]
[null,287,null,7]
[null,288,null,8]
[null,289,null,9]
[null,290,null,10]
[null,291,null,1]
[null,292,null,2]
[null,293,null,3]
[null,294,null,4]
[null,295,null,5]
[null,296,null,6]
[null,297,null,7]
[null,298,null,8]
[null,299,null,9]
[null,300,null,10]
[null,301,null,1]
[null,302,null,2]
[null,303,null,3]
[null,304,null,4]
[null,305,null,5]
[null,306,null,6]
[null,307,null,7]
[null,308,null,8]
[null,309,null,9]
[null,310,null,10]
[null,311,null,1]
[null,312,null,2]
[null,313,null,3]
[null,314,null,4]
[null,315,null,5]
[null,316,null,6]
[null,317,null,7]
[null,318,null,8]
[null,319,null,9]
[null,320,null,10]
[null,321,null,1]
[null,322,null,2]
[null,323,null,3]
[null,324,null,4]
[null,325,null,5]
[null,326,null,6]
[null,327,null,7]
[null,328,null,8]
[null,329,null,9]
[null,330,null,10]
[null,331,null,1]
[null,332,null,2]
[null,333,null,3]
[null,334,null,4]
[null,335,null,5]
[null,336,null,6]
[null,337,null,7]
[null,338,null,8]
[null,339,null,9]
[null,340,null,10]
[null,341,null,1]
[null,342,null,2]
[null,343,null,3]
[null,344,null,4]
[null,345,null,5]
[null,346,null,6]
[null,347,null,7]
[null,348,null,8]
[null,349,null,9]
[null,350,null,10]
[null,351,null,1]
[null,352,null,2]
[null,353,null,3]
[null,354,null,4]
[null,355,null,5]
[null,356,null,6]
[null,357,null,7]
[null,358,null,8]
[null,359,null,9]
[null,360,null,10]
[null,361,null,1]
[null,362,null,2]
[null,363,null,3]
[null,364,null,4]
[null,365,null,5]
[null,366,null,6]
[null,367,null,7]
[null,368,null,8]
[null,369,null,9]
[null,370,null,10]
[null,371,null,1]
[null,372,null,2]
[null,373,null,3]
[null,374,null,4]
[null,375,null,5]
[null,376,null,6]
[null,377,null,7]
[null,378,null,8]
[null,379,null,9]
[null,380,null,10]
[null,381,null,1]
[null,382,null,2]
[null,383,null,3]
[null,384,null,4]
[null,385,null,5]
[null,386,null,6]
[null,387,null,7]
[null,388,null,8]
[null,389,null,9]
[null,390,null,10]
[null,391,null,1]
[null,392,null,2]
[null,393,null,3]
[null,394,null,4]
[null,395,null,5]
[null,396,null,6]
[null,397,null,7]
[null,398,null,8]
[null,399,null,9]
[null,400,null,10]
[null,401,null,1]
[null,402,null,2]
[null,403,null,3]
[null,404,null,4]
[null,405,null,5]
[null,406,null,6]
[null,407,null,7]
[null,408,null,8]
[null,409,null,9]
[null,410,null,10]
[null,411,null,1]
[null,412,null,2]
[null,413,null,3]
[null,414,null,4]
[null,415,null,5]
[null,416,null,6]
[null,417,null,7]
[null,418,null,8]
[null,419,null,9]
[null,420,null,10]
[null,421,null,1]
[null,422,null,2]
[null,423,null,3]
[null,424,null,4]
[null,425,null,5]
[null,426,null,6]
[null,427,null,7]
[null,428,null,8]
[null,429,null,9]
[null,430,null,10]
[null,431,null,1]
[null,432,null,2]
[null,433,null,3]
[null,434,null,4]
[null,435,null,5]
[null,436,null,6]
[null,437,null,7]
[null,438,null,8]
[null,439,null,9]
[null,440,null,10]
[null,441,null,1]
[null,442,null,2]
[null,443,null,3]
[null,444,null,4]
[null,445,null,5]
[null,446,null,6]
[null,447,null,7]
[null,448,null,8]
[null,449,null,9]
[null,450,null,10]
[null,451,null,1]
[null,452,null,2]
[null,453,null,3]
[null,454,null,4]
[null,455,null,5]
[null,456,null,6]
[null,457,null,7]
[null,458,null,8]
[null,459,null,9]
[null,460,null,10]
[null,461,null,1]
[null,462,null,2]
[null,463,null,3]
[null,464,null,4]
[null,465,null,5]
[null,466,null,6]
[null,467,null,7]
[null,468,null,8]
[null,469,null,9]
[null,470,null,10]
[null,471,null,1]
[null,472,null,2]
[null,473,null,3]
[null,474,null,4]
[null,475,null,5]
[null,476,null,6]
[null,477,null,7]
[null,478,null,8]
[null,479,null,9]
[null,480,null,10]
[null,481,null,1]
[null,482,null,2]
[null,483,null,3]
[null,484,null,4]
[null,485,null,5]
[null,486,null,6]
[null,487,null,7]
[null,488,null,8]
[null,489,null,9]
[null,490,null,10]
[null,491,null,1]
[null,492,null,2]
[null,493,null,3]
[null,494,null,4]
[null,495,null,5]
[null,496,null,6]
[null,497,null,7]
[null,498,null,8]
[null,499,null,9]
[null,500,null,10]

{"sheet":"【時計】印刷用","index":8,"n_rows":800,"n_cols":8,"rows_kept":800,"cut":false,"hidden":false,"merged":[[1,1,1,3],[3,6,3,8],[33,1,33,3],[35,6,35,8],[65,1,65,3],[17,1,17,3],[19,6,19,8],[49,1,49,3],[51,6,51,8],[321,1,321,3],[225,1,225,3],[211,6,211,8],[67,6,67,8],[97,1,97,3],[99,6,99,8],[129,1,129,3],[131,6,131,8],[81,1,81,3],[83,6,83,8],[113,1,113,3],[115,6,115,8],[145,1,145,3],[147,6,147,8],[177,1,177,3],[179,6,179,8],[483,6,483,8],[385,1,385,3],[371,6,371,8],[227,6,227,8],[257,1,257,3],[259,6,259,8],[289,1,289,3],[291,6,291,8],[241,1,241,3],[243,6,243,8],[273,1,273,3],[275,6,275,8],[307,6,307,8],[337,1,337,3],[339,6,339,8],[369,1,369,3],[595,6,595,8],[545,1,545,3],[531,6,531,8],[387,6,387,8],[417,1,417,3],[419,6,419,8],[449,1,449,3],[451,6,451,8],[401,1,401,3],[403,6,403,8],[433,1,433,3],[435,6,435,8],[497,1,497,3],[499,6,499,8],[529,1,529,3],[481,1,481,3],[161,1,161,3],[163,6,163,8],[193,1,193,3],[195,6,195,8],[305,1,305,3],[209,1,209,3],[323,6,323,8],[353,1,353,3],[355,6,355,8],[465,1,465,3],[467,6,467,8],[787,6,787,8],[625,1,625,3],[627,6,627,8],[657,1,657,3],[659,6,659,8],[689,1,689,3],[707,6,707,8],[737,1,737,3],[739,6,739,8],[769,1,769,3],[771,6,771,8],[721,1,721,3],[723,6,723,8],[641,1,641,3],[643,6,643,8],[673,1,673,3],[753,1,753,3],[755,6,755,8],[513,1,513,3],[515,6,515,8],[785,1,785,3],[675,6,675,8],[705,1,705,3],[691,6,691,8],[547,6,547,8],[577,1,577,3],[579,6,579,8],[609,1,609,3],[611,6,611,8],[561,1,561,3],[563,6,563,8],[593,1,593,3]]}
[]
[" ",{"$f":"CONCATENATE(\"出品表　（　\",【時計】入力欄!I$3,\"大吉オークション　時計）\")","v":"出品表　（　大吉オークション　時計）"}]
[]
[null,"箱番：",{"$f":"IF(【時計】入力欄!C6=\"\",\"\",【時計】入力欄!C6)","v":""},"※太枠の中をご記入ください",null,"会社名",{"$f":"IF(【時計】入力欄!C$3=\"\",\"\",【時計】入力欄!C$3)","v":""}]
[]
["番号","ブランド","素材","詳細・特徴","重量","付属品","指値\n（3万円以上）","発句"]
["１",{"$f":"IF(【時計】入力欄!E6=\"\",\"\",【時計】入力欄!E6)","v":""},{"$f":"IF(【時計】入力欄!F6=\"\",\"\",【時計】入力欄!F6)","v":""},{"$f":"CONCATENATE(IF(【時計】入力欄!G6=\"\",\"\",【時計】入力欄!G6&\" \"),IF(【時計】入力欄!H6=\"\",\"\",【時計】入力欄!H6&\" \"),IF(【時計】入力欄!I6=\"\",\"\",【時計】入力欄!I6&\" \"),IF(【時計】入力欄!J6=\"\",\"\",【時計】入力欄!J6&\" \"))","v":""},{"$f":"IF(【時計】入力欄!K6=\"\",\"\",【時計】入力欄!K6&\"g\")","v":""},{"$f":"IF(【時計】入力欄!L6=\"\",\"\",【時計】入力欄!L6)","v":""},{"$f":"IF(【時計】入力欄!O6=\"\",\"\",【時計】入力欄!O6)","v":""}]
["２",{"$f":"IF(【時計】入力欄!E7=\"\",\"\",【時計】入力欄!E7)","v":""},{"$f":"IF(【時計】入力欄!F7=\"\",\"\",【時計】入力欄!F7)","v":""},{"$f":"CONCATENATE(IF(【時計】入力欄!G7=\"\",\"\",【時計】入力欄!G7&\" \"),IF(【時計】入力欄!H7=\"\",\"\",【時計】入力欄!H7&\" \"),IF(【時計】入力欄!I7=\"\",\"\",【時計】入力欄!I7&\" \"),IF(【時計】入力欄!J7=\"\",\"\",【時計】入力欄!J7&\" \"))","v":""},{"$f":"IF(【時計】入力欄!K7=\"\",\"\",【時計】入力欄!K7&\"g\")","v":""},{"$f":"IF(【時計】入力欄!L7=\"\",\"\",【時計】入力欄!L7)","v":""},{"$f":"IF(【時計】入力欄!O7=\"\",\"\",【時計】入力欄!O7)","v":""}]
["３",{"$f":"IF(【時計】入力欄!E8=\"\",\"\",【時計】入力欄!E8)","v":""},{"$f":"IF(【時計】入力欄!F8=\"\",\"\",【時計】入力欄!F8)","v":""},{"$f":"CONCATENATE(IF(【時計】入力欄!G8=\"\",\"\",【時計】入力欄!G8&\" \"),IF(【時計】入力欄!H8=\"\",\"\",【時計】入力欄!H8&\" \"),IF(【時計】入力欄!I8=\"\",\"\",【時計】入力欄!I8&\" \"),IF(【時計】入力欄!J8=\"\",\"\",【時計】入力欄!J8&\" \"))","v":""},{"$f":"IF(【時計】入力欄!K8=\"\",\"\",【時計】入力欄!K8&\"g\")","v":""},{"$f":"IF(【時計】入力欄!L8=\"\",\"\",【時計】入力欄!L8)","v":""},{"$f":"IF(【時計】入力欄!O8=\"\",\"\",【時計】入力欄!O8)","v":""}]
["４",{"$f":"IF(【時計】入力欄!E9=\"\",\"\",【時計】入力欄!E9)","v":""},{"$f":"IF(【時計】入力欄!F9=\"\",\"\",【時計】入力欄!F9)","v":""},{"$f":"CONCATENATE(IF(【時計】入力欄!G9=\"\",\"\",【時計】入力欄!G9&\" \"),IF(【時計】入力欄!H9=\"\",\"\",【時計】入力欄!H9&\" \"),IF(【時計】入力欄!I9=\"\",\"\",【時計】入力欄!I9&\" \"),IF(【時計】入力欄!J9=\"\",\"\",【時計】入力欄!J9&\" \"))","v":""},{"$f":"IF(【時計】入力欄!K9=\"\",\"\",【時計】入力欄!K9&\"g\")","v":""},{"$f":"IF(【時計】入力欄!L9=\"\",\"\",【時計】入力欄!L9)","v":""},{"$f":"IF(【時計】入力欄!O9=\"\",\"\",【時計】入力欄!O9)","v":""}]
["５",{"$f":"IF(【時計】入力欄!E10=\"\",\"\",【時計】入力欄!E10)","v":""},{"$f":"IF(【時計】入力欄!F10=\"\",\"\",【時計】入力欄!F10)","v":""},{"$f":"CONCATENATE(IF(【時計】入力欄!G10=\"\",\"\",【時計】入力欄!G10&\" \"),IF(【時計】入力欄!H10=\"\",\"\",【時計】入力欄!H10&\" \"),IF(【時計】入力欄!I10=\"\",\"\",【時計】入力欄!I10&\" \"),IF(【時計】入力欄!J10=\"\",\"\",【時計】入力欄!J10&\" \"))","v":""},{"$f":"IF(【時計】入力欄!K10=\"\",\"\",【時計】入力欄!K10&\"g\")","v":""},{"$f":"IF(【時計】入力欄!L10=\"\",\"\",【時計】入力欄!L10)","v":""},{"$f":"IF(【時計】入力欄!O10=\"\",\"\",【時計】入力欄!O10)","v":""}]
["６",{"$f":"IF(【時計】入力欄!E11=\"\",\"\",【時計】入力欄!E11)","v":""},{"$f":"IF(【時計】入力欄!F11=\"\",\"\",【時計】入力欄!F11)","v":""},{"$f":"CONCATENATE(IF(【時計】入力欄!G11=\"\",\"\",【時計】入力欄!G11&\" \"),IF(【時計】入力欄!H11=\"\",\"\",【時計】入力欄!H11&\" \"),IF(【時計】入力欄!I11=\"\",\"\",【時計】入力欄!I11&\" \"),IF(【時計】入力欄!J11=\"\",\"\",【時計】入力欄!J11&\" \"))","v":""},{"$f":"IF(【時計】入力欄!K11=\"\",\"\",【時計】入力欄!K11&\"g\")","v":""},{"$f":"IF(【時計】入力欄!L11=\"\",\"\",【時計】入力欄!L11)","v":""},{"$f":"IF(【時計】入力欄!O11=\"\",\"\",【時計】入力欄!O11)","v":""}]
["７",{"$f":"IF(【時計】入力欄!E12=\"\",\"\",【時計】入力欄!E12)","v":""},{"$f":"IF(【時計】入力欄!F12=\"\",\"\",【時計】入力欄!F12)","v":""},{"$f":"CONCATENATE(IF(【時計】入力欄!G12=\"\",\"\",【時計】入力欄!G12&\" \"),IF(【時計】入力欄!H12=\"\",\"\",【時計】入力欄!H12&\" \"),IF(【時計】入力欄!I12=\"\",\"\",【時計】入力欄!I12&\" \"),IF(【時計】入力欄!J12=\"\",\"\",【時計】入力欄!J12&\" \"))","v":""},{"$f":"IF(【時計】入力欄!K12=\"\",\"\",【時計】入力欄!K12&\"g\")","v":""},{"$f":"IF(【時計】入力欄!L12=\"\",\"\",【時計】入力欄!L12)","v":""},{"$f":"IF(【時計】入力欄!O12=\"\",\"\",【時計】入力欄!O12)","v":""}]
["８",{"$f":"IF(【時計】入力欄!E13=\"\",\"\",【時計】入力欄!E13)","v":""},{"$f":"IF(【時計】入力欄!F13=\"\",\"\",【時計】入力欄!F13)","v":""},{"$f":"CONCATENATE(IF(【時計】入力欄!G13=\"\",\"\",【時計】入力欄!G13&\" \"),IF(【時計】入力欄!H13=\"\",\"\",【時計】入力欄!H13&\" \"),IF(【時計】入力欄!I13=\"\",\"\",【時計】入力欄!I13&\" \"),IF(【時計】入力欄!J13=\"\",\"\",【時計】入力欄!J13&\" \"))","v":""},{"$f":"IF(【時計】入力欄!K13=\"\",\"\",【時計】入力欄!K13&\"g\")","v":""},{"$f":"IF(【時計】入力欄!L13=\"\",\"\",【時計】入力欄!L13)","v":""},{"$f":"IF(【時計】入力欄!O13=\"\",\"\",【時計】入力欄!O13)","v":""}]
["９",{"$f":"IF(【時計】入力欄!E14=\"\",\"\",【時計】入力欄!E14)","v":""},{"$f":"IF(【時計】入力欄!F14=\"\",\"\",【時計】入力欄!F14)","v":""},{"$f":"CONCATENATE(IF(【時計】入力欄!G14=\"\",\"\",【時計】入力欄!G14&\" \"),IF(【時計】入力欄!H14=\"\",\"\",【時計】入力欄!H14&\" \"),IF(【時計】入力欄!I14=\"\",\"\",【時計】入力欄!I14&\" \"),IF(【時計】入力欄!J14=\"\",\"\",【時計】入力欄!J14&\" \"))","v":""},{"$f":"IF(【時計】入力欄!K14=\"\",\"\",【時計】入力欄!K14&\"g\")","v":""},{"$f":"IF(【時計】入力欄!L14=\"\",\"\",【時計】入力欄!L14)","v":""},{"$f":"IF(【時計】入力欄!O14=\"\",\"\",【時計】入力欄!O14)","v":""}]
["１０",{"$f":"IF(【時計】入力欄!E15=\"\",\"\",【時計】入力欄!E15)","v":""},{"$f":"IF(【時計】入力欄!F15=\"\",\"\",【時計】入力欄!F15)","v":""},{"$f":"CONCATENATE(IF(【時計】入力欄!G15=\"\",\"\",【時計】入力欄!G15&\" \"),IF(【時計】入力欄!H15=\"\",\"\",【時計】入力欄!H15&\" \"),IF(【時計】入力欄!I15=\"\",\"\",【時計】入力欄!I15&\" \"),IF(【時計】入力欄!J15=\"\",\"\",【時計】入力欄!J15&\" \"))","v":""},{"$f":"IF(【時計】入力欄!K15=\"\",\"\",【時計】入力欄!K15&\"g\")","v":""},{"$f":"IF(【時計】入力欄!L15=\"\",\"\",【時計】入力欄!L15)","v":""},{"$f":"IF(【時計】入力欄!O15=\"\",\"\",【時計】入力欄!O15)","v":""}]
[]
[" ",{"$f":"CONCATENATE(\"出品表　（　\",【時計】入力欄!I$3,\"大吉オークション　時計）\")","v":"出品表　（　大吉オークション　時計）"}]
[]
[null,"箱番：",{"$f":"IF(【時計】入力欄!C16=\"\",\"\",【時計】入力欄!C16)","v":""},"※太枠の中をご記入ください",null,"会社名",{"$f":"IF(【時計】入力欄!C$3=\"\",\"\",【時計】入力欄!C$3)","v":""}]
[]
["番号","ブランド","素材","詳細・特徴","重量","付属品","指値\n（3万円以上）","発句"]
["１",{"$f":"IF(【時計】入力欄!E16=\"\",\"\",【時計】入力欄!E16)","v":""},{"$f":"IF(【時計】入力欄!F16=\"\",\"\",【時計】入力欄!F16)","v":""},{"$f":"CONCATENATE(IF(【時計】入力欄!G16=\"\",\"\",【時計】入力欄!G16&\" \"),IF(【時計】入力欄!H16=\"\",\"\",【時計】入力欄!H16&\" \"),IF(【時計】入力欄!I16=\"\",\"\",【時計】入力欄!I16&\" \"),IF(【時計】入力欄!J16=\"\",\"\",【時計】入力欄!J16&\" \"))","v":""},{"$f":"IF(【時計】入力欄!K16=\"\",\"\",【時計】入力欄!K16&\"g\")","v":""},{"$f":"IF(【時計】入力欄!L16=\"\",\"\",【時計】入力欄!L16)","v":""},{"$f":"IF(【時計】入力欄!O16=\"\",\"\",【時計】入力欄!O16)","v":""}]
["２",{"$f":"IF(【時計】入力欄!E17=\"\",\"\",【時計】入力欄!E17)","v":""},{"$f":"IF(【時計】入力欄!F17=\"\",\"\",【時計】入力欄!F17)","v":""},{"$f":"CONCATENATE(IF(【時計】入力欄!G17=\"\",\"\",【時計】入力欄!G17&\" \"),IF(【時計】入力欄!H17=\"\",\"\",【時計】入力欄!H17&\" \"),IF(【時計】入力欄!I17=\"\",\"\",【時計】入力欄!I17&\" \"),IF(【時計】入力欄!J17=\"\",\"\",【時計】入力欄!J17&\" \"))","v":""},{"$f":"IF(【時計】入力欄!K17=\"\",\"\",【時計】入力欄!K17&\"g\")","v":""},{"$f":"IF(【時計】入力欄!L17=\"\",\"\",【時計】入力欄!L17)","v":""},{"$f":"IF(【時計】入力欄!O17=\"\",\"\",【時計】入力欄!O17)","v":""}]
["３",{"$f":"IF(【時計】入力欄!E18=\"\",\"\",【時計】入力欄!E18)","v":""},{"$f":"IF(【時計】入力欄!F18=\"\",\"\",【時計】入力欄!F18)","v":""},{"$f":"CONCATENATE(IF(【時計】入力欄!G18=\"\",\"\",【時計】入力欄!G18&\" \"),IF(【時計】入力欄!H18=\"\",\"\",【時計】入力欄!H18&\" \"),IF(【時計】入力欄!I18=\"\",\"\",【時計】入力欄!I18&\" \"),IF(【時計】入力欄!J18=\"\",\"\",【時計】入力欄!J18&\" \"))","v":""},{"$f":"IF(【時計】入力欄!K18=\"\",\"\",【時計】入力欄!K18&\"g\")","v":""},{"$f":"IF(【時計】入力欄!L18=\"\",\"\",【時計】入力欄!L18)","v":""},{"$f":"IF(【時計】入力欄!O18=\"\",\"\",【時計】入力欄!O18)","v":""}]
["４",{"$f":"IF(【時計】入力欄!E19=\"\",\"\",【時計】入力欄!E19)","v":""},{"$f":"IF(【時計】入力欄!F19=\"\",\"\",【時計】入力欄!F19)","v":""},{"$f":"CONCATENATE(IF(【時計】入力欄!G19=\"\",\"\",【時計】入力欄!G19&\" \"),IF(【時計】入力欄!H19=\"\",\"\",【時計】入力欄!H19&\" \"),IF(【時計】入力欄!I19=\"\",\"\",【時計】入力欄!I19&\" \"),IF(【時計】入力欄!J19=\"\",\"\",【時計】入力欄!J19&\" \"))","v":""},{"$f":"IF(【時計】入力欄!K19=\"\",\"\",【時計】入力欄!K19&\"g\")","v":""},{"$f":"IF(【時計】入力欄!L19=\"\",\"\",【時計】入力欄!L19)","v":""},{"$f":"IF(【時計】入力欄!O19=\"\",\"\",【時計】入力欄!O19)","v":""}]
["５",{"$f":"IF(【時計】入力欄!E20=\"\",\"\",【時計】入力欄!E20)","v":""},{"$f":"IF(【時計】入力欄!F20=\"\",\"\",【時計】入力欄!F20)","v":""},{"$f":"CONCATENATE(IF(【時計】入力欄!G20=\"\",\"\",【時計】入力欄!G20&\" \"),IF(【時計】入力欄!H20=\"\",\"\",【時計】入力欄!H20&\" \"),IF(【時計】入力欄!I20=\"\",\"\",【時計】入力欄!I20&\" \"),IF(【時計】入力欄!J20=\"\",\"\",【時計】入力欄!J20&\" \"))","v":""},{"$f":"IF(【時計】入力欄!K20=\"\",\"\",【時計】入力欄!K20&\"g\")","v":""},{"$f":"IF(【時計】入力欄!L20=\"\",\"\",【時計】入力欄!L20)","v":""},{"$f":"IF(【時計】入力欄!O20=\"\",\"\",【時計】入力欄!O20)","v":""}]
["６",{"$f":"IF(【時計】入力欄!E21=\"\",\"\",【時計】入力欄!E21)","v":""},{"$f":"IF(【時計】入力欄!F21=\"\",\"\",【時計】入力欄!F21)","v":""},{"$f":"CONCATENATE(IF(【時計】入力欄!G21=\"\",\"\",【時計】入力欄!G21&\" \"),IF(【時計】入力欄!H21=\"\",\"\",【時計】入力欄!H21&\" \"),IF(【時計】入力欄!I21=\"\",\"\",【時計】入力欄!I21&\" \"),IF(【時計】入力欄!J21=\"\",\"\",【時計】入力欄!J21&\" \"))","v":""},{"$f":"IF(【時計】入力欄!K21=\"\",\"\",【時計】入力欄!K21&\"g\")","v":""},{"$f":"IF(【時計】入力欄!L21=\"\",\"\",【時計】入力欄!L21)","v":""},{"$f":"IF(【時計】入力欄!O21=\"\",\"\",【時計】入力欄!O21)","v":""}]
["７",{"$f":"IF(【時計】入力欄!E22=\"\",\"\",【時計】入力欄!E22)","v":""},{"$f":"IF(【時計】入力欄!F22=\"\",\"\",【時計】入力欄!F22)","v":""},{"$f":"CONCATENATE(IF(【時計】入力欄!G22=\"\",\"\",【時計】入力欄!G22&\" \"),IF(【時計】入力欄!H22=\"\",\"\",【時計】入力欄!H22&\" \"),IF(【時計】入力欄!I22=\"\",\"\",【時計】入力欄!I22&\" \"),IF(【時計】入力欄!J22=\"\",\"\",【時計】入力欄!J22&\" \"))","v":""},{"$f":"IF(【時計】入力欄!K22=\"\",\"\",【時計】入力欄!K22&\"g\")","v":""},{"$f":"IF(【時計】入力欄!L22=\"\",\"\",【時計】入力欄!L22)","v":""},{"$f":"IF(【時計】入力欄!O22=\"\",\"\",【時計】入力欄!O22)","v":""}]
["８",{"$f":"IF(【時計】入力欄!E23=\"\",\"\",【時計】入力欄!E23)","v":""},{"$f":"IF(【時計】入力欄!F23=\"\",\"\",【時計】入力欄!F23)","v":""},{"$f":"CONCATENATE(IF(【時計】入力欄!G23=\"\",\"\",【時計】入力欄!G23&\" \"),IF(【時計】入力欄!H23=\"\",\"\",【時計】入力欄!H23&\" \"),IF(【時計】入力欄!I23=\"\",\"\",【時計】入力欄!I23&\" \"),IF(【時計】入力欄!J23=\"\",\"\",【時計】入力欄!J23&\" \"))","v":""},{"$f":"IF(【時計】入力欄!K23=\"\",\"\",【時計】入力欄!K23&\"g\")","v":""},{"$f":"IF(【時計】入力欄!L23=\"\",\"\",【時計】入力欄!L23)","v":""},{"$f":"IF(【時計】入力欄!O23=\"\",\"\",【時計】入力欄!O23)","v":""}]
["９",{"$f":"IF(【時計】入力欄!E24=\"\",\"\",【時計】入力欄!E24)","v":""},{"$f":"IF(【時計】入力欄!F24=\"\",\"\",【時計】入力欄!F24)","v":""},{"$f":"CONCATENATE(IF(【時計】入力欄!G24=\"\",\"\",【時計】入力欄!G24&\" \"),IF(【時計】入力欄!H24=\"\",\"\",【時計】入力欄!H24&\" \"),IF(【時計】入力欄!I24=\"\",\"\",【時計】入力欄!I24&\" \"),IF(【時計】入力欄!J24=\"\",\"\",【時計】入力欄!J24&\" \"))","v":""},{"$f":"IF(【時計】入力欄!K24=\"\",\"\",【時計】入力欄!K24&\"g\")","v":""},{"$f":"IF(【時計】入力欄!L24=\"\",\"\",【時計】入力欄!L24)","v":""},{"$f":"IF(【時計】入力欄!O24=\"\",\"\",【時計】入力欄!O24)","v":""}]
["１０",{"$f":"IF(【時計】入力欄!E25=\"\",\"\",【時計】入力欄!E25)","v":""},{"$f":"IF(【時計】入力欄!F25=\"\",\"\",【時計】入力欄!F25)","v":""},{"$f":"CONCATENATE(IF(【時計】入力欄!G25=\"\",\"\",【時計】入力欄!G25&\" \"),IF(【時計】入力欄!H25=\"\",\"\",【時計】入力欄!H25&\" \"),IF(【時計】入力欄!I25=\"\",\"\",【時計】入力欄!I25&\" \"),IF(【時計】入力欄!J25=\"\",\"\",【時計】入力欄!J25&\" \"))","v":""},{"$f":"IF(【時計】入力欄!K25=\"\",\"\",【時計】入力欄!K25&\"g\")","v":""},{"$f":"IF(【時計】入力欄!L25=\"\",\"\",【時計】入力欄!L25)","v":""},{"$f":"IF(【時計】入力欄!O25=\"\",\"\",【時計】入力欄!O25)","v":""}]
[]
[" ",{"$f":"CONCATENATE(\"出品表　（　\",【時計】入力欄!I$3,\"大吉オークション　時計）\")","v":"出品表　（　大吉オークション　時計）"}]
[]
[null,"箱番：",{"$f":"IF(【時計】入力欄!C26=\"\",\"\",【時計】入力欄!C26)","v":""},"※太枠の中をご記入ください",null,"会社名",{"$f":"IF(【時計】入力欄!C$3=\"\",\"\",【時計】入力欄!C$3)","v":""}]
[]
["番号","ブランド","素材","詳細・特徴","重量","付属品","指値\n（3万円以上）","発句"]
["１",{"$f":"IF(【時計】入力欄!E26=\"\",\"\",【時計】入力欄!E26)","v":""},{"$f":"IF(【時計】入力欄!F26=\"\",\"\",【時計】入力欄!F26)","v":""},{"$f":"CONCATENATE(IF(【時計】入力欄!G26=\"\",\"\",【時計】入力欄!G26&\" \"),IF(【時計】入力欄!H26=\"\",\"\",【時計】入力欄!H26&\" \"),IF(【時計】入力欄!I26=\"\",\"\",【時計】入力欄!I26&\" \"),IF(【時計】入力欄!J26=\"\",\"\",【時計】入力欄!J26&\" \"))","v":""},{"$f":"IF(【時計】入力欄!K26=\"\",\"\",【時計】入力欄!K26&\"g\")","v":""},{"$f":"IF(【時計】入力欄!L26=\"\",\"\",【時計】入力欄!L26)","v":""},{"$f":"IF(【時計】入力欄!O26=\"\",\"\",【時計】入力欄!O26)","v":""}]
["２",{"$f":"IF(【時計】入力欄!E27=\"\",\"\",【時計】入力欄!E27)","v":""},{"$f":"IF(【時計】入力欄!F27=\"\",\"\",【時計】入力欄!F27)","v":""},{"$f":"CONCATENATE(IF(【時計】入力欄!G27=\"\",\"\",【時計】入力欄!G27&\" \"),IF(【時計】入力欄!H27=\"\",\"\",【時計】入力欄!H27&\" \"),IF(【時計】入力欄!I27=\"\",\"\",【時計】入力欄!I27&\" \"),IF(【時計】入力欄!J27=\"\",\"\",【時計】入力欄!J27&\" \"))","v":""},{"$f":"IF(【時計】入力欄!K27=\"\",\"\",【時計】入力欄!K27&\"g\")","v":""},{"$f":"IF(【時計】入力欄!L27=\"\",\"\",【時計】入力欄!L27)","v":""},{"$f":"IF(【時計】入力欄!O27=\"\",\"\",【時計】入力欄!O27)","v":""}]
["３",{"$f":"IF(【時計】入力欄!E28=\"\",\"\",【時計】入力欄!E28)","v":""},{"$f":"IF(【時計】入力欄!F28=\"\",\"\",【時計】入力欄!F28)","v":""},{"$f":"CONCATENATE(IF(【時計】入力欄!G28=\"\",\"\",【時計】入力欄!G28&\" \"),IF(【時計】入力欄!H28=\"\",\"\",【時計】入力欄!H28&\" \"),IF(【時計】入力欄!I28=\"\",\"\",【時計】入力欄!I28&\" \"),IF(【時計】入力欄!J28=\"\",\"\",【時計】入力欄!J28&\" \"))","v":""},{"$f":"IF(【時計】入力欄!K28=\"\",\"\",【時計】入力欄!K28&\"g\")","v":""},{"$f":"IF(【時計】入力欄!L28=\"\",\"\",【時計】入力欄!L28)","v":""},{"$f":"IF(【時計】入力欄!O28=\"\",\"\",【時計】入力欄!O28)","v":""}]
["４",{"$f":"IF(【時計】入力欄!E29=\"\",\"\",【時計】入力欄!E29)","v":""},{"$f":"IF(【時計】入力欄!F29=\"\",\"\",【時計】入力欄!F29)","v":""},{"$f":"CONCATENATE(IF(【時計】入力欄!G29=\"\",\"\",【時計】入力欄!G29&\" \"),IF(【時計】入力欄!H29=\"\",\"\",【時計】入力欄!H29&\" \"),IF(【時計】入力欄!I29=\"\",\"\",【時計】入力欄!I29&\" \"),IF(【時計】入力欄!J29=\"\",\"\",【時計】入力欄!J29&\" \"))","v":""},{"$f":"IF(【時計】入力欄!K29=\"\",\"\",【時計】入力欄!K29&\"g\")","v":""},{"$f":"IF(【時計】入力欄!L29=\"\",\"\",【時計】入力欄!L29)","v":""},{"$f":"IF(【時計】入力欄!O29=\"\",\"\",【時計】入力欄!O29)","v":""}]
["５",{"$f":"IF(【時計】入力欄!E30=\"\",\"\",【時計】入力欄!E30)","v":""},{"$f":"IF(【時計】入力欄!F30=\"\",\"\",【時計】入力欄!F30)","v":""},{"$f":"CONCATENATE(IF(【時計】入力欄!G30=\"\",\"\",【時計】入力欄!G30&\" \"),IF(【時計】入力欄!H30=\"\",\"\",【時計】入力欄!H30&\" \"),IF(【時計】入力欄!I30=\"\",\"\",【時計】入力欄!I30&\" \"),IF(【時計】入力欄!J30=\"\",\"\",【時計】入力欄!J30&\" \"))","v":""},{"$f":"IF(【時計】入力欄!K30=\"\",\"\",【時計】入力欄!K30&\"g\")","v":""},{"$f":"IF(【時計】入力欄!L30=\"\",\"\",【時計】入力欄!L30)","v":""},{"$f":"IF(【時計】入力欄!O30=\"\",\"\",【時計】入力欄!O30)","v":""}]
["６",{"$f":"IF(【時計】入力欄!E31=\"\",\"\",【時計】入力欄!E31)","v":""},{"$f":"IF(【時計】入力欄!F31=\"\",\"\",【時計】入力欄!F31)","v":""},{"$f":"CONCATENATE(IF(【時計】入力欄!G31=\"\",\"\",【時計】入力欄!G31&\" \"),IF(【時計】入力欄!H31=\"\",\"\",【時計】入力欄!H31&\" \"),IF(【時計】入力欄!I31=\"\",\"\",【時計】入力欄!I31&\" \"),IF(【時計】入力欄!J31=\"\",\"\",【時計】入力欄!J31&\" \"))","v":""},{"$f":"IF(【時計】入力欄!K31=\"\",\"\",【時計】入力欄!K31&\"g\")","v":""},{"$f":"IF(【時計】入力欄!L31=\"\",\"\",【時計】入力欄!L31)","v":""},{"$f":"IF(【時計】入力欄!O31=\"\",\"\",【時計】入力欄!O31)","v":""}]
["７",{"$f":"IF(【時計】入力欄!E32=\"\",\"\",【時計】入力欄!E32)","v":""},{"$f":"IF(【時計】入力欄!F32=\"\",\"\",【時計】入力欄!F32)","v":""},{"$f":"CONCATENATE(IF(【時計】入力欄!G32=\"\",\"\",【時計】入力欄!G32&\" \"),IF(【時計】入力欄!H32=\"\",\"\",【時計】入力欄!H32&\" \"),IF(【時計】入力欄!I32=\"\",\"\",【時計】入力欄!I32&\" \"),IF(【時計】入力欄!J32=\"\",\"\",【時計】入力欄!J32&\" \"))","v":""},{"$f":"IF(【時計】入力欄!K32=\"\",\"\",【時計】入力欄!K32&\"g\")","v":""},{"$f":"IF(【時計】入力欄!L32=\"\",\"\",【時計】入力欄!L32)","v":""},{"$f":"IF(【時計】入力欄!O32=\"\",\"\",【時計】入力欄!O32)","v":""}]
["８",{"$f":"IF(【時計】入力欄!E33=\"\",\"\",【時計】入力欄!E33)","v":""},{"$f":"IF(【時計】入力欄!F33=\"\",\"\",【時計】入力欄!F33)","v":""},{"$f":"CONCATENATE(IF(【時計】入力欄!G33=\"\",\"\",【時計】入力欄!G33&\" \"),IF(【時計】入力欄!H33=\"\",\"\",【時計】入力欄!H33&\" \"),IF(【時計】入力欄!I33=\"\",\"\",【時計】入力欄!I33&\" \"),IF(【時計】入力欄!J33=\"\",\"\",【時計】入力欄!J33&\" \"))","v":""},{"$f":"IF(【時計】入力欄!K33=\"\",\"\",【時計】入力欄!K33&\"g\")","v":""},{"$f":"IF(【時計】入力欄!L33=\"\",\"\",【時計】入力欄!L33)","v":""},{"$f":"IF(【時計】入力欄!O33=\"\",\"\",【時計】入力欄!O33)","v":""}]
["９",{"$f":"IF(【時計】入力欄!E34=\"\",\"\",【時計】入力欄!E34)","v":""},{"$f":"IF(【時計】入力欄!F34=\"\",\"\",【時計】入力欄!F34)","v":""},{"$f":"CONCATENATE(IF(【時計】入力欄!G34=\"\",\"\",【時計】入力欄!G34&\" \"),IF(【時計】入力欄!H34=\"\",\"\",【時計】入力欄!H34&\" \"),IF(【時計】入力欄!I34=\"\",\"\",【時計】入力欄!I34&\" \"),IF(【時計】入力欄!J34=\"\",\"\",【時計】入力欄!J34&\" \"))","v":""},{"$f":"IF(【時計】入力欄!K34=\"\",\"\",【時計】入力欄!K34&\"g\")","v":""},{"$f":"IF(【時計】入力欄!L34=\"\",\"\",【時計】入力欄!L34)","v":""},{"$f":"IF(【時計】入力欄!O34=\"\",\"\",【時計】入力欄!O34)","v":""}]
["１０",{"$f":"IF(【時計】入力欄!E35=\"\",\"\",【時計】入力欄!E35)","v":""},{"$f":"IF(【時計】入力欄!F35=\"\",\"\",【時計】入力欄!F35)","v":""},{"$f":"CONCATENATE(IF(【時計】入力欄!G35=\"\",\"\",【時計】入力欄!G35&\" \"),IF(【時計】入力欄!H35=\"\",\"\",【時計】入力欄!H35&\" \"),IF(【時計】入力欄!I35=\"\",\"\",【時計】入力欄!I35&\" \"),IF(【時計】入力欄!J35=\"\",\"\",【時計】入力欄!J35&\" \"))","v":""},{"$f":"IF(【時計】入力欄!K35=\"\",\"\",【時計】入力欄!K35&\"g\")","v":""},{"$f":"IF(【時計】入力欄!L35=\"\",\"\",【時計】入力欄!L35)","v":""},{"$f":"IF(【時計】入力欄!O35=\"\",\"\",【時計】入力欄!O35)","v":""}]
[]
[" ",{"$f":"CONCATENATE(\"出品表　（　\",【時計】入力欄!I$3,\"大吉オークション　時計）\")","v":"出品表　（　大吉オークション　時計）"}]
[]
[null,"箱番：",{"$f":"IF(【時計】入力欄!C36=\"\",\"\",【時計】入力欄!C36)","v":""},"※太枠の中をご記入ください",null,"会社名",{"$f":"IF(【時計】入力欄!C$3=\"\",\"\",【時計】入力欄!C$3)","v":""}]
[]
["番号","ブランド","素材","詳細・特徴","重量","付属品","指値\n（3万円以上）","発句"]
["１",{"$f":"IF(【時計】入力欄!E36=\"\",\"\",【時計】入力欄!E36)","v":""},{"$f":"IF(【時計】入力欄!F36=\"\",\"\",【時計】入力欄!F36)","v":""},{"$f":"CONCATENATE(IF(【時計】入力欄!G36=\"\",\"\",【時計】入力欄!G36&\" \"),IF(【時計】入力欄!H36=\"\",\"\",【時計】入力欄!H36&\" \"),IF(【時計】入力欄!I36=\"\",\"\",【時計】入力欄!I36&\" \"),IF(【時計】入力欄!J36=\"\",\"\",【時計】入力欄!J36&\" \"))","v":""},{"$f":"IF(【時計】入力欄!K36=\"\",\"\",【時計】入力欄!K36&\"g\")","v":""},{"$f":"IF(【時計】入力欄!L36=\"\",\"\",【時計】入力欄!L36)","v":""},{"$f":"IF(【時計】入力欄!O36=\"\",\"\",【時計】入力欄!O36)","v":""}]
["２",{"$f":"IF(【時計】入力欄!E37=\"\",\"\",【時計】入力欄!E37)","v":""},{"$f":"IF(【時計】入力欄!F37=\"\",\"\",【時計】入力欄!F37)","v":""},{"$f":"CONCATENATE(IF(【時計】入力欄!G37=\"\",\"\",【時計】入力欄!G37&\" \"),IF(【時計】入力欄!H37=\"\",\"\",【時計】入力欄!H37&\" \"),IF(【時計】入力欄!I37=\"\",\"\",【時計】入力欄!I37&\" \"),IF(【時計】入力欄!J37=\"\",\"\",【時計】入力欄!J37&\" \"))","v":""},{"$f":"IF(【時計】入力欄!K37=\"\",\"\",【時計】入力欄!K37&\"g\")","v":""},{"$f":"IF(【時計】入力欄!L37=\"\",\"\",【時計】入力欄!L37)","v":""},{"$f":"IF(【時計】入力欄!O37=\"\",\"\",【時計】入力欄!O37)","v":""}]
["３",{"$f":"IF(【時計】入力欄!E38=\"\",\"\",【時計】入力欄!E38)","v":""},{"$f":"IF(【時計】入力欄!F38=\"\",\"\",【時計】入力欄!F38)","v":""},{"$f":"CONCATENATE(IF(【時計】入力欄!G38=\"\",\"\",【時計】入力欄!G38&\" \"),IF(【時計】入力欄!H38=\"\",\"\",【時計】入力欄!H38&\" \"),IF(【時計】入力欄!I38=\"\",\"\",【時計】入力欄!I38&\" \"),IF(【時計】入力欄!J38=\"\",\"\",【時計】入力欄!J38&\" \"))","v":""},{"$f":"IF(【時計】入力欄!K38=\"\",\"\",【時計】入力欄!K38&\"g\")","v":""},{"$f":"IF(【時計】入力欄!L38=\"\",\"\",【時計】入力欄!L38)","v":""},{"$f":"IF(【時計】入力欄!O38=\"\",\"\",【時計】入力欄!O38)","v":""}]
["４",{"$f":"IF(【時計】入力欄!E39=\"\",\"\",【時計】入力欄!E39)","v":""},{"$f":"IF(【時計】入力欄!F39=\"\",\"\",【時計】入力欄!F39)","v":""},{"$f":"CONCATENATE(IF(【時計】入力欄!G39=\"\",\"\",【時計】入力欄!G39&\" \"),IF(【時計】入力欄!H39=\"\",\"\",【時計】入力欄!H39&\" \"),IF(【時計】入力欄!I39=\"\",\"\",【時計】入力欄!I39&\" \"),IF(【時計】入力欄!J39=\"\",\"\",【時計】入力欄!J39&\" \"))","v":""},{"$f":"IF(【時計】入力欄!K39=\"\",\"\",【時計】入力欄!K39&\"g\")","v":""},{"$f":"IF(【時計】入力欄!L39=\"\",\"\",【時計】入力欄!L39)","v":""},{"$f":"IF(【時計】入力欄!O39=\"\",\"\",【時計】入力欄!O39)","v":""}]
["５",{"$f":"IF(【時計】入力欄!E40=\"\",\"\",【時計】入力欄!E40)","v":""},{"$f":"IF(【時計】入力欄!F40=\"\",\"\",【時計】入力欄!F40)","v":""},{"$f":"CONCATENATE(IF(【時計】入力欄!G40=\"\",\"\",【時計】入力欄!G40&\" \"),IF(【時計】入力欄!H40=\"\",\"\",【時計】入力欄!H40&\" \"),IF(【時計】入力欄!I40=\"\",\"\",【時計】入力欄!I40&\" \"),IF(【時計】入力欄!J40=\"\",\"\",【時計】入力欄!J40&\" \"))","v":""},{"$f":"IF(【時計】入力欄!K40=\"\",\"\",【時計】入力欄!K40&\"g\")","v":""},{"$f":"IF(【時計】入力欄!L40=\"\",\"\",【時計】入力欄!L40)","v":""},{"$f":"IF(【時計】入力欄!O40=\"\",\"\",【時計】入力欄!O40)","v":""}]
["６",{"$f":"IF(【時計】入力欄!E41=\"\",\"\",【時計】入力欄!E41)","v":""},{"$f":"IF(【時計】入力欄!F41=\"\",\"\",【時計】入力欄!F41)","v":""},{"$f":"CONCATENATE(IF(【時計】入力欄!G41=\"\",\"\",【時計】入力欄!G41&\" \"),IF(【時計】入力欄!H41=\"\",\"\",【時計】入力欄!H41&\" \"),IF(【時計】入力欄!I41=\"\",\"\",【時計】入力欄!I41&\" \"),IF(【時計】入力欄!J41=\"\",\"\",【時計】入力欄!J41&\" \"))","v":""},{"$f":"IF(【時計】入力欄!K41=\"\",\"\",【時計】入力欄!K41&\"g\")","v":""},{"$f":"IF(【時計】入力欄!L41=\"\",\"\",【時計】入力欄!L41)","v":""},{"$f":"IF(【時計】入力欄!O41=\"\",\"\",【時計】入力欄!O41)","v":""}]
["７",{"$f":"IF(【時計】入力欄!E42=\"\",\"\",【時計】入力欄!E42)","v":""},{"$f":"IF(【時計】入力欄!F42=\"\",\"\",【時計】入力欄!F42)","v":""},{"$f":"CONCATENATE(IF(【時計】入力欄!G42=\"\",\"\",【時計】入力欄!G42&\" \"),IF(【時計】入力欄!H42=\"\",\"\",【時計】入力欄!H42&\" \"),IF(【時計】入力欄!I42=\"\",\"\",【時計】入力欄!I42&\" \"),IF(【時計】入力欄!J42=\"\",\"\",【時計】入力欄!J42&\" \"))","v":""},{"$f":"IF(【時計】入力欄!K42=\"\",\"\",【時計】入力欄!K42&\"g\")","v":""},{"$f":"IF(【時計】入力欄!L42=\"\",\"\",【時計】入力欄!L42)","v":""},{"$f":"IF(【時計】入力欄!O42=\"\",\"\",【時計】入力欄!O42)","v":""}]
["８",{"$f":"IF(【時計】入力欄!E43=\"\",\"\",【時計】入力欄!E43)","v":""},{"$f":"IF(【時計】入力欄!F43=\"\",\"\",【時計】入力欄!F43)","v":""},{"$f":"CONCATENATE(IF(【時計】入力欄!G43=\"\",\"\",【時計】入力欄!G43&\" \"),IF(【時計】入力欄!H43=\"\",\"\",【時計】入力欄!H43&\" \"),IF(【時計】入力欄!I43=\"\",\"\",【時計】入力欄!I43&\" \"),IF(【時計】入力欄!J43=\"\",\"\",【時計】入力欄!J43&\" \"))","v":""},{"$f":"IF(【時計】入力欄!K43=\"\",\"\",【時計】入力欄!K43&\"g\")","v":""},{"$f":"IF(【時計】入力欄!L43=\"\",\"\",【時計】入力欄!L43)","v":""},{"$f":"IF(【時計】入力欄!O43=\"\",\"\",【時計】入力欄!O43)","v":""}]
["９",{"$f":"IF(【時計】入力欄!E44=\"\",\"\",【時計】入力欄!E44)","v":""},{"$f":"IF(【時計】入力欄!F44=\"\",\"\",【時計】入力欄!F44)","v":""},{"$f":"CONCATENATE(IF(【時計】入力欄!G44=\"\",\"\",【時計】入力欄!G44&\" \"),IF(【時計】入力欄!H44=\"\",\"\",【時計】入力欄!H44&\" \"),IF(【時計】入力欄!I44=\"\",\"\",【時計】入力欄!I44&\" \"),IF(【時計】入力欄!J44=\"\",\"\",【時計】入力欄!J44&\" \"))","v":""},{"$f":"IF(【時計】入力欄!K44=\"\",\"\",【時計】入力欄!K44&\"g\")","v":""},{"$f":"IF(【時計】入力欄!L44=\"\",\"\",【時計】入力欄!L44)","v":""},{"$f":"IF(【時計】入力欄!O44=\"\",\"\",【時計】入力欄!O44)","v":""}]
["１０",{"$f":"IF(【時計】入力欄!E45=\"\",\"\",【時計】入力欄!E45)","v":""},{"$f":"IF(【時計】入力欄!F45=\"\",\"\",【時計】入力欄!F45)","v":""},{"$f":"CONCATENATE(IF(【時計】入力欄!G45=\"\",\"\",【時計】入力欄!G45&\" \"),IF(【時計】入力欄!H45=\"\",\"\",【時計】入力欄!H45&\" \"),IF(【時計】入力欄!I45=\"\",\"\",【時計】入力欄!I45&\" \"),IF(【時計】入力欄!J45=\"\",\"\",【時計】入力欄!J45&\" \"))","v":""},{"$f":"IF(【時計】入力欄!K45=\"\",\"\",【時計】入力欄!K45&\"g\")","v":""},{"$f":"IF(【時計】入力欄!L45=\"\",\"\",【時計】入力欄!L45)","v":""},{"$f":"IF(【時計】入力欄!O45=\"\",\"\",【時計】入力欄!O45)","v":""}]
[]
[" ",{"$f":"CONCATENATE(\"出品表　（　\",【時計】入力欄!I$3,\"大吉オークション　時計）\")","v":"出品表　（　大吉オークション　時計）"}]
[]
[null,"箱番：",{"$f":"IF(【時計】入力欄!C46=\"\",\"\",【時計】入力欄!C46)","v":""},"※太枠の中をご記入ください",null,"会社名",{"$f":"IF(【時計】入力欄!C$3=\"\",\"\",【時計】入力欄!C$3)","v":""}]
[]
["番号","ブランド","素材","詳細・特徴","重量","付属品","指値\n（3万円以上）","発句"]
["１",{"$f":"IF(【時計】入力欄!E46=\"\",\"\",【時計】入力欄!E46)","v":""},{"$f":"IF(【時計】入力欄!F46=\"\",\"\",【時計】入力欄!F46)","v":""},{"$f":"CONCATENATE(IF(【時計】入力欄!G46=\"\",\"\",【時計】入力欄!G46&\" \"),IF(【時計】入力欄!H46=\"\",\"\",【時計】入力欄!H46&\" \"),IF(【時計】入力欄!I46=\"\",\"\",【時計】入力欄!I46&\" \"),IF(【時計】入力欄!J46=\"\",\"\",【時計】入力欄!J46&\" \"))","v":""},{"$f":"IF(【時計】入力欄!K46=\"\",\"\",【時計】入力欄!K46&\"g\")","v":""},{"$f":"IF(【時計】入力欄!L46=\"\",\"\",【時計】入力欄!L46)","v":""},{"$f":"IF(【時計】入力欄!O46=\"\",\"\",【時計】入力欄!O46)","v":""}]
["２",{"$f":"IF(【時計】入力欄!E47=\"\",\"\",【時計】入力欄!E47)","v":""},{"$f":"IF(【時計】入力欄!F47=\"\",\"\",【時計】入力欄!F47)","v":""},{"$f":"CONCATENATE(IF(【時計】入力欄!G47=\"\",\"\",【時計】入力欄!G47&\" \"),IF(【時計】入力欄!H47=\"\",\"\",【時計】入力欄!H47&\" \"),IF(【時計】入力欄!I47=\"\",\"\",【時計】入力欄!I47&\" \"),IF(【時計】入力欄!J47=\"\",\"\",【時計】入力欄!J47&\" \"))","v":""},{"$f":"IF(【時計】入力欄!K47=\"\",\"\",【時計】入力欄!K47&\"g\")","v":""},{"$f":"IF(【時計】入力欄!L47=\"\",\"\",【時計】入力欄!L47)","v":""},{"$f":"IF(【時計】入力欄!O47=\"\",\"\",【時計】入力欄!O47)","v":""}]
["３",{"$f":"IF(【時計】入力欄!E48=\"\",\"\",【時計】入力欄!E48)","v":""},{"$f":"IF(【時計】入力欄!F48=\"\",\"\",【時計】入力欄!F48)","v":""},{"$f":"CONCATENATE(IF(【時計】入力欄!G48=\"\",\"\",【時計】入力欄!G48&\" \"),IF(【時計】入力欄!H48=\"\",\"\",【時計】入力欄!H48&\" \"),IF(【時計】入力欄!I48=\"\",\"\",【時計】入力欄!I48&\" \"),IF(【時計】入力欄!J48=\"\",\"\",【時計】入力欄!J48&\" \"))","v":""},{"$f":"IF(【時計】入力欄!K48=\"\",\"\",【時計】入力欄!K48&\"g\")","v":""},{"$f":"IF(【時計】入力欄!L48=\"\",\"\",【時計】入力欄!L48)","v":""},{"$f":"IF(【時計】入力欄!O48=\"\",\"\",【時計】入力欄!O48)","v":""}]
["４",{"$f":"IF(【時計】入力欄!E49=\"\",\"\",【時計】入力欄!E49)","v":""},{"$f":"IF(【時計】入力欄!F49=\"\",\"\",【時計】入力欄!F49)","v":""},{"$f":"CONCATENATE(IF(【時計】入力欄!G49=\"\",\"\",【時計】入力欄!G49&\" \"),IF(【時計】入力欄!H49=\"\",\"\",【時計】入力欄!H49&\" \"),IF(【時計】入力欄!I49=\"\",\"\",【時計】入力欄!I49&\" \"),IF(【時計】入力欄!J49=\"\",\"\",【時計】入力欄!J49&\" \"))","v":""},{"$f":"IF(【時計】入力欄!K49=\"\",\"\",【時計】入力欄!K49&\"g\")","v":""},{"$f":"IF(【時計】入力欄!L49=\"\",\"\",【時計】入力欄!L49)","v":""},{"$f":"IF(【時計】入力欄!O49=\"\",\"\",【時計】入力欄!O49)","v":""}]
["５",{"$f":"IF(【時計】入力欄!E50=\"\",\"\",【時計】入力欄!E50)","v":""},{"$f":"IF(【時計】入力欄!F50=\"\",\"\",【時計】入力欄!F50)","v":""},{"$f":"CONCATENATE(IF(【時計】入力欄!G50=\"\",\"\",【時計】入力欄!G50&\" \"),IF(【時計】入力欄!H50=\"\",\"\",【時計】入力欄!H50&\" \"),IF(【時計】入力欄!I50=\"\",\"\",【時計】入力欄!I50&\" \"),IF(【時計】入力欄!J50=\"\",\"\",【時計】入力欄!J50&\" \"))","v":""},{"$f":"IF(【時計】入力欄!K50=\"\",\"\",【時計】入力欄!K50&\"g\")","v":""},{"$f":"IF(【時計】入力欄!L50=\"\",\"\",【時計】入力欄!L50)","v":""},{"$f":"IF(【時計】入力欄!O50=\"\",\"\",【時計】入力欄!O50)","v":""}]
["６",{"$f":"IF(【時計】入力欄!E51=\"\",\"\",【時計】入力欄!E51)","v":""},{"$f":"IF(【時計】入力欄!F51=\"\",\"\",【時計】入力欄!F51)","v":""},{"$f":"CONCATENATE(IF(【時計】入力欄!G51=\"\",\"\",【時計】入力欄!G51&\" \"),IF(【時計】入力欄!H51=\"\",\"\",【時計】入力欄!H51&\" \"),IF(【時計】入力欄!I51=\"\",\"\",【時計】入力欄!I51&\" \"),IF(【時計】入力欄!J51=\"\",\"\",【時計】入力欄!J51&\" \"))","v":""},{"$f":"IF(【時計】入力欄!K51=\"\",\"\",【時計】入力欄!K51&\"g\")","v":""},{"$f":"IF(【時計】入力欄!L51=\"\",\"\",【時計】入力欄!L51)","v":""},{"$f":"IF(【時計】入力欄!O51=\"\",\"\",【時計】入力欄!O51)","v":""}]
["７",{"$f":"IF(【時計】入力欄!E52=\"\",\"\",【時計】入力欄!E52)","v":""},{"$f":"IF(【時計】入力欄!F52=\"\",\"\",【時計】入力欄!F52)","v":""},{"$f":"CONCATENATE(IF(【時計】入力欄!G52=\"\",\"\",【時計】入力欄!G52&\" \"),IF(【時計】入力欄!H52=\"\",\"\",【時計】入力欄!H52&\" \"),IF(【時計】入力欄!I52=\"\",\"\",【時計】入力欄!I52&\" \"),IF(【時計】入力欄!J52=\"\",\"\",【時計】入力欄!J52&\" \"))","v":""},{"$f":"IF(【時計】入力欄!K52=\"\",\"\",【時計】入力欄!K52&\"g\")","v":""},{"$f":"IF(【時計】入力欄!L52=\"\",\"\",【時計】入力欄!L52)","v":""},{"$f":"IF(【時計】入力欄!O52=\"\",\"\",【時計】入力欄!O52)","v":""}]
["８",{"$f":"IF(【時計】入力欄!E53=\"\",\"\",【時計】入力欄!E53)","v":""},{"$f":"IF(【時計】入力欄!F53=\"\",\"\",【時計】入力欄!F53)","v":""},{"$f":"CONCATENATE(IF(【時計】入力欄!G53=\"\",\"\",【時計】入力欄!G53&\" \"),IF(【時計】入力欄!H53=\"\",\"\",【時計】入力欄!H53&\" \"),IF(【時計】入力欄!I53=\"\",\"\",【時計】入力欄!I53&\" \"),IF(【時計】入力欄!J53=\"\",\"\",【時計】入力欄!J53&\" \"))","v":""},{"$f":"IF(【時計】入力欄!K53=\"\",\"\",【時計】入力欄!K53&\"g\")","v":""},{"$f":"IF(【時計】入力欄!L53=\"\",\"\",【時計】入力欄!L53)","v":""},{"$f":"IF(【時計】入力欄!O53=\"\",\"\",【時計】入力欄!O53)","v":""}]
["９",{"$f":"IF(【時計】入力欄!E54=\"\",\"\",【時計】入力欄!E54)","v":""},{"$f":"IF(【時計】入力欄!F54=\"\",\"\",【時計】入力欄!F54)","v":""},{"$f":"CONCATENATE(IF(【時計】入力欄!G54=\"\",\"\",【時計】入力欄!G54&\" \"),IF(【時計】入力欄!H54=\"\",\"\",【時計】入力欄!H54&\" \"),IF(【時計】入力欄!I54=\"\",\"\",【時計】入力欄!I54&\" \"),IF(【時計】入力欄!J54=\"\",\"\",【時計】入力欄!J54&\" \"))","v":""},{"$f":"IF(【時計】入力欄!K54=\"\",\"\",【時計】入力欄!K54&\"g\")","v":""},{"$f":"IF(【時計】入力欄!L54=\"\",\"\",【時計】入力欄!L54)","v":""},{"$f":"IF(【時計】入力欄!O54=\"\",\"\",【時計】入力欄!O54)","v":""}]
["１０",{"$f":"IF(【時計】入力欄!E55=\"\",\"\",【時計】入力欄!E55)","v":""},{"$f":"IF(【時計】入力欄!F55=\"\",\"\",【時計】入力欄!F55)","v":""},{"$f":"CONCATENATE(IF(【時計】入力欄!G55=\"\",\"\",【時計】入力欄!G55&\" \"),IF(【時計】入力欄!H55=\"\",\"\",【時計】入力欄!H55&\" \"),IF(【時計】入力欄!I55=\"\",\"\",【時計】入力欄!I55&\" \"),IF(【時計】入力欄!J55=\"\",\"\",【時計】入力欄!J55&\" \"))","v":""},{"$f":"IF(【時計】入力欄!K55=\"\",\"\",【時計】入力欄!K55&\"g\")","v":""},{"$f":"IF(【時計】入力欄!L55=\"\",\"\",【時計】入力欄!L55)","v":""},{"$f":"IF(【時計】入力欄!O55=\"\",\"\",【時計】入力欄!O55)","v":""}]
[]
[" ",{"$f":"CONCATENATE(\"出品表　（　\",【時計】入力欄!I$3,\"大吉オークション　時計）\")","v":"出品表　（　大吉オークション　時計）"}]
[]
[null,"箱番：",{"$f":"IF(【時計】入力欄!C56=\"\",\"\",【時計】入力欄!C56)","v":""},"※太枠の中をご記入ください",null,"会社名",{"$f":"IF(【時計】入力欄!C$3=\"\",\"\",【時計】入力欄!C$3)","v":""}]
[]
["番号","ブランド","素材","詳細・特徴","重量","付属品","指値\n（3万円以上）","発句"]
["１",{"$f":"IF(【時計】入力欄!E56=\"\",\"\",【時計】入力欄!E56)","v":""},{"$f":"IF(【時計】入力欄!F56=\"\",\"\",【時計】入力欄!F56)","v":""},{"$f":"CONCATENATE(IF(【時計】入力欄!G56=\"\",\"\",【時計】入力欄!G56&\" \"),IF(【時計】入力欄!H56=\"\",\"\",【時計】入力欄!H56&\" \"),IF(【時計】入力欄!I56=\"\",\"\",【時計】入力欄!I56&\" \"),IF(【時計】入力欄!J56=\"\",\"\",【時計】入力欄!J56&\" \"))","v":""},{"$f":"IF(【時計】入力欄!K56=\"\",\"\",【時計】入力欄!K56&\"g\")","v":""},{"$f":"IF(【時計】入力欄!L56=\"\",\"\",【時計】入力欄!L56)","v":""},{"$f":"IF(【時計】入力欄!O56=\"\",\"\",【時計】入力欄!O56)","v":""}]
["２",{"$f":"IF(【時計】入力欄!E57=\"\",\"\",【時計】入力欄!E57)","v":""},{"$f":"IF(【時計】入力欄!F57=\"\",\"\",【時計】入力欄!F57)","v":""},{"$f":"CONCATENATE(IF(【時計】入力欄!G57=\"\",\"\",【時計】入力欄!G57&\" \"),IF(【時計】入力欄!H57=\"\",\"\",【時計】入力欄!H57&\" \"),IF(【時計】入力欄!I57=\"\",\"\",【時計】入力欄!I57&\" \"),IF(【時計】入力欄!J57=\"\",\"\",【時計】入力欄!J57&\" \"))","v":""},{"$f":"IF(【時計】入力欄!K57=\"\",\"\",【時計】入力欄!K57&\"g\")","v":""},{"$f":"IF(【時計】入力欄!L57=\"\",\"\",【時計】入力欄!L57)","v":""},{"$f":"IF(【時計】入力欄!O57=\"\",\"\",【時計】入力欄!O57)","v":""}]
["３",{"$f":"IF(【時計】入力欄!E58=\"\",\"\",【時計】入力欄!E58)","v":""},{"$f":"IF(【時計】入力欄!F58=\"\",\"\",【時計】入力欄!F58)","v":""},{"$f":"CONCATENATE(IF(【時計】入力欄!G58=\"\",\"\",【時計】入力欄!G58&\" \"),IF(【時計】入力欄!H58=\"\",\"\",【時計】入力欄!H58&\" \"),IF(【時計】入力欄!I58=\"\",\"\",【時計】入力欄!I58&\" \"),IF(【時計】入力欄!J58=\"\",\"\",【時計】入力欄!J58&\" \"))","v":""},{"$f":"IF(【時計】入力欄!K58=\"\",\"\",【時計】入力欄!K58&\"g\")","v":""},{"$f":"IF(【時計】入力欄!L58=\"\",\"\",【時計】入力欄!L58)","v":""},{"$f":"IF(【時計】入力欄!O58=\"\",\"\",【時計】入力欄!O58)","v":""}]
["４",{"$f":"IF(【時計】入力欄!E59=\"\",\"\",【時計】入力欄!E59)","v":""},{"$f":"IF(【時計】入力欄!F59=\"\",\"\",【時計】入力欄!F59)","v":""},{"$f":"CONCATENATE(IF(【時計】入力欄!G59=\"\",\"\",【時計】入力欄!G59&\" \"),IF(【時計】入力欄!H59=\"\",\"\",【時計】入力欄!H59&\" \"),IF(【時計】入力欄!I59=\"\",\"\",【時計】入力欄!I59&\" \"),IF(【時計】入力欄!J59=\"\",\"\",【時計】入力欄!J59&\" \"))","v":""},{"$f":"IF(【時計】入力欄!K59=\"\",\"\",【時計】入力欄!K59&\"g\")","v":""},{"$f":"IF(【時計】入力欄!L59=\"\",\"\",【時計】入力欄!L59)","v":""},{"$f":"IF(【時計】入力欄!O59=\"\",\"\",【時計】入力欄!O59)","v":""}]
["５",{"$f":"IF(【時計】入力欄!E60=\"\",\"\",【時計】入力欄!E60)","v":""},{"$f":"IF(【時計】入力欄!F60=\"\",\"\",【時計】入力欄!F60)","v":""},{"$f":"CONCATENATE(IF(【時計】入力欄!G60=\"\",\"\",【時計】入力欄!G60&\" \"),IF(【時計】入力欄!H60=\"\",\"\",【時計】入力欄!H60&\" \"),IF(【時計】入力欄!I60=\"\",\"\",【時計】入力欄!I60&\" \"),IF(【時計】入力欄!J60=\"\",\"\",【時計】入力欄!J60&\" \"))","v":""},{"$f":"IF(【時計】入力欄!K60=\"\",\"\",【時計】入力欄!K60&\"g\")","v":""},{"$f":"IF(【時計】入力欄!L60=\"\",\"\",【時計】入力欄!L60)","v":""},{"$f":"IF(【時計】入力欄!O60=\"\",\"\",【時計】入力欄!O60)","v":""}]
["６",{"$f":"IF(【時計】入力欄!E61=\"\",\"\",【時計】入力欄!E61)","v":""},{"$f":"IF(【時計】入力欄!F61=\"\",\"\",【時計】入力欄!F61)","v":""},{"$f":"CONCATENATE(IF(【時計】入力欄!G61=\"\",\"\",【時計】入力欄!G61&\" \"),IF(【時計】入力欄!H61=\"\",\"\",【時計】入力欄!H61&\" \"),IF(【時計】入力欄!I61=\"\",\"\",【時計】入力欄!I61&\" \"),IF(【時計】入力欄!J61=\"\",\"\",【時計】入力欄!J61&\" \"))","v":""},{"$f":"IF(【時計】入力欄!K61=\"\",\"\",【時計】入力欄!K61&\"g\")","v":""},{"$f":"IF(【時計】入力欄!L61=\"\",\"\",【時計】入力欄!L61)","v":""},{"$f":"IF(【時計】入力欄!O61=\"\",\"\",【時計】入力欄!O61)","v":""}]
["７",{"$f":"IF(【時計】入力欄!E62=\"\",\"\",【時計】入力欄!E62)","v":""},{"$f":"IF(【時計】入力欄!F62=\"\",\"\",【時計】入力欄!F62)","v":""},{"$f":"CONCATENATE(IF(【時計】入力欄!G62=\"\",\"\",【時計】入力欄!G62&\" \"),IF(【時計】入力欄!H62=\"\",\"\",【時計】入力欄!H62&\" \"),IF(【時計】入力欄!I62=\"\",\"\",【時計】入力欄!I62&\" \"),IF(【時計】入力欄!J62=\"\",\"\",【時計】入力欄!J62&\" \"))","v":""},{"$f":"IF(【時計】入力欄!K62=\"\",\"\",【時計】入力欄!K62&\"g\")","v":""},{"$f":"IF(【時計】入力欄!L62=\"\",\"\",【時計】入力欄!L62)","v":""},{"$f":"IF(【時計】入力欄!O62=\"\",\"\",【時計】入力欄!O62)","v":""}]
["８",{"$f":"IF(【時計】入力欄!E63=\"\",\"\",【時計】入力欄!E63)","v":""},{"$f":"IF(【時計】入力欄!F63=\"\",\"\",【時計】入力欄!F63)","v":""},{"$f":"CONCATENATE(IF(【時計】入力欄!G63=\"\",\"\",【時計】入力欄!G63&\" \"),IF(【時計】入力欄!H63=\"\",\"\",【時計】入力欄!H63&\" \"),IF(【時計】入力欄!I63=\"\",\"\",【時計】入力欄!I63&\" \"),IF(【時計】入力欄!J63=\"\",\"\",【時計】入力欄!J63&\" \"))","v":""},{"$f":"IF(【時計】入力欄!K63=\"\",\"\",【時計】入力欄!K63&\"g\")","v":""},{"$f":"IF(【時計】入力欄!L63=\"\",\"\",【時計】入力欄!L63)","v":""},{"$f":"IF(【時計】入力欄!O63=\"\",\"\",【時計】入力欄!O63)","v":""}]
["９",{"$f":"IF(【時計】入力欄!E64=\"\",\"\",【時計】入力欄!E64)","v":""},{"$f":"IF(【時計】入力欄!F64=\"\",\"\",【時計】入力欄!F64)","v":""},{"$f":"CONCATENATE(IF(【時計】入力欄!G64=\"\",\"\",【時計】入力欄!G64&\" \"),IF(【時計】入力欄!H64=\"\",\"\",【時計】入力欄!H64&\" \"),IF(【時計】入力欄!I64=\"\",\"\",【時計】入力欄!I64&\" \"),IF(【時計】入力欄!J64=\"\",\"\",【時計】入力欄!J64&\" \"))","v":""},{"$f":"IF(【時計】入力欄!K64=\"\",\"\",【時計】入力欄!K64&\"g\")","v":""},{"$f":"IF(【時計】入力欄!L64=\"\",\"\",【時計】入力欄!L64)","v":""},{"$f":"IF(【時計】入力欄!O64=\"\",\"\",【時計】入力欄!O64)","v":""}]
["１０",{"$f":"IF(【時計】入力欄!E65=\"\",\"\",【時計】入力欄!E65)","v":""},{"$f":"IF(【時計】入力欄!F65=\"\",\"\",【時計】入力欄!F65)","v":""},{"$f":"CONCATENATE(IF(【時計】入力欄!G65=\"\",\"\",【時計】入力欄!G65&\" \"),IF(【時計】入力欄!H65=\"\",\"\",【時計】入力欄!H65&\" \"),IF(【時計】入力欄!I65=\"\",\"\",【時計】入力欄!I65&\" \"),IF(【時計】入力欄!J65=\"\",\"\",【時計】入力欄!J65&\" \"))","v":""},{"$f":"IF(【時計】入力欄!K65=\"\",\"\",【時計】入力欄!K65&\"g\")","v":""},{"$f":"IF(【時計】入力欄!L65=\"\",\"\",【時計】入力欄!L65)","v":""},{"$f":"IF(【時計】入力欄!O65=\"\",\"\",【時計】入力欄!O65)","v":""}]
[]
[" ",{"$f":"CONCATENATE(\"出品表　（　\",【時計】入力欄!I$3,\"大吉オークション　時計）\")","v":"出品表　（　大吉オークション　時計）"}]
[]
[null,"箱番：",{"$f":"IF(【時計】入力欄!C66=\"\",\"\",【時計】入力欄!C66)","v":""},"※太枠の中をご記入ください",null,"会社名",{"$f":"IF(【時計】入力欄!C$3=\"\",\"\",【時計】入力欄!C$3)","v":""}]
[]
["番号","ブランド","素材","詳細・特徴","重量","付属品","指値\n（3万円以上）","発句"]
["１",{"$f":"IF(【時計】入力欄!E66=\"\",\"\",【時計】入力欄!E66)","v":""},{"$f":"IF(【時計】入力欄!F66=\"\",\"\",【時計】入力欄!F66)","v":""},{"$f":"CONCATENATE(IF(【時計】入力欄!G66=\"\",\"\",【時計】入力欄!G66&\" \"),IF(【時計】入力欄!H66=\"\",\"\",【時計】入力欄!H66&\" \"),IF(【時計】入力欄!I66=\"\",\"\",【時計】入力欄!I66&\" \"),IF(【時計】入力欄!J66=\"\",\"\",【時計】入力欄!J66&\" \"))","v":""},{"$f":"IF(【時計】入力欄!K66=\"\",\"\",【時計】入力欄!K66&\"g\")","v":""},{"$f":"IF(【時計】入力欄!L66=\"\",\"\",【時計】入力欄!L66)","v":""},{"$f":"IF(【時計】入力欄!O66=\"\",\"\",【時計】入力欄!O66)","v":""}]
["２",{"$f":"IF(【時計】入力欄!E67=\"\",\"\",【時計】入力欄!E67)","v":""},{"$f":"IF(【時計】入力欄!F67=\"\",\"\",【時計】入力欄!F67)","v":""},{"$f":"CONCATENATE(IF(【時計】入力欄!G67=\"\",\"\",【時計】入力欄!G67&\" \"),IF(【時計】入力欄!H67=\"\",\"\",【時計】入力欄!H67&\" \"),IF(【時計】入力欄!I67=\"\",\"\",【時計】入力欄!I67&\" \"),IF(【時計】入力欄!J67=\"\",\"\",【時計】入力欄!J67&\" \"))","v":""},{"$f":"IF(【時計】入力欄!K67=\"\",\"\",【時計】入力欄!K67&\"g\")","v":""},{"$f":"IF(【時計】入力欄!L67=\"\",\"\",【時計】入力欄!L67)","v":""},{"$f":"IF(【時計】入力欄!O67=\"\",\"\",【時計】入力欄!O67)","v":""}]
["３",{"$f":"IF(【時計】入力欄!E68=\"\",\"\",【時計】入力欄!E68)","v":""},{"$f":"IF(【時計】入力欄!F68=\"\",\"\",【時計】入力欄!F68)","v":""},{"$f":"CONCATENATE(IF(【時計】入力欄!G68=\"\",\"\",【時計】入力欄!G68&\" \"),IF(【時計】入力欄!H68=\"\",\"\",【時計】入力欄!H68&\" \"),IF(【時計】入力欄!I68=\"\",\"\",【時計】入力欄!I68&\" \"),IF(【時計】入力欄!J68=\"\",\"\",【時計】入力欄!J68&\" \"))","v":""},{"$f":"IF(【時計】入力欄!K68=\"\",\"\",【時計】入力欄!K68&\"g\")","v":""},{"$f":"IF(【時計】入力欄!L68=\"\",\"\",【時計】入力欄!L68)","v":""},{"$f":"IF(【時計】入力欄!O68=\"\",\"\",【時計】入力欄!O68)","v":""}]
["４",{"$f":"IF(【時計】入力欄!E69=\"\",\"\",【時計】入力欄!E69)","v":""},{"$f":"IF(【時計】入力欄!F69=\"\",\"\",【時計】入力欄!F69)","v":""},{"$f":"CONCATENATE(IF(【時計】入力欄!G69=\"\",\"\",【時計】入力欄!G69&\" \"),IF(【時計】入力欄!H69=\"\",\"\",【時計】入力欄!H69&\" \"),IF(【時計】入力欄!I69=\"\",\"\",【時計】入力欄!I69&\" \"),IF(【時計】入力欄!J69=\"\",\"\",【時計】入力欄!J69&\" \"))","v":""},{"$f":"IF(【時計】入力欄!K69=\"\",\"\",【時計】入力欄!K69&\"g\")","v":""},{"$f":"IF(【時計】入力欄!L69=\"\",\"\",【時計】入力欄!L69)","v":""},{"$f":"IF(【時計】入力欄!O69=\"\",\"\",【時計】入力欄!O69)","v":""}]
["５",{"$f":"IF(【時計】入力欄!E70=\"\",\"\",【時計】入力欄!E70)","v":""},{"$f":"IF(【時計】入力欄!F70=\"\",\"\",【時計】入力欄!F70)","v":""},{"$f":"CONCATENATE(IF(【時計】入力欄!G70=\"\",\"\",【時計】入力欄!G70&\" \"),IF(【時計】入力欄!H70=\"\",\"\",【時計】入力欄!H70&\" \"),IF(【時計】入力欄!I70=\"\",\"\",【時計】入力欄!I70&\" \"),IF(【時計】入力欄!J70=\"\",\"\",【時計】入力欄!J70&\" \"))","v":""},{"$f":"IF(【時計】入力欄!K70=\"\",\"\",【時計】入力欄!K70&\"g\")","v":""},{"$f":"IF(【時計】入力欄!L70=\"\",\"\",【時計】入力欄!L70)","v":""},{"$f":"IF(【時計】入力欄!O70=\"\",\"\",【時計】入力欄!O70)","v":""}]
["６",{"$f":"IF(【時計】入力欄!E71=\"\",\"\",【時計】入力欄!E71)","v":""},{"$f":"IF(【時計】入力欄!F71=\"\",\"\",【時計】入力欄!F71)","v":""},{"$f":"CONCATENATE(IF(【時計】入力欄!G71=\"\",\"\",【時計】入力欄!G71&\" \"),IF(【時計】入力欄!H71=\"\",\"\",【時計】入力欄!H71&\" \"),IF(【時計】入力欄!I71=\"\",\"\",【時計】入力欄!I71&\" \"),IF(【時計】入力欄!J71=\"\",\"\",【時計】入力欄!J71&\" \"))","v":""},{"$f":"IF(【時計】入力欄!K71=\"\",\"\",【時計】入力欄!K71&\"g\")","v":""},{"$f":"IF(【時計】入力欄!L71=\"\",\"\",【時計】入力欄!L71)","v":""},{"$f":"IF(【時計】入力欄!O71=\"\",\"\",【時計】入力欄!O71)","v":""}]
["７",{"$f":"IF(【時計】入力欄!E72=\"\",\"\",【時計】入力欄!E72)","v":""},{"$f":"IF(【時計】入力欄!F72=\"\",\"\",【時計】入力欄!F72)","v":""},{"$f":"CONCATENATE(IF(【時計】入力欄!G72=\"\",\"\",【時計】入力欄!G72&\" \"),IF(【時計】入力欄!H72=\"\",\"\",【時計】入力欄!H72&\" \"),IF(【時計】入力欄!I72=\"\",\"\",【時計】入力欄!I72&\" \"),IF(【時計】入力欄!J72=\"\",\"\",【時計】入力欄!J72&\" \"))","v":""},{"$f":"IF(【時計】入力欄!K72=\"\",\"\",【時計】入力欄!K72&\"g\")","v":""},{"$f":"IF(【時計】入力欄!L72=\"\",\"\",【時計】入力欄!L72)","v":""},{"$f":"IF(【時計】入力欄!O72=\"\",\"\",【時計】入力欄!O72)","v":""}]
["８",{"$f":"IF(【時計】入力欄!E73=\"\",\"\",【時計】入力欄!E73)","v":""},{"$f":"IF(【時計】入力欄!F73=\"\",\"\",【時計】入力欄!F73)","v":""},{"$f":"CONCATENATE(IF(【時計】入力欄!G73=\"\",\"\",【時計】入力欄!G73&\" \"),IF(【時計】入力欄!H73=\"\",\"\",【時計】入力欄!H73&\" \"),IF(【時計】入力欄!I73=\"\",\"\",【時計】入力欄!I73&\" \"),IF(【時計】入力欄!J73=\"\",\"\",【時計】入力欄!J73&\" \"))","v":""},{"$f":"IF(【時計】入力欄!K73=\"\",\"\",【時計】入力欄!K73&\"g\")","v":""},{"$f":"IF(【時計】入力欄!L73=\"\",\"\",【時計】入力欄!L73)","v":""},{"$f":"IF(【時計】入力欄!O73=\"\",\"\",【時計】入力欄!O73)","v":""}]
["９",{"$f":"IF(【時計】入力欄!E74=\"\",\"\",【時計】入力欄!E74)","v":""},{"$f":"IF(【時計】入力欄!F74=\"\",\"\",【時計】入力欄!F74)","v":""},{"$f":"CONCATENATE(IF(【時計】入力欄!G74=\"\",\"\",【時計】入力欄!G74&\" \"),IF(【時計】入力欄!H74=\"\",\"\",【時計】入力欄!H74&\" \"),IF(【時計】入力欄!I74=\"\",\"\",【時計】入力欄!I74&\" \"),IF(【時計】入力欄!J74=\"\",\"\",【時計】入力欄!J74&\" \"))","v":""},{"$f":"IF(【時計】入力欄!K74=\"\",\"\",【時計】入力欄!K74&\"g\")","v":""},{"$f":"IF(【時計】入力欄!L74=\"\",\"\",【時計】入力欄!L74)","v":""},{"$f":"IF(【時計】入力欄!O74=\"\",\"\",【時計】入力欄!O74)","v":""}]
["１０",{"$f":"IF(【時計】入力欄!E75=\"\",\"\",【時計】入力欄!E75)","v":""},{"$f":"IF(【時計】入力欄!F75=\"\",\"\",【時計】入力欄!F75)","v":""},{"$f":"CONCATENATE(IF(【時計】入力欄!G75=\"\",\"\",【時計】入力欄!G75&\" \"),IF(【時計】入力欄!H75=\"\",\"\",【時計】入力欄!H75&\" \"),IF(【時計】入力欄!I75=\"\",\"\",【時計】入力欄!I75&\" \"),IF(【時計】入力欄!J75=\"\",\"\",【時計】入力欄!J75&\" \"))","v":""},{"$f":"IF(【時計】入力欄!K75=\"\",\"\",【時計】入力欄!K75&\"g\")","v":""},{"$f":"IF(【時計】入力欄!L75=\"\",\"\",【時計】入力欄!L75)","v":""},{"$f":"IF(【時計】入力欄!O75=\"\",\"\",【時計】入力欄!O75)","v":""}]
[]
[" ",{"$f":"CONCATENATE(\"出品表　（　\",【時計】入力欄!I$3,\"大吉オークション　時計）\")","v":"出品表　（　大吉オークション　時計）"}]
[]
[null,"箱番：",{"$f":"IF(【時計】入力欄!C76=\"\",\"\",【時計】入力欄!C76)","v":""},"※太枠の中をご記入ください",null,"会社名",{"$f":"IF(【時計】入力欄!C$3=\"\",\"\",【時計】入力欄!C$3)","v":""}]
[]
["番号","ブランド","素材","詳細・特徴","重量","付属品","指値\n（3万円以上）","発句"]
["１",{"$f":"IF(【時計】入力欄!E76=\"\",\"\",【時計】入力欄!E76)","v":""},{"$f":"IF(【時計】入力欄!F76=\"\",\"\",【時計】入力欄!F76)","v":""},{"$f":"CONCATENATE(IF(【時計】入力欄!G76=\"\",\"\",【時計】入力欄!G76&\" \"),IF(【時計】入力欄!H76=\"\",\"\",【時計】入力欄!H76&\" \"),IF(【時計】入力欄!I76=\"\",\"\",【時計】入力欄!I76&\" \"),IF(【時計】入力欄!J76=\"\",\"\",【時計】入力欄!J76&\" \"))","v":""},{"$f":"IF(【時計】入力欄!K76=\"\",\"\",【時計】入力欄!K76&\"g\")","v":""},{"$f":"IF(【時計】入力欄!L76=\"\",\"\",【時計】入力欄!L76)","v":""},{"$f":"IF(【時計】入力欄!O76=\"\",\"\",【時計】入力欄!O76)","v":""}]
["２",{"$f":"IF(【時計】入力欄!E77=\"\",\"\",【時計】入力欄!E77)","v":""},{"$f":"IF(【時計】入力欄!F77=\"\",\"\",【時計】入力欄!F77)","v":""},{"$f":"CONCATENATE(IF(【時計】入力欄!G77=\"\",\"\",【時計】入力欄!G77&\" \"),IF(【時計】入力欄!H77=\"\",\"\",【時計】入力欄!H77&\" \"),IF(【時計】入力欄!I77=\"\",\"\",【時計】入力欄!I77&\" \"),IF(【時計】入力欄!J77=\"\",\"\",【時計】入力欄!J77&\" \"))","v":""},{"$f":"IF(【時計】入力欄!K77=\"\",\"\",【時計】入力欄!K77&\"g\")","v":""},{"$f":"IF(【時計】入力欄!L77=\"\",\"\",【時計】入力欄!L77)","v":""},{"$f":"IF(【時計】入力欄!O77=\"\",\"\",【時計】入力欄!O77)","v":""}]
["３",{"$f":"IF(【時計】入力欄!E78=\"\",\"\",【時計】入力欄!E78)","v":""},{"$f":"IF(【時計】入力欄!F78=\"\",\"\",【時計】入力欄!F78)","v":""},{"$f":"CONCATENATE(IF(【時計】入力欄!G78=\"\",\"\",【時計】入力欄!G78&\" \"),IF(【時計】入力欄!H78=\"\",\"\",【時計】入力欄!H78&\" \"),IF(【時計】入力欄!I78=\"\",\"\",【時計】入力欄!I78&\" \"),IF(【時計】入力欄!J78=\"\",\"\",【時計】入力欄!J78&\" \"))","v":""},{"$f":"IF(【時計】入力欄!K78=\"\",\"\",【時計】入力欄!K78&\"g\")","v":""},{"$f":"IF(【時計】入力欄!L78=\"\",\"\",【時計】入力欄!L78)","v":""},{"$f":"IF(【時計】入力欄!O78=\"\",\"\",【時計】入力欄!O78)","v":""}]
["４",{"$f":"IF(【時計】入力欄!E79=\"\",\"\",【時計】入力欄!E79)","v":""},{"$f":"IF(【時計】入力欄!F79=\"\",\"\",【時計】入力欄!F79)","v":""},{"$f":"CONCATENATE(IF(【時計】入力欄!G79=\"\",\"\",【時計】入力欄!G79&\" \"),IF(【時計】入力欄!H79=\"\",\"\",【時計】入力欄!H79&\" \"),IF(【時計】入力欄!I79=\"\",\"\",【時計】入力欄!I79&\" \"),IF(【時計】入力欄!J79=\"\",\"\",【時計】入力欄!J79&\" \"))","v":""},{"$f":"IF(【時計】入力欄!K79=\"\",\"\",【時計】入力欄!K79&\"g\")","v":""},{"$f":"IF(【時計】入力欄!L79=\"\",\"\",【時計】入力欄!L79)","v":""},{"$f":"IF(【時計】入力欄!O79=\"\",\"\",【時計】入力欄!O79)","v":""}]
["５",{"$f":"IF(【時計】入力欄!E80=\"\",\"\",【時計】入力欄!E80)","v":""},{"$f":"IF(【時計】入力欄!F80=\"\",\"\",【時計】入力欄!F80)","v":""},{"$f":"CONCATENATE(IF(【時計】入力欄!G80=\"\",\"\",【時計】入力欄!G80&\" \"),IF(【時計】入力欄!H80=\"\",\"\",【時計】入力欄!H80&\" \"),IF(【時計】入力欄!I80=\"\",\"\",【時計】入力欄!I80&\" \"),IF(【時計】入力欄!J80=\"\",\"\",【時計】入力欄!J80&\" \"))","v":""},{"$f":"IF(【時計】入力欄!K80=\"\",\"\",【時計】入力欄!K80&\"g\")","v":""},{"$f":"IF(【時計】入力欄!L80=\"\",\"\",【時計】入力欄!L80)","v":""},{"$f":"IF(【時計】入力欄!O80=\"\",\"\",【時計】入力欄!O80)","v":""}]
["６",{"$f":"IF(【時計】入力欄!E81=\"\",\"\",【時計】入力欄!E81)","v":""},{"$f":"IF(【時計】入力欄!F81=\"\",\"\",【時計】入力欄!F81)","v":""},{"$f":"CONCATENATE(IF(【時計】入力欄!G81=\"\",\"\",【時計】入力欄!G81&\" \"),IF(【時計】入力欄!H81=\"\",\"\",【時計】入力欄!H81&\" \"),IF(【時計】入力欄!I81=\"\",\"\",【時計】入力欄!I81&\" \"),IF(【時計】入力欄!J81=\"\",\"\",【時計】入力欄!J81&\" \"))","v":""},{"$f":"IF(【時計】入力欄!K81=\"\",\"\",【時計】入力欄!K81&\"g\")","v":""},{"$f":"IF(【時計】入力欄!L81=\"\",\"\",【時計】入力欄!L81)","v":""},{"$f":"IF(【時計】入力欄!O81=\"\",\"\",【時計】入力欄!O81)","v":""}]
["７",{"$f":"IF(【時計】入力欄!E82=\"\",\"\",【時計】入力欄!E82)","v":""},{"$f":"IF(【時計】入力欄!F82=\"\",\"\",【時計】入力欄!F82)","v":""},{"$f":"CONCATENATE(IF(【時計】入力欄!G82=\"\",\"\",【時計】入力欄!G82&\" \"),IF(【時計】入力欄!H82=\"\",\"\",【時計】入力欄!H82&\" \"),IF(【時計】入力欄!I82=\"\",\"\",【時計】入力欄!I82&\" \"),IF(【時計】入力欄!J82=\"\",\"\",【時計】入力欄!J82&\" \"))","v":""},{"$f":"IF(【時計】入力欄!K82=\"\",\"\",【時計】入力欄!K82&\"g\")","v":""},{"$f":"IF(【時計】入力欄!L82=\"\",\"\",【時計】入力欄!L82)","v":""},{"$f":"IF(【時計】入力欄!O82=\"\",\"\",【時計】入力欄!O82)","v":""}]
["８",{"$f":"IF(【時計】入力欄!E83=\"\",\"\",【時計】入力欄!E83)","v":""},{"$f":"IF(【時計】入力欄!F83=\"\",\"\",【時計】入力欄!F83)","v":""},{"$f":"CONCATENATE(IF(【時計】入力欄!G83=\"\",\"\",【時計】入力欄!G83&\" \"),IF(【時計】入力欄!H83=\"\",\"\",【時計】入力欄!H83&\" \"),IF(【時計】入力欄!I83=\"\",\"\",【時計】入力欄!I83&\" \"),IF(【時計】入力欄!J83=\"\",\"\",【時計】入力欄!J83&\" \"))","v":""},{"$f":"IF(【時計】入力欄!K83=\"\",\"\",【時計】入力欄!K83&\"g\")","v":""},{"$f":"IF(【時計】入力欄!L83=\"\",\"\",【時計】入力欄!L83)","v":""},{"$f":"IF(【時計】入力欄!O83=\"\",\"\",【時計】入力欄!O83)","v":""}]
["９",{"$f":"IF(【時計】入力欄!E84=\"\",\"\",【時計】入力欄!E84)","v":""},{"$f":"IF(【時計】入力欄!F84=\"\",\"\",【時計】入力欄!F84)","v":""},{"$f":"CONCATENATE(IF(【時計】入力欄!G84=\"\",\"\",【時計】入力欄!G84&\" \"),IF(【時計】入力欄!H84=\"\",\"\",【時計】入力欄!H84&\" \"),IF(【時計】入力欄!I84=\"\",\"\",【時計】入力欄!I84&\" \"),IF(【時計】入力欄!J84=\"\",\"\",【時計】入力欄!J84&\" \"))","v":""},{"$f":"IF(【時計】入力欄!K84=\"\",\"\",【時計】入力欄!K84&\"g\")","v":""},{"$f":"IF(【時計】入力欄!L84=\"\",\"\",【時計】入力欄!L84)","v":""},{"$f":"IF(【時計】入力欄!O84=\"\",\"\",【時計】入力欄!O84)","v":""}]
["１０",{"$f":"IF(【時計】入力欄!E85=\"\",\"\",【時計】入力欄!E85)","v":""},{"$f":"IF(【時計】入力欄!F85=\"\",\"\",【時計】入力欄!F85)","v":""},{"$f":"CONCATENATE(IF(【時計】入力欄!G85=\"\",\"\",【時計】入力欄!G85&\" \"),IF(【時計】入力欄!H85=\"\",\"\",【時計】入力欄!H85&\" \"),IF(【時計】入力欄!I85=\"\",\"\",【時計】入力欄!I85&\" \"),IF(【時計】入力欄!J85=\"\",\"\",【時計】入力欄!J85&\" \"))","v":""},{"$f":"IF(【時計】入力欄!K85=\"\",\"\",【時計】入力欄!K85&\"g\")","v":""},{"$f":"IF(【時計】入力欄!L85=\"\",\"\",【時計】入力欄!L85)","v":""},{"$f":"IF(【時計】入力欄!O85=\"\",\"\",【時計】入力欄!O85)","v":""}]
[]
[" ",{"$f":"CONCATENATE(\"出品表　（　\",【時計】入力欄!I$3,\"大吉オークション　時計）\")","v":"出品表　（　大吉オークション　時計）"}]
[]
[null,"箱番：",{"$f":"IF(【時計】入力欄!C86=\"\",\"\",【時計】入力欄!C86)","v":""},"※太枠の中をご記入ください",null,"会社名",{"$f":"IF(【時計】入力欄!C$3=\"\",\"\",【時計】入力欄!C$3)","v":""}]
[]
["番号","ブランド","素材","詳細・特徴","重量","付属品","指値\n（3万円以上）","発句"]
["１",{"$f":"IF(【時計】入力欄!E86=\"\",\"\",【時計】入力欄!E86)","v":""},{"$f":"IF(【時計】入力欄!F86=\"\",\"\",【時計】入力欄!F86)","v":""},{"$f":"CONCATENATE(IF(【時計】入力欄!G86=\"\",\"\",【時計】入力欄!G86&\" \"),IF(【時計】入力欄!H86=\"\",\"\",【時計】入力欄!H86&\" \"),IF(【時計】入力欄!I86=\"\",\"\",【時計】入力欄!I86&\" \"),IF(【時計】入力欄!J86=\"\",\"\",【時計】入力欄!J86&\" \"))","v":""},{"$f":"IF(【時計】入力欄!K86=\"\",\"\",【時計】入力欄!K86&\"g\")","v":""},{"$f":"IF(【時計】入力欄!L86=\"\",\"\",【時計】入力欄!L86)","v":""},{"$f":"IF(【時計】入力欄!O86=\"\",\"\",【時計】入力欄!O86)","v":""}]
["２",{"$f":"IF(【時計】入力欄!E87=\"\",\"\",【時計】入力欄!E87)","v":""},{"$f":"IF(【時計】入力欄!F87=\"\",\"\",【時計】入力欄!F87)","v":""},{"$f":"CONCATENATE(IF(【時計】入力欄!G87=\"\",\"\",【時計】入力欄!G87&\" \"),IF(【時計】入力欄!H87=\"\",\"\",【時計】入力欄!H87&\" \"),IF(【時計】入力欄!I87=\"\",\"\",【時計】入力欄!I87&\" \"),IF(【時計】入力欄!J87=\"\",\"\",【時計】入力欄!J87&\" \"))","v":""},{"$f":"IF(【時計】入力欄!K87=\"\",\"\",【時計】入力欄!K87&\"g\")","v":""},{"$f":"IF(【時計】入力欄!L87=\"\",\"\",【時計】入力欄!L87)","v":""},{"$f":"IF(【時計】入力欄!O87=\"\",\"\",【時計】入力欄!O87)","v":""}]
["３",{"$f":"IF(【時計】入力欄!E88=\"\",\"\",【時計】入力欄!E88)","v":""},{"$f":"IF(【時計】入力欄!F88=\"\",\"\",【時計】入力欄!F88)","v":""},{"$f":"CONCATENATE(IF(【時計】入力欄!G88=\"\",\"\",【時計】入力欄!G88&\" \"),IF(【時計】入力欄!H88=\"\",\"\",【時計】入力欄!H88&\" \"),IF(【時計】入力欄!I88=\"\",\"\",【時計】入力欄!I88&\" \"),IF(【時計】入力欄!J88=\"\",\"\",【時計】入力欄!J88&\" \"))","v":""},{"$f":"IF(【時計】入力欄!K88=\"\",\"\",【時計】入力欄!K88&\"g\")","v":""},{"$f":"IF(【時計】入力欄!L88=\"\",\"\",【時計】入力欄!L88)","v":""},{"$f":"IF(【時計】入力欄!O88=\"\",\"\",【時計】入力欄!O88)","v":""}]
["４",{"$f":"IF(【時計】入力欄!E89=\"\",\"\",【時計】入力欄!E89)","v":""},{"$f":"IF(【時計】入力欄!F89=\"\",\"\",【時計】入力欄!F89)","v":""},{"$f":"CONCATENATE(IF(【時計】入力欄!G89=\"\",\"\",【時計】入力欄!G89&\" \"),IF(【時計】入力欄!H89=\"\",\"\",【時計】入力欄!H89&\" \"),IF(【時計】入力欄!I89=\"\",\"\",【時計】入力欄!I89&\" \"),IF(【時計】入力欄!J89=\"\",\"\",【時計】入力欄!J89&\" \"))","v":""},{"$f":"IF(【時計】入力欄!K89=\"\",\"\",【時計】入力欄!K89&\"g\")","v":""},{"$f":"IF(【時計】入力欄!L89=\"\",\"\",【時計】入力欄!L89)","v":""},{"$f":"IF(【時計】入力欄!O89=\"\",\"\",【時計】入力欄!O89)","v":""}]
["５",{"$f":"IF(【時計】入力欄!E90=\"\",\"\",【時計】入力欄!E90)","v":""},{"$f":"IF(【時計】入力欄!F90=\"\",\"\",【時計】入力欄!F90)","v":""},{"$f":"CONCATENATE(IF(【時計】入力欄!G90=\"\",\"\",【時計】入力欄!G90&\" \"),IF(【時計】入力欄!H90=\"\",\"\",【時計】入力欄!H90&\" \"),IF(【時計】入力欄!I90=\"\",\"\",【時計】入力欄!I90&\" \"),IF(【時計】入力欄!J90=\"\",\"\",【時計】入力欄!J90&\" \"))","v":""},{"$f":"IF(【時計】入力欄!K90=\"\",\"\",【時計】入力欄!K90&\"g\")","v":""},{"$f":"IF(【時計】入力欄!L90=\"\",\"\",【時計】入力欄!L90)","v":""},{"$f":"IF(【時計】入力欄!O90=\"\",\"\",【時計】入力欄!O90)","v":""}]
["６",{"$f":"IF(【時計】入力欄!E91=\"\",\"\",【時計】入力欄!E91)","v":""},{"$f":"IF(【時計】入力欄!F91=\"\",\"\",【時計】入力欄!F91)","v":""},{"$f":"CONCATENATE(IF(【時計】入力欄!G91=\"\",\"\",【時計】入力欄!G91&\" \"),IF(【時計】入力欄!H91=\"\",\"\",【時計】入力欄!H91&\" \"),IF(【時計】入力欄!I91=\"\",\"\",【時計】入力欄!I91&\" \"),IF(【時計】入力欄!J91=\"\",\"\",【時計】入力欄!J91&\" \"))","v":""},{"$f":"IF(【時計】入力欄!K91=\"\",\"\",【時計】入力欄!K91&\"g\")","v":""},{"$f":"IF(【時計】入力欄!L91=\"\",\"\",【時計】入力欄!L91)","v":""},{"$f":"IF(【時計】入力欄!O91=\"\",\"\",【時計】入力欄!O91)","v":""}]
["７",{"$f":"IF(【時計】入力欄!E92=\"\",\"\",【時計】入力欄!E92)","v":""},{"$f":"IF(【時計】入力欄!F92=\"\",\"\",【時計】入力欄!F92)","v":""},{"$f":"CONCATENATE(IF(【時計】入力欄!G92=\"\",\"\",【時計】入力欄!G92&\" \"),IF(【時計】入力欄!H92=\"\",\"\",【時計】入力欄!H92&\" \"),IF(【時計】入力欄!I92=\"\",\"\",【時計】入力欄!I92&\" \"),IF(【時計】入力欄!J92=\"\",\"\",【時計】入力欄!J92&\" \"))","v":""},{"$f":"IF(【時計】入力欄!K92=\"\",\"\",【時計】入力欄!K92&\"g\")","v":""},{"$f":"IF(【時計】入力欄!L92=\"\",\"\",【時計】入力欄!L92)","v":""},{"$f":"IF(【時計】入力欄!O92=\"\",\"\",【時計】入力欄!O92)","v":""}]
["８",{"$f":"IF(【時計】入力欄!E93=\"\",\"\",【時計】入力欄!E93)","v":""},{"$f":"IF(【時計】入力欄!F93=\"\",\"\",【時計】入力欄!F93)","v":""},{"$f":"CONCATENATE(IF(【時計】入力欄!G93=\"\",\"\",【時計】入力欄!G93&\" \"),IF(【時計】入力欄!H93=\"\",\"\",【時計】入力欄!H93&\" \"),IF(【時計】入力欄!I93=\"\",\"\",【時計】入力欄!I93&\" \"),IF(【時計】入力欄!J93=\"\",\"\",【時計】入力欄!J93&\" \"))","v":""},{"$f":"IF(【時計】入力欄!K93=\"\",\"\",【時計】入力欄!K93&\"g\")","v":""},{"$f":"IF(【時計】入力欄!L93=\"\",\"\",【時計】入力欄!L93)","v":""},{"$f":"IF(【時計】入力欄!O93=\"\",\"\",【時計】入力欄!O93)","v":""}]
["９",{"$f":"IF(【時計】入力欄!E94=\"\",\"\",【時計】入力欄!E94)","v":""},{"$f":"IF(【時計】入力欄!F94=\"\",\"\",【時計】入力欄!F94)","v":""},{"$f":"CONCATENATE(IF(【時計】入力欄!G94=\"\",\"\",【時計】入力欄!G94&\" \"),IF(【時計】入力欄!H94=\"\",\"\",【時計】入力欄!H94&\" \"),IF(【時計】入力欄!I94=\"\",\"\",【時計】入力欄!I94&\" \"),IF(【時計】入力欄!J94=\"\",\"\",【時計】入力欄!J94&\" \"))","v":""},{"$f":"IF(【時計】入力欄!K94=\"\",\"\",【時計】入力欄!K94&\"g\")","v":""},{"$f":"IF(【時計】入力欄!L94=\"\",\"\",【時計】入力欄!L94)","v":""},{"$f":"IF(【時計】入力欄!O94=\"\",\"\",【時計】入力欄!O94)","v":""}]
["１０",{"$f":"IF(【時計】入力欄!E95=\"\",\"\",【時計】入力欄!E95)","v":""},{"$f":"IF(【時計】入力欄!F95=\"\",\"\",【時計】入力欄!F95)","v":""},{"$f":"CONCATENATE(IF(【時計】入力欄!G95=\"\",\"\",【時計】入力欄!G95&\" \"),IF(【時計】入力欄!H95=\"\",\"\",【時計】入力欄!H95&\" \"),IF(【時計】入力欄!I95=\"\",\"\",【時計】入力欄!I95&\" \"),IF(【時計】入力欄!J95=\"\",\"\",【時計】入力欄!J95&\" \"))","v":""},{"$f":"IF(【時計】入力欄!K95=\"\",\"\",【時計】入力欄!K95&\"g\")","v":""},{"$f":"IF(【時計】入力欄!L95=\"\",\"\",【時計】入力欄!L95)","v":""},{"$f":"IF(【時計】入力欄!O95=\"\",\"\",【時計】入力欄!O95)","v":""}]
[]
[" ",{"$f":"CONCATENATE(\"出品表　（　\",【時計】入力欄!I$3,\"大吉オークション　時計）\")","v":"出品表　（　大吉オークション　時計）"}]
[]
[null,"箱番：",{"$f":"IF(【時計】入力欄!C96=\"\",\"\",【時計】入力欄!C96)","v":""},"※太枠の中をご記入ください",null,"会社名",{"$f":"IF(【時計】入力欄!C$3=\"\",\"\",【時計】入力欄!C$3)","v":""}]
[]
["番号","ブランド","素材","詳細・特徴","重量","付属品","指値\n（3万円以上）","発句"]
["１",{"$f":"IF(【時計】入力欄!E96=\"\",\"\",【時計】入力欄!E96)","v":""},{"$f":"IF(【時計】入力欄!F96=\"\",\"\",【時計】入力欄!F96)","v":""},{"$f":"CONCATENATE(IF(【時計】入力欄!G96=\"\",\"\",【時計】入力欄!G96&\" \"),IF(【時計】入力欄!H96=\"\",\"\",【時計】入力欄!H96&\" \"),IF(【時計】入力欄!I96=\"\",\"\",【時計】入力欄!I96&\" \"),IF(【時計】入力欄!J96=\"\",\"\",【時計】入力欄!J96&\" \"))","v":""},{"$f":"IF(【時計】入力欄!K96=\"\",\"\",【時計】入力欄!K96&\"g\")","v":""},{"$f":"IF(【時計】入力欄!L96=\"\",\"\",【時計】入力欄!L96)","v":""},{"$f":"IF(【時計】入力欄!O96=\"\",\"\",【時計】入力欄!O96)","v":""}]
["２",{"$f":"IF(【時計】入力欄!E97=\"\",\"\",【時計】入力欄!E97)","v":""},{"$f":"IF(【時計】入力欄!F97=\"\",\"\",【時計】入力欄!F97)","v":""},{"$f":"CONCATENATE(IF(【時計】入力欄!G97=\"\",\"\",【時計】入力欄!G97&\" \"),IF(【時計】入力欄!H97=\"\",\"\",【時計】入力欄!H97&\" \"),IF(【時計】入力欄!I97=\"\",\"\",【時計】入力欄!I97&\" \"),IF(【時計】入力欄!J97=\"\",\"\",【時計】入力欄!J97&\" \"))","v":""},{"$f":"IF(【時計】入力欄!K97=\"\",\"\",【時計】入力欄!K97&\"g\")","v":""},{"$f":"IF(【時計】入力欄!L97=\"\",\"\",【時計】入力欄!L97)","v":""},{"$f":"IF(【時計】入力欄!O97=\"\",\"\",【時計】入力欄!O97)","v":""}]
["３",{"$f":"IF(【時計】入力欄!E98=\"\",\"\",【時計】入力欄!E98)","v":""},{"$f":"IF(【時計】入力欄!F98=\"\",\"\",【時計】入力欄!F98)","v":""},{"$f":"CONCATENATE(IF(【時計】入力欄!G98=\"\",\"\",【時計】入力欄!G98&\" \"),IF(【時計】入力欄!H98=\"\",\"\",【時計】入力欄!H98&\" \"),IF(【時計】入力欄!I98=\"\",\"\",【時計】入力欄!I98&\" \"),IF(【時計】入力欄!J98=\"\",\"\",【時計】入力欄!J98&\" \"))","v":""},{"$f":"IF(【時計】入力欄!K98=\"\",\"\",【時計】入力欄!K98&\"g\")","v":""},{"$f":"IF(【時計】入力欄!L98=\"\",\"\",【時計】入力欄!L98)","v":""},{"$f":"IF(【時計】入力欄!O98=\"\",\"\",【時計】入力欄!O98)","v":""}]
["４",{"$f":"IF(【時計】入力欄!E99=\"\",\"\",【時計】入力欄!E99)","v":""},{"$f":"IF(【時計】入力欄!F99=\"\",\"\",【時計】入力欄!F99)","v":""},{"$f":"CONCATENATE(IF(【時計】入力欄!G99=\"\",\"\",【時計】入力欄!G99&\" \"),IF(【時計】入力欄!H99=\"\",\"\",【時計】入力欄!H99&\" \"),IF(【時計】入力欄!I99=\"\",\"\",【時計】入力欄!I99&\" \"),IF(【時計】入力欄!J99=\"\",\"\",【時計】入力欄!J99&\" \"))","v":""},{"$f":"IF(【時計】入力欄!K99=\"\",\"\",【時計】入力欄!K99&\"g\")","v":""},{"$f":"IF(【時計】入力欄!L99=\"\",\"\",【時計】入力欄!L99)","v":""},{"$f":"IF(【時計】入力欄!O99=\"\",\"\",【時計】入力欄!O99)","v":""}]
["５",{"$f":"IF(【時計】入力欄!E100=\"\",\"\",【時計】入力欄!E100)","v":""},{"$f":"IF(【時計】入力欄!F100=\"\",\"\",【時計】入力欄!F100)","v":""},{"$f":"CONCATENATE(IF(【時計】入力欄!G100=\"\",\"\",【時計】入力欄!G100&\" \"),IF(【時計】入力欄!H100=\"\",\"\",【時計】入力欄!H100&\" \"),IF(【時計】入力欄!I100=\"\",\"\",【時計】入力欄!I100&\" \"),IF(【時計】入力欄!J100=\"\",\"\",【時計】入力欄!J100&\" \"))","v":""},{"$f":"IF(【時計】入力欄!K100=\"\",\"\",【時計】入力欄!K100&\"g\")","v":""},{"$f":"IF(【時計】入力欄!L100=\"\",\"\",【時計】入力欄!L100)","v":""},{"$f":"IF(【時計】入力欄!O100=\"\",\"\",【時計】入力欄!O100)","v":""}]
["６",{"$f":"IF(【時計】入力欄!E101=\"\",\"\",【時計】入力欄!E101)","v":""},{"$f":"IF(【時計】入力欄!F101=\"\",\"\",【時計】入力欄!F101)","v":""},{"$f":"CONCATENATE(IF(【時計】入力欄!G101=\"\",\"\",【時計】入力欄!G101&\" \"),IF(【時計】入力欄!H101=\"\",\"\",【時計】入力欄!H101&\" \"),IF(【時計】入力欄!I101=\"\",\"\",【時計】入力欄!I101&\" \"),IF(【時計】入力欄!J101=\"\",\"\",【時計】入力欄!J101&\" \"))","v":""},{"$f":"IF(【時計】入力欄!K101=\"\",\"\",【時計】入力欄!K101&\"g\")","v":""},{"$f":"IF(【時計】入力欄!L101=\"\",\"\",【時計】入力欄!L101)","v":""},{"$f":"IF(【時計】入力欄!O101=\"\",\"\",【時計】入力欄!O101)","v":""}]
["７",{"$f":"IF(【時計】入力欄!E102=\"\",\"\",【時計】入力欄!E102)","v":""},{"$f":"IF(【時計】入力欄!F102=\"\",\"\",【時計】入力欄!F102)","v":""},{"$f":"CONCATENATE(IF(【時計】入力欄!G102=\"\",\"\",【時計】入力欄!G102&\" \"),IF(【時計】入力欄!H102=\"\",\"\",【時計】入力欄!H102&\" \"),IF(【時計】入力欄!I102=\"\",\"\",【時計】入力欄!I102&\" \"),IF(【時計】入力欄!J102=\"\",\"\",【時計】入力欄!J102&\" \"))","v":""},{"$f":"IF(【時計】入力欄!K102=\"\",\"\",【時計】入力欄!K102&\"g\")","v":""},{"$f":"IF(【時計】入力欄!L102=\"\",\"\",【時計】入力欄!L102)","v":""},{"$f":"IF(【時計】入力欄!O102=\"\",\"\",【時計】入力欄!O102)","v":""}]
["８",{"$f":"IF(【時計】入力欄!E103=\"\",\"\",【時計】入力欄!E103)","v":""},{"$f":"IF(【時計】入力欄!F103=\"\",\"\",【時計】入力欄!F103)","v":""},{"$f":"CONCATENATE(IF(【時計】入力欄!G103=\"\",\"\",【時計】入力欄!G103&\" \"),IF(【時計】入力欄!H103=\"\",\"\",【時計】入力欄!H103&\" \"),IF(【時計】入力欄!I103=\"\",\"\",【時計】入力欄!I103&\" \"),IF(【時計】入力欄!J103=\"\",\"\",【時計】入力欄!J103&\" \"))","v":""},{"$f":"IF(【時計】入力欄!K103=\"\",\"\",【時計】入力欄!K103&\"g\")","v":""},{"$f":"IF(【時計】入力欄!L103=\"\",\"\",【時計】入力欄!L103)","v":""},{"$f":"IF(【時計】入力欄!O103=\"\",\"\",【時計】入力欄!O103)","v":""}]
["９",{"$f":"IF(【時計】入力欄!E104=\"\",\"\",【時計】入力欄!E104)","v":""},{"$f":"IF(【時計】入力欄!F104=\"\",\"\",【時計】入力欄!F104)","v":""},{"$f":"CONCATENATE(IF(【時計】入力欄!G104=\"\",\"\",【時計】入力欄!G104&\" \"),IF(【時計】入力欄!H104=\"\",\"\",【時計】入力欄!H104&\" \"),IF(【時計】入力欄!I104=\"\",\"\",【時計】入力欄!I104&\" \"),IF(【時計】入力欄!J104=\"\",\"\",【時計】入力欄!J104&\" \"))","v":""},{"$f":"IF(【時計】入力欄!K104=\"\",\"\",【時計】入力欄!K104&\"g\")","v":""},{"$f":"IF(【時計】入力欄!L104=\"\",\"\",【時計】入力欄!L104)","v":""},{"$f":"IF(【時計】入力欄!O104=\"\",\"\",【時計】入力欄!O104)","v":""}]
["１０",{"$f":"IF(【時計】入力欄!E105=\"\",\"\",【時計】入力欄!E105)","v":""},{"$f":"IF(【時計】入力欄!F105=\"\",\"\",【時計】入力欄!F105)","v":""},{"$f":"CONCATENATE(IF(【時計】入力欄!G105=\"\",\"\",【時計】入力欄!G105&\" \"),IF(【時計】入力欄!H105=\"\",\"\",【時計】入力欄!H105&\" \"),IF(【時計】入力欄!I105=\"\",\"\",【時計】入力欄!I105&\" \"),IF(【時計】入力欄!J105=\"\",\"\",【時計】入力欄!J105&\" \"))","v":""},{"$f":"IF(【時計】入力欄!K105=\"\",\"\",【時計】入力欄!K105&\"g\")","v":""},{"$f":"IF(【時計】入力欄!L105=\"\",\"\",【時計】入力欄!L105)","v":""},{"$f":"IF(【時計】入力欄!O105=\"\",\"\",【時計】入力欄!O105)","v":""}]
[]
[" ",{"$f":"CONCATENATE(\"出品表　（　\",【時計】入力欄!I$3,\"大吉オークション　時計）\")","v":"出品表　（　大吉オークション　時計）"}]
[]
[null,"箱番：",{"$f":"IF(【時計】入力欄!C106=\"\",\"\",【時計】入力欄!C106)","v":""},"※太枠の中をご記入ください",null,"会社名",{"$f":"IF(【時計】入力欄!C$3=\"\",\"\",【時計】入力欄!C$3)","v":""}]
[]
["番号","ブランド","素材","詳細・特徴","重量","付属品","指値\n（3万円以上）","発句"]
["１",{"$f":"IF(【時計】入力欄!E106=\"\",\"\",【時計】入力欄!E106)","v":""},{"$f":"IF(【時計】入力欄!F106=\"\",\"\",【時計】入力欄!F106)","v":""},{"$f":"CONCATENATE(IF(【時計】入力欄!G106=\"\",\"\",【時計】入力欄!G106&\" \"),IF(【時計】入力欄!H106=\"\",\"\",【時計】入力欄!H106&\" \"),IF(【時計】入力欄!I106=\"\",\"\",【時計】入力欄!I106&\" \"),IF(【時計】入力欄!J106=\"\",\"\",【時計】入力欄!J106&\" \"))","v":""},{"$f":"IF(【時計】入力欄!K106=\"\",\"\",【時計】入力欄!K106&\"g\")","v":""},{"$f":"IF(【時計】入力欄!L106=\"\",\"\",【時計】入力欄!L106)","v":""},{"$f":"IF(【時計】入力欄!O106=\"\",\"\",【時計】入力欄!O106)","v":""}]
["２",{"$f":"IF(【時計】入力欄!E107=\"\",\"\",【時計】入力欄!E107)","v":""},{"$f":"IF(【時計】入力欄!F107=\"\",\"\",【時計】入力欄!F107)","v":""},{"$f":"CONCATENATE(IF(【時計】入力欄!G107=\"\",\"\",【時計】入力欄!G107&\" \"),IF(【時計】入力欄!H107=\"\",\"\",【時計】入力欄!H107&\" \"),IF(【時計】入力欄!I107=\"\",\"\",【時計】入力欄!I107&\" \"),IF(【時計】入力欄!J107=\"\",\"\",【時計】入力欄!J107&\" \"))","v":""},{"$f":"IF(【時計】入力欄!K107=\"\",\"\",【時計】入力欄!K107&\"g\")","v":""},{"$f":"IF(【時計】入力欄!L107=\"\",\"\",【時計】入力欄!L107)","v":""},{"$f":"IF(【時計】入力欄!O107=\"\",\"\",【時計】入力欄!O107)","v":""}]
["３",{"$f":"IF(【時計】入力欄!E108=\"\",\"\",【時計】入力欄!E108)","v":""},{"$f":"IF(【時計】入力欄!F108=\"\",\"\",【時計】入力欄!F108)","v":""},{"$f":"CONCATENATE(IF(【時計】入力欄!G108=\"\",\"\",【時計】入力欄!G108&\" \"),IF(【時計】入力欄!H108=\"\",\"\",【時計】入力欄!H108&\" \"),IF(【時計】入力欄!I108=\"\",\"\",【時計】入力欄!I108&\" \"),IF(【時計】入力欄!J108=\"\",\"\",【時計】入力欄!J108&\" \"))","v":""},{"$f":"IF(【時計】入力欄!K108=\"\",\"\",【時計】入力欄!K108&\"g\")","v":""},{"$f":"IF(【時計】入力欄!L108=\"\",\"\",【時計】入力欄!L108)","v":""},{"$f":"IF(【時計】入力欄!O108=\"\",\"\",【時計】入力欄!O108)","v":""}]
["４",{"$f":"IF(【時計】入力欄!E109=\"\",\"\",【時計】入力欄!E109)","v":""},{"$f":"IF(【時計】入力欄!F109=\"\",\"\",【時計】入力欄!F109)","v":""},{"$f":"CONCATENATE(IF(【時計】入力欄!G109=\"\",\"\",【時計】入力欄!G109&\" \"),IF(【時計】入力欄!H109=\"\",\"\",【時計】入力欄!H109&\" \"),IF(【時計】入力欄!I109=\"\",\"\",【時計】入力欄!I109&\" \"),IF(【時計】入力欄!J109=\"\",\"\",【時計】入力欄!J109&\" \"))","v":""},{"$f":"IF(【時計】入力欄!K109=\"\",\"\",【時計】入力欄!K109&\"g\")","v":""},{"$f":"IF(【時計】入力欄!L109=\"\",\"\",【時計】入力欄!L109)","v":""},{"$f":"IF(【時計】入力欄!O109=\"\",\"\",【時計】入力欄!O109)","v":""}]
["５",{"$f":"IF(【時計】入力欄!E110=\"\",\"\",【時計】入力欄!E110)","v":""},{"$f":"IF(【時計】入力欄!F110=\"\",\"\",【時計】入力欄!F110)","v":""},{"$f":"CONCATENATE(IF(【時計】入力欄!G110=\"\",\"\",【時計】入力欄!G110&\" \"),IF(【時計】入力欄!H110=\"\",\"\",【時計】入力欄!H110&\" \"),IF(【時計】入力欄!I110=\"\",\"\",【時計】入力欄!I110&\" \"),IF(【時計】入力欄!J110=\"\",\"\",【時計】入力欄!J110&\" \"))","v":""},{"$f":"IF(【時計】入力欄!K110=\"\",\"\",【時計】入力欄!K110&\"g\")","v":""},{"$f":"IF(【時計】入力欄!L110=\"\",\"\",【時計】入力欄!L110)","v":""},{"$f":"IF(【時計】入力欄!O110=\"\",\"\",【時計】入力欄!O110)","v":""}]
["６",{"$f":"IF(【時計】入力欄!E111=\"\",\"\",【時計】入力欄!E111)","v":""},{"$f":"IF(【時計】入力欄!F111=\"\",\"\",【時計】入力欄!F111)","v":""},{"$f":"CONCATENATE(IF(【時計】入力欄!G111=\"\",\"\",【時計】入力欄!G111&\" \"),IF(【時計】入力欄!H111=\"\",\"\",【時計】入力欄!H111&\" \"),IF(【時計】入力欄!I111=\"\",\"\",【時計】入力欄!I111&\" \"),IF(【時計】入力欄!J111=\"\",\"\",【時計】入力欄!J111&\" \"))","v":""},{"$f":"IF(【時計】入力欄!K111=\"\",\"\",【時計】入力欄!K111&\"g\")","v":""},{"$f":"IF(【時計】入力欄!L111=\"\",\"\",【時計】入力欄!L111)","v":""},{"$f":"IF(【時計】入力欄!O111=\"\",\"\",【時計】入力欄!O111)","v":""}]
["７",{"$f":"IF(【時計】入力欄!E112=\"\",\"\",【時計】入力欄!E112)","v":""},{"$f":"IF(【時計】入力欄!F112=\"\",\"\",【時計】入力欄!F112)","v":""},{"$f":"CONCATENATE(IF(【時計】入力欄!G112=\"\",\"\",【時計】入力欄!G112&\" \"),IF(【時計】入力欄!H112=\"\",\"\",【時計】入力欄!H112&\" \"),IF(【時計】入力欄!I112=\"\",\"\",【時計】入力欄!I112&\" \"),IF(【時計】入力欄!J112=\"\",\"\",【時計】入力欄!J112&\" \"))","v":""},{"$f":"IF(【時計】入力欄!K112=\"\",\"\",【時計】入力欄!K112&\"g\")","v":""},{"$f":"IF(【時計】入力欄!L112=\"\",\"\",【時計】入力欄!L112)","v":""},{"$f":"IF(【時計】入力欄!O112=\"\",\"\",【時計】入力欄!O112)","v":""}]
["８",{"$f":"IF(【時計】入力欄!E113=\"\",\"\",【時計】入力欄!E113)","v":""},{"$f":"IF(【時計】入力欄!F113=\"\",\"\",【時計】入力欄!F113)","v":""},{"$f":"CONCATENATE(IF(【時計】入力欄!G113=\"\",\"\",【時計】入力欄!G113&\" \"),IF(【時計】入力欄!H113=\"\",\"\",【時計】入力欄!H113&\" \"),IF(【時計】入力欄!I113=\"\",\"\",【時計】入力欄!I113&\" \"),IF(【時計】入力欄!J113=\"\",\"\",【時計】入力欄!J113&\" \"))","v":""},{"$f":"IF(【時計】入力欄!K113=\"\",\"\",【時計】入力欄!K113&\"g\")","v":""},{"$f":"IF(【時計】入力欄!L113=\"\",\"\",【時計】入力欄!L113)","v":""},{"$f":"IF(【時計】入力欄!O113=\"\",\"\",【時計】入力欄!O113)","v":""}]
["９",{"$f":"IF(【時計】入力欄!E114=\"\",\"\",【時計】入力欄!E114)","v":""},{"$f":"IF(【時計】入力欄!F114=\"\",\"\",【時計】入力欄!F114)","v":""},{"$f":"CONCATENATE(IF(【時計】入力欄!G114=\"\",\"\",【時計】入力欄!G114&\" \"),IF(【時計】入力欄!H114=\"\",\"\",【時計】入力欄!H114&\" \"),IF(【時計】入力欄!I114=\"\",\"\",【時計】入力欄!I114&\" \"),IF(【時計】入力欄!J114=\"\",\"\",【時計】入力欄!J114&\" \"))","v":""},{"$f":"IF(【時計】入力欄!K114=\"\",\"\",【時計】入力欄!K114&\"g\")","v":""},{"$f":"IF(【時計】入力欄!L114=\"\",\"\",【時計】入力欄!L114)","v":""},{"$f":"IF(【時計】入力欄!O114=\"\",\"\",【時計】入力欄!O114)","v":""}]
["１０",{"$f":"IF(【時計】入力欄!E115=\"\",\"\",【時計】入力欄!E115)","v":""},{"$f":"IF(【時計】入力欄!F115=\"\",\"\",【時計】入力欄!F115)","v":""},{"$f":"CONCATENATE(IF(【時計】入力欄!G115=\"\",\"\",【時計】入力欄!G115&\" \"),IF(【時計】入力欄!H115=\"\",\"\",【時計】入力欄!H115&\" \"),IF(【時計】入力欄!I115=\"\",\"\",【時計】入力欄!I115&\" \"),IF(【時計】入力欄!J115=\"\",\"\",【時計】入力欄!J115&\" \"))","v":""},{"$f":"IF(【時計】入力欄!K115=\"\",\"\",【時計】入力欄!K115&\"g\")","v":""},{"$f":"IF(【時計】入力欄!L115=\"\",\"\",【時計】入力欄!L115)","v":""},{"$f":"IF(【時計】入力欄!O115=\"\",\"\",【時計】入力欄!O115)","v":""}]
[]
[" ",{"$f":"CONCATENATE(\"出品表　（　\",【時計】入力欄!I$3,\"大吉オークション　時計）\")","v":"出品表　（　大吉オークション　時計）"}]
[]
[null,"箱番：",{"$f":"IF(【時計】入力欄!C116=\"\",\"\",【時計】入力欄!C116)","v":""},"※太枠の中をご記入ください",null,"会社名",{"$f":"IF(【時計】入力欄!C$3=\"\",\"\",【時計】入力欄!C$3)","v":""}]
[]
["番号","ブランド","素材","詳細・特徴","重量","付属品","指値\n（3万円以上）","発句"]
["１",{"$f":"IF(【時計】入力欄!E116=\"\",\"\",【時計】入力欄!E116)","v":""},{"$f":"IF(【時計】入力欄!F116=\"\",\"\",【時計】入力欄!F116)","v":""},{"$f":"CONCATENATE(IF(【時計】入力欄!G116=\"\",\"\",【時計】入力欄!G116&\" \"),IF(【時計】入力欄!H116=\"\",\"\",【時計】入力欄!H116&\" \"),IF(【時計】入力欄!I116=\"\",\"\",【時計】入力欄!I116&\" \"),IF(【時計】入力欄!J116=\"\",\"\",【時計】入力欄!J116&\" \"))","v":""},{"$f":"IF(【時計】入力欄!K116=\"\",\"\",【時計】入力欄!K116&\"g\")","v":""},{"$f":"IF(【時計】入力欄!L116=\"\",\"\",【時計】入力欄!L116)","v":""},{"$f":"IF(【時計】入力欄!O116=\"\",\"\",【時計】入力欄!O116)","v":""}]
["２",{"$f":"IF(【時計】入力欄!E117=\"\",\"\",【時計】入力欄!E117)","v":""},{"$f":"IF(【時計】入力欄!F117=\"\",\"\",【時計】入力欄!F117)","v":""},{"$f":"CONCATENATE(IF(【時計】入力欄!G117=\"\",\"\",【時計】入力欄!G117&\" \"),IF(【時計】入力欄!H117=\"\",\"\",【時計】入力欄!H117&\" \"),IF(【時計】入力欄!I117=\"\",\"\",【時計】入力欄!I117&\" \"),IF(【時計】入力欄!J117=\"\",\"\",【時計】入力欄!J117&\" \"))","v":""},{"$f":"IF(【時計】入力欄!K117=\"\",\"\",【時計】入力欄!K117&\"g\")","v":""},{"$f":"IF(【時計】入力欄!L117=\"\",\"\",【時計】入力欄!L117)","v":""},{"$f":"IF(【時計】入力欄!O117=\"\",\"\",【時計】入力欄!O117)","v":""}]
["３",{"$f":"IF(【時計】入力欄!E118=\"\",\"\",【時計】入力欄!E118)","v":""},{"$f":"IF(【時計】入力欄!F118=\"\",\"\",【時計】入力欄!F118)","v":""},{"$f":"CONCATENATE(IF(【時計】入力欄!G118=\"\",\"\",【時計】入力欄!G118&\" \"),IF(【時計】入力欄!H118=\"\",\"\",【時計】入力欄!H118&\" \"),IF(【時計】入力欄!I118=\"\",\"\",【時計】入力欄!I118&\" \"),IF(【時計】入力欄!J118=\"\",\"\",【時計】入力欄!J118&\" \"))","v":""},{"$f":"IF(【時計】入力欄!K118=\"\",\"\",【時計】入力欄!K118&\"g\")","v":""},{"$f":"IF(【時計】入力欄!L118=\"\",\"\",【時計】入力欄!L118)","v":""},{"$f":"IF(【時計】入力欄!O118=\"\",\"\",【時計】入力欄!O118)","v":""}]
["４",{"$f":"IF(【時計】入力欄!E119=\"\",\"\",【時計】入力欄!E119)","v":""},{"$f":"IF(【時計】入力欄!F119=\"\",\"\",【時計】入力欄!F119)","v":""},{"$f":"CONCATENATE(IF(【時計】入力欄!G119=\"\",\"\",【時計】入力欄!G119&\" \"),IF(【時計】入力欄!H119=\"\",\"\",【時計】入力欄!H119&\" \"),IF(【時計】入力欄!I119=\"\",\"\",【時計】入力欄!I119&\" \"),IF(【時計】入力欄!J119=\"\",\"\",【時計】入力欄!J119&\" \"))","v":""},{"$f":"IF(【時計】入力欄!K119=\"\",\"\",【時計】入力欄!K119&\"g\")","v":""},{"$f":"IF(【時計】入力欄!L119=\"\",\"\",【時計】入力欄!L119)","v":""},{"$f":"IF(【時計】入力欄!O119=\"\",\"\",【時計】入力欄!O119)","v":""}]
["５",{"$f":"IF(【時計】入力欄!E120=\"\",\"\",【時計】入力欄!E120)","v":""},{"$f":"IF(【時計】入力欄!F120=\"\",\"\",【時計】入力欄!F120)","v":""},{"$f":"CONCATENATE(IF(【時計】入力欄!G120=\"\",\"\",【時計】入力欄!G120&\" \"),IF(【時計】入力欄!H120=\"\",\"\",【時計】入力欄!H120&\" \"),IF(【時計】入力欄!I120=\"\",\"\",【時計】入力欄!I120&\" \"),IF(【時計】入力欄!J120=\"\",\"\",【時計】入力欄!J120&\" \"))","v":""},{"$f":"IF(【時計】入力欄!K120=\"\",\"\",【時計】入力欄!K120&\"g\")","v":""},{"$f":"IF(【時計】入力欄!L120=\"\",\"\",【時計】入力欄!L120)","v":""},{"$f":"IF(【時計】入力欄!O120=\"\",\"\",【時計】入力欄!O120)","v":""}]
["６",{"$f":"IF(【時計】入力欄!E121=\"\",\"\",【時計】入力欄!E121)","v":""},{"$f":"IF(【時計】入力欄!F121=\"\",\"\",【時計】入力欄!F121)","v":""},{"$f":"CONCATENATE(IF(【時計】入力欄!G121=\"\",\"\",【時計】入力欄!G121&\" \"),IF(【時計】入力欄!H121=\"\",\"\",【時計】入力欄!H121&\" \"),IF(【時計】入力欄!I121=\"\",\"\",【時計】入力欄!I121&\" \"),IF(【時計】入力欄!J121=\"\",\"\",【時計】入力欄!J121&\" \"))","v":""},{"$f":"IF(【時計】入力欄!K121=\"\",\"\",【時計】入力欄!K121&\"g\")","v":""},{"$f":"IF(【時計】入力欄!L121=\"\",\"\",【時計】入力欄!L121)","v":""},{"$f":"IF(【時計】入力欄!O121=\"\",\"\",【時計】入力欄!O121)","v":""}]
["７",{"$f":"IF(【時計】入力欄!E122=\"\",\"\",【時計】入力欄!E122)","v":""},{"$f":"IF(【時計】入力欄!F122=\"\",\"\",【時計】入力欄!F122)","v":""},{"$f":"CONCATENATE(IF(【時計】入力欄!G122=\"\",\"\",【時計】入力欄!G122&\" \"),IF(【時計】入力欄!H122=\"\",\"\",【時計】入力欄!H122&\" \"),IF(【時計】入力欄!I122=\"\",\"\",【時計】入力欄!I122&\" \"),IF(【時計】入力欄!J122=\"\",\"\",【時計】入力欄!J122&\" \"))","v":""},{"$f":"IF(【時計】入力欄!K122=\"\",\"\",【時計】入力欄!K122&\"g\")","v":""},{"$f":"IF(【時計】入力欄!L122=\"\",\"\",【時計】入力欄!L122)","v":""},{"$f":"IF(【時計】入力欄!O122=\"\",\"\",【時計】入力欄!O122)","v":""}]
["８",{"$f":"IF(【時計】入力欄!E123=\"\",\"\",【時計】入力欄!E123)","v":""},{"$f":"IF(【時計】入力欄!F123=\"\",\"\",【時計】入力欄!F123)","v":""},{"$f":"CONCATENATE(IF(【時計】入力欄!G123=\"\",\"\",【時計】入力欄!G123&\" \"),IF(【時計】入力欄!H123=\"\",\"\",【時計】入力欄!H123&\" \"),IF(【時計】入力欄!I123=\"\",\"\",【時計】入力欄!I123&\" \"),IF(【時計】入力欄!J123=\"\",\"\",【時計】入力欄!J123&\" \"))","v":""},{"$f":"IF(【時計】入力欄!K123=\"\",\"\",【時計】入力欄!K123&\"g\")","v":""},{"$f":"IF(【時計】入力欄!L123=\"\",\"\",【時計】入力欄!L123)","v":""},{"$f":"IF(【時計】入力欄!O123=\"\",\"\",【時計】入力欄!O123)","v":""}]
["９",{"$f":"IF(【時計】入力欄!E124=\"\",\"\",【時計】入力欄!E124)","v":""},{"$f":"IF(【時計】入力欄!F124=\"\",\"\",【時計】入力欄!F124)","v":""},{"$f":"CONCATENATE(IF(【時計】入力欄!G124=\"\",\"\",【時計】入力欄!G124&\" \"),IF(【時計】入力欄!H124=\"\",\"\",【時計】入力欄!H124&\" \"),IF(【時計】入力欄!I124=\"\",\"\",【時計】入力欄!I124&\" \"),IF(【時計】入力欄!J124=\"\",\"\",【時計】入力欄!J124&\" \"))","v":""},{"$f":"IF(【時計】入力欄!K124=\"\",\"\",【時計】入力欄!K124&\"g\")","v":""},{"$f":"IF(【時計】入力欄!L124=\"\",\"\",【時計】入力欄!L124)","v":""},{"$f":"IF(【時計】入力欄!O124=\"\",\"\",【時計】入力欄!O124)","v":""}]
["１０",{"$f":"IF(【時計】入力欄!E125=\"\",\"\",【時計】入力欄!E125)","v":""},{"$f":"IF(【時計】入力欄!F125=\"\",\"\",【時計】入力欄!F125)","v":""},{"$f":"CONCATENATE(IF(【時計】入力欄!G125=\"\",\"\",【時計】入力欄!G125&\" \"),IF(【時計】入力欄!H125=\"\",\"\",【時計】入力欄!H125&\" \"),IF(【時計】入力欄!I125=\"\",\"\",【時計】入力欄!I125&\" \"),IF(【時計】入力欄!J125=\"\",\"\",【時計】入力欄!J125&\" \"))","v":""},{"$f":"IF(【時計】入力欄!K125=\"\",\"\",【時計】入力欄!K125&\"g\")","v":""},{"$f":"IF(【時計】入力欄!L125=\"\",\"\",【時計】入力欄!L125)","v":""},{"$f":"IF(【時計】入力欄!O125=\"\",\"\",【時計】入力欄!O125)","v":""}]
[]
[" ",{"$f":"CONCATENATE(\"出品表　（　\",【時計】入力欄!I$3,\"大吉オークション　時計）\")","v":"出品表　（　大吉オークション　時計）"}]
[]
[null,"箱番：",{"$f":"IF(【時計】入力欄!C126=\"\",\"\",【時計】入力欄!C126)","v":""},"※太枠の中をご記入ください",null,"会社名",{"$f":"IF(【時計】入力欄!C$3=\"\",\"\",【時計】入力欄!C$3)","v":""}]
[]
["番号","ブランド","素材","詳細・特徴","重量","付属品","指値\n（3万円以上）","発句"]
["１",{"$f":"IF(【時計】入力欄!E126=\"\",\"\",【時計】入力欄!E126)","v":""},{"$f":"IF(【時計】入力欄!F126=\"\",\"\",【時計】入力欄!F126)","v":""},{"$f":"CONCATENATE(IF(【時計】入力欄!G126=\"\",\"\",【時計】入力欄!G126&\" \"),IF(【時計】入力欄!H126=\"\",\"\",【時計】入力欄!H126&\" \"),IF(【時計】入力欄!I126=\"\",\"\",【時計】入力欄!I126&\" \"),IF(【時計】入力欄!J126=\"\",\"\",【時計】入力欄!J126&\" \"))","v":""},{"$f":"IF(【時計】入力欄!K126=\"\",\"\",【時計】入力欄!K126&\"g\")","v":""},{"$f":"IF(【時計】入力欄!L126=\"\",\"\",【時計】入力欄!L126)","v":""},{"$f":"IF(【時計】入力欄!O126=\"\",\"\",【時計】入力欄!O126)","v":""}]
["２",{"$f":"IF(【時計】入力欄!E127=\"\",\"\",【時計】入力欄!E127)","v":""},{"$f":"IF(【時計】入力欄!F127=\"\",\"\",【時計】入力欄!F127)","v":""},{"$f":"CONCATENATE(IF(【時計】入力欄!G127=\"\",\"\",【時計】入力欄!G127&\" \"),IF(【時計】入力欄!H127=\"\",\"\",【時計】入力欄!H127&\" \"),IF(【時計】入力欄!I127=\"\",\"\",【時計】入力欄!I127&\" \"),IF(【時計】入力欄!J127=\"\",\"\",【時計】入力欄!J127&\" \"))","v":""},{"$f":"IF(【時計】入力欄!K127=\"\",\"\",【時計】入力欄!K127&\"g\")","v":""},{"$f":"IF(【時計】入力欄!L127=\"\",\"\",【時計】入力欄!L127)","v":""},{"$f":"IF(【時計】入力欄!O127=\"\",\"\",【時計】入力欄!O127)","v":""}]
["３",{"$f":"IF(【時計】入力欄!E128=\"\",\"\",【時計】入力欄!E128)","v":""},{"$f":"IF(【時計】入力欄!F128=\"\",\"\",【時計】入力欄!F128)","v":""},{"$f":"CONCATENATE(IF(【時計】入力欄!G128=\"\",\"\",【時計】入力欄!G128&\" \"),IF(【時計】入力欄!H128=\"\",\"\",【時計】入力欄!H128&\" \"),IF(【時計】入力欄!I128=\"\",\"\",【時計】入力欄!I128&\" \"),IF(【時計】入力欄!J128=\"\",\"\",【時計】入力欄!J128&\" \"))","v":""},{"$f":"IF(【時計】入力欄!K128=\"\",\"\",【時計】入力欄!K128&\"g\")","v":""},{"$f":"IF(【時計】入力欄!L128=\"\",\"\",【時計】入力欄!L128)","v":""},{"$f":"IF(【時計】入力欄!O128=\"\",\"\",【時計】入力欄!O128)","v":""}]
["４",{"$f":"IF(【時計】入力欄!E129=\"\",\"\",【時計】入力欄!E129)","v":""},{"$f":"IF(【時計】入力欄!F129=\"\",\"\",【時計】入力欄!F129)","v":""},{"$f":"CONCATENATE(IF(【時計】入力欄!G129=\"\",\"\",【時計】入力欄!G129&\" \"),IF(【時計】入力欄!H129=\"\",\"\",【時計】入力欄!H129&\" \"),IF(【時計】入力欄!I129=\"\",\"\",【時計】入力欄!I129&\" \"),IF(【時計】入力欄!J129=\"\",\"\",【時計】入力欄!J129&\" \"))","v":""},{"$f":"IF(【時計】入力欄!K129=\"\",\"\",【時計】入力欄!K129&\"g\")","v":""},{"$f":"IF(【時計】入力欄!L129=\"\",\"\",【時計】入力欄!L129)","v":""},{"$f":"IF(【時計】入力欄!O129=\"\",\"\",【時計】入力欄!O129)","v":""}]
["５",{"$f":"IF(【時計】入力欄!E130=\"\",\"\",【時計】入力欄!E130)","v":""},{"$f":"IF(【時計】入力欄!F130=\"\",\"\",【時計】入力欄!F130)","v":""},{"$f":"CONCATENATE(IF(【時計】入力欄!G130=\"\",\"\",【時計】入力欄!G130&\" \"),IF(【時計】入力欄!H130=\"\",\"\",【時計】入力欄!H130&\" \"),IF(【時計】入力欄!I130=\"\",\"\",【時計】入力欄!I130&\" \"),IF(【時計】入力欄!J130=\"\",\"\",【時計】入力欄!J130&\" \"))","v":""},{"$f":"IF(【時計】入力欄!K130=\"\",\"\",【時計】入力欄!K130&\"g\")","v":""},{"$f":"IF(【時計】入力欄!L130=\"\",\"\",【時計】入力欄!L130)","v":""},{"$f":"IF(【時計】入力欄!O130=\"\",\"\",【時計】入力欄!O130)","v":""}]
["６",{"$f":"IF(【時計】入力欄!E131=\"\",\"\",【時計】入力欄!E131)","v":""},{"$f":"IF(【時計】入力欄!F131=\"\",\"\",【時計】入力欄!F131)","v":""},{"$f":"CONCATENATE(IF(【時計】入力欄!G131=\"\",\"\",【時計】入力欄!G131&\" \"),IF(【時計】入力欄!H131=\"\",\"\",【時計】入力欄!H131&\" \"),IF(【時計】入力欄!I131=\"\",\"\",【時計】入力欄!I131&\" \"),IF(【時計】入力欄!J131=\"\",\"\",【時計】入力欄!J131&\" \"))","v":""},{"$f":"IF(【時計】入力欄!K131=\"\",\"\",【時計】入力欄!K131&\"g\")","v":""},{"$f":"IF(【時計】入力欄!L131=\"\",\"\",【時計】入力欄!L131)","v":""},{"$f":"IF(【時計】入力欄!O131=\"\",\"\",【時計】入力欄!O131)","v":""}]
["７",{"$f":"IF(【時計】入力欄!E132=\"\",\"\",【時計】入力欄!E132)","v":""},{"$f":"IF(【時計】入力欄!F132=\"\",\"\",【時計】入力欄!F132)","v":""},{"$f":"CONCATENATE(IF(【時計】入力欄!G132=\"\",\"\",【時計】入力欄!G132&\" \"),IF(【時計】入力欄!H132=\"\",\"\",【時計】入力欄!H132&\" \"),IF(【時計】入力欄!I132=\"\",\"\",【時計】入力欄!I132&\" \"),IF(【時計】入力欄!J132=\"\",\"\",【時計】入力欄!J132&\" \"))","v":""},{"$f":"IF(【時計】入力欄!K132=\"\",\"\",【時計】入力欄!K132&\"g\")","v":""},{"$f":"IF(【時計】入力欄!L132=\"\",\"\",【時計】入力欄!L132)","v":""},{"$f":"IF(【時計】入力欄!O132=\"\",\"\",【時計】入力欄!O132)","v":""}]
["８",{"$f":"IF(【時計】入力欄!E133=\"\",\"\",【時計】入力欄!E133)","v":""},{"$f":"IF(【時計】入力欄!F133=\"\",\"\",【時計】入力欄!F133)","v":""},{"$f":"CONCATENATE(IF(【時計】入力欄!G133=\"\",\"\",【時計】入力欄!G133&\" \"),IF(【時計】入力欄!H133=\"\",\"\",【時計】入力欄!H133&\" \"),IF(【時計】入力欄!I133=\"\",\"\",【時計】入力欄!I133&\" \"),IF(【時計】入力欄!J133=\"\",\"\",【時計】入力欄!J133&\" \"))","v":""},{"$f":"IF(【時計】入力欄!K133=\"\",\"\",【時計】入力欄!K133&\"g\")","v":""},{"$f":"IF(【時計】入力欄!L133=\"\",\"\",【時計】入力欄!L133)","v":""},{"$f":"IF(【時計】入力欄!O133=\"\",\"\",【時計】入力欄!O133)","v":""}]
["９",{"$f":"IF(【時計】入力欄!E134=\"\",\"\",【時計】入力欄!E134)","v":""},{"$f":"IF(【時計】入力欄!F134=\"\",\"\",【時計】入力欄!F134)","v":""},{"$f":"CONCATENATE(IF(【時計】入力欄!G134=\"\",\"\",【時計】入力欄!G134&\" \"),IF(【時計】入力欄!H134=\"\",\"\",【時計】入力欄!H134&\" \"),IF(【時計】入力欄!I134=\"\",\"\",【時計】入力欄!I134&\" \"),IF(【時計】入力欄!J134=\"\",\"\",【時計】入力欄!J134&\" \"))","v":""},{"$f":"IF(【時計】入力欄!K134=\"\",\"\",【時計】入力欄!K134&\"g\")","v":""},{"$f":"IF(【時計】入力欄!L134=\"\",\"\",【時計】入力欄!L134)","v":""},{"$f":"IF(【時計】入力欄!O134=\"\",\"\",【時計】入力欄!O134)","v":""}]
["１０",{"$f":"IF(【時計】入力欄!E135=\"\",\"\",【時計】入力欄!E135)","v":""},{"$f":"IF(【時計】入力欄!F135=\"\",\"\",【時計】入力欄!F135)","v":""},{"$f":"CONCATENATE(IF(【時計】入力欄!G135=\"\",\"\",【時計】入力欄!G135&\" \"),IF(【時計】入力欄!H135=\"\",\"\",【時計】入力欄!H135&\" \"),IF(【時計】入力欄!I135=\"\",\"\",【時計】入力欄!I135&\" \"),IF(【時計】入力欄!J135=\"\",\"\",【時計】入力欄!J135&\" \"))","v":""},{"$f":"IF(【時計】入力欄!K135=\"\",\"\",【時計】入力欄!K135&\"g\")","v":""},{"$f":"IF(【時計】入力欄!L135=\"\",\"\",【時計】入力欄!L135)","v":""},{"$f":"IF(【時計】入力欄!O135=\"\",\"\",【時計】入力欄!O135)","v":""}]
[]
[" ",{"$f":"CONCATENATE(\"出品表　（　\",【時計】入力欄!I$3,\"大吉オークション　時計）\")","v":"出品表　（　大吉オークション　時計）"}]
[]
[null,"箱番：",{"$f":"IF(【時計】入力欄!C136=\"\",\"\",【時計】入力欄!C136)","v":""},"※太枠の中をご記入ください",null,"会社名",{"$f":"IF(【時計】入力欄!C$3=\"\",\"\",【時計】入力欄!C$3)","v":""}]
[]
["番号","ブランド","素材","詳細・特徴","重量","付属品","指値\n（3万円以上）","発句"]
["１",{"$f":"IF(【時計】入力欄!E136=\"\",\"\",【時計】入力欄!E136)","v":""},{"$f":"IF(【時計】入力欄!F136=\"\",\"\",【時計】入力欄!F136)","v":""},{"$f":"CONCATENATE(IF(【時計】入力欄!G136=\"\",\"\",【時計】入力欄!G136&\" \"),IF(【時計】入力欄!H136=\"\",\"\",【時計】入力欄!H136&\" \"),IF(【時計】入力欄!I136=\"\",\"\",【時計】入力欄!I136&\" \"),IF(【時計】入力欄!J136=\"\",\"\",【時計】入力欄!J136&\" \"))","v":""},{"$f":"IF(【時計】入力欄!K136=\"\",\"\",【時計】入力欄!K136&\"g\")","v":""},{"$f":"IF(【時計】入力欄!L136=\"\",\"\",【時計】入力欄!L136)","v":""},{"$f":"IF(【時計】入力欄!O136=\"\",\"\",【時計】入力欄!O136)","v":""}]
["２",{"$f":"IF(【時計】入力欄!E137=\"\",\"\",【時計】入力欄!E137)","v":""},{"$f":"IF(【時計】入力欄!F137=\"\",\"\",【時計】入力欄!F137)","v":""},{"$f":"CONCATENATE(IF(【時計】入力欄!G137=\"\",\"\",【時計】入力欄!G137&\" \"),IF(【時計】入力欄!H137=\"\",\"\",【時計】入力欄!H137&\" \"),IF(【時計】入力欄!I137=\"\",\"\",【時計】入力欄!I137&\" \"),IF(【時計】入力欄!J137=\"\",\"\",【時計】入力欄!J137&\" \"))","v":""},{"$f":"IF(【時計】入力欄!K137=\"\",\"\",【時計】入力欄!K137&\"g\")","v":""},{"$f":"IF(【時計】入力欄!L137=\"\",\"\",【時計】入力欄!L137)","v":""},{"$f":"IF(【時計】入力欄!O137=\"\",\"\",【時計】入力欄!O137)","v":""}]
["３",{"$f":"IF(【時計】入力欄!E138=\"\",\"\",【時計】入力欄!E138)","v":""},{"$f":"IF(【時計】入力欄!F138=\"\",\"\",【時計】入力欄!F138)","v":""},{"$f":"CONCATENATE(IF(【時計】入力欄!G138=\"\",\"\",【時計】入力欄!G138&\" \"),IF(【時計】入力欄!H138=\"\",\"\",【時計】入力欄!H138&\" \"),IF(【時計】入力欄!I138=\"\",\"\",【時計】入力欄!I138&\" \"),IF(【時計】入力欄!J138=\"\",\"\",【時計】入力欄!J138&\" \"))","v":""},{"$f":"IF(【時計】入力欄!K138=\"\",\"\",【時計】入力欄!K138&\"g\")","v":""},{"$f":"IF(【時計】入力欄!L138=\"\",\"\",【時計】入力欄!L138)","v":""},{"$f":"IF(【時計】入力欄!O138=\"\",\"\",【時計】入力欄!O138)","v":""}]
["４",{"$f":"IF(【時計】入力欄!E139=\"\",\"\",【時計】入力欄!E139)","v":""},{"$f":"IF(【時計】入力欄!F139=\"\",\"\",【時計】入力欄!F139)","v":""},{"$f":"CONCATENATE(IF(【時計】入力欄!G139=\"\",\"\",【時計】入力欄!G139&\" \"),IF(【時計】入力欄!H139=\"\",\"\",【時計】入力欄!H139&\" \"),IF(【時計】入力欄!I139=\"\",\"\",【時計】入力欄!I139&\" \"),IF(【時計】入力欄!J139=\"\",\"\",【時計】入力欄!J139&\" \"))","v":""},{"$f":"IF(【時計】入力欄!K139=\"\",\"\",【時計】入力欄!K139&\"g\")","v":""},{"$f":"IF(【時計】入力欄!L139=\"\",\"\",【時計】入力欄!L139)","v":""},{"$f":"IF(【時計】入力欄!O139=\"\",\"\",【時計】入力欄!O139)","v":""}]
["５",{"$f":"IF(【時計】入力欄!E140=\"\",\"\",【時計】入力欄!E140)","v":""},{"$f":"IF(【時計】入力欄!F140=\"\",\"\",【時計】入力欄!F140)","v":""},{"$f":"CONCATENATE(IF(【時計】入力欄!G140=\"\",\"\",【時計】入力欄!G140&\" \"),IF(【時計】入力欄!H140=\"\",\"\",【時計】入力欄!H140&\" \"),IF(【時計】入力欄!I140=\"\",\"\",【時計】入力欄!I140&\" \"),IF(【時計】入力欄!J140=\"\",\"\",【時計】入力欄!J140&\" \"))","v":""},{"$f":"IF(【時計】入力欄!K140=\"\",\"\",【時計】入力欄!K140&\"g\")","v":""},{"$f":"IF(【時計】入力欄!L140=\"\",\"\",【時計】入力欄!L140)","v":""},{"$f":"IF(【時計】入力欄!O140=\"\",\"\",【時計】入力欄!O140)","v":""}]
["６",{"$f":"IF(【時計】入力欄!E141=\"\",\"\",【時計】入力欄!E141)","v":""},{"$f":"IF(【時計】入力欄!F141=\"\",\"\",【時計】入力欄!F141)","v":""},{"$f":"CONCATENATE(IF(【時計】入力欄!G141=\"\",\"\",【時計】入力欄!G141&\" \"),IF(【時計】入力欄!H141=\"\",\"\",【時計】入力欄!H141&\" \"),IF(【時計】入力欄!I141=\"\",\"\",【時計】入力欄!I141&\" \"),IF(【時計】入力欄!J141=\"\",\"\",【時計】入力欄!J141&\" \"))","v":""},{"$f":"IF(【時計】入力欄!K141=\"\",\"\",【時計】入力欄!K141&\"g\")","v":""},{"$f":"IF(【時計】入力欄!L141=\"\",\"\",【時計】入力欄!L141)","v":""},{"$f":"IF(【時計】入力欄!O141=\"\",\"\",【時計】入力欄!O141)","v":""}]
["７",{"$f":"IF(【時計】入力欄!E142=\"\",\"\",【時計】入力欄!E142)","v":""},{"$f":"IF(【時計】入力欄!F142=\"\",\"\",【時計】入力欄!F142)","v":""},{"$f":"CONCATENATE(IF(【時計】入力欄!G142=\"\",\"\",【時計】入力欄!G142&\" \"),IF(【時計】入力欄!H142=\"\",\"\",【時計】入力欄!H142&\" \"),IF(【時計】入力欄!I142=\"\",\"\",【時計】入力欄!I142&\" \"),IF(【時計】入力欄!J142=\"\",\"\",【時計】入力欄!J142&\" \"))","v":""},{"$f":"IF(【時計】入力欄!K142=\"\",\"\",【時計】入力欄!K142&\"g\")","v":""},{"$f":"IF(【時計】入力欄!L142=\"\",\"\",【時計】入力欄!L142)","v":""},{"$f":"IF(【時計】入力欄!O142=\"\",\"\",【時計】入力欄!O142)","v":""}]
["８",{"$f":"IF(【時計】入力欄!E143=\"\",\"\",【時計】入力欄!E143)","v":""},{"$f":"IF(【時計】入力欄!F143=\"\",\"\",【時計】入力欄!F143)","v":""},{"$f":"CONCATENATE(IF(【時計】入力欄!G143=\"\",\"\",【時計】入力欄!G143&\" \"),IF(【時計】入力欄!H143=\"\",\"\",【時計】入力欄!H143&\" \"),IF(【時計】入力欄!I143=\"\",\"\",【時計】入力欄!I143&\" \"),IF(【時計】入力欄!J143=\"\",\"\",【時計】入力欄!J143&\" \"))","v":""},{"$f":"IF(【時計】入力欄!K143=\"\",\"\",【時計】入力欄!K143&\"g\")","v":""},{"$f":"IF(【時計】入力欄!L143=\"\",\"\",【時計】入力欄!L143)","v":""},{"$f":"IF(【時計】入力欄!O143=\"\",\"\",【時計】入力欄!O143)","v":""}]
["９",{"$f":"IF(【時計】入力欄!E144=\"\",\"\",【時計】入力欄!E144)","v":""},{"$f":"IF(【時計】入力欄!F144=\"\",\"\",【時計】入力欄!F144)","v":""},{"$f":"CONCATENATE(IF(【時計】入力欄!G144=\"\",\"\",【時計】入力欄!G144&\" \"),IF(【時計】入力欄!H144=\"\",\"\",【時計】入力欄!H144&\" \"),IF(【時計】入力欄!I144=\"\",\"\",【時計】入力欄!I144&\" \"),IF(【時計】入力欄!J144=\"\",\"\",【時計】入力欄!J144&\" \"))","v":""},{"$f":"IF(【時計】入力欄!K144=\"\",\"\",【時計】入力欄!K144&\"g\")","v":""},{"$f":"IF(【時計】入力欄!L144=\"\",\"\",【時計】入力欄!L144)","v":""},{"$f":"IF(【時計】入力欄!O144=\"\",\"\",【時計】入力欄!O144)","v":""}]
["１０",{"$f":"IF(【時計】入力欄!E145=\"\",\"\",【時計】入力欄!E145)","v":""},{"$f":"IF(【時計】入力欄!F145=\"\",\"\",【時計】入力欄!F145)","v":""},{"$f":"CONCATENATE(IF(【時計】入力欄!G145=\"\",\"\",【時計】入力欄!G145&\" \"),IF(【時計】入力欄!H145=\"\",\"\",【時計】入力欄!H145&\" \"),IF(【時計】入力欄!I145=\"\",\"\",【時計】入力欄!I145&\" \"),IF(【時計】入力欄!J145=\"\",\"\",【時計】入力欄!J145&\" \"))","v":""},{"$f":"IF(【時計】入力欄!K145=\"\",\"\",【時計】入力欄!K145&\"g\")","v":""},{"$f":"IF(【時計】入力欄!L145=\"\",\"\",【時計】入力欄!L145)","v":""},{"$f":"IF(【時計】入力欄!O145=\"\",\"\",【時計】入力欄!O145)","v":""}]
[]
[" ",{"$f":"CONCATENATE(\"出品表　（　\",【時計】入力欄!I$3,\"大吉オークション　時計）\")","v":"出品表　（　大吉オークション　時計）"}]
[]
[null,"箱番：",{"$f":"IF(【時計】入力欄!C146=\"\",\"\",【時計】入力欄!C146)","v":""},"※太枠の中をご記入ください",null,"会社名",{"$f":"IF(【時計】入力欄!C$3=\"\",\"\",【時計】入力欄!C$3)","v":""}]
[]
["番号","ブランド","素材","詳細・特徴","重量","付属品","指値\n（3万円以上）","発句"]
["１",{"$f":"IF(【時計】入力欄!E146=\"\",\"\",【時計】入力欄!E146)","v":""},{"$f":"IF(【時計】入力欄!F146=\"\",\"\",【時計】入力欄!F146)","v":""},{"$f":"CONCATENATE(IF(【時計】入力欄!G146=\"\",\"\",【時計】入力欄!G146&\" \"),IF(【時計】入力欄!H146=\"\",\"\",【時計】入力欄!H146&\" \"),IF(【時計】入力欄!I146=\"\",\"\",【時計】入力欄!I146&\" \"),IF(【時計】入力欄!J146=\"\",\"\",【時計】入力欄!J146&\" \"))","v":""},{"$f":"IF(【時計】入力欄!K146=\"\",\"\",【時計】入力欄!K146&\"g\")","v":""},{"$f":"IF(【時計】入力欄!L146=\"\",\"\",【時計】入力欄!L146)","v":""},{"$f":"IF(【時計】入力欄!O146=\"\",\"\",【時計】入力欄!O146)","v":""}]
["２",{"$f":"IF(【時計】入力欄!E147=\"\",\"\",【時計】入力欄!E147)","v":""},{"$f":"IF(【時計】入力欄!F147=\"\",\"\",【時計】入力欄!F147)","v":""},{"$f":"CONCATENATE(IF(【時計】入力欄!G147=\"\",\"\",【時計】入力欄!G147&\" \"),IF(【時計】入力欄!H147=\"\",\"\",【時計】入力欄!H147&\" \"),IF(【時計】入力欄!I147=\"\",\"\",【時計】入力欄!I147&\" \"),IF(【時計】入力欄!J147=\"\",\"\",【時計】入力欄!J147&\" \"))","v":""},{"$f":"IF(【時計】入力欄!K147=\"\",\"\",【時計】入力欄!K147&\"g\")","v":""},{"$f":"IF(【時計】入力欄!L147=\"\",\"\",【時計】入力欄!L147)","v":""},{"$f":"IF(【時計】入力欄!O147=\"\",\"\",【時計】入力欄!O147)","v":""}]
["３",{"$f":"IF(【時計】入力欄!E148=\"\",\"\",【時計】入力欄!E148)","v":""},{"$f":"IF(【時計】入力欄!F148=\"\",\"\",【時計】入力欄!F148)","v":""},{"$f":"CONCATENATE(IF(【時計】入力欄!G148=\"\",\"\",【時計】入力欄!G148&\" \"),IF(【時計】入力欄!H148=\"\",\"\",【時計】入力欄!H148&\" \"),IF(【時計】入力欄!I148=\"\",\"\",【時計】入力欄!I148&\" \"),IF(【時計】入力欄!J148=\"\",\"\",【時計】入力欄!J148&\" \"))","v":""},{"$f":"IF(【時計】入力欄!K148=\"\",\"\",【時計】入力欄!K148&\"g\")","v":""},{"$f":"IF(【時計】入力欄!L148=\"\",\"\",【時計】入力欄!L148)","v":""},{"$f":"IF(【時計】入力欄!O148=\"\",\"\",【時計】入力欄!O148)","v":""}]
["４",{"$f":"IF(【時計】入力欄!E149=\"\",\"\",【時計】入力欄!E149)","v":""},{"$f":"IF(【時計】入力欄!F149=\"\",\"\",【時計】入力欄!F149)","v":""},{"$f":"CONCATENATE(IF(【時計】入力欄!G149=\"\",\"\",【時計】入力欄!G149&\" \"),IF(【時計】入力欄!H149=\"\",\"\",【時計】入力欄!H149&\" \"),IF(【時計】入力欄!I149=\"\",\"\",【時計】入力欄!I149&\" \"),IF(【時計】入力欄!J149=\"\",\"\",【時計】入力欄!J149&\" \"))","v":""},{"$f":"IF(【時計】入力欄!K149=\"\",\"\",【時計】入力欄!K149&\"g\")","v":""},{"$f":"IF(【時計】入力欄!L149=\"\",\"\",【時計】入力欄!L149)","v":""},{"$f":"IF(【時計】入力欄!O149=\"\",\"\",【時計】入力欄!O149)","v":""}]
["５",{"$f":"IF(【時計】入力欄!E150=\"\",\"\",【時計】入力欄!E150)","v":""},{"$f":"IF(【時計】入力欄!F150=\"\",\"\",【時計】入力欄!F150)","v":""},{"$f":"CONCATENATE(IF(【時計】入力欄!G150=\"\",\"\",【時計】入力欄!G150&\" \"),IF(【時計】入力欄!H150=\"\",\"\",【時計】入力欄!H150&\" \"),IF(【時計】入力欄!I150=\"\",\"\",【時計】入力欄!I150&\" \"),IF(【時計】入力欄!J150=\"\",\"\",【時計】入力欄!J150&\" \"))","v":""},{"$f":"IF(【時計】入力欄!K150=\"\",\"\",【時計】入力欄!K150&\"g\")","v":""},{"$f":"IF(【時計】入力欄!L150=\"\",\"\",【時計】入力欄!L150)","v":""},{"$f":"IF(【時計】入力欄!O150=\"\",\"\",【時計】入力欄!O150)","v":""}]
["６",{"$f":"IF(【時計】入力欄!E151=\"\",\"\",【時計】入力欄!E151)","v":""},{"$f":"IF(【時計】入力欄!F151=\"\",\"\",【時計】入力欄!F151)","v":""},{"$f":"CONCATENATE(IF(【時計】入力欄!G151=\"\",\"\",【時計】入力欄!G151&\" \"),IF(【時計】入力欄!H151=\"\",\"\",【時計】入力欄!H151&\" \"),IF(【時計】入力欄!I151=\"\",\"\",【時計】入力欄!I151&\" \"),IF(【時計】入力欄!J151=\"\",\"\",【時計】入力欄!J151&\" \"))","v":""},{"$f":"IF(【時計】入力欄!K151=\"\",\"\",【時計】入力欄!K151&\"g\")","v":""},{"$f":"IF(【時計】入力欄!L151=\"\",\"\",【時計】入力欄!L151)","v":""},{"$f":"IF(【時計】入力欄!O151=\"\",\"\",【時計】入力欄!O151)","v":""}]
["７",{"$f":"IF(【時計】入力欄!E152=\"\",\"\",【時計】入力欄!E152)","v":""},{"$f":"IF(【時計】入力欄!F152=\"\",\"\",【時計】入力欄!F152)","v":""},{"$f":"CONCATENATE(IF(【時計】入力欄!G152=\"\",\"\",【時計】入力欄!G152&\" \"),IF(【時計】入力欄!H152=\"\",\"\",【時計】入力欄!H152&\" \"),IF(【時計】入力欄!I152=\"\",\"\",【時計】入力欄!I152&\" \"),IF(【時計】入力欄!J152=\"\",\"\",【時計】入力欄!J152&\" \"))","v":""},{"$f":"IF(【時計】入力欄!K152=\"\",\"\",【時計】入力欄!K152&\"g\")","v":""},{"$f":"IF(【時計】入力欄!L152=\"\",\"\",【時計】入力欄!L152)","v":""},{"$f":"IF(【時計】入力欄!O152=\"\",\"\",【時計】入力欄!O152)","v":""}]
["８",{"$f":"IF(【時計】入力欄!E153=\"\",\"\",【時計】入力欄!E153)","v":""},{"$f":"IF(【時計】入力欄!F153=\"\",\"\",【時計】入力欄!F153)","v":""},{"$f":"CONCATENATE(IF(【時計】入力欄!G153=\"\",\"\",【時計】入力欄!G153&\" \"),IF(【時計】入力欄!H153=\"\",\"\",【時計】入力欄!H153&\" \"),IF(【時計】入力欄!I153=\"\",\"\",【時計】入力欄!I153&\" \"),IF(【時計】入力欄!J153=\"\",\"\",【時計】入力欄!J153&\" \"))","v":""},{"$f":"IF(【時計】入力欄!K153=\"\",\"\",【時計】入力欄!K153&\"g\")","v":""},{"$f":"IF(【時計】入力欄!L153=\"\",\"\",【時計】入力欄!L153)","v":""},{"$f":"IF(【時計】入力欄!O153=\"\",\"\",【時計】入力欄!O153)","v":""}]
["９",{"$f":"IF(【時計】入力欄!E154=\"\",\"\",【時計】入力欄!E154)","v":""},{"$f":"IF(【時計】入力欄!F154=\"\",\"\",【時計】入力欄!F154)","v":""},{"$f":"CONCATENATE(IF(【時計】入力欄!G154=\"\",\"\",【時計】入力欄!G154&\" \"),IF(【時計】入力欄!H154=\"\",\"\",【時計】入力欄!H154&\" \"),IF(【時計】入力欄!I154=\"\",\"\",【時計】入力欄!I154&\" \"),IF(【時計】入力欄!J154=\"\",\"\",【時計】入力欄!J154&\" \"))","v":""},{"$f":"IF(【時計】入力欄!K154=\"\",\"\",【時計】入力欄!K154&\"g\")","v":""},{"$f":"IF(【時計】入力欄!L154=\"\",\"\",【時計】入力欄!L154)","v":""},{"$f":"IF(【時計】入力欄!O154=\"\",\"\",【時計】入力欄!O154)","v":""}]
["１０",{"$f":"IF(【時計】入力欄!E155=\"\",\"\",【時計】入力欄!E155)","v":""},{"$f":"IF(【時計】入力欄!F155=\"\",\"\",【時計】入力欄!F155)","v":""},{"$f":"CONCATENATE(IF(【時計】入力欄!G155=\"\",\"\",【時計】入力欄!G155&\" \"),IF(【時計】入力欄!H155=\"\",\"\",【時計】入力欄!H155&\" \"),IF(【時計】入力欄!I155=\"\",\"\",【時計】入力欄!I155&\" \"),IF(【時計】入力欄!J155=\"\",\"\",【時計】入力欄!J155&\" \"))","v":""},{"$f":"IF(【時計】入力欄!K155=\"\",\"\",【時計】入力欄!K155&\"g\")","v":""},{"$f":"IF(【時計】入力欄!L155=\"\",\"\",【時計】入力欄!L155)","v":""},{"$f":"IF(【時計】入力欄!O155=\"\",\"\",【時計】入力欄!O155)","v":""}]
[]
[" ",{"$f":"CONCATENATE(\"出品表　（　\",【時計】入力欄!I$3,\"大吉オークション　時計）\")","v":"出品表　（　大吉オークション　時計）"}]
[]
[null,"箱番：",{"$f":"IF(【時計】入力欄!C156=\"\",\"\",【時計】入力欄!C156)","v":""},"※太枠の中をご記入ください",null,"会社名",{"$f":"IF(【時計】入力欄!C$3=\"\",\"\",【時計】入力欄!C$3)","v":""}]
[]
["番号","ブランド","素材","詳細・特徴","重量","付属品","指値\n（3万円以上）","発句"]
["１",{"$f":"IF(【時計】入力欄!E156=\"\",\"\",【時計】入力欄!E156)","v":""},{"$f":"IF(【時計】入力欄!F156=\"\",\"\",【時計】入力欄!F156)","v":""},{"$f":"CONCATENATE(IF(【時計】入力欄!G156=\"\",\"\",【時計】入力欄!G156&\" \"),IF(【時計】入力欄!H156=\"\",\"\",【時計】入力欄!H156&\" \"),IF(【時計】入力欄!I156=\"\",\"\",【時計】入力欄!I156&\" \"),IF(【時計】入力欄!J156=\"\",\"\",【時計】入力欄!J156&\" \"))","v":""},{"$f":"IF(【時計】入力欄!K156=\"\",\"\",【時計】入力欄!K156&\"g\")","v":""},{"$f":"IF(【時計】入力欄!L156=\"\",\"\",【時計】入力欄!L156)","v":""},{"$f":"IF(【時計】入力欄!O156=\"\",\"\",【時計】入力欄!O156)","v":""}]
["２",{"$f":"IF(【時計】入力欄!E157=\"\",\"\",【時計】入力欄!E157)","v":""},{"$f":"IF(【時計】入力欄!F157=\"\",\"\",【時計】入力欄!F157)","v":""},{"$f":"CONCATENATE(IF(【時計】入力欄!G157=\"\",\"\",【時計】入力欄!G157&\" \"),IF(【時計】入力欄!H157=\"\",\"\",【時計】入力欄!H157&\" \"),IF(【時計】入力欄!I157=\"\",\"\",【時計】入力欄!I157&\" \"),IF(【時計】入力欄!J157=\"\",\"\",【時計】入力欄!J157&\" \"))","v":""},{"$f":"IF(【時計】入力欄!K157=\"\",\"\",【時計】入力欄!K157&\"g\")","v":""},{"$f":"IF(【時計】入力欄!L157=\"\",\"\",【時計】入力欄!L157)","v":""},{"$f":"IF(【時計】入力欄!O157=\"\",\"\",【時計】入力欄!O157)","v":""}]
["３",{"$f":"IF(【時計】入力欄!E158=\"\",\"\",【時計】入力欄!E158)","v":""},{"$f":"IF(【時計】入力欄!F158=\"\",\"\",【時計】入力欄!F158)","v":""},{"$f":"CONCATENATE(IF(【時計】入力欄!G158=\"\",\"\",【時計】入力欄!G158&\" \"),IF(【時計】入力欄!H158=\"\",\"\",【時計】入力欄!H158&\" \"),IF(【時計】入力欄!I158=\"\",\"\",【時計】入力欄!I158&\" \"),IF(【時計】入力欄!J158=\"\",\"\",【時計】入力欄!J158&\" \"))","v":""},{"$f":"IF(【時計】入力欄!K158=\"\",\"\",【時計】入力欄!K158&\"g\")","v":""},{"$f":"IF(【時計】入力欄!L158=\"\",\"\",【時計】入力欄!L158)","v":""},{"$f":"IF(【時計】入力欄!O158=\"\",\"\",【時計】入力欄!O158)","v":""}]
["４",{"$f":"IF(【時計】入力欄!E159=\"\",\"\",【時計】入力欄!E159)","v":""},{"$f":"IF(【時計】入力欄!F159=\"\",\"\",【時計】入力欄!F159)","v":""},{"$f":"CONCATENATE(IF(【時計】入力欄!G159=\"\",\"\",【時計】入力欄!G159&\" \"),IF(【時計】入力欄!H159=\"\",\"\",【時計】入力欄!H159&\" \"),IF(【時計】入力欄!I159=\"\",\"\",【時計】入力欄!I159&\" \"),IF(【時計】入力欄!J159=\"\",\"\",【時計】入力欄!J159&\" \"))","v":""},{"$f":"IF(【時計】入力欄!K159=\"\",\"\",【時計】入力欄!K159&\"g\")","v":""},{"$f":"IF(【時計】入力欄!L159=\"\",\"\",【時計】入力欄!L159)","v":""},{"$f":"IF(【時計】入力欄!O159=\"\",\"\",【時計】入力欄!O159)","v":""}]
["５",{"$f":"IF(【時計】入力欄!E160=\"\",\"\",【時計】入力欄!E160)","v":""},{"$f":"IF(【時計】入力欄!F160=\"\",\"\",【時計】入力欄!F160)","v":""},{"$f":"CONCATENATE(IF(【時計】入力欄!G160=\"\",\"\",【時計】入力欄!G160&\" \"),IF(【時計】入力欄!H160=\"\",\"\",【時計】入力欄!H160&\" \"),IF(【時計】入力欄!I160=\"\",\"\",【時計】入力欄!I160&\" \"),IF(【時計】入力欄!J160=\"\",\"\",【時計】入力欄!J160&\" \"))","v":""},{"$f":"IF(【時計】入力欄!K160=\"\",\"\",【時計】入力欄!K160&\"g\")","v":""},{"$f":"IF(【時計】入力欄!L160=\"\",\"\",【時計】入力欄!L160)","v":""},{"$f":"IF(【時計】入力欄!O160=\"\",\"\",【時計】入力欄!O160)","v":""}]
["６",{"$f":"IF(【時計】入力欄!E161=\"\",\"\",【時計】入力欄!E161)","v":""},{"$f":"IF(【時計】入力欄!F161=\"\",\"\",【時計】入力欄!F161)","v":""},{"$f":"CONCATENATE(IF(【時計】入力欄!G161=\"\",\"\",【時計】入力欄!G161&\" \"),IF(【時計】入力欄!H161=\"\",\"\",【時計】入力欄!H161&\" \"),IF(【時計】入力欄!I161=\"\",\"\",【時計】入力欄!I161&\" \"),IF(【時計】入力欄!J161=\"\",\"\",【時計】入力欄!J161&\" \"))","v":""},{"$f":"IF(【時計】入力欄!K161=\"\",\"\",【時計】入力欄!K161&\"g\")","v":""},{"$f":"IF(【時計】入力欄!L161=\"\",\"\",【時計】入力欄!L161)","v":""},{"$f":"IF(【時計】入力欄!O161=\"\",\"\",【時計】入力欄!O161)","v":""}]
["７",{"$f":"IF(【時計】入力欄!E162=\"\",\"\",【時計】入力欄!E162)","v":""},{"$f":"IF(【時計】入力欄!F162=\"\",\"\",【時計】入力欄!F162)","v":""},{"$f":"CONCATENATE(IF(【時計】入力欄!G162=\"\",\"\",【時計】入力欄!G162&\" \"),IF(【時計】入力欄!H162=\"\",\"\",【時計】入力欄!H162&\" \"),IF(【時計】入力欄!I162=\"\",\"\",【時計】入力欄!I162&\" \"),IF(【時計】入力欄!J162=\"\",\"\",【時計】入力欄!J162&\" \"))","v":""},{"$f":"IF(【時計】入力欄!K162=\"\",\"\",【時計】入力欄!K162&\"g\")","v":""},{"$f":"IF(【時計】入力欄!L162=\"\",\"\",【時計】入力欄!L162)","v":""},{"$f":"IF(【時計】入力欄!O162=\"\",\"\",【時計】入力欄!O162)","v":""}]
["８",{"$f":"IF(【時計】入力欄!E163=\"\",\"\",【時計】入力欄!E163)","v":""},{"$f":"IF(【時計】入力欄!F163=\"\",\"\",【時計】入力欄!F163)","v":""},{"$f":"CONCATENATE(IF(【時計】入力欄!G163=\"\",\"\",【時計】入力欄!G163&\" \"),IF(【時計】入力欄!H163=\"\",\"\",【時計】入力欄!H163&\" \"),IF(【時計】入力欄!I163=\"\",\"\",【時計】入力欄!I163&\" \"),IF(【時計】入力欄!J163=\"\",\"\",【時計】入力欄!J163&\" \"))","v":""},{"$f":"IF(【時計】入力欄!K163=\"\",\"\",【時計】入力欄!K163&\"g\")","v":""},{"$f":"IF(【時計】入力欄!L163=\"\",\"\",【時計】入力欄!L163)","v":""},{"$f":"IF(【時計】入力欄!O163=\"\",\"\",【時計】入力欄!O163)","v":""}]
["９",{"$f":"IF(【時計】入力欄!E164=\"\",\"\",【時計】入力欄!E164)","v":""},{"$f":"IF(【時計】入力欄!F164=\"\",\"\",【時計】入力欄!F164)","v":""},{"$f":"CONCATENATE(IF(【時計】入力欄!G164=\"\",\"\",【時計】入力欄!G164&\" \"),IF(【時計】入力欄!H164=\"\",\"\",【時計】入力欄!H164&\" \"),IF(【時計】入力欄!I164=\"\",\"\",【時計】入力欄!I164&\" \"),IF(【時計】入力欄!J164=\"\",\"\",【時計】入力欄!J164&\" \"))","v":""},{"$f":"IF(【時計】入力欄!K164=\"\",\"\",【時計】入力欄!K164&\"g\")","v":""},{"$f":"IF(【時計】入力欄!L164=\"\",\"\",【時計】入力欄!L164)","v":""},{"$f":"IF(【時計】入力欄!O164=\"\",\"\",【時計】入力欄!O164)","v":""}]
["１０",{"$f":"IF(【時計】入力欄!E165=\"\",\"\",【時計】入力欄!E165)","v":""},{"$f":"IF(【時計】入力欄!F165=\"\",\"\",【時計】入力欄!F165)","v":""},{"$f":"CONCATENATE(IF(【時計】入力欄!G165=\"\",\"\",【時計】入力欄!G165&\" \"),IF(【時計】入力欄!H165=\"\",\"\",【時計】入力欄!H165&\" \"),IF(【時計】入力欄!I165=\"\",\"\",【時計】入力欄!I165&\" \"),IF(【時計】入力欄!J165=\"\",\"\",【時計】入力欄!J165&\" \"))","v":""},{"$f":"IF(【時計】入力欄!K165=\"\",\"\",【時計】入力欄!K165&\"g\")","v":""},{"$f":"IF(【時計】入力欄!L165=\"\",\"\",【時計】入力欄!L165)","v":""},{"$f":"IF(【時計】入力欄!O165=\"\",\"\",【時計】入力欄!O165)","v":""}]
[]
[" ",{"$f":"CONCATENATE(\"出品表　（　\",【時計】入力欄!I$3,\"大吉オークション　時計）\")","v":"出品表　（　大吉オークション　時計）"}]
[]
[null,"箱番：",{"$f":"IF(【時計】入力欄!C166=\"\",\"\",【時計】入力欄!C166)","v":""},"※太枠の中をご記入ください",null,"会社名",{"$f":"IF(【時計】入力欄!C$3=\"\",\"\",【時計】入力欄!C$3)","v":""}]
[]
["番号","ブランド","素材","詳細・特徴","重量","付属品","指値\n（3万円以上）","発句"]
["１",{"$f":"IF(【時計】入力欄!E166=\"\",\"\",【時計】入力欄!E166)","v":""},{"$f":"IF(【時計】入力欄!F166=\"\",\"\",【時計】入力欄!F166)","v":""},{"$f":"CONCATENATE(IF(【時計】入力欄!G166=\"\",\"\",【時計】入力欄!G166&\" \"),IF(【時計】入力欄!H166=\"\",\"\",【時計】入力欄!H166&\" \"),IF(【時計】入力欄!I166=\"\",\"\",【時計】入力欄!I166&\" \"),IF(【時計】入力欄!J166=\"\",\"\",【時計】入力欄!J166&\" \"))","v":""},{"$f":"IF(【時計】入力欄!K166=\"\",\"\",【時計】入力欄!K166&\"g\")","v":""},{"$f":"IF(【時計】入力欄!L166=\"\",\"\",【時計】入力欄!L166)","v":""},{"$f":"IF(【時計】入力欄!O166=\"\",\"\",【時計】入力欄!O166)","v":""}]
["２",{"$f":"IF(【時計】入力欄!E167=\"\",\"\",【時計】入力欄!E167)","v":""},{"$f":"IF(【時計】入力欄!F167=\"\",\"\",【時計】入力欄!F167)","v":""},{"$f":"CONCATENATE(IF(【時計】入力欄!G167=\"\",\"\",【時計】入力欄!G167&\" \"),IF(【時計】入力欄!H167=\"\",\"\",【時計】入力欄!H167&\" \"),IF(【時計】入力欄!I167=\"\",\"\",【時計】入力欄!I167&\" \"),IF(【時計】入力欄!J167=\"\",\"\",【時計】入力欄!J167&\" \"))","v":""},{"$f":"IF(【時計】入力欄!K167=\"\",\"\",【時計】入力欄!K167&\"g\")","v":""},{"$f":"IF(【時計】入力欄!L167=\"\",\"\",【時計】入力欄!L167)","v":""},{"$f":"IF(【時計】入力欄!O167=\"\",\"\",【時計】入力欄!O167)","v":""}]
["３",{"$f":"IF(【時計】入力欄!E168=\"\",\"\",【時計】入力欄!E168)","v":""},{"$f":"IF(【時計】入力欄!F168=\"\",\"\",【時計】入力欄!F168)","v":""},{"$f":"CONCATENATE(IF(【時計】入力欄!G168=\"\",\"\",【時計】入力欄!G168&\" \"),IF(【時計】入力欄!H168=\"\",\"\",【時計】入力欄!H168&\" \"),IF(【時計】入力欄!I168=\"\",\"\",【時計】入力欄!I168&\" \"),IF(【時計】入力欄!J168=\"\",\"\",【時計】入力欄!J168&\" \"))","v":""},{"$f":"IF(【時計】入力欄!K168=\"\",\"\",【時計】入力欄!K168&\"g\")","v":""},{"$f":"IF(【時計】入力欄!L168=\"\",\"\",【時計】入力欄!L168)","v":""},{"$f":"IF(【時計】入力欄!O168=\"\",\"\",【時計】入力欄!O168)","v":""}]
["４",{"$f":"IF(【時計】入力欄!E169=\"\",\"\",【時計】入力欄!E169)","v":""},{"$f":"IF(【時計】入力欄!F169=\"\",\"\",【時計】入力欄!F169)","v":""},{"$f":"CONCATENATE(IF(【時計】入力欄!G169=\"\",\"\",【時計】入力欄!G169&\" \"),IF(【時計】入力欄!H169=\"\",\"\",【時計】入力欄!H169&\" \"),IF(【時計】入力欄!I169=\"\",\"\",【時計】入力欄!I169&\" \"),IF(【時計】入力欄!J169=\"\",\"\",【時計】入力欄!J169&\" \"))","v":""},{"$f":"IF(【時計】入力欄!K169=\"\",\"\",【時計】入力欄!K169&\"g\")","v":""},{"$f":"IF(【時計】入力欄!L169=\"\",\"\",【時計】入力欄!L169)","v":""},{"$f":"IF(【時計】入力欄!O169=\"\",\"\",【時計】入力欄!O169)","v":""}]
["５",{"$f":"IF(【時計】入力欄!E170=\"\",\"\",【時計】入力欄!E170)","v":""},{"$f":"IF(【時計】入力欄!F170=\"\",\"\",【時計】入力欄!F170)","v":""},{"$f":"CONCATENATE(IF(【時計】入力欄!G170=\"\",\"\",【時計】入力欄!G170&\" \"),IF(【時計】入力欄!H170=\"\",\"\",【時計】入力欄!H170&\" \"),IF(【時計】入力欄!I170=\"\",\"\",【時計】入力欄!I170&\" \"),IF(【時計】入力欄!J170=\"\",\"\",【時計】入力欄!J170&\" \"))","v":""},{"$f":"IF(【時計】入力欄!K170=\"\",\"\",【時計】入力欄!K170&\"g\")","v":""},{"$f":"IF(【時計】入力欄!L170=\"\",\"\",【時計】入力欄!L170)","v":""},{"$f":"IF(【時計】入力欄!O170=\"\",\"\",【時計】入力欄!O170)","v":""}]
["６",{"$f":"IF(【時計】入力欄!E171=\"\",\"\",【時計】入力欄!E171)","v":""},{"$f":"IF(【時計】入力欄!F171=\"\",\"\",【時計】入力欄!F171)","v":""},{"$f":"CONCATENATE(IF(【時計】入力欄!G171=\"\",\"\",【時計】入力欄!G171&\" \"),IF(【時計】入力欄!H171=\"\",\"\",【時計】入力欄!H171&\" \"),IF(【時計】入力欄!I171=\"\",\"\",【時計】入力欄!I171&\" \"),IF(【時計】入力欄!J171=\"\",\"\",【時計】入力欄!J171&\" \"))","v":""},{"$f":"IF(【時計】入力欄!K171=\"\",\"\",【時計】入力欄!K171&\"g\")","v":""},{"$f":"IF(【時計】入力欄!L171=\"\",\"\",【時計】入力欄!L171)","v":""},{"$f":"IF(【時計】入力欄!O171=\"\",\"\",【時計】入力欄!O171)","v":""}]
["７",{"$f":"IF(【時計】入力欄!E172=\"\",\"\",【時計】入力欄!E172)","v":""},{"$f":"IF(【時計】入力欄!F172=\"\",\"\",【時計】入力欄!F172)","v":""},{"$f":"CONCATENATE(IF(【時計】入力欄!G172=\"\",\"\",【時計】入力欄!G172&\" \"),IF(【時計】入力欄!H172=\"\",\"\",【時計】入力欄!H172&\" \"),IF(【時計】入力欄!I172=\"\",\"\",【時計】入力欄!I172&\" \"),IF(【時計】入力欄!J172=\"\",\"\",【時計】入力欄!J172&\" \"))","v":""},{"$f":"IF(【時計】入力欄!K172=\"\",\"\",【時計】入力欄!K172&\"g\")","v":""},{"$f":"IF(【時計】入力欄!L172=\"\",\"\",【時計】入力欄!L172)","v":""},{"$f":"IF(【時計】入力欄!O172=\"\",\"\",【時計】入力欄!O172)","v":""}]
["８",{"$f":"IF(【時計】入力欄!E173=\"\",\"\",【時計】入力欄!E173)","v":""},{"$f":"IF(【時計】入力欄!F173=\"\",\"\",【時計】入力欄!F173)","v":""},{"$f":"CONCATENATE(IF(【時計】入力欄!G173=\"\",\"\",【時計】入力欄!G173&\" \"),IF(【時計】入力欄!H173=\"\",\"\",【時計】入力欄!H173&\" \"),IF(【時計】入力欄!I173=\"\",\"\",【時計】入力欄!I173&\" \"),IF(【時計】入力欄!J173=\"\",\"\",【時計】入力欄!J173&\" \"))","v":""},{"$f":"IF(【時計】入力欄!K173=\"\",\"\",【時計】入力欄!K173&\"g\")","v":""},{"$f":"IF(【時計】入力欄!L173=\"\",\"\",【時計】入力欄!L173)","v":""},{"$f":"IF(【時計】入力欄!O173=\"\",\"\",【時計】入力欄!O173)","v":""}]
["９",{"$f":"IF(【時計】入力欄!E174=\"\",\"\",【時計】入力欄!E174)","v":""},{"$f":"IF(【時計】入力欄!F174=\"\",\"\",【時計】入力欄!F174)","v":""},{"$f":"CONCATENATE(IF(【時計】入力欄!G174=\"\",\"\",【時計】入力欄!G174&\" \"),IF(【時計】入力欄!H174=\"\",\"\",【時計】入力欄!H174&\" \"),IF(【時計】入力欄!I174=\"\",\"\",【時計】入力欄!I174&\" \"),IF(【時計】入力欄!J174=\"\",\"\",【時計】入力欄!J174&\" \"))","v":""},{"$f":"IF(【時計】入力欄!K174=\"\",\"\",【時計】入力欄!K174&\"g\")","v":""},{"$f":"IF(【時計】入力欄!L174=\"\",\"\",【時計】入力欄!L174)","v":""},{"$f":"IF(【時計】入力欄!O174=\"\",\"\",【時計】入力欄!O174)","v":""}]
["１０",{"$f":"IF(【時計】入力欄!E175=\"\",\"\",【時計】入力欄!E175)","v":""},{"$f":"IF(【時計】入力欄!F175=\"\",\"\",【時計】入力欄!F175)","v":""},{"$f":"CONCATENATE(IF(【時計】入力欄!G175=\"\",\"\",【時計】入力欄!G175&\" \"),IF(【時計】入力欄!H175=\"\",\"\",【時計】入力欄!H175&\" \"),IF(【時計】入力欄!I175=\"\",\"\",【時計】入力欄!I175&\" \"),IF(【時計】入力欄!J175=\"\",\"\",【時計】入力欄!J175&\" \"))","v":""},{"$f":"IF(【時計】入力欄!K175=\"\",\"\",【時計】入力欄!K175&\"g\")","v":""},{"$f":"IF(【時計】入力欄!L175=\"\",\"\",【時計】入力欄!L175)","v":""},{"$f":"IF(【時計】入力欄!O175=\"\",\"\",【時計】入力欄!O175)","v":""}]
[]
[" ",{"$f":"CONCATENATE(\"出品表　（　\",【時計】入力欄!I$3,\"大吉オークション　時計）\")","v":"出品表　（　大吉オークション　時計）"}]
[]
[null,"箱番：",{"$f":"IF(【時計】入力欄!C176=\"\",\"\",【時計】入力欄!C176)","v":""},"※太枠の中をご記入ください",null,"会社名",{"$f":"IF(【時計】入力欄!C$3=\"\",\"\",【時計】入力欄!C$3)","v":""}]
[]
["番号","ブランド","素材","詳細・特徴","重量","付属品","指値\n（3万円以上）","発句"]
["１",{"$f":"IF(【時計】入力欄!E176=\"\",\"\",【時計】入力欄!E176)","v":""},{"$f":"IF(【時計】入力欄!F176=\"\",\"\",【時計】入力欄!F176)","v":""},{"$f":"CONCATENATE(IF(【時計】入力欄!G176=\"\",\"\",【時計】入力欄!G176&\" \"),IF(【時計】入力欄!H176=\"\",\"\",【時計】入力欄!H176&\" \"),IF(【時計】入力欄!I176=\"\",\"\",【時計】入力欄!I176&\" \"),IF(【時計】入力欄!J176=\"\",\"\",【時計】入力欄!J176&\" \"))","v":""},{"$f":"IF(【時計】入力欄!K176=\"\",\"\",【時計】入力欄!K176&\"g\")","v":""},{"$f":"IF(【時計】入力欄!L176=\"\",\"\",【時計】入力欄!L176)","v":""},{"$f":"IF(【時計】入力欄!O176=\"\",\"\",【時計】入力欄!O176)","v":""}]
["２",{"$f":"IF(【時計】入力欄!E177=\"\",\"\",【時計】入力欄!E177)","v":""},{"$f":"IF(【時計】入力欄!F177=\"\",\"\",【時計】入力欄!F177)","v":""},{"$f":"CONCATENATE(IF(【時計】入力欄!G177=\"\",\"\",【時計】入力欄!G177&\" \"),IF(【時計】入力欄!H177=\"\",\"\",【時計】入力欄!H177&\" \"),IF(【時計】入力欄!I177=\"\",\"\",【時計】入力欄!I177&\" \"),IF(【時計】入力欄!J177=\"\",\"\",【時計】入力欄!J177&\" \"))","v":""},{"$f":"IF(【時計】入力欄!K177=\"\",\"\",【時計】入力欄!K177&\"g\")","v":""},{"$f":"IF(【時計】入力欄!L177=\"\",\"\",【時計】入力欄!L177)","v":""},{"$f":"IF(【時計】入力欄!O177=\"\",\"\",【時計】入力欄!O177)","v":""}]
["３",{"$f":"IF(【時計】入力欄!E178=\"\",\"\",【時計】入力欄!E178)","v":""},{"$f":"IF(【時計】入力欄!F178=\"\",\"\",【時計】入力欄!F178)","v":""},{"$f":"CONCATENATE(IF(【時計】入力欄!G178=\"\",\"\",【時計】入力欄!G178&\" \"),IF(【時計】入力欄!H178=\"\",\"\",【時計】入力欄!H178&\" \"),IF(【時計】入力欄!I178=\"\",\"\",【時計】入力欄!I178&\" \"),IF(【時計】入力欄!J178=\"\",\"\",【時計】入力欄!J178&\" \"))","v":""},{"$f":"IF(【時計】入力欄!K178=\"\",\"\",【時計】入力欄!K178&\"g\")","v":""},{"$f":"IF(【時計】入力欄!L178=\"\",\"\",【時計】入力欄!L178)","v":""},{"$f":"IF(【時計】入力欄!O178=\"\",\"\",【時計】入力欄!O178)","v":""}]
["４",{"$f":"IF(【時計】入力欄!E179=\"\",\"\",【時計】入力欄!E179)","v":""},{"$f":"IF(【時計】入力欄!F179=\"\",\"\",【時計】入力欄!F179)","v":""},{"$f":"CONCATENATE(IF(【時計】入力欄!G179=\"\",\"\",【時計】入力欄!G179&\" \"),IF(【時計】入力欄!H179=\"\",\"\",【時計】入力欄!H179&\" \"),IF(【時計】入力欄!I179=\"\",\"\",【時計】入力欄!I179&\" \"),IF(【時計】入力欄!J179=\"\",\"\",【時計】入力欄!J179&\" \"))","v":""},{"$f":"IF(【時計】入力欄!K179=\"\",\"\",【時計】入力欄!K179&\"g\")","v":""},{"$f":"IF(【時計】入力欄!L179=\"\",\"\",【時計】入力欄!L179)","v":""},{"$f":"IF(【時計】入力欄!O179=\"\",\"\",【時計】入力欄!O179)","v":""}]
["５",{"$f":"IF(【時計】入力欄!E180=\"\",\"\",【時計】入力欄!E180)","v":""},{"$f":"IF(【時計】入力欄!F180=\"\",\"\",【時計】入力欄!F180)","v":""},{"$f":"CONCATENATE(IF(【時計】入力欄!G180=\"\",\"\",【時計】入力欄!G180&\" \"),IF(【時計】入力欄!H180=\"\",\"\",【時計】入力欄!H180&\" \"),IF(【時計】入力欄!I180=\"\",\"\",【時計】入力欄!I180&\" \"),IF(【時計】入力欄!J180=\"\",\"\",【時計】入力欄!J180&\" \"))","v":""},{"$f":"IF(【時計】入力欄!K180=\"\",\"\",【時計】入力欄!K180&\"g\")","v":""},{"$f":"IF(【時計】入力欄!L180=\"\",\"\",【時計】入力欄!L180)","v":""},{"$f":"IF(【時計】入力欄!O180=\"\",\"\",【時計】入力欄!O180)","v":""}]
["６",{"$f":"IF(【時計】入力欄!E181=\"\",\"\",【時計】入力欄!E181)","v":""},{"$f":"IF(【時計】入力欄!F181=\"\",\"\",【時計】入力欄!F181)","v":""},{"$f":"CONCATENATE(IF(【時計】入力欄!G181=\"\",\"\",【時計】入力欄!G181&\" \"),IF(【時計】入力欄!H181=\"\",\"\",【時計】入力欄!H181&\" \"),IF(【時計】入力欄!I181=\"\",\"\",【時計】入力欄!I181&\" \"),IF(【時計】入力欄!J181=\"\",\"\",【時計】入力欄!J181&\" \"))","v":""},{"$f":"IF(【時計】入力欄!K181=\"\",\"\",【時計】入力欄!K181&\"g\")","v":""},{"$f":"IF(【時計】入力欄!L181=\"\",\"\",【時計】入力欄!L181)","v":""},{"$f":"IF(【時計】入力欄!O181=\"\",\"\",【時計】入力欄!O181)","v":""}]
["７",{"$f":"IF(【時計】入力欄!E182=\"\",\"\",【時計】入力欄!E182)","v":""},{"$f":"IF(【時計】入力欄!F182=\"\",\"\",【時計】入力欄!F182)","v":""},{"$f":"CONCATENATE(IF(【時計】入力欄!G182=\"\",\"\",【時計】入力欄!G182&\" \"),IF(【時計】入力欄!H182=\"\",\"\",【時計】入力欄!H182&\" \"),IF(【時計】入力欄!I182=\"\",\"\",【時計】入力欄!I182&\" \"),IF(【時計】入力欄!J182=\"\",\"\",【時計】入力欄!J182&\" \"))","v":""},{"$f":"IF(【時計】入力欄!K182=\"\",\"\",【時計】入力欄!K182&\"g\")","v":""},{"$f":"IF(【時計】入力欄!L182=\"\",\"\",【時計】入力欄!L182)","v":""},{"$f":"IF(【時計】入力欄!O182=\"\",\"\",【時計】入力欄!O182)","v":""}]
["８",{"$f":"IF(【時計】入力欄!E183=\"\",\"\",【時計】入力欄!E183)","v":""},{"$f":"IF(【時計】入力欄!F183=\"\",\"\",【時計】入力欄!F183)","v":""},{"$f":"CONCATENATE(IF(【時計】入力欄!G183=\"\",\"\",【時計】入力欄!G183&\" \"),IF(【時計】入力欄!H183=\"\",\"\",【時計】入力欄!H183&\" \"),IF(【時計】入力欄!I183=\"\",\"\",【時計】入力欄!I183&\" \"),IF(【時計】入力欄!J183=\"\",\"\",【時計】入力欄!J183&\" \"))","v":""},{"$f":"IF(【時計】入力欄!K183=\"\",\"\",【時計】入力欄!K183&\"g\")","v":""},{"$f":"IF(【時計】入力欄!L183=\"\",\"\",【時計】入力欄!L183)","v":""},{"$f":"IF(【時計】入力欄!O183=\"\",\"\",【時計】入力欄!O183)","v":""}]
["９",{"$f":"IF(【時計】入力欄!E184=\"\",\"\",【時計】入力欄!E184)","v":""},{"$f":"IF(【時計】入力欄!F184=\"\",\"\",【時計】入力欄!F184)","v":""},{"$f":"CONCATENATE(IF(【時計】入力欄!G184=\"\",\"\",【時計】入力欄!G184&\" \"),IF(【時計】入力欄!H184=\"\",\"\",【時計】入力欄!H184&\" \"),IF(【時計】入力欄!I184=\"\",\"\",【時計】入力欄!I184&\" \"),IF(【時計】入力欄!J184=\"\",\"\",【時計】入力欄!J184&\" \"))","v":""},{"$f":"IF(【時計】入力欄!K184=\"\",\"\",【時計】入力欄!K184&\"g\")","v":""},{"$f":"IF(【時計】入力欄!L184=\"\",\"\",【時計】入力欄!L184)","v":""},{"$f":"IF(【時計】入力欄!O184=\"\",\"\",【時計】入力欄!O184)","v":""}]
["１０",{"$f":"IF(【時計】入力欄!E185=\"\",\"\",【時計】入力欄!E185)","v":""},{"$f":"IF(【時計】入力欄!F185=\"\",\"\",【時計】入力欄!F185)","v":""},{"$f":"CONCATENATE(IF(【時計】入力欄!G185=\"\",\"\",【時計】入力欄!G185&\" \"),IF(【時計】入力欄!H185=\"\",\"\",【時計】入力欄!H185&\" \"),IF(【時計】入力欄!I185=\"\",\"\",【時計】入力欄!I185&\" \"),IF(【時計】入力欄!J185=\"\",\"\",【時計】入力欄!J185&\" \"))","v":""},{"$f":"IF(【時計】入力欄!K185=\"\",\"\",【時計】入力欄!K185&\"g\")","v":""},{"$f":"IF(【時計】入力欄!L185=\"\",\"\",【時計】入力欄!L185)","v":""},{"$f":"IF(【時計】入力欄!O185=\"\",\"\",【時計】入力欄!O185)","v":""}]
[]
[" ",{"$f":"CONCATENATE(\"出品表　（　\",【時計】入力欄!I$3,\"大吉オークション　時計）\")","v":"出品表　（　大吉オークション　時計）"}]
[]
[null,"箱番：",{"$f":"IF(【時計】入力欄!C186=\"\",\"\",【時計】入力欄!C186)","v":""},"※太枠の中をご記入ください",null,"会社名",{"$f":"IF(【時計】入力欄!C$3=\"\",\"\",【時計】入力欄!C$3)","v":""}]
[]
["番号","ブランド","素材","詳細・特徴","重量","付属品","指値\n（3万円以上）","発句"]
["１",{"$f":"IF(【時計】入力欄!E186=\"\",\"\",【時計】入力欄!E186)","v":""},{"$f":"IF(【時計】入力欄!F186=\"\",\"\",【時計】入力欄!F186)","v":""},{"$f":"CONCATENATE(IF(【時計】入力欄!G186=\"\",\"\",【時計】入力欄!G186&\" \"),IF(【時計】入力欄!H186=\"\",\"\",【時計】入力欄!H186&\" \"),IF(【時計】入力欄!I186=\"\",\"\",【時計】入力欄!I186&\" \"),IF(【時計】入力欄!J186=\"\",\"\",【時計】入力欄!J186&\" \"))","v":""},{"$f":"IF(【時計】入力欄!K186=\"\",\"\",【時計】入力欄!K186&\"g\")","v":""},{"$f":"IF(【時計】入力欄!L186=\"\",\"\",【時計】入力欄!L186)","v":""},{"$f":"IF(【時計】入力欄!O186=\"\",\"\",【時計】入力欄!O186)","v":""}]
["２",{"$f":"IF(【時計】入力欄!E187=\"\",\"\",【時計】入力欄!E187)","v":""},{"$f":"IF(【時計】入力欄!F187=\"\",\"\",【時計】入力欄!F187)","v":""},{"$f":"CONCATENATE(IF(【時計】入力欄!G187=\"\",\"\",【時計】入力欄!G187&\" \"),IF(【時計】入力欄!H187=\"\",\"\",【時計】入力欄!H187&\" \"),IF(【時計】入力欄!I187=\"\",\"\",【時計】入力欄!I187&\" \"),IF(【時計】入力欄!J187=\"\",\"\",【時計】入力欄!J187&\" \"))","v":""},{"$f":"IF(【時計】入力欄!K187=\"\",\"\",【時計】入力欄!K187&\"g\")","v":""},{"$f":"IF(【時計】入力欄!L187=\"\",\"\",【時計】入力欄!L187)","v":""},{"$f":"IF(【時計】入力欄!O187=\"\",\"\",【時計】入力欄!O187)","v":""}]
["３",{"$f":"IF(【時計】入力欄!E188=\"\",\"\",【時計】入力欄!E188)","v":""},{"$f":"IF(【時計】入力欄!F188=\"\",\"\",【時計】入力欄!F188)","v":""},{"$f":"CONCATENATE(IF(【時計】入力欄!G188=\"\",\"\",【時計】入力欄!G188&\" \"),IF(【時計】入力欄!H188=\"\",\"\",【時計】入力欄!H188&\" \"),IF(【時計】入力欄!I188=\"\",\"\",【時計】入力欄!I188&\" \"),IF(【時計】入力欄!J188=\"\",\"\",【時計】入力欄!J188&\" \"))","v":""},{"$f":"IF(【時計】入力欄!K188=\"\",\"\",【時計】入力欄!K188&\"g\")","v":""},{"$f":"IF(【時計】入力欄!L188=\"\",\"\",【時計】入力欄!L188)","v":""},{"$f":"IF(【時計】入力欄!O188=\"\",\"\",【時計】入力欄!O188)","v":""}]
["４",{"$f":"IF(【時計】入力欄!E189=\"\",\"\",【時計】入力欄!E189)","v":""},{"$f":"IF(【時計】入力欄!F189=\"\",\"\",【時計】入力欄!F189)","v":""},{"$f":"CONCATENATE(IF(【時計】入力欄!G189=\"\",\"\",【時計】入力欄!G189&\" \"),IF(【時計】入力欄!H189=\"\",\"\",【時計】入力欄!H189&\" \"),IF(【時計】入力欄!I189=\"\",\"\",【時計】入力欄!I189&\" \"),IF(【時計】入力欄!J189=\"\",\"\",【時計】入力欄!J189&\" \"))","v":""},{"$f":"IF(【時計】入力欄!K189=\"\",\"\",【時計】入力欄!K189&\"g\")","v":""},{"$f":"IF(【時計】入力欄!L189=\"\",\"\",【時計】入力欄!L189)","v":""},{"$f":"IF(【時計】入力欄!O189=\"\",\"\",【時計】入力欄!O189)","v":""}]
["５",{"$f":"IF(【時計】入力欄!E190=\"\",\"\",【時計】入力欄!E190)","v":""},{"$f":"IF(【時計】入力欄!F190=\"\",\"\",【時計】入力欄!F190)","v":""},{"$f":"CONCATENATE(IF(【時計】入力欄!G190=\"\",\"\",【時計】入力欄!G190&\" \"),IF(【時計】入力欄!H190=\"\",\"\",【時計】入力欄!H190&\" \"),IF(【時計】入力欄!I190=\"\",\"\",【時計】入力欄!I190&\" \"),IF(【時計】入力欄!J190=\"\",\"\",【時計】入力欄!J190&\" \"))","v":""},{"$f":"IF(【時計】入力欄!K190=\"\",\"\",【時計】入力欄!K190&\"g\")","v":""},{"$f":"IF(【時計】入力欄!L190=\"\",\"\",【時計】入力欄!L190)","v":""},{"$f":"IF(【時計】入力欄!O190=\"\",\"\",【時計】入力欄!O190)","v":""}]
["６",{"$f":"IF(【時計】入力欄!E191=\"\",\"\",【時計】入力欄!E191)","v":""},{"$f":"IF(【時計】入力欄!F191=\"\",\"\",【時計】入力欄!F191)","v":""},{"$f":"CONCATENATE(IF(【時計】入力欄!G191=\"\",\"\",【時計】入力欄!G191&\" \"),IF(【時計】入力欄!H191=\"\",\"\",【時計】入力欄!H191&\" \"),IF(【時計】入力欄!I191=\"\",\"\",【時計】入力欄!I191&\" \"),IF(【時計】入力欄!J191=\"\",\"\",【時計】入力欄!J191&\" \"))","v":""},{"$f":"IF(【時計】入力欄!K191=\"\",\"\",【時計】入力欄!K191&\"g\")","v":""},{"$f":"IF(【時計】入力欄!L191=\"\",\"\",【時計】入力欄!L191)","v":""},{"$f":"IF(【時計】入力欄!O191=\"\",\"\",【時計】入力欄!O191)","v":""}]
["７",{"$f":"IF(【時計】入力欄!E192=\"\",\"\",【時計】入力欄!E192)","v":""},{"$f":"IF(【時計】入力欄!F192=\"\",\"\",【時計】入力欄!F192)","v":""},{"$f":"CONCATENATE(IF(【時計】入力欄!G192=\"\",\"\",【時計】入力欄!G192&\" \"),IF(【時計】入力欄!H192=\"\",\"\",【時計】入力欄!H192&\" \"),IF(【時計】入力欄!I192=\"\",\"\",【時計】入力欄!I192&\" \"),IF(【時計】入力欄!J192=\"\",\"\",【時計】入力欄!J192&\" \"))","v":""},{"$f":"IF(【時計】入力欄!K192=\"\",\"\",【時計】入力欄!K192&\"g\")","v":""},{"$f":"IF(【時計】入力欄!L192=\"\",\"\",【時計】入力欄!L192)","v":""},{"$f":"IF(【時計】入力欄!O192=\"\",\"\",【時計】入力欄!O192)","v":""}]
["８",{"$f":"IF(【時計】入力欄!E193=\"\",\"\",【時計】入力欄!E193)","v":""},{"$f":"IF(【時計】入力欄!F193=\"\",\"\",【時計】入力欄!F193)","v":""},{"$f":"CONCATENATE(IF(【時計】入力欄!G193=\"\",\"\",【時計】入力欄!G193&\" \"),IF(【時計】入力欄!H193=\"\",\"\",【時計】入力欄!H193&\" \"),IF(【時計】入力欄!I193=\"\",\"\",【時計】入力欄!I193&\" \"),IF(【時計】入力欄!J193=\"\",\"\",【時計】入力欄!J193&\" \"))","v":""},{"$f":"IF(【時計】入力欄!K193=\"\",\"\",【時計】入力欄!K193&\"g\")","v":""},{"$f":"IF(【時計】入力欄!L193=\"\",\"\",【時計】入力欄!L193)","v":""},{"$f":"IF(【時計】入力欄!O193=\"\",\"\",【時計】入力欄!O193)","v":""}]
["９",{"$f":"IF(【時計】入力欄!E194=\"\",\"\",【時計】入力欄!E194)","v":""},{"$f":"IF(【時計】入力欄!F194=\"\",\"\",【時計】入力欄!F194)","v":""},{"$f":"CONCATENATE(IF(【時計】入力欄!G194=\"\",\"\",【時計】入力欄!G194&\" \"),IF(【時計】入力欄!H194=\"\",\"\",【時計】入力欄!H194&\" \"),IF(【時計】入力欄!I194=\"\",\"\",【時計】入力欄!I194&\" \"),IF(【時計】入力欄!J194=\"\",\"\",【時計】入力欄!J194&\" \"))","v":""},{"$f":"IF(【時計】入力欄!K194=\"\",\"\",【時計】入力欄!K194&\"g\")","v":""},{"$f":"IF(【時計】入力欄!L194=\"\",\"\",【時計】入力欄!L194)","v":""},{"$f":"IF(【時計】入力欄!O194=\"\",\"\",【時計】入力欄!O194)","v":""}]
["１０",{"$f":"IF(【時計】入力欄!E195=\"\",\"\",【時計】入力欄!E195)","v":""},{"$f":"IF(【時計】入力欄!F195=\"\",\"\",【時計】入力欄!F195)","v":""},{"$f":"CONCATENATE(IF(【時計】入力欄!G195=\"\",\"\",【時計】入力欄!G195&\" \"),IF(【時計】入力欄!H195=\"\",\"\",【時計】入力欄!H195&\" \"),IF(【時計】入力欄!I195=\"\",\"\",【時計】入力欄!I195&\" \"),IF(【時計】入力欄!J195=\"\",\"\",【時計】入力欄!J195&\" \"))","v":""},{"$f":"IF(【時計】入力欄!K195=\"\",\"\",【時計】入力欄!K195&\"g\")","v":""},{"$f":"IF(【時計】入力欄!L195=\"\",\"\",【時計】入力欄!L195)","v":""},{"$f":"IF(【時計】入力欄!O195=\"\",\"\",【時計】入力欄!O195)","v":""}]
[]
[" ",{"$f":"CONCATENATE(\"出品表　（　\",【時計】入力欄!I$3,\"大吉オークション　時計）\")","v":"出品表　（　大吉オークション　時計）"}]
[]
[null,"箱番：",{"$f":"IF(【時計】入力欄!C196=\"\",\"\",【時計】入力欄!C196)","v":""},"※太枠の中をご記入ください",null,"会社名",{"$f":"IF(【時計】入力欄!C$3=\"\",\"\",【時計】入力欄!C$3)","v":""}]
[]
["番号","ブランド","素材","詳細・特徴","重量","付属品","指値\n（3万円以上）","発句"]
["１",{"$f":"IF(【時計】入力欄!E196=\"\",\"\",【時計】入力欄!E196)","v":""},{"$f":"IF(【時計】入力欄!F196=\"\",\"\",【時計】入力欄!F196)","v":""},{"$f":"CONCATENATE(IF(【時計】入力欄!G196=\"\",\"\",【時計】入力欄!G196&\" \"),IF(【時計】入力欄!H196=\"\",\"\",【時計】入力欄!H196&\" \"),IF(【時計】入力欄!I196=\"\",\"\",【時計】入力欄!I196&\" \"),IF(【時計】入力欄!J196=\"\",\"\",【時計】入力欄!J196&\" \"))","v":""},{"$f":"IF(【時計】入力欄!K196=\"\",\"\",【時計】入力欄!K196&\"g\")","v":""},{"$f":"IF(【時計】入力欄!L196=\"\",\"\",【時計】入力欄!L196)","v":""},{"$f":"IF(【時計】入力欄!O196=\"\",\"\",【時計】入力欄!O196)","v":""}]
["２",{"$f":"IF(【時計】入力欄!E197=\"\",\"\",【時計】入力欄!E197)","v":""},{"$f":"IF(【時計】入力欄!F197=\"\",\"\",【時計】入力欄!F197)","v":""},{"$f":"CONCATENATE(IF(【時計】入力欄!G197=\"\",\"\",【時計】入力欄!G197&\" \"),IF(【時計】入力欄!H197=\"\",\"\",【時計】入力欄!H197&\" \"),IF(【時計】入力欄!I197=\"\",\"\",【時計】入力欄!I197&\" \"),IF(【時計】入力欄!J197=\"\",\"\",【時計】入力欄!J197&\" \"))","v":""},{"$f":"IF(【時計】入力欄!K197=\"\",\"\",【時計】入力欄!K197&\"g\")","v":""},{"$f":"IF(【時計】入力欄!L197=\"\",\"\",【時計】入力欄!L197)","v":""},{"$f":"IF(【時計】入力欄!O197=\"\",\"\",【時計】入力欄!O197)","v":""}]
["３",{"$f":"IF(【時計】入力欄!E198=\"\",\"\",【時計】入力欄!E198)","v":""},{"$f":"IF(【時計】入力欄!F198=\"\",\"\",【時計】入力欄!F198)","v":""},{"$f":"CONCATENATE(IF(【時計】入力欄!G198=\"\",\"\",【時計】入力欄!G198&\" \"),IF(【時計】入力欄!H198=\"\",\"\",【時計】入力欄!H198&\" \"),IF(【時計】入力欄!I198=\"\",\"\",【時計】入力欄!I198&\" \"),IF(【時計】入力欄!J198=\"\",\"\",【時計】入力欄!J198&\" \"))","v":""},{"$f":"IF(【時計】入力欄!K198=\"\",\"\",【時計】入力欄!K198&\"g\")","v":""},{"$f":"IF(【時計】入力欄!L198=\"\",\"\",【時計】入力欄!L198)","v":""},{"$f":"IF(【時計】入力欄!O198=\"\",\"\",【時計】入力欄!O198)","v":""}]
["４",{"$f":"IF(【時計】入力欄!E199=\"\",\"\",【時計】入力欄!E199)","v":""},{"$f":"IF(【時計】入力欄!F199=\"\",\"\",【時計】入力欄!F199)","v":""},{"$f":"CONCATENATE(IF(【時計】入力欄!G199=\"\",\"\",【時計】入力欄!G199&\" \"),IF(【時計】入力欄!H199=\"\",\"\",【時計】入力欄!H199&\" \"),IF(【時計】入力欄!I199=\"\",\"\",【時計】入力欄!I199&\" \"),IF(【時計】入力欄!J199=\"\",\"\",【時計】入力欄!J199&\" \"))","v":""},{"$f":"IF(【時計】入力欄!K199=\"\",\"\",【時計】入力欄!K199&\"g\")","v":""},{"$f":"IF(【時計】入力欄!L199=\"\",\"\",【時計】入力欄!L199)","v":""},{"$f":"IF(【時計】入力欄!O199=\"\",\"\",【時計】入力欄!O199)","v":""}]
["５",{"$f":"IF(【時計】入力欄!E200=\"\",\"\",【時計】入力欄!E200)","v":""},{"$f":"IF(【時計】入力欄!F200=\"\",\"\",【時計】入力欄!F200)","v":""},{"$f":"CONCATENATE(IF(【時計】入力欄!G200=\"\",\"\",【時計】入力欄!G200&\" \"),IF(【時計】入力欄!H200=\"\",\"\",【時計】入力欄!H200&\" \"),IF(【時計】入力欄!I200=\"\",\"\",【時計】入力欄!I200&\" \"),IF(【時計】入力欄!J200=\"\",\"\",【時計】入力欄!J200&\" \"))","v":""},{"$f":"IF(【時計】入力欄!K200=\"\",\"\",【時計】入力欄!K200&\"g\")","v":""},{"$f":"IF(【時計】入力欄!L200=\"\",\"\",【時計】入力欄!L200)","v":""},{"$f":"IF(【時計】入力欄!O200=\"\",\"\",【時計】入力欄!O200)","v":""}]
["６",{"$f":"IF(【時計】入力欄!E201=\"\",\"\",【時計】入力欄!E201)","v":""},{"$f":"IF(【時計】入力欄!F201=\"\",\"\",【時計】入力欄!F201)","v":""},{"$f":"CONCATENATE(IF(【時計】入力欄!G201=\"\",\"\",【時計】入力欄!G201&\" \"),IF(【時計】入力欄!H201=\"\",\"\",【時計】入力欄!H201&\" \"),IF(【時計】入力欄!I201=\"\",\"\",【時計】入力欄!I201&\" \"),IF(【時計】入力欄!J201=\"\",\"\",【時計】入力欄!J201&\" \"))","v":""},{"$f":"IF(【時計】入力欄!K201=\"\",\"\",【時計】入力欄!K201&\"g\")","v":""},{"$f":"IF(【時計】入力欄!L201=\"\",\"\",【時計】入力欄!L201)","v":""},{"$f":"IF(【時計】入力欄!O201=\"\",\"\",【時計】入力欄!O201)","v":""}]
["７",{"$f":"IF(【時計】入力欄!E202=\"\",\"\",【時計】入力欄!E202)","v":""},{"$f":"IF(【時計】入力欄!F202=\"\",\"\",【時計】入力欄!F202)","v":""},{"$f":"CONCATENATE(IF(【時計】入力欄!G202=\"\",\"\",【時計】入力欄!G202&\" \"),IF(【時計】入力欄!H202=\"\",\"\",【時計】入力欄!H202&\" \"),IF(【時計】入力欄!I202=\"\",\"\",【時計】入力欄!I202&\" \"),IF(【時計】入力欄!J202=\"\",\"\",【時計】入力欄!J202&\" \"))","v":""},{"$f":"IF(【時計】入力欄!K202=\"\",\"\",【時計】入力欄!K202&\"g\")","v":""},{"$f":"IF(【時計】入力欄!L202=\"\",\"\",【時計】入力欄!L202)","v":""},{"$f":"IF(【時計】入力欄!O202=\"\",\"\",【時計】入力欄!O202)","v":""}]
["８",{"$f":"IF(【時計】入力欄!E203=\"\",\"\",【時計】入力欄!E203)","v":""},{"$f":"IF(【時計】入力欄!F203=\"\",\"\",【時計】入力欄!F203)","v":""},{"$f":"CONCATENATE(IF(【時計】入力欄!G203=\"\",\"\",【時計】入力欄!G203&\" \"),IF(【時計】入力欄!H203=\"\",\"\",【時計】入力欄!H203&\" \"),IF(【時計】入力欄!I203=\"\",\"\",【時計】入力欄!I203&\" \"),IF(【時計】入力欄!J203=\"\",\"\",【時計】入力欄!J203&\" \"))","v":""},{"$f":"IF(【時計】入力欄!K203=\"\",\"\",【時計】入力欄!K203&\"g\")","v":""},{"$f":"IF(【時計】入力欄!L203=\"\",\"\",【時計】入力欄!L203)","v":""},{"$f":"IF(【時計】入力欄!O203=\"\",\"\",【時計】入力欄!O203)","v":""}]
["９",{"$f":"IF(【時計】入力欄!E204=\"\",\"\",【時計】入力欄!E204)","v":""},{"$f":"IF(【時計】入力欄!F204=\"\",\"\",【時計】入力欄!F204)","v":""},{"$f":"CONCATENATE(IF(【時計】入力欄!G204=\"\",\"\",【時計】入力欄!G204&\" \"),IF(【時計】入力欄!H204=\"\",\"\",【時計】入力欄!H204&\" \"),IF(【時計】入力欄!I204=\"\",\"\",【時計】入力欄!I204&\" \"),IF(【時計】入力欄!J204=\"\",\"\",【時計】入力欄!J204&\" \"))","v":""},{"$f":"IF(【時計】入力欄!K204=\"\",\"\",【時計】入力欄!K204&\"g\")","v":""},{"$f":"IF(【時計】入力欄!L204=\"\",\"\",【時計】入力欄!L204)","v":""},{"$f":"IF(【時計】入力欄!O204=\"\",\"\",【時計】入力欄!O204)","v":""}]
["１０",{"$f":"IF(【時計】入力欄!E205=\"\",\"\",【時計】入力欄!E205)","v":""},{"$f":"IF(【時計】入力欄!F205=\"\",\"\",【時計】入力欄!F205)","v":""},{"$f":"CONCATENATE(IF(【時計】入力欄!G205=\"\",\"\",【時計】入力欄!G205&\" \"),IF(【時計】入力欄!H205=\"\",\"\",【時計】入力欄!H205&\" \"),IF(【時計】入力欄!I205=\"\",\"\",【時計】入力欄!I205&\" \"),IF(【時計】入力欄!J205=\"\",\"\",【時計】入力欄!J205&\" \"))","v":""},{"$f":"IF(【時計】入力欄!K205=\"\",\"\",【時計】入力欄!K205&\"g\")","v":""},{"$f":"IF(【時計】入力欄!L205=\"\",\"\",【時計】入力欄!L205)","v":""},{"$f":"IF(【時計】入力欄!O205=\"\",\"\",【時計】入力欄!O205)","v":""}]
[]
[" ",{"$f":"CONCATENATE(\"出品表　（　\",【時計】入力欄!I$3,\"大吉オークション　時計）\")","v":"出品表　（　大吉オークション　時計）"}]
[]
[null,"箱番：",{"$f":"IF(【時計】入力欄!C206=\"\",\"\",【時計】入力欄!C206)","v":""},"※太枠の中をご記入ください",null,"会社名",{"$f":"IF(【時計】入力欄!C$3=\"\",\"\",【時計】入力欄!C$3)","v":""}]
[]
["番号","ブランド","素材","詳細・特徴","重量","付属品","指値\n（3万円以上）","発句"]
["１",{"$f":"IF(【時計】入力欄!E206=\"\",\"\",【時計】入力欄!E206)","v":""},{"$f":"IF(【時計】入力欄!F206=\"\",\"\",【時計】入力欄!F206)","v":""},{"$f":"CONCATENATE(IF(【時計】入力欄!G206=\"\",\"\",【時計】入力欄!G206&\" \"),IF(【時計】入力欄!H206=\"\",\"\",【時計】入力欄!H206&\" \"),IF(【時計】入力欄!I206=\"\",\"\",【時計】入力欄!I206&\" \"),IF(【時計】入力欄!J206=\"\",\"\",【時計】入力欄!J206&\" \"))","v":""},{"$f":"IF(【時計】入力欄!K206=\"\",\"\",【時計】入力欄!K206&\"g\")","v":""},{"$f":"IF(【時計】入力欄!L206=\"\",\"\",【時計】入力欄!L206)","v":""},{"$f":"IF(【時計】入力欄!O206=\"\",\"\",【時計】入力欄!O206)","v":""}]
["２",{"$f":"IF(【時計】入力欄!E207=\"\",\"\",【時計】入力欄!E207)","v":""},{"$f":"IF(【時計】入力欄!F207=\"\",\"\",【時計】入力欄!F207)","v":""},{"$f":"CONCATENATE(IF(【時計】入力欄!G207=\"\",\"\",【時計】入力欄!G207&\" \"),IF(【時計】入力欄!H207=\"\",\"\",【時計】入力欄!H207&\" \"),IF(【時計】入力欄!I207=\"\",\"\",【時計】入力欄!I207&\" \"),IF(【時計】入力欄!J207=\"\",\"\",【時計】入力欄!J207&\" \"))","v":""},{"$f":"IF(【時計】入力欄!K207=\"\",\"\",【時計】入力欄!K207&\"g\")","v":""},{"$f":"IF(【時計】入力欄!L207=\"\",\"\",【時計】入力欄!L207)","v":""},{"$f":"IF(【時計】入力欄!O207=\"\",\"\",【時計】入力欄!O207)","v":""}]
["３",{"$f":"IF(【時計】入力欄!E208=\"\",\"\",【時計】入力欄!E208)","v":""},{"$f":"IF(【時計】入力欄!F208=\"\",\"\",【時計】入力欄!F208)","v":""},{"$f":"CONCATENATE(IF(【時計】入力欄!G208=\"\",\"\",【時計】入力欄!G208&\" \"),IF(【時計】入力欄!H208=\"\",\"\",【時計】入力欄!H208&\" \"),IF(【時計】入力欄!I208=\"\",\"\",【時計】入力欄!I208&\" \"),IF(【時計】入力欄!J208=\"\",\"\",【時計】入力欄!J208&\" \"))","v":""},{"$f":"IF(【時計】入力欄!K208=\"\",\"\",【時計】入力欄!K208&\"g\")","v":""},{"$f":"IF(【時計】入力欄!L208=\"\",\"\",【時計】入力欄!L208)","v":""},{"$f":"IF(【時計】入力欄!O208=\"\",\"\",【時計】入力欄!O208)","v":""}]
["４",{"$f":"IF(【時計】入力欄!E209=\"\",\"\",【時計】入力欄!E209)","v":""},{"$f":"IF(【時計】入力欄!F209=\"\",\"\",【時計】入力欄!F209)","v":""},{"$f":"CONCATENATE(IF(【時計】入力欄!G209=\"\",\"\",【時計】入力欄!G209&\" \"),IF(【時計】入力欄!H209=\"\",\"\",【時計】入力欄!H209&\" \"),IF(【時計】入力欄!I209=\"\",\"\",【時計】入力欄!I209&\" \"),IF(【時計】入力欄!J209=\"\",\"\",【時計】入力欄!J209&\" \"))","v":""},{"$f":"IF(【時計】入力欄!K209=\"\",\"\",【時計】入力欄!K209&\"g\")","v":""},{"$f":"IF(【時計】入力欄!L209=\"\",\"\",【時計】入力欄!L209)","v":""},{"$f":"IF(【時計】入力欄!O209=\"\",\"\",【時計】入力欄!O209)","v":""}]
["５",{"$f":"IF(【時計】入力欄!E210=\"\",\"\",【時計】入力欄!E210)","v":""},{"$f":"IF(【時計】入力欄!F210=\"\",\"\",【時計】入力欄!F210)","v":""},{"$f":"CONCATENATE(IF(【時計】入力欄!G210=\"\",\"\",【時計】入力欄!G210&\" \"),IF(【時計】入力欄!H210=\"\",\"\",【時計】入力欄!H210&\" \"),IF(【時計】入力欄!I210=\"\",\"\",【時計】入力欄!I210&\" \"),IF(【時計】入力欄!J210=\"\",\"\",【時計】入力欄!J210&\" \"))","v":""},{"$f":"IF(【時計】入力欄!K210=\"\",\"\",【時計】入力欄!K210&\"g\")","v":""},{"$f":"IF(【時計】入力欄!L210=\"\",\"\",【時計】入力欄!L210)","v":""},{"$f":"IF(【時計】入力欄!O210=\"\",\"\",【時計】入力欄!O210)","v":""}]
["６",{"$f":"IF(【時計】入力欄!E211=\"\",\"\",【時計】入力欄!E211)","v":""},{"$f":"IF(【時計】入力欄!F211=\"\",\"\",【時計】入力欄!F211)","v":""},{"$f":"CONCATENATE(IF(【時計】入力欄!G211=\"\",\"\",【時計】入力欄!G211&\" \"),IF(【時計】入力欄!H211=\"\",\"\",【時計】入力欄!H211&\" \"),IF(【時計】入力欄!I211=\"\",\"\",【時計】入力欄!I211&\" \"),IF(【時計】入力欄!J211=\"\",\"\",【時計】入力欄!J211&\" \"))","v":""},{"$f":"IF(【時計】入力欄!K211=\"\",\"\",【時計】入力欄!K211&\"g\")","v":""},{"$f":"IF(【時計】入力欄!L211=\"\",\"\",【時計】入力欄!L211)","v":""},{"$f":"IF(【時計】入力欄!O211=\"\",\"\",【時計】入力欄!O211)","v":""}]
["７",{"$f":"IF(【時計】入力欄!E212=\"\",\"\",【時計】入力欄!E212)","v":""},{"$f":"IF(【時計】入力欄!F212=\"\",\"\",【時計】入力欄!F212)","v":""},{"$f":"CONCATENATE(IF(【時計】入力欄!G212=\"\",\"\",【時計】入力欄!G212&\" \"),IF(【時計】入力欄!H212=\"\",\"\",【時計】入力欄!H212&\" \"),IF(【時計】入力欄!I212=\"\",\"\",【時計】入力欄!I212&\" \"),IF(【時計】入力欄!J212=\"\",\"\",【時計】入力欄!J212&\" \"))","v":""},{"$f":"IF(【時計】入力欄!K212=\"\",\"\",【時計】入力欄!K212&\"g\")","v":""},{"$f":"IF(【時計】入力欄!L212=\"\",\"\",【時計】入力欄!L212)","v":""},{"$f":"IF(【時計】入力欄!O212=\"\",\"\",【時計】入力欄!O212)","v":""}]
["８",{"$f":"IF(【時計】入力欄!E213=\"\",\"\",【時計】入力欄!E213)","v":""},{"$f":"IF(【時計】入力欄!F213=\"\",\"\",【時計】入力欄!F213)","v":""},{"$f":"CONCATENATE(IF(【時計】入力欄!G213=\"\",\"\",【時計】入力欄!G213&\" \"),IF(【時計】入力欄!H213=\"\",\"\",【時計】入力欄!H213&\" \"),IF(【時計】入力欄!I213=\"\",\"\",【時計】入力欄!I213&\" \"),IF(【時計】入力欄!J213=\"\",\"\",【時計】入力欄!J213&\" \"))","v":""},{"$f":"IF(【時計】入力欄!K213=\"\",\"\",【時計】入力欄!K213&\"g\")","v":""},{"$f":"IF(【時計】入力欄!L213=\"\",\"\",【時計】入力欄!L213)","v":""},{"$f":"IF(【時計】入力欄!O213=\"\",\"\",【時計】入力欄!O213)","v":""}]
["９",{"$f":"IF(【時計】入力欄!E214=\"\",\"\",【時計】入力欄!E214)","v":""},{"$f":"IF(【時計】入力欄!F214=\"\",\"\",【時計】入力欄!F214)","v":""},{"$f":"CONCATENATE(IF(【時計】入力欄!G214=\"\",\"\",【時計】入力欄!G214&\" \"),IF(【時計】入力欄!H214=\"\",\"\",【時計】入力欄!H214&\" \"),IF(【時計】入力欄!I214=\"\",\"\",【時計】入力欄!I214&\" \"),IF(【時計】入力欄!J214=\"\",\"\",【時計】入力欄!J214&\" \"))","v":""},{"$f":"IF(【時計】入力欄!K214=\"\",\"\",【時計】入力欄!K214&\"g\")","v":""},{"$f":"IF(【時計】入力欄!L214=\"\",\"\",【時計】入力欄!L214)","v":""},{"$f":"IF(【時計】入力欄!O214=\"\",\"\",【時計】入力欄!O214)","v":""}]
["１０",{"$f":"IF(【時計】入力欄!E215=\"\",\"\",【時計】入力欄!E215)","v":""},{"$f":"IF(【時計】入力欄!F215=\"\",\"\",【時計】入力欄!F215)","v":""},{"$f":"CONCATENATE(IF(【時計】入力欄!G215=\"\",\"\",【時計】入力欄!G215&\" \"),IF(【時計】入力欄!H215=\"\",\"\",【時計】入力欄!H215&\" \"),IF(【時計】入力欄!I215=\"\",\"\",【時計】入力欄!I215&\" \"),IF(【時計】入力欄!J215=\"\",\"\",【時計】入力欄!J215&\" \"))","v":""},{"$f":"IF(【時計】入力欄!K215=\"\",\"\",【時計】入力欄!K215&\"g\")","v":""},{"$f":"IF(【時計】入力欄!L215=\"\",\"\",【時計】入力欄!L215)","v":""},{"$f":"IF(【時計】入力欄!O215=\"\",\"\",【時計】入力欄!O215)","v":""}]
[]
[" ",{"$f":"CONCATENATE(\"出品表　（　\",【時計】入力欄!I$3,\"大吉オークション　時計）\")","v":"出品表　（　大吉オークション　時計）"}]
[]
[null,"箱番：",{"$f":"IF(【時計】入力欄!C216=\"\",\"\",【時計】入力欄!C216)","v":""},"※太枠の中をご記入ください",null,"会社名",{"$f":"IF(【時計】入力欄!C$3=\"\",\"\",【時計】入力欄!C$3)","v":""}]
[]
["番号","ブランド","素材","詳細・特徴","重量","付属品","指値\n（3万円以上）","発句"]
["１",{"$f":"IF(【時計】入力欄!E216=\"\",\"\",【時計】入力欄!E216)","v":""},{"$f":"IF(【時計】入力欄!F216=\"\",\"\",【時計】入力欄!F216)","v":""},{"$f":"CONCATENATE(IF(【時計】入力欄!G216=\"\",\"\",【時計】入力欄!G216&\" \"),IF(【時計】入力欄!H216=\"\",\"\",【時計】入力欄!H216&\" \"),IF(【時計】入力欄!I216=\"\",\"\",【時計】入力欄!I216&\" \"),IF(【時計】入力欄!J216=\"\",\"\",【時計】入力欄!J216&\" \"))","v":""},{"$f":"IF(【時計】入力欄!K216=\"\",\"\",【時計】入力欄!K216&\"g\")","v":""},{"$f":"IF(【時計】入力欄!L216=\"\",\"\",【時計】入力欄!L216)","v":""},{"$f":"IF(【時計】入力欄!O216=\"\",\"\",【時計】入力欄!O216)","v":""}]
["２",{"$f":"IF(【時計】入力欄!E217=\"\",\"\",【時計】入力欄!E217)","v":""},{"$f":"IF(【時計】入力欄!F217=\"\",\"\",【時計】入力欄!F217)","v":""},{"$f":"CONCATENATE(IF(【時計】入力欄!G217=\"\",\"\",【時計】入力欄!G217&\" \"),IF(【時計】入力欄!H217=\"\",\"\",【時計】入力欄!H217&\" \"),IF(【時計】入力欄!I217=\"\",\"\",【時計】入力欄!I217&\" \"),IF(【時計】入力欄!J217=\"\",\"\",【時計】入力欄!J217&\" \"))","v":""},{"$f":"IF(【時計】入力欄!K217=\"\",\"\",【時計】入力欄!K217&\"g\")","v":""},{"$f":"IF(【時計】入力欄!L217=\"\",\"\",【時計】入力欄!L217)","v":""},{"$f":"IF(【時計】入力欄!O217=\"\",\"\",【時計】入力欄!O217)","v":""}]
["３",{"$f":"IF(【時計】入力欄!E218=\"\",\"\",【時計】入力欄!E218)","v":""},{"$f":"IF(【時計】入力欄!F218=\"\",\"\",【時計】入力欄!F218)","v":""},{"$f":"CONCATENATE(IF(【時計】入力欄!G218=\"\",\"\",【時計】入力欄!G218&\" \"),IF(【時計】入力欄!H218=\"\",\"\",【時計】入力欄!H218&\" \"),IF(【時計】入力欄!I218=\"\",\"\",【時計】入力欄!I218&\" \"),IF(【時計】入力欄!J218=\"\",\"\",【時計】入力欄!J218&\" \"))","v":""},{"$f":"IF(【時計】入力欄!K218=\"\",\"\",【時計】入力欄!K218&\"g\")","v":""},{"$f":"IF(【時計】入力欄!L218=\"\",\"\",【時計】入力欄!L218)","v":""},{"$f":"IF(【時計】入力欄!O218=\"\",\"\",【時計】入力欄!O218)","v":""}]
["４",{"$f":"IF(【時計】入力欄!E219=\"\",\"\",【時計】入力欄!E219)","v":""},{"$f":"IF(【時計】入力欄!F219=\"\",\"\",【時計】入力欄!F219)","v":""},{"$f":"CONCATENATE(IF(【時計】入力欄!G219=\"\",\"\",【時計】入力欄!G219&\" \"),IF(【時計】入力欄!H219=\"\",\"\",【時計】入力欄!H219&\" \"),IF(【時計】入力欄!I219=\"\",\"\",【時計】入力欄!I219&\" \"),IF(【時計】入力欄!J219=\"\",\"\",【時計】入力欄!J219&\" \"))","v":""},{"$f":"IF(【時計】入力欄!K219=\"\",\"\",【時計】入力欄!K219&\"g\")","v":""},{"$f":"IF(【時計】入力欄!L219=\"\",\"\",【時計】入力欄!L219)","v":""},{"$f":"IF(【時計】入力欄!O219=\"\",\"\",【時計】入力欄!O219)","v":""}]
["５",{"$f":"IF(【時計】入力欄!E220=\"\",\"\",【時計】入力欄!E220)","v":""},{"$f":"IF(【時計】入力欄!F220=\"\",\"\",【時計】入力欄!F220)","v":""},{"$f":"CONCATENATE(IF(【時計】入力欄!G220=\"\",\"\",【時計】入力欄!G220&\" \"),IF(【時計】入力欄!H220=\"\",\"\",【時計】入力欄!H220&\" \"),IF(【時計】入力欄!I220=\"\",\"\",【時計】入力欄!I220&\" \"),IF(【時計】入力欄!J220=\"\",\"\",【時計】入力欄!J220&\" \"))","v":""},{"$f":"IF(【時計】入力欄!K220=\"\",\"\",【時計】入力欄!K220&\"g\")","v":""},{"$f":"IF(【時計】入力欄!L220=\"\",\"\",【時計】入力欄!L220)","v":""},{"$f":"IF(【時計】入力欄!O220=\"\",\"\",【時計】入力欄!O220)","v":""}]
["６",{"$f":"IF(【時計】入力欄!E221=\"\",\"\",【時計】入力欄!E221)","v":""},{"$f":"IF(【時計】入力欄!F221=\"\",\"\",【時計】入力欄!F221)","v":""},{"$f":"CONCATENATE(IF(【時計】入力欄!G221=\"\",\"\",【時計】入力欄!G221&\" \"),IF(【時計】入力欄!H221=\"\",\"\",【時計】入力欄!H221&\" \"),IF(【時計】入力欄!I221=\"\",\"\",【時計】入力欄!I221&\" \"),IF(【時計】入力欄!J221=\"\",\"\",【時計】入力欄!J221&\" \"))","v":""},{"$f":"IF(【時計】入力欄!K221=\"\",\"\",【時計】入力欄!K221&\"g\")","v":""},{"$f":"IF(【時計】入力欄!L221=\"\",\"\",【時計】入力欄!L221)","v":""},{"$f":"IF(【時計】入力欄!O221=\"\",\"\",【時計】入力欄!O221)","v":""}]
["７",{"$f":"IF(【時計】入力欄!E222=\"\",\"\",【時計】入力欄!E222)","v":""},{"$f":"IF(【時計】入力欄!F222=\"\",\"\",【時計】入力欄!F222)","v":""},{"$f":"CONCATENATE(IF(【時計】入力欄!G222=\"\",\"\",【時計】入力欄!G222&\" \"),IF(【時計】入力欄!H222=\"\",\"\",【時計】入力欄!H222&\" \"),IF(【時計】入力欄!I222=\"\",\"\",【時計】入力欄!I222&\" \"),IF(【時計】入力欄!J222=\"\",\"\",【時計】入力欄!J222&\" \"))","v":""},{"$f":"IF(【時計】入力欄!K222=\"\",\"\",【時計】入力欄!K222&\"g\")","v":""},{"$f":"IF(【時計】入力欄!L222=\"\",\"\",【時計】入力欄!L222)","v":""},{"$f":"IF(【時計】入力欄!O222=\"\",\"\",【時計】入力欄!O222)","v":""}]
["８",{"$f":"IF(【時計】入力欄!E223=\"\",\"\",【時計】入力欄!E223)","v":""},{"$f":"IF(【時計】入力欄!F223=\"\",\"\",【時計】入力欄!F223)","v":""},{"$f":"CONCATENATE(IF(【時計】入力欄!G223=\"\",\"\",【時計】入力欄!G223&\" \"),IF(【時計】入力欄!H223=\"\",\"\",【時計】入力欄!H223&\" \"),IF(【時計】入力欄!I223=\"\",\"\",【時計】入力欄!I223&\" \"),IF(【時計】入力欄!J223=\"\",\"\",【時計】入力欄!J223&\" \"))","v":""},{"$f":"IF(【時計】入力欄!K223=\"\",\"\",【時計】入力欄!K223&\"g\")","v":""},{"$f":"IF(【時計】入力欄!L223=\"\",\"\",【時計】入力欄!L223)","v":""},{"$f":"IF(【時計】入力欄!O223=\"\",\"\",【時計】入力欄!O223)","v":""}]
["９",{"$f":"IF(【時計】入力欄!E224=\"\",\"\",【時計】入力欄!E224)","v":""},{"$f":"IF(【時計】入力欄!F224=\"\",\"\",【時計】入力欄!F224)","v":""},{"$f":"CONCATENATE(IF(【時計】入力欄!G224=\"\",\"\",【時計】入力欄!G224&\" \"),IF(【時計】入力欄!H224=\"\",\"\",【時計】入力欄!H224&\" \"),IF(【時計】入力欄!I224=\"\",\"\",【時計】入力欄!I224&\" \"),IF(【時計】入力欄!J224=\"\",\"\",【時計】入力欄!J224&\" \"))","v":""},{"$f":"IF(【時計】入力欄!K224=\"\",\"\",【時計】入力欄!K224&\"g\")","v":""},{"$f":"IF(【時計】入力欄!L224=\"\",\"\",【時計】入力欄!L224)","v":""},{"$f":"IF(【時計】入力欄!O224=\"\",\"\",【時計】入力欄!O224)","v":""}]
["１０",{"$f":"IF(【時計】入力欄!E225=\"\",\"\",【時計】入力欄!E225)","v":""},{"$f":"IF(【時計】入力欄!F225=\"\",\"\",【時計】入力欄!F225)","v":""},{"$f":"CONCATENATE(IF(【時計】入力欄!G225=\"\",\"\",【時計】入力欄!G225&\" \"),IF(【時計】入力欄!H225=\"\",\"\",【時計】入力欄!H225&\" \"),IF(【時計】入力欄!I225=\"\",\"\",【時計】入力欄!I225&\" \"),IF(【時計】入力欄!J225=\"\",\"\",【時計】入力欄!J225&\" \"))","v":""},{"$f":"IF(【時計】入力欄!K225=\"\",\"\",【時計】入力欄!K225&\"g\")","v":""},{"$f":"IF(【時計】入力欄!L225=\"\",\"\",【時計】入力欄!L225)","v":""},{"$f":"IF(【時計】入力欄!O225=\"\",\"\",【時計】入力欄!O225)","v":""}]
[]
[" ",{"$f":"CONCATENATE(\"出品表　（　\",【時計】入力欄!I$3,\"大吉オークション　時計）\")","v":"出品表　（　大吉オークション　時計）"}]
[]
[null,"箱番：",{"$f":"IF(【時計】入力欄!C226=\"\",\"\",【時計】入力欄!C226)","v":""},"※太枠の中をご記入ください",null,"会社名",{"$f":"IF(【時計】入力欄!C$3=\"\",\"\",【時計】入力欄!C$3)","v":""}]
[]
["番号","ブランド","素材","詳細・特徴","重量","付属品","指値\n（3万円以上）","発句"]
["１",{"$f":"IF(【時計】入力欄!E226=\"\",\"\",【時計】入力欄!E226)","v":""},{"$f":"IF(【時計】入力欄!F226=\"\",\"\",【時計】入力欄!F226)","v":""},{"$f":"CONCATENATE(IF(【時計】入力欄!G226=\"\",\"\",【時計】入力欄!G226&\" \"),IF(【時計】入力欄!H226=\"\",\"\",【時計】入力欄!H226&\" \"),IF(【時計】入力欄!I226=\"\",\"\",【時計】入力欄!I226&\" \"),IF(【時計】入力欄!J226=\"\",\"\",【時計】入力欄!J226&\" \"))","v":""},{"$f":"IF(【時計】入力欄!K226=\"\",\"\",【時計】入力欄!K226&\"g\")","v":""},{"$f":"IF(【時計】入力欄!L226=\"\",\"\",【時計】入力欄!L226)","v":""},{"$f":"IF(【時計】入力欄!O226=\"\",\"\",【時計】入力欄!O226)","v":""}]
["２",{"$f":"IF(【時計】入力欄!E227=\"\",\"\",【時計】入力欄!E227)","v":""},{"$f":"IF(【時計】入力欄!F227=\"\",\"\",【時計】入力欄!F227)","v":""},{"$f":"CONCATENATE(IF(【時計】入力欄!G227=\"\",\"\",【時計】入力欄!G227&\" \"),IF(【時計】入力欄!H227=\"\",\"\",【時計】入力欄!H227&\" \"),IF(【時計】入力欄!I227=\"\",\"\",【時計】入力欄!I227&\" \"),IF(【時計】入力欄!J227=\"\",\"\",【時計】入力欄!J227&\" \"))","v":""},{"$f":"IF(【時計】入力欄!K227=\"\",\"\",【時計】入力欄!K227&\"g\")","v":""},{"$f":"IF(【時計】入力欄!L227=\"\",\"\",【時計】入力欄!L227)","v":""},{"$f":"IF(【時計】入力欄!O227=\"\",\"\",【時計】入力欄!O227)","v":""}]
["３",{"$f":"IF(【時計】入力欄!E228=\"\",\"\",【時計】入力欄!E228)","v":""},{"$f":"IF(【時計】入力欄!F228=\"\",\"\",【時計】入力欄!F228)","v":""},{"$f":"CONCATENATE(IF(【時計】入力欄!G228=\"\",\"\",【時計】入力欄!G228&\" \"),IF(【時計】入力欄!H228=\"\",\"\",【時計】入力欄!H228&\" \"),IF(【時計】入力欄!I228=\"\",\"\",【時計】入力欄!I228&\" \"),IF(【時計】入力欄!J228=\"\",\"\",【時計】入力欄!J228&\" \"))","v":""},{"$f":"IF(【時計】入力欄!K228=\"\",\"\",【時計】入力欄!K228&\"g\")","v":""},{"$f":"IF(【時計】入力欄!L228=\"\",\"\",【時計】入力欄!L228)","v":""},{"$f":"IF(【時計】入力欄!O228=\"\",\"\",【時計】入力欄!O228)","v":""}]
["４",{"$f":"IF(【時計】入力欄!E229=\"\",\"\",【時計】入力欄!E229)","v":""},{"$f":"IF(【時計】入力欄!F229=\"\",\"\",【時計】入力欄!F229)","v":""},{"$f":"CONCATENATE(IF(【時計】入力欄!G229=\"\",\"\",【時計】入力欄!G229&\" \"),IF(【時計】入力欄!H229=\"\",\"\",【時計】入力欄!H229&\" \"),IF(【時計】入力欄!I229=\"\",\"\",【時計】入力欄!I229&\" \"),IF(【時計】入力欄!J229=\"\",\"\",【時計】入力欄!J229&\" \"))","v":""},{"$f":"IF(【時計】入力欄!K229=\"\",\"\",【時計】入力欄!K229&\"g\")","v":""},{"$f":"IF(【時計】入力欄!L229=\"\",\"\",【時計】入力欄!L229)","v":""},{"$f":"IF(【時計】入力欄!O229=\"\",\"\",【時計】入力欄!O229)","v":""}]
["５",{"$f":"IF(【時計】入力欄!E230=\"\",\"\",【時計】入力欄!E230)","v":""},{"$f":"IF(【時計】入力欄!F230=\"\",\"\",【時計】入力欄!F230)","v":""},{"$f":"CONCATENATE(IF(【時計】入力欄!G230=\"\",\"\",【時計】入力欄!G230&\" \"),IF(【時計】入力欄!H230=\"\",\"\",【時計】入力欄!H230&\" \"),IF(【時計】入力欄!I230=\"\",\"\",【時計】入力欄!I230&\" \"),IF(【時計】入力欄!J230=\"\",\"\",【時計】入力欄!J230&\" \"))","v":""},{"$f":"IF(【時計】入力欄!K230=\"\",\"\",【時計】入力欄!K230&\"g\")","v":""},{"$f":"IF(【時計】入力欄!L230=\"\",\"\",【時計】入力欄!L230)","v":""},{"$f":"IF(【時計】入力欄!O230=\"\",\"\",【時計】入力欄!O230)","v":""}]
["６",{"$f":"IF(【時計】入力欄!E231=\"\",\"\",【時計】入力欄!E231)","v":""},{"$f":"IF(【時計】入力欄!F231=\"\",\"\",【時計】入力欄!F231)","v":""},{"$f":"CONCATENATE(IF(【時計】入力欄!G231=\"\",\"\",【時計】入力欄!G231&\" \"),IF(【時計】入力欄!H231=\"\",\"\",【時計】入力欄!H231&\" \"),IF(【時計】入力欄!I231=\"\",\"\",【時計】入力欄!I231&\" \"),IF(【時計】入力欄!J231=\"\",\"\",【時計】入力欄!J231&\" \"))","v":""},{"$f":"IF(【時計】入力欄!K231=\"\",\"\",【時計】入力欄!K231&\"g\")","v":""},{"$f":"IF(【時計】入力欄!L231=\"\",\"\",【時計】入力欄!L231)","v":""},{"$f":"IF(【時計】入力欄!O231=\"\",\"\",【時計】入力欄!O231)","v":""}]
["７",{"$f":"IF(【時計】入力欄!E232=\"\",\"\",【時計】入力欄!E232)","v":""},{"$f":"IF(【時計】入力欄!F232=\"\",\"\",【時計】入力欄!F232)","v":""},{"$f":"CONCATENATE(IF(【時計】入力欄!G232=\"\",\"\",【時計】入力欄!G232&\" \"),IF(【時計】入力欄!H232=\"\",\"\",【時計】入力欄!H232&\" \"),IF(【時計】入力欄!I232=\"\",\"\",【時計】入力欄!I232&\" \"),IF(【時計】入力欄!J232=\"\",\"\",【時計】入力欄!J232&\" \"))","v":""},{"$f":"IF(【時計】入力欄!K232=\"\",\"\",【時計】入力欄!K232&\"g\")","v":""},{"$f":"IF(【時計】入力欄!L232=\"\",\"\",【時計】入力欄!L232)","v":""},{"$f":"IF(【時計】入力欄!O232=\"\",\"\",【時計】入力欄!O232)","v":""}]
["８",{"$f":"IF(【時計】入力欄!E233=\"\",\"\",【時計】入力欄!E233)","v":""},{"$f":"IF(【時計】入力欄!F233=\"\",\"\",【時計】入力欄!F233)","v":""},{"$f":"CONCATENATE(IF(【時計】入力欄!G233=\"\",\"\",【時計】入力欄!G233&\" \"),IF(【時計】入力欄!H233=\"\",\"\",【時計】入力欄!H233&\" \"),IF(【時計】入力欄!I233=\"\",\"\",【時計】入力欄!I233&\" \"),IF(【時計】入力欄!J233=\"\",\"\",【時計】入力欄!J233&\" \"))","v":""},{"$f":"IF(【時計】入力欄!K233=\"\",\"\",【時計】入力欄!K233&\"g\")","v":""},{"$f":"IF(【時計】入力欄!L233=\"\",\"\",【時計】入力欄!L233)","v":""},{"$f":"IF(【時計】入力欄!O233=\"\",\"\",【時計】入力欄!O233)","v":""}]
["９",{"$f":"IF(【時計】入力欄!E234=\"\",\"\",【時計】入力欄!E234)","v":""},{"$f":"IF(【時計】入力欄!F234=\"\",\"\",【時計】入力欄!F234)","v":""},{"$f":"CONCATENATE(IF(【時計】入力欄!G234=\"\",\"\",【時計】入力欄!G234&\" \"),IF(【時計】入力欄!H234=\"\",\"\",【時計】入力欄!H234&\" \"),IF(【時計】入力欄!I234=\"\",\"\",【時計】入力欄!I234&\" \"),IF(【時計】入力欄!J234=\"\",\"\",【時計】入力欄!J234&\" \"))","v":""},{"$f":"IF(【時計】入力欄!K234=\"\",\"\",【時計】入力欄!K234&\"g\")","v":""},{"$f":"IF(【時計】入力欄!L234=\"\",\"\",【時計】入力欄!L234)","v":""},{"$f":"IF(【時計】入力欄!O234=\"\",\"\",【時計】入力欄!O234)","v":""}]
["１０",{"$f":"IF(【時計】入力欄!E235=\"\",\"\",【時計】入力欄!E235)","v":""},{"$f":"IF(【時計】入力欄!F235=\"\",\"\",【時計】入力欄!F235)","v":""},{"$f":"CONCATENATE(IF(【時計】入力欄!G235=\"\",\"\",【時計】入力欄!G235&\" \"),IF(【時計】入力欄!H235=\"\",\"\",【時計】入力欄!H235&\" \"),IF(【時計】入力欄!I235=\"\",\"\",【時計】入力欄!I235&\" \"),IF(【時計】入力欄!J235=\"\",\"\",【時計】入力欄!J235&\" \"))","v":""},{"$f":"IF(【時計】入力欄!K235=\"\",\"\",【時計】入力欄!K235&\"g\")","v":""},{"$f":"IF(【時計】入力欄!L235=\"\",\"\",【時計】入力欄!L235)","v":""},{"$f":"IF(【時計】入力欄!O235=\"\",\"\",【時計】入力欄!O235)","v":""}]
[]
[" ",{"$f":"CONCATENATE(\"出品表　（　\",【時計】入力欄!I$3,\"大吉オークション　時計）\")","v":"出品表　（　大吉オークション　時計）"}]
[]
[null,"箱番：",{"$f":"IF(【時計】入力欄!C236=\"\",\"\",【時計】入力欄!C236)","v":""},"※太枠の中をご記入ください",null,"会社名",{"$f":"IF(【時計】入力欄!C$3=\"\",\"\",【時計】入力欄!C$3)","v":""}]
[]
["番号","ブランド","素材","詳細・特徴","重量","付属品","指値\n（3万円以上）","発句"]
["１",{"$f":"IF(【時計】入力欄!E236=\"\",\"\",【時計】入力欄!E236)","v":""},{"$f":"IF(【時計】入力欄!F236=\"\",\"\",【時計】入力欄!F236)","v":""},{"$f":"CONCATENATE(IF(【時計】入力欄!G236=\"\",\"\",【時計】入力欄!G236&\" \"),IF(【時計】入力欄!H236=\"\",\"\",【時計】入力欄!H236&\" \"),IF(【時計】入力欄!I236=\"\",\"\",【時計】入力欄!I236&\" \"),IF(【時計】入力欄!J236=\"\",\"\",【時計】入力欄!J236&\" \"))","v":""},{"$f":"IF(【時計】入力欄!K236=\"\",\"\",【時計】入力欄!K236&\"g\")","v":""},{"$f":"IF(【時計】入力欄!L236=\"\",\"\",【時計】入力欄!L236)","v":""},{"$f":"IF(【時計】入力欄!O236=\"\",\"\",【時計】入力欄!O236)","v":""}]
["２",{"$f":"IF(【時計】入力欄!E237=\"\",\"\",【時計】入力欄!E237)","v":""},{"$f":"IF(【時計】入力欄!F237=\"\",\"\",【時計】入力欄!F237)","v":""},{"$f":"CONCATENATE(IF(【時計】入力欄!G237=\"\",\"\",【時計】入力欄!G237&\" \"),IF(【時計】入力欄!H237=\"\",\"\",【時計】入力欄!H237&\" \"),IF(【時計】入力欄!I237=\"\",\"\",【時計】入力欄!I237&\" \"),IF(【時計】入力欄!J237=\"\",\"\",【時計】入力欄!J237&\" \"))","v":""},{"$f":"IF(【時計】入力欄!K237=\"\",\"\",【時計】入力欄!K237&\"g\")","v":""},{"$f":"IF(【時計】入力欄!L237=\"\",\"\",【時計】入力欄!L237)","v":""},{"$f":"IF(【時計】入力欄!O237=\"\",\"\",【時計】入力欄!O237)","v":""}]
["３",{"$f":"IF(【時計】入力欄!E238=\"\",\"\",【時計】入力欄!E238)","v":""},{"$f":"IF(【時計】入力欄!F238=\"\",\"\",【時計】入力欄!F238)","v":""},{"$f":"CONCATENATE(IF(【時計】入力欄!G238=\"\",\"\",【時計】入力欄!G238&\" \"),IF(【時計】入力欄!H238=\"\",\"\",【時計】入力欄!H238&\" \"),IF(【時計】入力欄!I238=\"\",\"\",【時計】入力欄!I238&\" \"),IF(【時計】入力欄!J238=\"\",\"\",【時計】入力欄!J238&\" \"))","v":""},{"$f":"IF(【時計】入力欄!K238=\"\",\"\",【時計】入力欄!K238&\"g\")","v":""},{"$f":"IF(【時計】入力欄!L238=\"\",\"\",【時計】入力欄!L238)","v":""},{"$f":"IF(【時計】入力欄!O238=\"\",\"\",【時計】入力欄!O238)","v":""}]
["４",{"$f":"IF(【時計】入力欄!E239=\"\",\"\",【時計】入力欄!E239)","v":""},{"$f":"IF(【時計】入力欄!F239=\"\",\"\",【時計】入力欄!F239)","v":""},{"$f":"CONCATENATE(IF(【時計】入力欄!G239=\"\",\"\",【時計】入力欄!G239&\" \"),IF(【時計】入力欄!H239=\"\",\"\",【時計】入力欄!H239&\" \"),IF(【時計】入力欄!I239=\"\",\"\",【時計】入力欄!I239&\" \"),IF(【時計】入力欄!J239=\"\",\"\",【時計】入力欄!J239&\" \"))","v":""},{"$f":"IF(【時計】入力欄!K239=\"\",\"\",【時計】入力欄!K239&\"g\")","v":""},{"$f":"IF(【時計】入力欄!L239=\"\",\"\",【時計】入力欄!L239)","v":""},{"$f":"IF(【時計】入力欄!O239=\"\",\"\",【時計】入力欄!O239)","v":""}]
["５",{"$f":"IF(【時計】入力欄!E240=\"\",\"\",【時計】入力欄!E240)","v":""},{"$f":"IF(【時計】入力欄!F240=\"\",\"\",【時計】入力欄!F240)","v":""},{"$f":"CONCATENATE(IF(【時計】入力欄!G240=\"\",\"\",【時計】入力欄!G240&\" \"),IF(【時計】入力欄!H240=\"\",\"\",【時計】入力欄!H240&\" \"),IF(【時計】入力欄!I240=\"\",\"\",【時計】入力欄!I240&\" \"),IF(【時計】入力欄!J240=\"\",\"\",【時計】入力欄!J240&\" \"))","v":""},{"$f":"IF(【時計】入力欄!K240=\"\",\"\",【時計】入力欄!K240&\"g\")","v":""},{"$f":"IF(【時計】入力欄!L240=\"\",\"\",【時計】入力欄!L240)","v":""},{"$f":"IF(【時計】入力欄!O240=\"\",\"\",【時計】入力欄!O240)","v":""}]
["６",{"$f":"IF(【時計】入力欄!E241=\"\",\"\",【時計】入力欄!E241)","v":""},{"$f":"IF(【時計】入力欄!F241=\"\",\"\",【時計】入力欄!F241)","v":""},{"$f":"CONCATENATE(IF(【時計】入力欄!G241=\"\",\"\",【時計】入力欄!G241&\" \"),IF(【時計】入力欄!H241=\"\",\"\",【時計】入力欄!H241&\" \"),IF(【時計】入力欄!I241=\"\",\"\",【時計】入力欄!I241&\" \"),IF(【時計】入力欄!J241=\"\",\"\",【時計】入力欄!J241&\" \"))","v":""},{"$f":"IF(【時計】入力欄!K241=\"\",\"\",【時計】入力欄!K241&\"g\")","v":""},{"$f":"IF(【時計】入力欄!L241=\"\",\"\",【時計】入力欄!L241)","v":""},{"$f":"IF(【時計】入力欄!O241=\"\",\"\",【時計】入力欄!O241)","v":""}]
["７",{"$f":"IF(【時計】入力欄!E242=\"\",\"\",【時計】入力欄!E242)","v":""},{"$f":"IF(【時計】入力欄!F242=\"\",\"\",【時計】入力欄!F242)","v":""},{"$f":"CONCATENATE(IF(【時計】入力欄!G242=\"\",\"\",【時計】入力欄!G242&\" \"),IF(【時計】入力欄!H242=\"\",\"\",【時計】入力欄!H242&\" \"),IF(【時計】入力欄!I242=\"\",\"\",【時計】入力欄!I242&\" \"),IF(【時計】入力欄!J242=\"\",\"\",【時計】入力欄!J242&\" \"))","v":""},{"$f":"IF(【時計】入力欄!K242=\"\",\"\",【時計】入力欄!K242&\"g\")","v":""},{"$f":"IF(【時計】入力欄!L242=\"\",\"\",【時計】入力欄!L242)","v":""},{"$f":"IF(【時計】入力欄!O242=\"\",\"\",【時計】入力欄!O242)","v":""}]
["８",{"$f":"IF(【時計】入力欄!E243=\"\",\"\",【時計】入力欄!E243)","v":""},{"$f":"IF(【時計】入力欄!F243=\"\",\"\",【時計】入力欄!F243)","v":""},{"$f":"CONCATENATE(IF(【時計】入力欄!G243=\"\",\"\",【時計】入力欄!G243&\" \"),IF(【時計】入力欄!H243=\"\",\"\",【時計】入力欄!H243&\" \"),IF(【時計】入力欄!I243=\"\",\"\",【時計】入力欄!I243&\" \"),IF(【時計】入力欄!J243=\"\",\"\",【時計】入力欄!J243&\" \"))","v":""},{"$f":"IF(【時計】入力欄!K243=\"\",\"\",【時計】入力欄!K243&\"g\")","v":""},{"$f":"IF(【時計】入力欄!L243=\"\",\"\",【時計】入力欄!L243)","v":""},{"$f":"IF(【時計】入力欄!O243=\"\",\"\",【時計】入力欄!O243)","v":""}]
["９",{"$f":"IF(【時計】入力欄!E244=\"\",\"\",【時計】入力欄!E244)","v":""},{"$f":"IF(【時計】入力欄!F244=\"\",\"\",【時計】入力欄!F244)","v":""},{"$f":"CONCATENATE(IF(【時計】入力欄!G244=\"\",\"\",【時計】入力欄!G244&\" \"),IF(【時計】入力欄!H244=\"\",\"\",【時計】入力欄!H244&\" \"),IF(【時計】入力欄!I244=\"\",\"\",【時計】入力欄!I244&\" \"),IF(【時計】入力欄!J244=\"\",\"\",【時計】入力欄!J244&\" \"))","v":""},{"$f":"IF(【時計】入力欄!K244=\"\",\"\",【時計】入力欄!K244&\"g\")","v":""},{"$f":"IF(【時計】入力欄!L244=\"\",\"\",【時計】入力欄!L244)","v":""},{"$f":"IF(【時計】入力欄!O244=\"\",\"\",【時計】入力欄!O244)","v":""}]
["１０",{"$f":"IF(【時計】入力欄!E245=\"\",\"\",【時計】入力欄!E245)","v":""},{"$f":"IF(【時計】入力欄!F245=\"\",\"\",【時計】入力欄!F245)","v":""},{"$f":"CONCATENATE(IF(【時計】入力欄!G245=\"\",\"\",【時計】入力欄!G245&\" \"),IF(【時計】入力欄!H245=\"\",\"\",【時計】入力欄!H245&\" \"),IF(【時計】入力欄!I245=\"\",\"\",【時計】入力欄!I245&\" \"),IF(【時計】入力欄!J245=\"\",\"\",【時計】入力欄!J245&\" \"))","v":""},{"$f":"IF(【時計】入力欄!K245=\"\",\"\",【時計】入力欄!K245&\"g\")","v":""},{"$f":"IF(【時計】入力欄!L245=\"\",\"\",【時計】入力欄!L245)","v":""},{"$f":"IF(【時計】入力欄!O245=\"\",\"\",【時計】入力欄!O245)","v":""}]
[]
[" ",{"$f":"CONCATENATE(\"出品表　（　\",【時計】入力欄!I$3,\"大吉オークション　時計）\")","v":"出品表　（　大吉オークション　時計）"}]
[]
[null,"箱番：",{"$f":"IF(【時計】入力欄!C246=\"\",\"\",【時計】入力欄!C246)","v":""},"※太枠の中をご記入ください",null,"会社名",{"$f":"IF(【時計】入力欄!C$3=\"\",\"\",【時計】入力欄!C$3)","v":""}]
[]
["番号","ブランド","素材","詳細・特徴","重量","付属品","指値\n（3万円以上）","発句"]
["１",{"$f":"IF(【時計】入力欄!E246=\"\",\"\",【時計】入力欄!E246)","v":""},{"$f":"IF(【時計】入力欄!F246=\"\",\"\",【時計】入力欄!F246)","v":""},{"$f":"CONCATENATE(IF(【時計】入力欄!G246=\"\",\"\",【時計】入力欄!G246&\" \"),IF(【時計】入力欄!H246=\"\",\"\",【時計】入力欄!H246&\" \"),IF(【時計】入力欄!I246=\"\",\"\",【時計】入力欄!I246&\" \"),IF(【時計】入力欄!J246=\"\",\"\",【時計】入力欄!J246&\" \"))","v":""},{"$f":"IF(【時計】入力欄!K246=\"\",\"\",【時計】入力欄!K246&\"g\")","v":""},{"$f":"IF(【時計】入力欄!L246=\"\",\"\",【時計】入力欄!L246)","v":""},{"$f":"IF(【時計】入力欄!O246=\"\",\"\",【時計】入力欄!O246)","v":""}]
["２",{"$f":"IF(【時計】入力欄!E247=\"\",\"\",【時計】入力欄!E247)","v":""},{"$f":"IF(【時計】入力欄!F247=\"\",\"\",【時計】入力欄!F247)","v":""},{"$f":"CONCATENATE(IF(【時計】入力欄!G247=\"\",\"\",【時計】入力欄!G247&\" \"),IF(【時計】入力欄!H247=\"\",\"\",【時計】入力欄!H247&\" \"),IF(【時計】入力欄!I247=\"\",\"\",【時計】入力欄!I247&\" \"),IF(【時計】入力欄!J247=\"\",\"\",【時計】入力欄!J247&\" \"))","v":""},{"$f":"IF(【時計】入力欄!K247=\"\",\"\",【時計】入力欄!K247&\"g\")","v":""},{"$f":"IF(【時計】入力欄!L247=\"\",\"\",【時計】入力欄!L247)","v":""},{"$f":"IF(【時計】入力欄!O247=\"\",\"\",【時計】入力欄!O247)","v":""}]
["３",{"$f":"IF(【時計】入力欄!E248=\"\",\"\",【時計】入力欄!E248)","v":""},{"$f":"IF(【時計】入力欄!F248=\"\",\"\",【時計】入力欄!F248)","v":""},{"$f":"CONCATENATE(IF(【時計】入力欄!G248=\"\",\"\",【時計】入力欄!G248&\" \"),IF(【時計】入力欄!H248=\"\",\"\",【時計】入力欄!H248&\" \"),IF(【時計】入力欄!I248=\"\",\"\",【時計】入力欄!I248&\" \"),IF(【時計】入力欄!J248=\"\",\"\",【時計】入力欄!J248&\" \"))","v":""},{"$f":"IF(【時計】入力欄!K248=\"\",\"\",【時計】入力欄!K248&\"g\")","v":""},{"$f":"IF(【時計】入力欄!L248=\"\",\"\",【時計】入力欄!L248)","v":""},{"$f":"IF(【時計】入力欄!O248=\"\",\"\",【時計】入力欄!O248)","v":""}]
["４",{"$f":"IF(【時計】入力欄!E249=\"\",\"\",【時計】入力欄!E249)","v":""},{"$f":"IF(【時計】入力欄!F249=\"\",\"\",【時計】入力欄!F249)","v":""},{"$f":"CONCATENATE(IF(【時計】入力欄!G249=\"\",\"\",【時計】入力欄!G249&\" \"),IF(【時計】入力欄!H249=\"\",\"\",【時計】入力欄!H249&\" \"),IF(【時計】入力欄!I249=\"\",\"\",【時計】入力欄!I249&\" \"),IF(【時計】入力欄!J249=\"\",\"\",【時計】入力欄!J249&\" \"))","v":""},{"$f":"IF(【時計】入力欄!K249=\"\",\"\",【時計】入力欄!K249&\"g\")","v":""},{"$f":"IF(【時計】入力欄!L249=\"\",\"\",【時計】入力欄!L249)","v":""},{"$f":"IF(【時計】入力欄!O249=\"\",\"\",【時計】入力欄!O249)","v":""}]
["５",{"$f":"IF(【時計】入力欄!E250=\"\",\"\",【時計】入力欄!E250)","v":""},{"$f":"IF(【時計】入力欄!F250=\"\",\"\",【時計】入力欄!F250)","v":""},{"$f":"CONCATENATE(IF(【時計】入力欄!G250=\"\",\"\",【時計】入力欄!G250&\" \"),IF(【時計】入力欄!H250=\"\",\"\",【時計】入力欄!H250&\" \"),IF(【時計】入力欄!I250=\"\",\"\",【時計】入力欄!I250&\" \"),IF(【時計】入力欄!J250=\"\",\"\",【時計】入力欄!J250&\" \"))","v":""},{"$f":"IF(【時計】入力欄!K250=\"\",\"\",【時計】入力欄!K250&\"g\")","v":""},{"$f":"IF(【時計】入力欄!L250=\"\",\"\",【時計】入力欄!L250)","v":""},{"$f":"IF(【時計】入力欄!O250=\"\",\"\",【時計】入力欄!O250)","v":""}]
["６",{"$f":"IF(【時計】入力欄!E251=\"\",\"\",【時計】入力欄!E251)","v":""},{"$f":"IF(【時計】入力欄!F251=\"\",\"\",【時計】入力欄!F251)","v":""},{"$f":"CONCATENATE(IF(【時計】入力欄!G251=\"\",\"\",【時計】入力欄!G251&\" \"),IF(【時計】入力欄!H251=\"\",\"\",【時計】入力欄!H251&\" \"),IF(【時計】入力欄!I251=\"\",\"\",【時計】入力欄!I251&\" \"),IF(【時計】入力欄!J251=\"\",\"\",【時計】入力欄!J251&\" \"))","v":""},{"$f":"IF(【時計】入力欄!K251=\"\",\"\",【時計】入力欄!K251&\"g\")","v":""},{"$f":"IF(【時計】入力欄!L251=\"\",\"\",【時計】入力欄!L251)","v":""},{"$f":"IF(【時計】入力欄!O251=\"\",\"\",【時計】入力欄!O251)","v":""}]
["７",{"$f":"IF(【時計】入力欄!E252=\"\",\"\",【時計】入力欄!E252)","v":""},{"$f":"IF(【時計】入力欄!F252=\"\",\"\",【時計】入力欄!F252)","v":""},{"$f":"CONCATENATE(IF(【時計】入力欄!G252=\"\",\"\",【時計】入力欄!G252&\" \"),IF(【時計】入力欄!H252=\"\",\"\",【時計】入力欄!H252&\" \"),IF(【時計】入力欄!I252=\"\",\"\",【時計】入力欄!I252&\" \"),IF(【時計】入力欄!J252=\"\",\"\",【時計】入力欄!J252&\" \"))","v":""},{"$f":"IF(【時計】入力欄!K252=\"\",\"\",【時計】入力欄!K252&\"g\")","v":""},{"$f":"IF(【時計】入力欄!L252=\"\",\"\",【時計】入力欄!L252)","v":""},{"$f":"IF(【時計】入力欄!O252=\"\",\"\",【時計】入力欄!O252)","v":""}]
["８",{"$f":"IF(【時計】入力欄!E253=\"\",\"\",【時計】入力欄!E253)","v":""},{"$f":"IF(【時計】入力欄!F253=\"\",\"\",【時計】入力欄!F253)","v":""},{"$f":"CONCATENATE(IF(【時計】入力欄!G253=\"\",\"\",【時計】入力欄!G253&\" \"),IF(【時計】入力欄!H253=\"\",\"\",【時計】入力欄!H253&\" \"),IF(【時計】入力欄!I253=\"\",\"\",【時計】入力欄!I253&\" \"),IF(【時計】入力欄!J253=\"\",\"\",【時計】入力欄!J253&\" \"))","v":""},{"$f":"IF(【時計】入力欄!K253=\"\",\"\",【時計】入力欄!K253&\"g\")","v":""},{"$f":"IF(【時計】入力欄!L253=\"\",\"\",【時計】入力欄!L253)","v":""},{"$f":"IF(【時計】入力欄!O253=\"\",\"\",【時計】入力欄!O253)","v":""}]
["９",{"$f":"IF(【時計】入力欄!E254=\"\",\"\",【時計】入力欄!E254)","v":""},{"$f":"IF(【時計】入力欄!F254=\"\",\"\",【時計】入力欄!F254)","v":""},{"$f":"CONCATENATE(IF(【時計】入力欄!G254=\"\",\"\",【時計】入力欄!G254&\" \"),IF(【時計】入力欄!H254=\"\",\"\",【時計】入力欄!H254&\" \"),IF(【時計】入力欄!I254=\"\",\"\",【時計】入力欄!I254&\" \"),IF(【時計】入力欄!J254=\"\",\"\",【時計】入力欄!J254&\" \"))","v":""},{"$f":"IF(【時計】入力欄!K254=\"\",\"\",【時計】入力欄!K254&\"g\")","v":""},{"$f":"IF(【時計】入力欄!L254=\"\",\"\",【時計】入力欄!L254)","v":""},{"$f":"IF(【時計】入力欄!O254=\"\",\"\",【時計】入力欄!O254)","v":""}]
["１０",{"$f":"IF(【時計】入力欄!E255=\"\",\"\",【時計】入力欄!E255)","v":""},{"$f":"IF(【時計】入力欄!F255=\"\",\"\",【時計】入力欄!F255)","v":""},{"$f":"CONCATENATE(IF(【時計】入力欄!G255=\"\",\"\",【時計】入力欄!G255&\" \"),IF(【時計】入力欄!H255=\"\",\"\",【時計】入力欄!H255&\" \"),IF(【時計】入力欄!I255=\"\",\"\",【時計】入力欄!I255&\" \"),IF(【時計】入力欄!J255=\"\",\"\",【時計】入力欄!J255&\" \"))","v":""},{"$f":"IF(【時計】入力欄!K255=\"\",\"\",【時計】入力欄!K255&\"g\")","v":""},{"$f":"IF(【時計】入力欄!L255=\"\",\"\",【時計】入力欄!L255)","v":""},{"$f":"IF(【時計】入力欄!O255=\"\",\"\",【時計】入力欄!O255)","v":""}]
[]
[" ",{"$f":"CONCATENATE(\"出品表　（　\",【時計】入力欄!I$3,\"大吉オークション　時計）\")","v":"出品表　（　大吉オークション　時計）"}]
[]
[null,"箱番：",{"$f":"IF(【時計】入力欄!C256=\"\",\"\",【時計】入力欄!C256)","v":""},"※太枠の中をご記入ください",null,"会社名",{"$f":"IF(【時計】入力欄!C$3=\"\",\"\",【時計】入力欄!C$3)","v":""}]
[]
["番号","ブランド","素材","詳細・特徴","重量","付属品","指値\n（3万円以上）","発句"]
["１",{"$f":"IF(【時計】入力欄!E256=\"\",\"\",【時計】入力欄!E256)","v":""},{"$f":"IF(【時計】入力欄!F256=\"\",\"\",【時計】入力欄!F256)","v":""},{"$f":"CONCATENATE(IF(【時計】入力欄!G256=\"\",\"\",【時計】入力欄!G256&\" \"),IF(【時計】入力欄!H256=\"\",\"\",【時計】入力欄!H256&\" \"),IF(【時計】入力欄!I256=\"\",\"\",【時計】入力欄!I256&\" \"),IF(【時計】入力欄!J256=\"\",\"\",【時計】入力欄!J256&\" \"))","v":""},{"$f":"IF(【時計】入力欄!K256=\"\",\"\",【時計】入力欄!K256&\"g\")","v":""},{"$f":"IF(【時計】入力欄!L256=\"\",\"\",【時計】入力欄!L256)","v":""},{"$f":"IF(【時計】入力欄!O256=\"\",\"\",【時計】入力欄!O256)","v":""}]
["２",{"$f":"IF(【時計】入力欄!E257=\"\",\"\",【時計】入力欄!E257)","v":""},{"$f":"IF(【時計】入力欄!F257=\"\",\"\",【時計】入力欄!F257)","v":""},{"$f":"CONCATENATE(IF(【時計】入力欄!G257=\"\",\"\",【時計】入力欄!G257&\" \"),IF(【時計】入力欄!H257=\"\",\"\",【時計】入力欄!H257&\" \"),IF(【時計】入力欄!I257=\"\",\"\",【時計】入力欄!I257&\" \"),IF(【時計】入力欄!J257=\"\",\"\",【時計】入力欄!J257&\" \"))","v":""},{"$f":"IF(【時計】入力欄!K257=\"\",\"\",【時計】入力欄!K257&\"g\")","v":""},{"$f":"IF(【時計】入力欄!L257=\"\",\"\",【時計】入力欄!L257)","v":""},{"$f":"IF(【時計】入力欄!O257=\"\",\"\",【時計】入力欄!O257)","v":""}]
["３",{"$f":"IF(【時計】入力欄!E258=\"\",\"\",【時計】入力欄!E258)","v":""},{"$f":"IF(【時計】入力欄!F258=\"\",\"\",【時計】入力欄!F258)","v":""},{"$f":"CONCATENATE(IF(【時計】入力欄!G258=\"\",\"\",【時計】入力欄!G258&\" \"),IF(【時計】入力欄!H258=\"\",\"\",【時計】入力欄!H258&\" \"),IF(【時計】入力欄!I258=\"\",\"\",【時計】入力欄!I258&\" \"),IF(【時計】入力欄!J258=\"\",\"\",【時計】入力欄!J258&\" \"))","v":""},{"$f":"IF(【時計】入力欄!K258=\"\",\"\",【時計】入力欄!K258&\"g\")","v":""},{"$f":"IF(【時計】入力欄!L258=\"\",\"\",【時計】入力欄!L258)","v":""},{"$f":"IF(【時計】入力欄!O258=\"\",\"\",【時計】入力欄!O258)","v":""}]
["４",{"$f":"IF(【時計】入力欄!E259=\"\",\"\",【時計】入力欄!E259)","v":""},{"$f":"IF(【時計】入力欄!F259=\"\",\"\",【時計】入力欄!F259)","v":""},{"$f":"CONCATENATE(IF(【時計】入力欄!G259=\"\",\"\",【時計】入力欄!G259&\" \"),IF(【時計】入力欄!H259=\"\",\"\",【時計】入力欄!H259&\" \"),IF(【時計】入力欄!I259=\"\",\"\",【時計】入力欄!I259&\" \"),IF(【時計】入力欄!J259=\"\",\"\",【時計】入力欄!J259&\" \"))","v":""},{"$f":"IF(【時計】入力欄!K259=\"\",\"\",【時計】入力欄!K259&\"g\")","v":""},{"$f":"IF(【時計】入力欄!L259=\"\",\"\",【時計】入力欄!L259)","v":""},{"$f":"IF(【時計】入力欄!O259=\"\",\"\",【時計】入力欄!O259)","v":""}]
["５",{"$f":"IF(【時計】入力欄!E260=\"\",\"\",【時計】入力欄!E260)","v":""},{"$f":"IF(【時計】入力欄!F260=\"\",\"\",【時計】入力欄!F260)","v":""},{"$f":"CONCATENATE(IF(【時計】入力欄!G260=\"\",\"\",【時計】入力欄!G260&\" \"),IF(【時計】入力欄!H260=\"\",\"\",【時計】入力欄!H260&\" \"),IF(【時計】入力欄!I260=\"\",\"\",【時計】入力欄!I260&\" \"),IF(【時計】入力欄!J260=\"\",\"\",【時計】入力欄!J260&\" \"))","v":""},{"$f":"IF(【時計】入力欄!K260=\"\",\"\",【時計】入力欄!K260&\"g\")","v":""},{"$f":"IF(【時計】入力欄!L260=\"\",\"\",【時計】入力欄!L260)","v":""},{"$f":"IF(【時計】入力欄!O260=\"\",\"\",【時計】入力欄!O260)","v":""}]
["６",{"$f":"IF(【時計】入力欄!E261=\"\",\"\",【時計】入力欄!E261)","v":""},{"$f":"IF(【時計】入力欄!F261=\"\",\"\",【時計】入力欄!F261)","v":""},{"$f":"CONCATENATE(IF(【時計】入力欄!G261=\"\",\"\",【時計】入力欄!G261&\" \"),IF(【時計】入力欄!H261=\"\",\"\",【時計】入力欄!H261&\" \"),IF(【時計】入力欄!I261=\"\",\"\",【時計】入力欄!I261&\" \"),IF(【時計】入力欄!J261=\"\",\"\",【時計】入力欄!J261&\" \"))","v":""},{"$f":"IF(【時計】入力欄!K261=\"\",\"\",【時計】入力欄!K261&\"g\")","v":""},{"$f":"IF(【時計】入力欄!L261=\"\",\"\",【時計】入力欄!L261)","v":""},{"$f":"IF(【時計】入力欄!O261=\"\",\"\",【時計】入力欄!O261)","v":""}]
["７",{"$f":"IF(【時計】入力欄!E262=\"\",\"\",【時計】入力欄!E262)","v":""},{"$f":"IF(【時計】入力欄!F262=\"\",\"\",【時計】入力欄!F262)","v":""},{"$f":"CONCATENATE(IF(【時計】入力欄!G262=\"\",\"\",【時計】入力欄!G262&\" \"),IF(【時計】入力欄!H262=\"\",\"\",【時計】入力欄!H262&\" \"),IF(【時計】入力欄!I262=\"\",\"\",【時計】入力欄!I262&\" \"),IF(【時計】入力欄!J262=\"\",\"\",【時計】入力欄!J262&\" \"))","v":""},{"$f":"IF(【時計】入力欄!K262=\"\",\"\",【時計】入力欄!K262&\"g\")","v":""},{"$f":"IF(【時計】入力欄!L262=\"\",\"\",【時計】入力欄!L262)","v":""},{"$f":"IF(【時計】入力欄!O262=\"\",\"\",【時計】入力欄!O262)","v":""}]
["８",{"$f":"IF(【時計】入力欄!E263=\"\",\"\",【時計】入力欄!E263)","v":""},{"$f":"IF(【時計】入力欄!F263=\"\",\"\",【時計】入力欄!F263)","v":""},{"$f":"CONCATENATE(IF(【時計】入力欄!G263=\"\",\"\",【時計】入力欄!G263&\" \"),IF(【時計】入力欄!H263=\"\",\"\",【時計】入力欄!H263&\" \"),IF(【時計】入力欄!I263=\"\",\"\",【時計】入力欄!I263&\" \"),IF(【時計】入力欄!J263=\"\",\"\",【時計】入力欄!J263&\" \"))","v":""},{"$f":"IF(【時計】入力欄!K263=\"\",\"\",【時計】入力欄!K263&\"g\")","v":""},{"$f":"IF(【時計】入力欄!L263=\"\",\"\",【時計】入力欄!L263)","v":""},{"$f":"IF(【時計】入力欄!O263=\"\",\"\",【時計】入力欄!O263)","v":""}]
["９",{"$f":"IF(【時計】入力欄!E264=\"\",\"\",【時計】入力欄!E264)","v":""},{"$f":"IF(【時計】入力欄!F264=\"\",\"\",【時計】入力欄!F264)","v":""},{"$f":"CONCATENATE(IF(【時計】入力欄!G264=\"\",\"\",【時計】入力欄!G264&\" \"),IF(【時計】入力欄!H264=\"\",\"\",【時計】入力欄!H264&\" \"),IF(【時計】入力欄!I264=\"\",\"\",【時計】入力欄!I264&\" \"),IF(【時計】入力欄!J264=\"\",\"\",【時計】入力欄!J264&\" \"))","v":""},{"$f":"IF(【時計】入力欄!K264=\"\",\"\",【時計】入力欄!K264&\"g\")","v":""},{"$f":"IF(【時計】入力欄!L264=\"\",\"\",【時計】入力欄!L264)","v":""},{"$f":"IF(【時計】入力欄!O264=\"\",\"\",【時計】入力欄!O264)","v":""}]
["１０",{"$f":"IF(【時計】入力欄!E265=\"\",\"\",【時計】入力欄!E265)","v":""},{"$f":"IF(【時計】入力欄!F265=\"\",\"\",【時計】入力欄!F265)","v":""},{"$f":"CONCATENATE(IF(【時計】入力欄!G265=\"\",\"\",【時計】入力欄!G265&\" \"),IF(【時計】入力欄!H265=\"\",\"\",【時計】入力欄!H265&\" \"),IF(【時計】入力欄!I265=\"\",\"\",【時計】入力欄!I265&\" \"),IF(【時計】入力欄!J265=\"\",\"\",【時計】入力欄!J265&\" \"))","v":""},{"$f":"IF(【時計】入力欄!K265=\"\",\"\",【時計】入力欄!K265&\"g\")","v":""},{"$f":"IF(【時計】入力欄!L265=\"\",\"\",【時計】入力欄!L265)","v":""},{"$f":"IF(【時計】入力欄!O265=\"\",\"\",【時計】入力欄!O265)","v":""}]
[]
[" ",{"$f":"CONCATENATE(\"出品表　（　\",【時計】入力欄!I$3,\"大吉オークション　時計）\")","v":"出品表　（　大吉オークション　時計）"}]
[]
[null,"箱番：",{"$f":"IF(【時計】入力欄!C266=\"\",\"\",【時計】入力欄!C266)","v":""},"※太枠の中をご記入ください",null,"会社名",{"$f":"IF(【時計】入力欄!C$3=\"\",\"\",【時計】入力欄!C$3)","v":""}]
[]
["番号","ブランド","素材","詳細・特徴","重量","付属品","指値\n（3万円以上）","発句"]
["１",{"$f":"IF(【時計】入力欄!E266=\"\",\"\",【時計】入力欄!E266)","v":""},{"$f":"IF(【時計】入力欄!F266=\"\",\"\",【時計】入力欄!F266)","v":""},{"$f":"CONCATENATE(IF(【時計】入力欄!G266=\"\",\"\",【時計】入力欄!G266&\" \"),IF(【時計】入力欄!H266=\"\",\"\",【時計】入力欄!H266&\" \"),IF(【時計】入力欄!I266=\"\",\"\",【時計】入力欄!I266&\" \"),IF(【時計】入力欄!J266=\"\",\"\",【時計】入力欄!J266&\" \"))","v":""},{"$f":"IF(【時計】入力欄!K266=\"\",\"\",【時計】入力欄!K266&\"g\")","v":""},{"$f":"IF(【時計】入力欄!L266=\"\",\"\",【時計】入力欄!L266)","v":""},{"$f":"IF(【時計】入力欄!O266=\"\",\"\",【時計】入力欄!O266)","v":""}]
["２",{"$f":"IF(【時計】入力欄!E267=\"\",\"\",【時計】入力欄!E267)","v":""},{"$f":"IF(【時計】入力欄!F267=\"\",\"\",【時計】入力欄!F267)","v":""},{"$f":"CONCATENATE(IF(【時計】入力欄!G267=\"\",\"\",【時計】入力欄!G267&\" \"),IF(【時計】入力欄!H267=\"\",\"\",【時計】入力欄!H267&\" \"),IF(【時計】入力欄!I267=\"\",\"\",【時計】入力欄!I267&\" \"),IF(【時計】入力欄!J267=\"\",\"\",【時計】入力欄!J267&\" \"))","v":""},{"$f":"IF(【時計】入力欄!K267=\"\",\"\",【時計】入力欄!K267&\"g\")","v":""},{"$f":"IF(【時計】入力欄!L267=\"\",\"\",【時計】入力欄!L267)","v":""},{"$f":"IF(【時計】入力欄!O267=\"\",\"\",【時計】入力欄!O267)","v":""}]
["３",{"$f":"IF(【時計】入力欄!E268=\"\",\"\",【時計】入力欄!E268)","v":""},{"$f":"IF(【時計】入力欄!F268=\"\",\"\",【時計】入力欄!F268)","v":""},{"$f":"CONCATENATE(IF(【時計】入力欄!G268=\"\",\"\",【時計】入力欄!G268&\" \"),IF(【時計】入力欄!H268=\"\",\"\",【時計】入力欄!H268&\" \"),IF(【時計】入力欄!I268=\"\",\"\",【時計】入力欄!I268&\" \"),IF(【時計】入力欄!J268=\"\",\"\",【時計】入力欄!J268&\" \"))","v":""},{"$f":"IF(【時計】入力欄!K268=\"\",\"\",【時計】入力欄!K268&\"g\")","v":""},{"$f":"IF(【時計】入力欄!L268=\"\",\"\",【時計】入力欄!L268)","v":""},{"$f":"IF(【時計】入力欄!O268=\"\",\"\",【時計】入力欄!O268)","v":""}]
["４",{"$f":"IF(【時計】入力欄!E269=\"\",\"\",【時計】入力欄!E269)","v":""},{"$f":"IF(【時計】入力欄!F269=\"\",\"\",【時計】入力欄!F269)","v":""},{"$f":"CONCATENATE(IF(【時計】入力欄!G269=\"\",\"\",【時計】入力欄!G269&\" \"),IF(【時計】入力欄!H269=\"\",\"\",【時計】入力欄!H269&\" \"),IF(【時計】入力欄!I269=\"\",\"\",【時計】入力欄!I269&\" \"),IF(【時計】入力欄!J269=\"\",\"\",【時計】入力欄!J269&\" \"))","v":""},{"$f":"IF(【時計】入力欄!K269=\"\",\"\",【時計】入力欄!K269&\"g\")","v":""},{"$f":"IF(【時計】入力欄!L269=\"\",\"\",【時計】入力欄!L269)","v":""},{"$f":"IF(【時計】入力欄!O269=\"\",\"\",【時計】入力欄!O269)","v":""}]
["５",{"$f":"IF(【時計】入力欄!E270=\"\",\"\",【時計】入力欄!E270)","v":""},{"$f":"IF(【時計】入力欄!F270=\"\",\"\",【時計】入力欄!F270)","v":""},{"$f":"CONCATENATE(IF(【時計】入力欄!G270=\"\",\"\",【時計】入力欄!G270&\" \"),IF(【時計】入力欄!H270=\"\",\"\",【時計】入力欄!H270&\" \"),IF(【時計】入力欄!I270=\"\",\"\",【時計】入力欄!I270&\" \"),IF(【時計】入力欄!J270=\"\",\"\",【時計】入力欄!J270&\" \"))","v":""},{"$f":"IF(【時計】入力欄!K270=\"\",\"\",【時計】入力欄!K270&\"g\")","v":""},{"$f":"IF(【時計】入力欄!L270=\"\",\"\",【時計】入力欄!L270)","v":""},{"$f":"IF(【時計】入力欄!O270=\"\",\"\",【時計】入力欄!O270)","v":""}]
["６",{"$f":"IF(【時計】入力欄!E271=\"\",\"\",【時計】入力欄!E271)","v":""},{"$f":"IF(【時計】入力欄!F271=\"\",\"\",【時計】入力欄!F271)","v":""},{"$f":"CONCATENATE(IF(【時計】入力欄!G271=\"\",\"\",【時計】入力欄!G271&\" \"),IF(【時計】入力欄!H271=\"\",\"\",【時計】入力欄!H271&\" \"),IF(【時計】入力欄!I271=\"\",\"\",【時計】入力欄!I271&\" \"),IF(【時計】入力欄!J271=\"\",\"\",【時計】入力欄!J271&\" \"))","v":""},{"$f":"IF(【時計】入力欄!K271=\"\",\"\",【時計】入力欄!K271&\"g\")","v":""},{"$f":"IF(【時計】入力欄!L271=\"\",\"\",【時計】入力欄!L271)","v":""},{"$f":"IF(【時計】入力欄!O271=\"\",\"\",【時計】入力欄!O271)","v":""}]
["７",{"$f":"IF(【時計】入力欄!E272=\"\",\"\",【時計】入力欄!E272)","v":""},{"$f":"IF(【時計】入力欄!F272=\"\",\"\",【時計】入力欄!F272)","v":""},{"$f":"CONCATENATE(IF(【時計】入力欄!G272=\"\",\"\",【時計】入力欄!G272&\" \"),IF(【時計】入力欄!H272=\"\",\"\",【時計】入力欄!H272&\" \"),IF(【時計】入力欄!I272=\"\",\"\",【時計】入力欄!I272&\" \"),IF(【時計】入力欄!J272=\"\",\"\",【時計】入力欄!J272&\" \"))","v":""},{"$f":"IF(【時計】入力欄!K272=\"\",\"\",【時計】入力欄!K272&\"g\")","v":""},{"$f":"IF(【時計】入力欄!L272=\"\",\"\",【時計】入力欄!L272)","v":""},{"$f":"IF(【時計】入力欄!O272=\"\",\"\",【時計】入力欄!O272)","v":""}]
["８",{"$f":"IF(【時計】入力欄!E273=\"\",\"\",【時計】入力欄!E273)","v":""},{"$f":"IF(【時計】入力欄!F273=\"\",\"\",【時計】入力欄!F273)","v":""},{"$f":"CONCATENATE(IF(【時計】入力欄!G273=\"\",\"\",【時計】入力欄!G273&\" \"),IF(【時計】入力欄!H273=\"\",\"\",【時計】入力欄!H273&\" \"),IF(【時計】入力欄!I273=\"\",\"\",【時計】入力欄!I273&\" \"),IF(【時計】入力欄!J273=\"\",\"\",【時計】入力欄!J273&\" \"))","v":""},{"$f":"IF(【時計】入力欄!K273=\"\",\"\",【時計】入力欄!K273&\"g\")","v":""},{"$f":"IF(【時計】入力欄!L273=\"\",\"\",【時計】入力欄!L273)","v":""},{"$f":"IF(【時計】入力欄!O273=\"\",\"\",【時計】入力欄!O273)","v":""}]
["９",{"$f":"IF(【時計】入力欄!E274=\"\",\"\",【時計】入力欄!E274)","v":""},{"$f":"IF(【時計】入力欄!F274=\"\",\"\",【時計】入力欄!F274)","v":""},{"$f":"CONCATENATE(IF(【時計】入力欄!G274=\"\",\"\",【時計】入力欄!G274&\" \"),IF(【時計】入力欄!H274=\"\",\"\",【時計】入力欄!H274&\" \"),IF(【時計】入力欄!I274=\"\",\"\",【時計】入力欄!I274&\" \"),IF(【時計】入力欄!J274=\"\",\"\",【時計】入力欄!J274&\" \"))","v":""},{"$f":"IF(【時計】入力欄!K274=\"\",\"\",【時計】入力欄!K274&\"g\")","v":""},{"$f":"IF(【時計】入力欄!L274=\"\",\"\",【時計】入力欄!L274)","v":""},{"$f":"IF(【時計】入力欄!O274=\"\",\"\",【時計】入力欄!O274)","v":""}]
["１０",{"$f":"IF(【時計】入力欄!E275=\"\",\"\",【時計】入力欄!E275)","v":""},{"$f":"IF(【時計】入力欄!F275=\"\",\"\",【時計】入力欄!F275)","v":""},{"$f":"CONCATENATE(IF(【時計】入力欄!G275=\"\",\"\",【時計】入力欄!G275&\" \"),IF(【時計】入力欄!H275=\"\",\"\",【時計】入力欄!H275&\" \"),IF(【時計】入力欄!I275=\"\",\"\",【時計】入力欄!I275&\" \"),IF(【時計】入力欄!J275=\"\",\"\",【時計】入力欄!J275&\" \"))","v":""},{"$f":"IF(【時計】入力欄!K275=\"\",\"\",【時計】入力欄!K275&\"g\")","v":""},{"$f":"IF(【時計】入力欄!L275=\"\",\"\",【時計】入力欄!L275)","v":""},{"$f":"IF(【時計】入力欄!O275=\"\",\"\",【時計】入力欄!O275)","v":""}]
[]
[" ",{"$f":"CONCATENATE(\"出品表　（　\",【時計】入力欄!I$3,\"大吉オークション　時計）\")","v":"出品表　（　大吉オークション　時計）"}]
[]
[null,"箱番：",{"$f":"IF(【時計】入力欄!C276=\"\",\"\",【時計】入力欄!C276)","v":""},"※太枠の中をご記入ください",null,"会社名",{"$f":"IF(【時計】入力欄!C$3=\"\",\"\",【時計】入力欄!C$3)","v":""}]
[]
["番号","ブランド","素材","詳細・特徴","重量","付属品","指値\n（3万円以上）","発句"]
["１",{"$f":"IF(【時計】入力欄!E276=\"\",\"\",【時計】入力欄!E276)","v":""},{"$f":"IF(【時計】入力欄!F276=\"\",\"\",【時計】入力欄!F276)","v":""},{"$f":"CONCATENATE(IF(【時計】入力欄!G276=\"\",\"\",【時計】入力欄!G276&\" \"),IF(【時計】入力欄!H276=\"\",\"\",【時計】入力欄!H276&\" \"),IF(【時計】入力欄!I276=\"\",\"\",【時計】入力欄!I276&\" \"),IF(【時計】入力欄!J276=\"\",\"\",【時計】入力欄!J276&\" \"))","v":""},{"$f":"IF(【時計】入力欄!K276=\"\",\"\",【時計】入力欄!K276&\"g\")","v":""},{"$f":"IF(【時計】入力欄!L276=\"\",\"\",【時計】入力欄!L276)","v":""},{"$f":"IF(【時計】入力欄!O276=\"\",\"\",【時計】入力欄!O276)","v":""}]
["２",{"$f":"IF(【時計】入力欄!E277=\"\",\"\",【時計】入力欄!E277)","v":""},{"$f":"IF(【時計】入力欄!F277=\"\",\"\",【時計】入力欄!F277)","v":""},{"$f":"CONCATENATE(IF(【時計】入力欄!G277=\"\",\"\",【時計】入力欄!G277&\" \"),IF(【時計】入力欄!H277=\"\",\"\",【時計】入力欄!H277&\" \"),IF(【時計】入力欄!I277=\"\",\"\",【時計】入力欄!I277&\" \"),IF(【時計】入力欄!J277=\"\",\"\",【時計】入力欄!J277&\" \"))","v":""},{"$f":"IF(【時計】入力欄!K277=\"\",\"\",【時計】入力欄!K277&\"g\")","v":""},{"$f":"IF(【時計】入力欄!L277=\"\",\"\",【時計】入力欄!L277)","v":""},{"$f":"IF(【時計】入力欄!O277=\"\",\"\",【時計】入力欄!O277)","v":""}]
["３",{"$f":"IF(【時計】入力欄!E278=\"\",\"\",【時計】入力欄!E278)","v":""},{"$f":"IF(【時計】入力欄!F278=\"\",\"\",【時計】入力欄!F278)","v":""},{"$f":"CONCATENATE(IF(【時計】入力欄!G278=\"\",\"\",【時計】入力欄!G278&\" \"),IF(【時計】入力欄!H278=\"\",\"\",【時計】入力欄!H278&\" \"),IF(【時計】入力欄!I278=\"\",\"\",【時計】入力欄!I278&\" \"),IF(【時計】入力欄!J278=\"\",\"\",【時計】入力欄!J278&\" \"))","v":""},{"$f":"IF(【時計】入力欄!K278=\"\",\"\",【時計】入力欄!K278&\"g\")","v":""},{"$f":"IF(【時計】入力欄!L278=\"\",\"\",【時計】入力欄!L278)","v":""},{"$f":"IF(【時計】入力欄!O278=\"\",\"\",【時計】入力欄!O278)","v":""}]
["４",{"$f":"IF(【時計】入力欄!E279=\"\",\"\",【時計】入力欄!E279)","v":""},{"$f":"IF(【時計】入力欄!F279=\"\",\"\",【時計】入力欄!F279)","v":""},{"$f":"CONCATENATE(IF(【時計】入力欄!G279=\"\",\"\",【時計】入力欄!G279&\" \"),IF(【時計】入力欄!H279=\"\",\"\",【時計】入力欄!H279&\" \"),IF(【時計】入力欄!I279=\"\",\"\",【時計】入力欄!I279&\" \"),IF(【時計】入力欄!J279=\"\",\"\",【時計】入力欄!J279&\" \"))","v":""},{"$f":"IF(【時計】入力欄!K279=\"\",\"\",【時計】入力欄!K279&\"g\")","v":""},{"$f":"IF(【時計】入力欄!L279=\"\",\"\",【時計】入力欄!L279)","v":""},{"$f":"IF(【時計】入力欄!O279=\"\",\"\",【時計】入力欄!O279)","v":""}]
["５",{"$f":"IF(【時計】入力欄!E280=\"\",\"\",【時計】入力欄!E280)","v":""},{"$f":"IF(【時計】入力欄!F280=\"\",\"\",【時計】入力欄!F280)","v":""},{"$f":"CONCATENATE(IF(【時計】入力欄!G280=\"\",\"\",【時計】入力欄!G280&\" \"),IF(【時計】入力欄!H280=\"\",\"\",【時計】入力欄!H280&\" \"),IF(【時計】入力欄!I280=\"\",\"\",【時計】入力欄!I280&\" \"),IF(【時計】入力欄!J280=\"\",\"\",【時計】入力欄!J280&\" \"))","v":""},{"$f":"IF(【時計】入力欄!K280=\"\",\"\",【時計】入力欄!K280&\"g\")","v":""},{"$f":"IF(【時計】入力欄!L280=\"\",\"\",【時計】入力欄!L280)","v":""},{"$f":"IF(【時計】入力欄!O280=\"\",\"\",【時計】入力欄!O280)","v":""}]
["６",{"$f":"IF(【時計】入力欄!E281=\"\",\"\",【時計】入力欄!E281)","v":""},{"$f":"IF(【時計】入力欄!F281=\"\",\"\",【時計】入力欄!F281)","v":""},{"$f":"CONCATENATE(IF(【時計】入力欄!G281=\"\",\"\",【時計】入力欄!G281&\" \"),IF(【時計】入力欄!H281=\"\",\"\",【時計】入力欄!H281&\" \"),IF(【時計】入力欄!I281=\"\",\"\",【時計】入力欄!I281&\" \"),IF(【時計】入力欄!J281=\"\",\"\",【時計】入力欄!J281&\" \"))","v":""},{"$f":"IF(【時計】入力欄!K281=\"\",\"\",【時計】入力欄!K281&\"g\")","v":""},{"$f":"IF(【時計】入力欄!L281=\"\",\"\",【時計】入力欄!L281)","v":""},{"$f":"IF(【時計】入力欄!O281=\"\",\"\",【時計】入力欄!O281)","v":""}]
["７",{"$f":"IF(【時計】入力欄!E282=\"\",\"\",【時計】入力欄!E282)","v":""},{"$f":"IF(【時計】入力欄!F282=\"\",\"\",【時計】入力欄!F282)","v":""},{"$f":"CONCATENATE(IF(【時計】入力欄!G282=\"\",\"\",【時計】入力欄!G282&\" \"),IF(【時計】入力欄!H282=\"\",\"\",【時計】入力欄!H282&\" \"),IF(【時計】入力欄!I282=\"\",\"\",【時計】入力欄!I282&\" \"),IF(【時計】入力欄!J282=\"\",\"\",【時計】入力欄!J282&\" \"))","v":""},{"$f":"IF(【時計】入力欄!K282=\"\",\"\",【時計】入力欄!K282&\"g\")","v":""},{"$f":"IF(【時計】入力欄!L282=\"\",\"\",【時計】入力欄!L282)","v":""},{"$f":"IF(【時計】入力欄!O282=\"\",\"\",【時計】入力欄!O282)","v":""}]
["８",{"$f":"IF(【時計】入力欄!E283=\"\",\"\",【時計】入力欄!E283)","v":""},{"$f":"IF(【時計】入力欄!F283=\"\",\"\",【時計】入力欄!F283)","v":""},{"$f":"CONCATENATE(IF(【時計】入力欄!G283=\"\",\"\",【時計】入力欄!G283&\" \"),IF(【時計】入力欄!H283=\"\",\"\",【時計】入力欄!H283&\" \"),IF(【時計】入力欄!I283=\"\",\"\",【時計】入力欄!I283&\" \"),IF(【時計】入力欄!J283=\"\",\"\",【時計】入力欄!J283&\" \"))","v":""},{"$f":"IF(【時計】入力欄!K283=\"\",\"\",【時計】入力欄!K283&\"g\")","v":""},{"$f":"IF(【時計】入力欄!L283=\"\",\"\",【時計】入力欄!L283)","v":""},{"$f":"IF(【時計】入力欄!O283=\"\",\"\",【時計】入力欄!O283)","v":""}]
["９",{"$f":"IF(【時計】入力欄!E284=\"\",\"\",【時計】入力欄!E284)","v":""},{"$f":"IF(【時計】入力欄!F284=\"\",\"\",【時計】入力欄!F284)","v":""},{"$f":"CONCATENATE(IF(【時計】入力欄!G284=\"\",\"\",【時計】入力欄!G284&\" \"),IF(【時計】入力欄!H284=\"\",\"\",【時計】入力欄!H284&\" \"),IF(【時計】入力欄!I284=\"\",\"\",【時計】入力欄!I284&\" \"),IF(【時計】入力欄!J284=\"\",\"\",【時計】入力欄!J284&\" \"))","v":""},{"$f":"IF(【時計】入力欄!K284=\"\",\"\",【時計】入力欄!K284&\"g\")","v":""},{"$f":"IF(【時計】入力欄!L284=\"\",\"\",【時計】入力欄!L284)","v":""},{"$f":"IF(【時計】入力欄!O284=\"\",\"\",【時計】入力欄!O284)","v":""}]
["１０",{"$f":"IF(【時計】入力欄!E285=\"\",\"\",【時計】入力欄!E285)","v":""},{"$f":"IF(【時計】入力欄!F285=\"\",\"\",【時計】入力欄!F285)","v":""},{"$f":"CONCATENATE(IF(【時計】入力欄!G285=\"\",\"\",【時計】入力欄!G285&\" \"),IF(【時計】入力欄!H285=\"\",\"\",【時計】入力欄!H285&\" \"),IF(【時計】入力欄!I285=\"\",\"\",【時計】入力欄!I285&\" \"),IF(【時計】入力欄!J285=\"\",\"\",【時計】入力欄!J285&\" \"))","v":""},{"$f":"IF(【時計】入力欄!K285=\"\",\"\",【時計】入力欄!K285&\"g\")","v":""},{"$f":"IF(【時計】入力欄!L285=\"\",\"\",【時計】入力欄!L285)","v":""},{"$f":"IF(【時計】入力欄!O285=\"\",\"\",【時計】入力欄!O285)","v":""}]
[]
[" ",{"$f":"CONCATENATE(\"出品表　（　\",【時計】入力欄!I$3,\"大吉オークション　時計）\")","v":"出品表　（　大吉オークション　時計）"}]
[]
[null,"箱番：",{"$f":"IF(【時計】入力欄!C286=\"\",\"\",【時計】入力欄!C286)","v":""},"※太枠の中をご記入ください",null,"会社名",{"$f":"IF(【時計】入力欄!C$3=\"\",\"\",【時計】入力欄!C$3)","v":""}]
[]
["番号","ブランド","素材","詳細・特徴","重量","付属品","指値\n（3万円以上）","発句"]
["１",{"$f":"IF(【時計】入力欄!E286=\"\",\"\",【時計】入力欄!E286)","v":""},{"$f":"IF(【時計】入力欄!F286=\"\",\"\",【時計】入力欄!F286)","v":""},{"$f":"CONCATENATE(IF(【時計】入力欄!G286=\"\",\"\",【時計】入力欄!G286&\" \"),IF(【時計】入力欄!H286=\"\",\"\",【時計】入力欄!H286&\" \"),IF(【時計】入力欄!I286=\"\",\"\",【時計】入力欄!I286&\" \"),IF(【時計】入力欄!J286=\"\",\"\",【時計】入力欄!J286&\" \"))","v":""},{"$f":"IF(【時計】入力欄!K286=\"\",\"\",【時計】入力欄!K286&\"g\")","v":""},{"$f":"IF(【時計】入力欄!L286=\"\",\"\",【時計】入力欄!L286)","v":""},{"$f":"IF(【時計】入力欄!O286=\"\",\"\",【時計】入力欄!O286)","v":""}]
["２",{"$f":"IF(【時計】入力欄!E287=\"\",\"\",【時計】入力欄!E287)","v":""},{"$f":"IF(【時計】入力欄!F287=\"\",\"\",【時計】入力欄!F287)","v":""},{"$f":"CONCATENATE(IF(【時計】入力欄!G287=\"\",\"\",【時計】入力欄!G287&\" \"),IF(【時計】入力欄!H287=\"\",\"\",【時計】入力欄!H287&\" \"),IF(【時計】入力欄!I287=\"\",\"\",【時計】入力欄!I287&\" \"),IF(【時計】入力欄!J287=\"\",\"\",【時計】入力欄!J287&\" \"))","v":""},{"$f":"IF(【時計】入力欄!K287=\"\",\"\",【時計】入力欄!K287&\"g\")","v":""},{"$f":"IF(【時計】入力欄!L287=\"\",\"\",【時計】入力欄!L287)","v":""},{"$f":"IF(【時計】入力欄!O287=\"\",\"\",【時計】入力欄!O287)","v":""}]
["３",{"$f":"IF(【時計】入力欄!E288=\"\",\"\",【時計】入力欄!E288)","v":""},{"$f":"IF(【時計】入力欄!F288=\"\",\"\",【時計】入力欄!F288)","v":""},{"$f":"CONCATENATE(IF(【時計】入力欄!G288=\"\",\"\",【時計】入力欄!G288&\" \"),IF(【時計】入力欄!H288=\"\",\"\",【時計】入力欄!H288&\" \"),IF(【時計】入力欄!I288=\"\",\"\",【時計】入力欄!I288&\" \"),IF(【時計】入力欄!J288=\"\",\"\",【時計】入力欄!J288&\" \"))","v":""},{"$f":"IF(【時計】入力欄!K288=\"\",\"\",【時計】入力欄!K288&\"g\")","v":""},{"$f":"IF(【時計】入力欄!L288=\"\",\"\",【時計】入力欄!L288)","v":""},{"$f":"IF(【時計】入力欄!O288=\"\",\"\",【時計】入力欄!O288)","v":""}]
["４",{"$f":"IF(【時計】入力欄!E289=\"\",\"\",【時計】入力欄!E289)","v":""},{"$f":"IF(【時計】入力欄!F289=\"\",\"\",【時計】入力欄!F289)","v":""},{"$f":"CONCATENATE(IF(【時計】入力欄!G289=\"\",\"\",【時計】入力欄!G289&\" \"),IF(【時計】入力欄!H289=\"\",\"\",【時計】入力欄!H289&\" \"),IF(【時計】入力欄!I289=\"\",\"\",【時計】入力欄!I289&\" \"),IF(【時計】入力欄!J289=\"\",\"\",【時計】入力欄!J289&\" \"))","v":""},{"$f":"IF(【時計】入力欄!K289=\"\",\"\",【時計】入力欄!K289&\"g\")","v":""},{"$f":"IF(【時計】入力欄!L289=\"\",\"\",【時計】入力欄!L289)","v":""},{"$f":"IF(【時計】入力欄!O289=\"\",\"\",【時計】入力欄!O289)","v":""}]
["５",{"$f":"IF(【時計】入力欄!E290=\"\",\"\",【時計】入力欄!E290)","v":""},{"$f":"IF(【時計】入力欄!F290=\"\",\"\",【時計】入力欄!F290)","v":""},{"$f":"CONCATENATE(IF(【時計】入力欄!G290=\"\",\"\",【時計】入力欄!G290&\" \"),IF(【時計】入力欄!H290=\"\",\"\",【時計】入力欄!H290&\" \"),IF(【時計】入力欄!I290=\"\",\"\",【時計】入力欄!I290&\" \"),IF(【時計】入力欄!J290=\"\",\"\",【時計】入力欄!J290&\" \"))","v":""},{"$f":"IF(【時計】入力欄!K290=\"\",\"\",【時計】入力欄!K290&\"g\")","v":""},{"$f":"IF(【時計】入力欄!L290=\"\",\"\",【時計】入力欄!L290)","v":""},{"$f":"IF(【時計】入力欄!O290=\"\",\"\",【時計】入力欄!O290)","v":""}]
["６",{"$f":"IF(【時計】入力欄!E291=\"\",\"\",【時計】入力欄!E291)","v":""},{"$f":"IF(【時計】入力欄!F291=\"\",\"\",【時計】入力欄!F291)","v":""},{"$f":"CONCATENATE(IF(【時計】入力欄!G291=\"\",\"\",【時計】入力欄!G291&\" \"),IF(【時計】入力欄!H291=\"\",\"\",【時計】入力欄!H291&\" \"),IF(【時計】入力欄!I291=\"\",\"\",【時計】入力欄!I291&\" \"),IF(【時計】入力欄!J291=\"\",\"\",【時計】入力欄!J291&\" \"))","v":""},{"$f":"IF(【時計】入力欄!K291=\"\",\"\",【時計】入力欄!K291&\"g\")","v":""},{"$f":"IF(【時計】入力欄!L291=\"\",\"\",【時計】入力欄!L291)","v":""},{"$f":"IF(【時計】入力欄!O291=\"\",\"\",【時計】入力欄!O291)","v":""}]
["７",{"$f":"IF(【時計】入力欄!E292=\"\",\"\",【時計】入力欄!E292)","v":""},{"$f":"IF(【時計】入力欄!F292=\"\",\"\",【時計】入力欄!F292)","v":""},{"$f":"CONCATENATE(IF(【時計】入力欄!G292=\"\",\"\",【時計】入力欄!G292&\" \"),IF(【時計】入力欄!H292=\"\",\"\",【時計】入力欄!H292&\" \"),IF(【時計】入力欄!I292=\"\",\"\",【時計】入力欄!I292&\" \"),IF(【時計】入力欄!J292=\"\",\"\",【時計】入力欄!J292&\" \"))","v":""},{"$f":"IF(【時計】入力欄!K292=\"\",\"\",【時計】入力欄!K292&\"g\")","v":""},{"$f":"IF(【時計】入力欄!L292=\"\",\"\",【時計】入力欄!L292)","v":""},{"$f":"IF(【時計】入力欄!O292=\"\",\"\",【時計】入力欄!O292)","v":""}]
["８",{"$f":"IF(【時計】入力欄!E293=\"\",\"\",【時計】入力欄!E293)","v":""},{"$f":"IF(【時計】入力欄!F293=\"\",\"\",【時計】入力欄!F293)","v":""},{"$f":"CONCATENATE(IF(【時計】入力欄!G293=\"\",\"\",【時計】入力欄!G293&\" \"),IF(【時計】入力欄!H293=\"\",\"\",【時計】入力欄!H293&\" \"),IF(【時計】入力欄!I293=\"\",\"\",【時計】入力欄!I293&\" \"),IF(【時計】入力欄!J293=\"\",\"\",【時計】入力欄!J293&\" \"))","v":""},{"$f":"IF(【時計】入力欄!K293=\"\",\"\",【時計】入力欄!K293&\"g\")","v":""},{"$f":"IF(【時計】入力欄!L293=\"\",\"\",【時計】入力欄!L293)","v":""},{"$f":"IF(【時計】入力欄!O293=\"\",\"\",【時計】入力欄!O293)","v":""}]
["９",{"$f":"IF(【時計】入力欄!E294=\"\",\"\",【時計】入力欄!E294)","v":""},{"$f":"IF(【時計】入力欄!F294=\"\",\"\",【時計】入力欄!F294)","v":""},{"$f":"CONCATENATE(IF(【時計】入力欄!G294=\"\",\"\",【時計】入力欄!G294&\" \"),IF(【時計】入力欄!H294=\"\",\"\",【時計】入力欄!H294&\" \"),IF(【時計】入力欄!I294=\"\",\"\",【時計】入力欄!I294&\" \"),IF(【時計】入力欄!J294=\"\",\"\",【時計】入力欄!J294&\" \"))","v":""},{"$f":"IF(【時計】入力欄!K294=\"\",\"\",【時計】入力欄!K294&\"g\")","v":""},{"$f":"IF(【時計】入力欄!L294=\"\",\"\",【時計】入力欄!L294)","v":""},{"$f":"IF(【時計】入力欄!O294=\"\",\"\",【時計】入力欄!O294)","v":""}]
["１０",{"$f":"IF(【時計】入力欄!E295=\"\",\"\",【時計】入力欄!E295)","v":""},{"$f":"IF(【時計】入力欄!F295=\"\",\"\",【時計】入力欄!F295)","v":""},{"$f":"CONCATENATE(IF(【時計】入力欄!G295=\"\",\"\",【時計】入力欄!G295&\" \"),IF(【時計】入力欄!H295=\"\",\"\",【時計】入力欄!H295&\" \"),IF(【時計】入力欄!I295=\"\",\"\",【時計】入力欄!I295&\" \"),IF(【時計】入力欄!J295=\"\",\"\",【時計】入力欄!J295&\" \"))","v":""},{"$f":"IF(【時計】入力欄!K295=\"\",\"\",【時計】入力欄!K295&\"g\")","v":""},{"$f":"IF(【時計】入力欄!L295=\"\",\"\",【時計】入力欄!L295)","v":""},{"$f":"IF(【時計】入力欄!O295=\"\",\"\",【時計】入力欄!O295)","v":""}]
[]
[" ",{"$f":"CONCATENATE(\"出品表　（　\",【時計】入力欄!I$3,\"大吉オークション　時計）\")","v":"出品表　（　大吉オークション　時計）"}]
[]
[null,"箱番：",{"$f":"IF(【時計】入力欄!C296=\"\",\"\",【時計】入力欄!C296)","v":""},"※太枠の中をご記入ください",null,"会社名",{"$f":"IF(【時計】入力欄!C$3=\"\",\"\",【時計】入力欄!C$3)","v":""}]
[]
["番号","ブランド","素材","詳細・特徴","重量","付属品","指値\n（3万円以上）","発句"]
["１",{"$f":"IF(【時計】入力欄!E296=\"\",\"\",【時計】入力欄!E296)","v":""},{"$f":"IF(【時計】入力欄!F296=\"\",\"\",【時計】入力欄!F296)","v":""},{"$f":"CONCATENATE(IF(【時計】入力欄!G296=\"\",\"\",【時計】入力欄!G296&\" \"),IF(【時計】入力欄!H296=\"\",\"\",【時計】入力欄!H296&\" \"),IF(【時計】入力欄!I296=\"\",\"\",【時計】入力欄!I296&\" \"),IF(【時計】入力欄!J296=\"\",\"\",【時計】入力欄!J296&\" \"))","v":""},{"$f":"IF(【時計】入力欄!K296=\"\",\"\",【時計】入力欄!K296&\"g\")","v":""},{"$f":"IF(【時計】入力欄!L296=\"\",\"\",【時計】入力欄!L296)","v":""},{"$f":"IF(【時計】入力欄!O296=\"\",\"\",【時計】入力欄!O296)","v":""}]
["２",{"$f":"IF(【時計】入力欄!E297=\"\",\"\",【時計】入力欄!E297)","v":""},{"$f":"IF(【時計】入力欄!F297=\"\",\"\",【時計】入力欄!F297)","v":""},{"$f":"CONCATENATE(IF(【時計】入力欄!G297=\"\",\"\",【時計】入力欄!G297&\" \"),IF(【時計】入力欄!H297=\"\",\"\",【時計】入力欄!H297&\" \"),IF(【時計】入力欄!I297=\"\",\"\",【時計】入力欄!I297&\" \"),IF(【時計】入力欄!J297=\"\",\"\",【時計】入力欄!J297&\" \"))","v":""},{"$f":"IF(【時計】入力欄!K297=\"\",\"\",【時計】入力欄!K297&\"g\")","v":""},{"$f":"IF(【時計】入力欄!L297=\"\",\"\",【時計】入力欄!L297)","v":""},{"$f":"IF(【時計】入力欄!O297=\"\",\"\",【時計】入力欄!O297)","v":""}]
["３",{"$f":"IF(【時計】入力欄!E298=\"\",\"\",【時計】入力欄!E298)","v":""},{"$f":"IF(【時計】入力欄!F298=\"\",\"\",【時計】入力欄!F298)","v":""},{"$f":"CONCATENATE(IF(【時計】入力欄!G298=\"\",\"\",【時計】入力欄!G298&\" \"),IF(【時計】入力欄!H298=\"\",\"\",【時計】入力欄!H298&\" \"),IF(【時計】入力欄!I298=\"\",\"\",【時計】入力欄!I298&\" \"),IF(【時計】入力欄!J298=\"\",\"\",【時計】入力欄!J298&\" \"))","v":""},{"$f":"IF(【時計】入力欄!K298=\"\",\"\",【時計】入力欄!K298&\"g\")","v":""},{"$f":"IF(【時計】入力欄!L298=\"\",\"\",【時計】入力欄!L298)","v":""},{"$f":"IF(【時計】入力欄!O298=\"\",\"\",【時計】入力欄!O298)","v":""}]
["４",{"$f":"IF(【時計】入力欄!E299=\"\",\"\",【時計】入力欄!E299)","v":""},{"$f":"IF(【時計】入力欄!F299=\"\",\"\",【時計】入力欄!F299)","v":""},{"$f":"CONCATENATE(IF(【時計】入力欄!G299=\"\",\"\",【時計】入力欄!G299&\" \"),IF(【時計】入力欄!H299=\"\",\"\",【時計】入力欄!H299&\" \"),IF(【時計】入力欄!I299=\"\",\"\",【時計】入力欄!I299&\" \"),IF(【時計】入力欄!J299=\"\",\"\",【時計】入力欄!J299&\" \"))","v":""},{"$f":"IF(【時計】入力欄!K299=\"\",\"\",【時計】入力欄!K299&\"g\")","v":""},{"$f":"IF(【時計】入力欄!L299=\"\",\"\",【時計】入力欄!L299)","v":""},{"$f":"IF(【時計】入力欄!O299=\"\",\"\",【時計】入力欄!O299)","v":""}]
["５",{"$f":"IF(【時計】入力欄!E300=\"\",\"\",【時計】入力欄!E300)","v":""},{"$f":"IF(【時計】入力欄!F300=\"\",\"\",【時計】入力欄!F300)","v":""},{"$f":"CONCATENATE(IF(【時計】入力欄!G300=\"\",\"\",【時計】入力欄!G300&\" \"),IF(【時計】入力欄!H300=\"\",\"\",【時計】入力欄!H300&\" \"),IF(【時計】入力欄!I300=\"\",\"\",【時計】入力欄!I300&\" \"),IF(【時計】入力欄!J300=\"\",\"\",【時計】入力欄!J300&\" \"))","v":""},{"$f":"IF(【時計】入力欄!K300=\"\",\"\",【時計】入力欄!K300&\"g\")","v":""},{"$f":"IF(【時計】入力欄!L300=\"\",\"\",【時計】入力欄!L300)","v":""},{"$f":"IF(【時計】入力欄!O300=\"\",\"\",【時計】入力欄!O300)","v":""}]
["６",{"$f":"IF(【時計】入力欄!E301=\"\",\"\",【時計】入力欄!E301)","v":""},{"$f":"IF(【時計】入力欄!F301=\"\",\"\",【時計】入力欄!F301)","v":""},{"$f":"CONCATENATE(IF(【時計】入力欄!G301=\"\",\"\",【時計】入力欄!G301&\" \"),IF(【時計】入力欄!H301=\"\",\"\",【時計】入力欄!H301&\" \"),IF(【時計】入力欄!I301=\"\",\"\",【時計】入力欄!I301&\" \"),IF(【時計】入力欄!J301=\"\",\"\",【時計】入力欄!J301&\" \"))","v":""},{"$f":"IF(【時計】入力欄!K301=\"\",\"\",【時計】入力欄!K301&\"g\")","v":""},{"$f":"IF(【時計】入力欄!L301=\"\",\"\",【時計】入力欄!L301)","v":""},{"$f":"IF(【時計】入力欄!O301=\"\",\"\",【時計】入力欄!O301)","v":""}]
["７",{"$f":"IF(【時計】入力欄!E302=\"\",\"\",【時計】入力欄!E302)","v":""},{"$f":"IF(【時計】入力欄!F302=\"\",\"\",【時計】入力欄!F302)","v":""},{"$f":"CONCATENATE(IF(【時計】入力欄!G302=\"\",\"\",【時計】入力欄!G302&\" \"),IF(【時計】入力欄!H302=\"\",\"\",【時計】入力欄!H302&\" \"),IF(【時計】入力欄!I302=\"\",\"\",【時計】入力欄!I302&\" \"),IF(【時計】入力欄!J302=\"\",\"\",【時計】入力欄!J302&\" \"))","v":""},{"$f":"IF(【時計】入力欄!K302=\"\",\"\",【時計】入力欄!K302&\"g\")","v":""},{"$f":"IF(【時計】入力欄!L302=\"\",\"\",【時計】入力欄!L302)","v":""},{"$f":"IF(【時計】入力欄!O302=\"\",\"\",【時計】入力欄!O302)","v":""}]
["８",{"$f":"IF(【時計】入力欄!E303=\"\",\"\",【時計】入力欄!E303)","v":""},{"$f":"IF(【時計】入力欄!F303=\"\",\"\",【時計】入力欄!F303)","v":""},{"$f":"CONCATENATE(IF(【時計】入力欄!G303=\"\",\"\",【時計】入力欄!G303&\" \"),IF(【時計】入力欄!H303=\"\",\"\",【時計】入力欄!H303&\" \"),IF(【時計】入力欄!I303=\"\",\"\",【時計】入力欄!I303&\" \"),IF(【時計】入力欄!J303=\"\",\"\",【時計】入力欄!J303&\" \"))","v":""},{"$f":"IF(【時計】入力欄!K303=\"\",\"\",【時計】入力欄!K303&\"g\")","v":""},{"$f":"IF(【時計】入力欄!L303=\"\",\"\",【時計】入力欄!L303)","v":""},{"$f":"IF(【時計】入力欄!O303=\"\",\"\",【時計】入力欄!O303)","v":""}]
["９",{"$f":"IF(【時計】入力欄!E304=\"\",\"\",【時計】入力欄!E304)","v":""},{"$f":"IF(【時計】入力欄!F304=\"\",\"\",【時計】入力欄!F304)","v":""},{"$f":"CONCATENATE(IF(【時計】入力欄!G304=\"\",\"\",【時計】入力欄!G304&\" \"),IF(【時計】入力欄!H304=\"\",\"\",【時計】入力欄!H304&\" \"),IF(【時計】入力欄!I304=\"\",\"\",【時計】入力欄!I304&\" \"),IF(【時計】入力欄!J304=\"\",\"\",【時計】入力欄!J304&\" \"))","v":""},{"$f":"IF(【時計】入力欄!K304=\"\",\"\",【時計】入力欄!K304&\"g\")","v":""},{"$f":"IF(【時計】入力欄!L304=\"\",\"\",【時計】入力欄!L304)","v":""},{"$f":"IF(【時計】入力欄!O304=\"\",\"\",【時計】入力欄!O304)","v":""}]
["１０",{"$f":"IF(【時計】入力欄!E305=\"\",\"\",【時計】入力欄!E305)","v":""},{"$f":"IF(【時計】入力欄!F305=\"\",\"\",【時計】入力欄!F305)","v":""},{"$f":"CONCATENATE(IF(【時計】入力欄!G305=\"\",\"\",【時計】入力欄!G305&\" \"),IF(【時計】入力欄!H305=\"\",\"\",【時計】入力欄!H305&\" \"),IF(【時計】入力欄!I305=\"\",\"\",【時計】入力欄!I305&\" \"),IF(【時計】入力欄!J305=\"\",\"\",【時計】入力欄!J305&\" \"))","v":""},{"$f":"IF(【時計】入力欄!K305=\"\",\"\",【時計】入力欄!K305&\"g\")","v":""},{"$f":"IF(【時計】入力欄!L305=\"\",\"\",【時計】入力欄!L305)","v":""},{"$f":"IF(【時計】入力欄!O305=\"\",\"\",【時計】入力欄!O305)","v":""}]
[]
[" ",{"$f":"CONCATENATE(\"出品表　（　\",【時計】入力欄!I$3,\"大吉オークション　時計）\")","v":"出品表　（　大吉オークション　時計）"}]
[]
[null,"箱番：",{"$f":"IF(【時計】入力欄!C306=\"\",\"\",【時計】入力欄!C306)","v":""},"※太枠の中をご記入ください",null,"会社名",{"$f":"IF(【時計】入力欄!C$3=\"\",\"\",【時計】入力欄!C$3)","v":""}]
[]
["番号","ブランド","素材","詳細・特徴","重量","付属品","指値\n（3万円以上）","発句"]
["１",{"$f":"IF(【時計】入力欄!E306=\"\",\"\",【時計】入力欄!E306)","v":""},{"$f":"IF(【時計】入力欄!F306=\"\",\"\",【時計】入力欄!F306)","v":""},{"$f":"CONCATENATE(IF(【時計】入力欄!G306=\"\",\"\",【時計】入力欄!G306&\" \"),IF(【時計】入力欄!H306=\"\",\"\",【時計】入力欄!H306&\" \"),IF(【時計】入力欄!I306=\"\",\"\",【時計】入力欄!I306&\" \"),IF(【時計】入力欄!J306=\"\",\"\",【時計】入力欄!J306&\" \"))","v":""},{"$f":"IF(【時計】入力欄!K306=\"\",\"\",【時計】入力欄!K306&\"g\")","v":""},{"$f":"IF(【時計】入力欄!L306=\"\",\"\",【時計】入力欄!L306)","v":""},{"$f":"IF(【時計】入力欄!O306=\"\",\"\",【時計】入力欄!O306)","v":""}]
["２",{"$f":"IF(【時計】入力欄!E307=\"\",\"\",【時計】入力欄!E307)","v":""},{"$f":"IF(【時計】入力欄!F307=\"\",\"\",【時計】入力欄!F307)","v":""},{"$f":"CONCATENATE(IF(【時計】入力欄!G307=\"\",\"\",【時計】入力欄!G307&\" \"),IF(【時計】入力欄!H307=\"\",\"\",【時計】入力欄!H307&\" \"),IF(【時計】入力欄!I307=\"\",\"\",【時計】入力欄!I307&\" \"),IF(【時計】入力欄!J307=\"\",\"\",【時計】入力欄!J307&\" \"))","v":""},{"$f":"IF(【時計】入力欄!K307=\"\",\"\",【時計】入力欄!K307&\"g\")","v":""},{"$f":"IF(【時計】入力欄!L307=\"\",\"\",【時計】入力欄!L307)","v":""},{"$f":"IF(【時計】入力欄!O307=\"\",\"\",【時計】入力欄!O307)","v":""}]
["３",{"$f":"IF(【時計】入力欄!E308=\"\",\"\",【時計】入力欄!E308)","v":""},{"$f":"IF(【時計】入力欄!F308=\"\",\"\",【時計】入力欄!F308)","v":""},{"$f":"CONCATENATE(IF(【時計】入力欄!G308=\"\",\"\",【時計】入力欄!G308&\" \"),IF(【時計】入力欄!H308=\"\",\"\",【時計】入力欄!H308&\" \"),IF(【時計】入力欄!I308=\"\",\"\",【時計】入力欄!I308&\" \"),IF(【時計】入力欄!J308=\"\",\"\",【時計】入力欄!J308&\" \"))","v":""},{"$f":"IF(【時計】入力欄!K308=\"\",\"\",【時計】入力欄!K308&\"g\")","v":""},{"$f":"IF(【時計】入力欄!L308=\"\",\"\",【時計】入力欄!L308)","v":""},{"$f":"IF(【時計】入力欄!O308=\"\",\"\",【時計】入力欄!O308)","v":""}]
["４",{"$f":"IF(【時計】入力欄!E309=\"\",\"\",【時計】入力欄!E309)","v":""},{"$f":"IF(【時計】入力欄!F309=\"\",\"\",【時計】入力欄!F309)","v":""},{"$f":"CONCATENATE(IF(【時計】入力欄!G309=\"\",\"\",【時計】入力欄!G309&\" \"),IF(【時計】入力欄!H309=\"\",\"\",【時計】入力欄!H309&\" \"),IF(【時計】入力欄!I309=\"\",\"\",【時計】入力欄!I309&\" \"),IF(【時計】入力欄!J309=\"\",\"\",【時計】入力欄!J309&\" \"))","v":""},{"$f":"IF(【時計】入力欄!K309=\"\",\"\",【時計】入力欄!K309&\"g\")","v":""},{"$f":"IF(【時計】入力欄!L309=\"\",\"\",【時計】入力欄!L309)","v":""},{"$f":"IF(【時計】入力欄!O309=\"\",\"\",【時計】入力欄!O309)","v":""}]
["５",{"$f":"IF(【時計】入力欄!E310=\"\",\"\",【時計】入力欄!E310)","v":""},{"$f":"IF(【時計】入力欄!F310=\"\",\"\",【時計】入力欄!F310)","v":""},{"$f":"CONCATENATE(IF(【時計】入力欄!G310=\"\",\"\",【時計】入力欄!G310&\" \"),IF(【時計】入力欄!H310=\"\",\"\",【時計】入力欄!H310&\" \"),IF(【時計】入力欄!I310=\"\",\"\",【時計】入力欄!I310&\" \"),IF(【時計】入力欄!J310=\"\",\"\",【時計】入力欄!J310&\" \"))","v":""},{"$f":"IF(【時計】入力欄!K310=\"\",\"\",【時計】入力欄!K310&\"g\")","v":""},{"$f":"IF(【時計】入力欄!L310=\"\",\"\",【時計】入力欄!L310)","v":""},{"$f":"IF(【時計】入力欄!O310=\"\",\"\",【時計】入力欄!O310)","v":""}]
["６",{"$f":"IF(【時計】入力欄!E311=\"\",\"\",【時計】入力欄!E311)","v":""},{"$f":"IF(【時計】入力欄!F311=\"\",\"\",【時計】入力欄!F311)","v":""},{"$f":"CONCATENATE(IF(【時計】入力欄!G311=\"\",\"\",【時計】入力欄!G311&\" \"),IF(【時計】入力欄!H311=\"\",\"\",【時計】入力欄!H311&\" \"),IF(【時計】入力欄!I311=\"\",\"\",【時計】入力欄!I311&\" \"),IF(【時計】入力欄!J311=\"\",\"\",【時計】入力欄!J311&\" \"))","v":""},{"$f":"IF(【時計】入力欄!K311=\"\",\"\",【時計】入力欄!K311&\"g\")","v":""},{"$f":"IF(【時計】入力欄!L311=\"\",\"\",【時計】入力欄!L311)","v":""},{"$f":"IF(【時計】入力欄!O311=\"\",\"\",【時計】入力欄!O311)","v":""}]
["７",{"$f":"IF(【時計】入力欄!E312=\"\",\"\",【時計】入力欄!E312)","v":""},{"$f":"IF(【時計】入力欄!F312=\"\",\"\",【時計】入力欄!F312)","v":""},{"$f":"CONCATENATE(IF(【時計】入力欄!G312=\"\",\"\",【時計】入力欄!G312&\" \"),IF(【時計】入力欄!H312=\"\",\"\",【時計】入力欄!H312&\" \"),IF(【時計】入力欄!I312=\"\",\"\",【時計】入力欄!I312&\" \"),IF(【時計】入力欄!J312=\"\",\"\",【時計】入力欄!J312&\" \"))","v":""},{"$f":"IF(【時計】入力欄!K312=\"\",\"\",【時計】入力欄!K312&\"g\")","v":""},{"$f":"IF(【時計】入力欄!L312=\"\",\"\",【時計】入力欄!L312)","v":""},{"$f":"IF(【時計】入力欄!O312=\"\",\"\",【時計】入力欄!O312)","v":""}]
["８",{"$f":"IF(【時計】入力欄!E313=\"\",\"\",【時計】入力欄!E313)","v":""},{"$f":"IF(【時計】入力欄!F313=\"\",\"\",【時計】入力欄!F313)","v":""},{"$f":"CONCATENATE(IF(【時計】入力欄!G313=\"\",\"\",【時計】入力欄!G313&\" \"),IF(【時計】入力欄!H313=\"\",\"\",【時計】入力欄!H313&\" \"),IF(【時計】入力欄!I313=\"\",\"\",【時計】入力欄!I313&\" \"),IF(【時計】入力欄!J313=\"\",\"\",【時計】入力欄!J313&\" \"))","v":""},{"$f":"IF(【時計】入力欄!K313=\"\",\"\",【時計】入力欄!K313&\"g\")","v":""},{"$f":"IF(【時計】入力欄!L313=\"\",\"\",【時計】入力欄!L313)","v":""},{"$f":"IF(【時計】入力欄!O313=\"\",\"\",【時計】入力欄!O313)","v":""}]
["９",{"$f":"IF(【時計】入力欄!E314=\"\",\"\",【時計】入力欄!E314)","v":""},{"$f":"IF(【時計】入力欄!F314=\"\",\"\",【時計】入力欄!F314)","v":""},{"$f":"CONCATENATE(IF(【時計】入力欄!G314=\"\",\"\",【時計】入力欄!G314&\" \"),IF(【時計】入力欄!H314=\"\",\"\",【時計】入力欄!H314&\" \"),IF(【時計】入力欄!I314=\"\",\"\",【時計】入力欄!I314&\" \"),IF(【時計】入力欄!J314=\"\",\"\",【時計】入力欄!J314&\" \"))","v":""},{"$f":"IF(【時計】入力欄!K314=\"\",\"\",【時計】入力欄!K314&\"g\")","v":""},{"$f":"IF(【時計】入力欄!L314=\"\",\"\",【時計】入力欄!L314)","v":""},{"$f":"IF(【時計】入力欄!O314=\"\",\"\",【時計】入力欄!O314)","v":""}]
["１０",{"$f":"IF(【時計】入力欄!E315=\"\",\"\",【時計】入力欄!E315)","v":""},{"$f":"IF(【時計】入力欄!F315=\"\",\"\",【時計】入力欄!F315)","v":""},{"$f":"CONCATENATE(IF(【時計】入力欄!G315=\"\",\"\",【時計】入力欄!G315&\" \"),IF(【時計】入力欄!H315=\"\",\"\",【時計】入力欄!H315&\" \"),IF(【時計】入力欄!I315=\"\",\"\",【時計】入力欄!I315&\" \"),IF(【時計】入力欄!J315=\"\",\"\",【時計】入力欄!J315&\" \"))","v":""},{"$f":"IF(【時計】入力欄!K315=\"\",\"\",【時計】入力欄!K315&\"g\")","v":""},{"$f":"IF(【時計】入力欄!L315=\"\",\"\",【時計】入力欄!L315)","v":""},{"$f":"IF(【時計】入力欄!O315=\"\",\"\",【時計】入力欄!O315)","v":""}]
[]
[" ",{"$f":"CONCATENATE(\"出品表　（　\",【時計】入力欄!I$3,\"大吉オークション　時計）\")","v":"出品表　（　大吉オークション　時計）"}]
[]
[null,"箱番：",{"$f":"IF(【時計】入力欄!C316=\"\",\"\",【時計】入力欄!C316)","v":""},"※太枠の中をご記入ください",null,"会社名",{"$f":"IF(【時計】入力欄!C$3=\"\",\"\",【時計】入力欄!C$3)","v":""}]
[]
["番号","ブランド","素材","詳細・特徴","重量","付属品","指値\n（3万円以上）","発句"]
["１",{"$f":"IF(【時計】入力欄!E316=\"\",\"\",【時計】入力欄!E316)","v":""},{"$f":"IF(【時計】入力欄!F316=\"\",\"\",【時計】入力欄!F316)","v":""},{"$f":"CONCATENATE(IF(【時計】入力欄!G316=\"\",\"\",【時計】入力欄!G316&\" \"),IF(【時計】入力欄!H316=\"\",\"\",【時計】入力欄!H316&\" \"),IF(【時計】入力欄!I316=\"\",\"\",【時計】入力欄!I316&\" \"),IF(【時計】入力欄!J316=\"\",\"\",【時計】入力欄!J316&\" \"))","v":""},{"$f":"IF(【時計】入力欄!K316=\"\",\"\",【時計】入力欄!K316&\"g\")","v":""},{"$f":"IF(【時計】入力欄!L316=\"\",\"\",【時計】入力欄!L316)","v":""},{"$f":"IF(【時計】入力欄!O316=\"\",\"\",【時計】入力欄!O316)","v":""}]
["２",{"$f":"IF(【時計】入力欄!E317=\"\",\"\",【時計】入力欄!E317)","v":""},{"$f":"IF(【時計】入力欄!F317=\"\",\"\",【時計】入力欄!F317)","v":""},{"$f":"CONCATENATE(IF(【時計】入力欄!G317=\"\",\"\",【時計】入力欄!G317&\" \"),IF(【時計】入力欄!H317=\"\",\"\",【時計】入力欄!H317&\" \"),IF(【時計】入力欄!I317=\"\",\"\",【時計】入力欄!I317&\" \"),IF(【時計】入力欄!J317=\"\",\"\",【時計】入力欄!J317&\" \"))","v":""},{"$f":"IF(【時計】入力欄!K317=\"\",\"\",【時計】入力欄!K317&\"g\")","v":""},{"$f":"IF(【時計】入力欄!L317=\"\",\"\",【時計】入力欄!L317)","v":""},{"$f":"IF(【時計】入力欄!O317=\"\",\"\",【時計】入力欄!O317)","v":""}]
["３",{"$f":"IF(【時計】入力欄!E318=\"\",\"\",【時計】入力欄!E318)","v":""},{"$f":"IF(【時計】入力欄!F318=\"\",\"\",【時計】入力欄!F318)","v":""},{"$f":"CONCATENATE(IF(【時計】入力欄!G318=\"\",\"\",【時計】入力欄!G318&\" \"),IF(【時計】入力欄!H318=\"\",\"\",【時計】入力欄!H318&\" \"),IF(【時計】入力欄!I318=\"\",\"\",【時計】入力欄!I318&\" \"),IF(【時計】入力欄!J318=\"\",\"\",【時計】入力欄!J318&\" \"))","v":""},{"$f":"IF(【時計】入力欄!K318=\"\",\"\",【時計】入力欄!K318&\"g\")","v":""},{"$f":"IF(【時計】入力欄!L318=\"\",\"\",【時計】入力欄!L318)","v":""},{"$f":"IF(【時計】入力欄!O318=\"\",\"\",【時計】入力欄!O318)","v":""}]
["４",{"$f":"IF(【時計】入力欄!E319=\"\",\"\",【時計】入力欄!E319)","v":""},{"$f":"IF(【時計】入力欄!F319=\"\",\"\",【時計】入力欄!F319)","v":""},{"$f":"CONCATENATE(IF(【時計】入力欄!G319=\"\",\"\",【時計】入力欄!G319&\" \"),IF(【時計】入力欄!H319=\"\",\"\",【時計】入力欄!H319&\" \"),IF(【時計】入力欄!I319=\"\",\"\",【時計】入力欄!I319&\" \"),IF(【時計】入力欄!J319=\"\",\"\",【時計】入力欄!J319&\" \"))","v":""},{"$f":"IF(【時計】入力欄!K319=\"\",\"\",【時計】入力欄!K319&\"g\")","v":""},{"$f":"IF(【時計】入力欄!L319=\"\",\"\",【時計】入力欄!L319)","v":""},{"$f":"IF(【時計】入力欄!O319=\"\",\"\",【時計】入力欄!O319)","v":""}]
["５",{"$f":"IF(【時計】入力欄!E320=\"\",\"\",【時計】入力欄!E320)","v":""},{"$f":"IF(【時計】入力欄!F320=\"\",\"\",【時計】入力欄!F320)","v":""},{"$f":"CONCATENATE(IF(【時計】入力欄!G320=\"\",\"\",【時計】入力欄!G320&\" \"),IF(【時計】入力欄!H320=\"\",\"\",【時計】入力欄!H320&\" \"),IF(【時計】入力欄!I320=\"\",\"\",【時計】入力欄!I320&\" \"),IF(【時計】入力欄!J320=\"\",\"\",【時計】入力欄!J320&\" \"))","v":""},{"$f":"IF(【時計】入力欄!K320=\"\",\"\",【時計】入力欄!K320&\"g\")","v":""},{"$f":"IF(【時計】入力欄!L320=\"\",\"\",【時計】入力欄!L320)","v":""},{"$f":"IF(【時計】入力欄!O320=\"\",\"\",【時計】入力欄!O320)","v":""}]
["６",{"$f":"IF(【時計】入力欄!E321=\"\",\"\",【時計】入力欄!E321)","v":""},{"$f":"IF(【時計】入力欄!F321=\"\",\"\",【時計】入力欄!F321)","v":""},{"$f":"CONCATENATE(IF(【時計】入力欄!G321=\"\",\"\",【時計】入力欄!G321&\" \"),IF(【時計】入力欄!H321=\"\",\"\",【時計】入力欄!H321&\" \"),IF(【時計】入力欄!I321=\"\",\"\",【時計】入力欄!I321&\" \"),IF(【時計】入力欄!J321=\"\",\"\",【時計】入力欄!J321&\" \"))","v":""},{"$f":"IF(【時計】入力欄!K321=\"\",\"\",【時計】入力欄!K321&\"g\")","v":""},{"$f":"IF(【時計】入力欄!L321=\"\",\"\",【時計】入力欄!L321)","v":""},{"$f":"IF(【時計】入力欄!O321=\"\",\"\",【時計】入力欄!O321)","v":""}]
["７",{"$f":"IF(【時計】入力欄!E322=\"\",\"\",【時計】入力欄!E322)","v":""},{"$f":"IF(【時計】入力欄!F322=\"\",\"\",【時計】入力欄!F322)","v":""},{"$f":"CONCATENATE(IF(【時計】入力欄!G322=\"\",\"\",【時計】入力欄!G322&\" \"),IF(【時計】入力欄!H322=\"\",\"\",【時計】入力欄!H322&\" \"),IF(【時計】入力欄!I322=\"\",\"\",【時計】入力欄!I322&\" \"),IF(【時計】入力欄!J322=\"\",\"\",【時計】入力欄!J322&\" \"))","v":""},{"$f":"IF(【時計】入力欄!K322=\"\",\"\",【時計】入力欄!K322&\"g\")","v":""},{"$f":"IF(【時計】入力欄!L322=\"\",\"\",【時計】入力欄!L322)","v":""},{"$f":"IF(【時計】入力欄!O322=\"\",\"\",【時計】入力欄!O322)","v":""}]
["８",{"$f":"IF(【時計】入力欄!E323=\"\",\"\",【時計】入力欄!E323)","v":""},{"$f":"IF(【時計】入力欄!F323=\"\",\"\",【時計】入力欄!F323)","v":""},{"$f":"CONCATENATE(IF(【時計】入力欄!G323=\"\",\"\",【時計】入力欄!G323&\" \"),IF(【時計】入力欄!H323=\"\",\"\",【時計】入力欄!H323&\" \"),IF(【時計】入力欄!I323=\"\",\"\",【時計】入力欄!I323&\" \"),IF(【時計】入力欄!J323=\"\",\"\",【時計】入力欄!J323&\" \"))","v":""},{"$f":"IF(【時計】入力欄!K323=\"\",\"\",【時計】入力欄!K323&\"g\")","v":""},{"$f":"IF(【時計】入力欄!L323=\"\",\"\",【時計】入力欄!L323)","v":""},{"$f":"IF(【時計】入力欄!O323=\"\",\"\",【時計】入力欄!O323)","v":""}]
["９",{"$f":"IF(【時計】入力欄!E324=\"\",\"\",【時計】入力欄!E324)","v":""},{"$f":"IF(【時計】入力欄!F324=\"\",\"\",【時計】入力欄!F324)","v":""},{"$f":"CONCATENATE(IF(【時計】入力欄!G324=\"\",\"\",【時計】入力欄!G324&\" \"),IF(【時計】入力欄!H324=\"\",\"\",【時計】入力欄!H324&\" \"),IF(【時計】入力欄!I324=\"\",\"\",【時計】入力欄!I324&\" \"),IF(【時計】入力欄!J324=\"\",\"\",【時計】入力欄!J324&\" \"))","v":""},{"$f":"IF(【時計】入力欄!K324=\"\",\"\",【時計】入力欄!K324&\"g\")","v":""},{"$f":"IF(【時計】入力欄!L324=\"\",\"\",【時計】入力欄!L324)","v":""},{"$f":"IF(【時計】入力欄!O324=\"\",\"\",【時計】入力欄!O324)","v":""}]
["１０",{"$f":"IF(【時計】入力欄!E325=\"\",\"\",【時計】入力欄!E325)","v":""},{"$f":"IF(【時計】入力欄!F325=\"\",\"\",【時計】入力欄!F325)","v":""},{"$f":"CONCATENATE(IF(【時計】入力欄!G325=\"\",\"\",【時計】入力欄!G325&\" \"),IF(【時計】入力欄!H325=\"\",\"\",【時計】入力欄!H325&\" \"),IF(【時計】入力欄!I325=\"\",\"\",【時計】入力欄!I325&\" \"),IF(【時計】入力欄!J325=\"\",\"\",【時計】入力欄!J325&\" \"))","v":""},{"$f":"IF(【時計】入力欄!K325=\"\",\"\",【時計】入力欄!K325&\"g\")","v":""},{"$f":"IF(【時計】入力欄!L325=\"\",\"\",【時計】入力欄!L325)","v":""},{"$f":"IF(【時計】入力欄!O325=\"\",\"\",【時計】入力欄!O325)","v":""}]
[]
[" ",{"$f":"CONCATENATE(\"出品表　（　\",【時計】入力欄!I$3,\"大吉オークション　時計）\")","v":"出品表　（　大吉オークション　時計）"}]
[]
[null,"箱番：",{"$f":"IF(【時計】入力欄!C326=\"\",\"\",【時計】入力欄!C326)","v":""},"※太枠の中をご記入ください",null,"会社名",{"$f":"IF(【時計】入力欄!C$3=\"\",\"\",【時計】入力欄!C$3)","v":""}]
[]
["番号","ブランド","素材","詳細・特徴","重量","付属品","指値\n（3万円以上）","発句"]
["１",{"$f":"IF(【時計】入力欄!E326=\"\",\"\",【時計】入力欄!E326)","v":""},{"$f":"IF(【時計】入力欄!F326=\"\",\"\",【時計】入力欄!F326)","v":""},{"$f":"CONCATENATE(IF(【時計】入力欄!G326=\"\",\"\",【時計】入力欄!G326&\" \"),IF(【時計】入力欄!H326=\"\",\"\",【時計】入力欄!H326&\" \"),IF(【時計】入力欄!I326=\"\",\"\",【時計】入力欄!I326&\" \"),IF(【時計】入力欄!J326=\"\",\"\",【時計】入力欄!J326&\" \"))","v":""},{"$f":"IF(【時計】入力欄!K326=\"\",\"\",【時計】入力欄!K326&\"g\")","v":""},{"$f":"IF(【時計】入力欄!L326=\"\",\"\",【時計】入力欄!L326)","v":""},{"$f":"IF(【時計】入力欄!O326=\"\",\"\",【時計】入力欄!O326)","v":""}]
["２",{"$f":"IF(【時計】入力欄!E327=\"\",\"\",【時計】入力欄!E327)","v":""},{"$f":"IF(【時計】入力欄!F327=\"\",\"\",【時計】入力欄!F327)","v":""},{"$f":"CONCATENATE(IF(【時計】入力欄!G327=\"\",\"\",【時計】入力欄!G327&\" \"),IF(【時計】入力欄!H327=\"\",\"\",【時計】入力欄!H327&\" \"),IF(【時計】入力欄!I327=\"\",\"\",【時計】入力欄!I327&\" \"),IF(【時計】入力欄!J327=\"\",\"\",【時計】入力欄!J327&\" \"))","v":""},{"$f":"IF(【時計】入力欄!K327=\"\",\"\",【時計】入力欄!K327&\"g\")","v":""},{"$f":"IF(【時計】入力欄!L327=\"\",\"\",【時計】入力欄!L327)","v":""},{"$f":"IF(【時計】入力欄!O327=\"\",\"\",【時計】入力欄!O327)","v":""}]
["３",{"$f":"IF(【時計】入力欄!E328=\"\",\"\",【時計】入力欄!E328)","v":""},{"$f":"IF(【時計】入力欄!F328=\"\",\"\",【時計】入力欄!F328)","v":""},{"$f":"CONCATENATE(IF(【時計】入力欄!G328=\"\",\"\",【時計】入力欄!G328&\" \"),IF(【時計】入力欄!H328=\"\",\"\",【時計】入力欄!H328&\" \"),IF(【時計】入力欄!I328=\"\",\"\",【時計】入力欄!I328&\" \"),IF(【時計】入力欄!J328=\"\",\"\",【時計】入力欄!J328&\" \"))","v":""},{"$f":"IF(【時計】入力欄!K328=\"\",\"\",【時計】入力欄!K328&\"g\")","v":""},{"$f":"IF(【時計】入力欄!L328=\"\",\"\",【時計】入力欄!L328)","v":""},{"$f":"IF(【時計】入力欄!O328=\"\",\"\",【時計】入力欄!O328)","v":""}]
["４",{"$f":"IF(【時計】入力欄!E329=\"\",\"\",【時計】入力欄!E329)","v":""},{"$f":"IF(【時計】入力欄!F329=\"\",\"\",【時計】入力欄!F329)","v":""},{"$f":"CONCATENATE(IF(【時計】入力欄!G329=\"\",\"\",【時計】入力欄!G329&\" \"),IF(【時計】入力欄!H329=\"\",\"\",【時計】入力欄!H329&\" \"),IF(【時計】入力欄!I329=\"\",\"\",【時計】入力欄!I329&\" \"),IF(【時計】入力欄!J329=\"\",\"\",【時計】入力欄!J329&\" \"))","v":""},{"$f":"IF(【時計】入力欄!K329=\"\",\"\",【時計】入力欄!K329&\"g\")","v":""},{"$f":"IF(【時計】入力欄!L329=\"\",\"\",【時計】入力欄!L329)","v":""},{"$f":"IF(【時計】入力欄!O329=\"\",\"\",【時計】入力欄!O329)","v":""}]
["５",{"$f":"IF(【時計】入力欄!E330=\"\",\"\",【時計】入力欄!E330)","v":""},{"$f":"IF(【時計】入力欄!F330=\"\",\"\",【時計】入力欄!F330)","v":""},{"$f":"CONCATENATE(IF(【時計】入力欄!G330=\"\",\"\",【時計】入力欄!G330&\" \"),IF(【時計】入力欄!H330=\"\",\"\",【時計】入力欄!H330&\" \"),IF(【時計】入力欄!I330=\"\",\"\",【時計】入力欄!I330&\" \"),IF(【時計】入力欄!J330=\"\",\"\",【時計】入力欄!J330&\" \"))","v":""},{"$f":"IF(【時計】入力欄!K330=\"\",\"\",【時計】入力欄!K330&\"g\")","v":""},{"$f":"IF(【時計】入力欄!L330=\"\",\"\",【時計】入力欄!L330)","v":""},{"$f":"IF(【時計】入力欄!O330=\"\",\"\",【時計】入力欄!O330)","v":""}]
["６",{"$f":"IF(【時計】入力欄!E331=\"\",\"\",【時計】入力欄!E331)","v":""},{"$f":"IF(【時計】入力欄!F331=\"\",\"\",【時計】入力欄!F331)","v":""},{"$f":"CONCATENATE(IF(【時計】入力欄!G331=\"\",\"\",【時計】入力欄!G331&\" \"),IF(【時計】入力欄!H331=\"\",\"\",【時計】入力欄!H331&\" \"),IF(【時計】入力欄!I331=\"\",\"\",【時計】入力欄!I331&\" \"),IF(【時計】入力欄!J331=\"\",\"\",【時計】入力欄!J331&\" \"))","v":""},{"$f":"IF(【時計】入力欄!K331=\"\",\"\",【時計】入力欄!K331&\"g\")","v":""},{"$f":"IF(【時計】入力欄!L331=\"\",\"\",【時計】入力欄!L331)","v":""},{"$f":"IF(【時計】入力欄!O331=\"\",\"\",【時計】入力欄!O331)","v":""}]
["７",{"$f":"IF(【時計】入力欄!E332=\"\",\"\",【時計】入力欄!E332)","v":""},{"$f":"IF(【時計】入力欄!F332=\"\",\"\",【時計】入力欄!F332)","v":""},{"$f":"CONCATENATE(IF(【時計】入力欄!G332=\"\",\"\",【時計】入力欄!G332&\" \"),IF(【時計】入力欄!H332=\"\",\"\",【時計】入力欄!H332&\" \"),IF(【時計】入力欄!I332=\"\",\"\",【時計】入力欄!I332&\" \"),IF(【時計】入力欄!J332=\"\",\"\",【時計】入力欄!J332&\" \"))","v":""},{"$f":"IF(【時計】入力欄!K332=\"\",\"\",【時計】入力欄!K332&\"g\")","v":""},{"$f":"IF(【時計】入力欄!L332=\"\",\"\",【時計】入力欄!L332)","v":""},{"$f":"IF(【時計】入力欄!O332=\"\",\"\",【時計】入力欄!O332)","v":""}]
["８",{"$f":"IF(【時計】入力欄!E333=\"\",\"\",【時計】入力欄!E333)","v":""},{"$f":"IF(【時計】入力欄!F333=\"\",\"\",【時計】入力欄!F333)","v":""},{"$f":"CONCATENATE(IF(【時計】入力欄!G333=\"\",\"\",【時計】入力欄!G333&\" \"),IF(【時計】入力欄!H333=\"\",\"\",【時計】入力欄!H333&\" \"),IF(【時計】入力欄!I333=\"\",\"\",【時計】入力欄!I333&\" \"),IF(【時計】入力欄!J333=\"\",\"\",【時計】入力欄!J333&\" \"))","v":""},{"$f":"IF(【時計】入力欄!K333=\"\",\"\",【時計】入力欄!K333&\"g\")","v":""},{"$f":"IF(【時計】入力欄!L333=\"\",\"\",【時計】入力欄!L333)","v":""},{"$f":"IF(【時計】入力欄!O333=\"\",\"\",【時計】入力欄!O333)","v":""}]
["９",{"$f":"IF(【時計】入力欄!E334=\"\",\"\",【時計】入力欄!E334)","v":""},{"$f":"IF(【時計】入力欄!F334=\"\",\"\",【時計】入力欄!F334)","v":""},{"$f":"CONCATENATE(IF(【時計】入力欄!G334=\"\",\"\",【時計】入力欄!G334&\" \"),IF(【時計】入力欄!H334=\"\",\"\",【時計】入力欄!H334&\" \"),IF(【時計】入力欄!I334=\"\",\"\",【時計】入力欄!I334&\" \"),IF(【時計】入力欄!J334=\"\",\"\",【時計】入力欄!J334&\" \"))","v":""},{"$f":"IF(【時計】入力欄!K334=\"\",\"\",【時計】入力欄!K334&\"g\")","v":""},{"$f":"IF(【時計】入力欄!L334=\"\",\"\",【時計】入力欄!L334)","v":""},{"$f":"IF(【時計】入力欄!O334=\"\",\"\",【時計】入力欄!O334)","v":""}]
["１０",{"$f":"IF(【時計】入力欄!E335=\"\",\"\",【時計】入力欄!E335)","v":""},{"$f":"IF(【時計】入力欄!F335=\"\",\"\",【時計】入力欄!F335)","v":""},{"$f":"CONCATENATE(IF(【時計】入力欄!G335=\"\",\"\",【時計】入力欄!G335&\" \"),IF(【時計】入力欄!H335=\"\",\"\",【時計】入力欄!H335&\" \"),IF(【時計】入力欄!I335=\"\",\"\",【時計】入力欄!I335&\" \"),IF(【時計】入力欄!J335=\"\",\"\",【時計】入力欄!J335&\" \"))","v":""},{"$f":"IF(【時計】入力欄!K335=\"\",\"\",【時計】入力欄!K335&\"g\")","v":""},{"$f":"IF(【時計】入力欄!L335=\"\",\"\",【時計】入力欄!L335)","v":""},{"$f":"IF(【時計】入力欄!O335=\"\",\"\",【時計】入力欄!O335)","v":""}]
[]
[" ",{"$f":"CONCATENATE(\"出品表　（　\",【時計】入力欄!I$3,\"大吉オークション　時計）\")","v":"出品表　（　大吉オークション　時計）"}]
[]
[null,"箱番：",{"$f":"IF(【時計】入力欄!C336=\"\",\"\",【時計】入力欄!C336)","v":""},"※太枠の中をご記入ください",null,"会社名",{"$f":"IF(【時計】入力欄!C$3=\"\",\"\",【時計】入力欄!C$3)","v":""}]
[]
["番号","ブランド","素材","詳細・特徴","重量","付属品","指値\n（3万円以上）","発句"]
["１",{"$f":"IF(【時計】入力欄!E336=\"\",\"\",【時計】入力欄!E336)","v":""},{"$f":"IF(【時計】入力欄!F336=\"\",\"\",【時計】入力欄!F336)","v":""},{"$f":"CONCATENATE(IF(【時計】入力欄!G336=\"\",\"\",【時計】入力欄!G336&\" \"),IF(【時計】入力欄!H336=\"\",\"\",【時計】入力欄!H336&\" \"),IF(【時計】入力欄!I336=\"\",\"\",【時計】入力欄!I336&\" \"),IF(【時計】入力欄!J336=\"\",\"\",【時計】入力欄!J336&\" \"))","v":""},{"$f":"IF(【時計】入力欄!K336=\"\",\"\",【時計】入力欄!K336&\"g\")","v":""},{"$f":"IF(【時計】入力欄!L336=\"\",\"\",【時計】入力欄!L336)","v":""},{"$f":"IF(【時計】入力欄!O336=\"\",\"\",【時計】入力欄!O336)","v":""}]
["２",{"$f":"IF(【時計】入力欄!E337=\"\",\"\",【時計】入力欄!E337)","v":""},{"$f":"IF(【時計】入力欄!F337=\"\",\"\",【時計】入力欄!F337)","v":""},{"$f":"CONCATENATE(IF(【時計】入力欄!G337=\"\",\"\",【時計】入力欄!G337&\" \"),IF(【時計】入力欄!H337=\"\",\"\",【時計】入力欄!H337&\" \"),IF(【時計】入力欄!I337=\"\",\"\",【時計】入力欄!I337&\" \"),IF(【時計】入力欄!J337=\"\",\"\",【時計】入力欄!J337&\" \"))","v":""},{"$f":"IF(【時計】入力欄!K337=\"\",\"\",【時計】入力欄!K337&\"g\")","v":""},{"$f":"IF(【時計】入力欄!L337=\"\",\"\",【時計】入力欄!L337)","v":""},{"$f":"IF(【時計】入力欄!O337=\"\",\"\",【時計】入力欄!O337)","v":""}]
["３",{"$f":"IF(【時計】入力欄!E338=\"\",\"\",【時計】入力欄!E338)","v":""},{"$f":"IF(【時計】入力欄!F338=\"\",\"\",【時計】入力欄!F338)","v":""},{"$f":"CONCATENATE(IF(【時計】入力欄!G338=\"\",\"\",【時計】入力欄!G338&\" \"),IF(【時計】入力欄!H338=\"\",\"\",【時計】入力欄!H338&\" \"),IF(【時計】入力欄!I338=\"\",\"\",【時計】入力欄!I338&\" \"),IF(【時計】入力欄!J338=\"\",\"\",【時計】入力欄!J338&\" \"))","v":""},{"$f":"IF(【時計】入力欄!K338=\"\",\"\",【時計】入力欄!K338&\"g\")","v":""},{"$f":"IF(【時計】入力欄!L338=\"\",\"\",【時計】入力欄!L338)","v":""},{"$f":"IF(【時計】入力欄!O338=\"\",\"\",【時計】入力欄!O338)","v":""}]
["４",{"$f":"IF(【時計】入力欄!E339=\"\",\"\",【時計】入力欄!E339)","v":""},{"$f":"IF(【時計】入力欄!F339=\"\",\"\",【時計】入力欄!F339)","v":""},{"$f":"CONCATENATE(IF(【時計】入力欄!G339=\"\",\"\",【時計】入力欄!G339&\" \"),IF(【時計】入力欄!H339=\"\",\"\",【時計】入力欄!H339&\" \"),IF(【時計】入力欄!I339=\"\",\"\",【時計】入力欄!I339&\" \"),IF(【時計】入力欄!J339=\"\",\"\",【時計】入力欄!J339&\" \"))","v":""},{"$f":"IF(【時計】入力欄!K339=\"\",\"\",【時計】入力欄!K339&\"g\")","v":""},{"$f":"IF(【時計】入力欄!L339=\"\",\"\",【時計】入力欄!L339)","v":""},{"$f":"IF(【時計】入力欄!O339=\"\",\"\",【時計】入力欄!O339)","v":""}]
["５",{"$f":"IF(【時計】入力欄!E340=\"\",\"\",【時計】入力欄!E340)","v":""},{"$f":"IF(【時計】入力欄!F340=\"\",\"\",【時計】入力欄!F340)","v":""},{"$f":"CONCATENATE(IF(【時計】入力欄!G340=\"\",\"\",【時計】入力欄!G340&\" \"),IF(【時計】入力欄!H340=\"\",\"\",【時計】入力欄!H340&\" \"),IF(【時計】入力欄!I340=\"\",\"\",【時計】入力欄!I340&\" \"),IF(【時計】入力欄!J340=\"\",\"\",【時計】入力欄!J340&\" \"))","v":""},{"$f":"IF(【時計】入力欄!K340=\"\",\"\",【時計】入力欄!K340&\"g\")","v":""},{"$f":"IF(【時計】入力欄!L340=\"\",\"\",【時計】入力欄!L340)","v":""},{"$f":"IF(【時計】入力欄!O340=\"\",\"\",【時計】入力欄!O340)","v":""}]
["６",{"$f":"IF(【時計】入力欄!E341=\"\",\"\",【時計】入力欄!E341)","v":""},{"$f":"IF(【時計】入力欄!F341=\"\",\"\",【時計】入力欄!F341)","v":""},{"$f":"CONCATENATE(IF(【時計】入力欄!G341=\"\",\"\",【時計】入力欄!G341&\" \"),IF(【時計】入力欄!H341=\"\",\"\",【時計】入力欄!H341&\" \"),IF(【時計】入力欄!I341=\"\",\"\",【時計】入力欄!I341&\" \"),IF(【時計】入力欄!J341=\"\",\"\",【時計】入力欄!J341&\" \"))","v":""},{"$f":"IF(【時計】入力欄!K341=\"\",\"\",【時計】入力欄!K341&\"g\")","v":""},{"$f":"IF(【時計】入力欄!L341=\"\",\"\",【時計】入力欄!L341)","v":""},{"$f":"IF(【時計】入力欄!O341=\"\",\"\",【時計】入力欄!O341)","v":""}]
["７",{"$f":"IF(【時計】入力欄!E342=\"\",\"\",【時計】入力欄!E342)","v":""},{"$f":"IF(【時計】入力欄!F342=\"\",\"\",【時計】入力欄!F342)","v":""},{"$f":"CONCATENATE(IF(【時計】入力欄!G342=\"\",\"\",【時計】入力欄!G342&\" \"),IF(【時計】入力欄!H342=\"\",\"\",【時計】入力欄!H342&\" \"),IF(【時計】入力欄!I342=\"\",\"\",【時計】入力欄!I342&\" \"),IF(【時計】入力欄!J342=\"\",\"\",【時計】入力欄!J342&\" \"))","v":""},{"$f":"IF(【時計】入力欄!K342=\"\",\"\",【時計】入力欄!K342&\"g\")","v":""},{"$f":"IF(【時計】入力欄!L342=\"\",\"\",【時計】入力欄!L342)","v":""},{"$f":"IF(【時計】入力欄!O342=\"\",\"\",【時計】入力欄!O342)","v":""}]
["８",{"$f":"IF(【時計】入力欄!E343=\"\",\"\",【時計】入力欄!E343)","v":""},{"$f":"IF(【時計】入力欄!F343=\"\",\"\",【時計】入力欄!F343)","v":""},{"$f":"CONCATENATE(IF(【時計】入力欄!G343=\"\",\"\",【時計】入力欄!G343&\" \"),IF(【時計】入力欄!H343=\"\",\"\",【時計】入力欄!H343&\" \"),IF(【時計】入力欄!I343=\"\",\"\",【時計】入力欄!I343&\" \"),IF(【時計】入力欄!J343=\"\",\"\",【時計】入力欄!J343&\" \"))","v":""},{"$f":"IF(【時計】入力欄!K343=\"\",\"\",【時計】入力欄!K343&\"g\")","v":""},{"$f":"IF(【時計】入力欄!L343=\"\",\"\",【時計】入力欄!L343)","v":""},{"$f":"IF(【時計】入力欄!O343=\"\",\"\",【時計】入力欄!O343)","v":""}]
["９",{"$f":"IF(【時計】入力欄!E344=\"\",\"\",【時計】入力欄!E344)","v":""},{"$f":"IF(【時計】入力欄!F344=\"\",\"\",【時計】入力欄!F344)","v":""},{"$f":"CONCATENATE(IF(【時計】入力欄!G344=\"\",\"\",【時計】入力欄!G344&\" \"),IF(【時計】入力欄!H344=\"\",\"\",【時計】入力欄!H344&\" \"),IF(【時計】入力欄!I344=\"\",\"\",【時計】入力欄!I344&\" \"),IF(【時計】入力欄!J344=\"\",\"\",【時計】入力欄!J344&\" \"))","v":""},{"$f":"IF(【時計】入力欄!K344=\"\",\"\",【時計】入力欄!K344&\"g\")","v":""},{"$f":"IF(【時計】入力欄!L344=\"\",\"\",【時計】入力欄!L344)","v":""},{"$f":"IF(【時計】入力欄!O344=\"\",\"\",【時計】入力欄!O344)","v":""}]
["１０",{"$f":"IF(【時計】入力欄!E345=\"\",\"\",【時計】入力欄!E345)","v":""},{"$f":"IF(【時計】入力欄!F345=\"\",\"\",【時計】入力欄!F345)","v":""},{"$f":"CONCATENATE(IF(【時計】入力欄!G345=\"\",\"\",【時計】入力欄!G345&\" \"),IF(【時計】入力欄!H345=\"\",\"\",【時計】入力欄!H345&\" \"),IF(【時計】入力欄!I345=\"\",\"\",【時計】入力欄!I345&\" \"),IF(【時計】入力欄!J345=\"\",\"\",【時計】入力欄!J345&\" \"))","v":""},{"$f":"IF(【時計】入力欄!K345=\"\",\"\",【時計】入力欄!K345&\"g\")","v":""},{"$f":"IF(【時計】入力欄!L345=\"\",\"\",【時計】入力欄!L345)","v":""},{"$f":"IF(【時計】入力欄!O345=\"\",\"\",【時計】入力欄!O345)","v":""}]
[]
[" ",{"$f":"CONCATENATE(\"出品表　（　\",【時計】入力欄!I$3,\"大吉オークション　時計）\")","v":"出品表　（　大吉オークション　時計）"}]
[]
[null,"箱番：",{"$f":"IF(【時計】入力欄!C346=\"\",\"\",【時計】入力欄!C346)","v":""},"※太枠の中をご記入ください",null,"会社名",{"$f":"IF(【時計】入力欄!C$3=\"\",\"\",【時計】入力欄!C$3)","v":""}]
[]
["番号","ブランド","素材","詳細・特徴","重量","付属品","指値\n（3万円以上）","発句"]
["１",{"$f":"IF(【時計】入力欄!E346=\"\",\"\",【時計】入力欄!E346)","v":""},{"$f":"IF(【時計】入力欄!F346=\"\",\"\",【時計】入力欄!F346)","v":""},{"$f":"CONCATENATE(IF(【時計】入力欄!G346=\"\",\"\",【時計】入力欄!G346&\" \"),IF(【時計】入力欄!H346=\"\",\"\",【時計】入力欄!H346&\" \"),IF(【時計】入力欄!I346=\"\",\"\",【時計】入力欄!I346&\" \"),IF(【時計】入力欄!J346=\"\",\"\",【時計】入力欄!J346&\" \"))","v":""},{"$f":"IF(【時計】入力欄!K346=\"\",\"\",【時計】入力欄!K346&\"g\")","v":""},{"$f":"IF(【時計】入力欄!L346=\"\",\"\",【時計】入力欄!L346)","v":""},{"$f":"IF(【時計】入力欄!O346=\"\",\"\",【時計】入力欄!O346)","v":""}]
["２",{"$f":"IF(【時計】入力欄!E347=\"\",\"\",【時計】入力欄!E347)","v":""},{"$f":"IF(【時計】入力欄!F347=\"\",\"\",【時計】入力欄!F347)","v":""},{"$f":"CONCATENATE(IF(【時計】入力欄!G347=\"\",\"\",【時計】入力欄!G347&\" \"),IF(【時計】入力欄!H347=\"\",\"\",【時計】入力欄!H347&\" \"),IF(【時計】入力欄!I347=\"\",\"\",【時計】入力欄!I347&\" \"),IF(【時計】入力欄!J347=\"\",\"\",【時計】入力欄!J347&\" \"))","v":""},{"$f":"IF(【時計】入力欄!K347=\"\",\"\",【時計】入力欄!K347&\"g\")","v":""},{"$f":"IF(【時計】入力欄!L347=\"\",\"\",【時計】入力欄!L347)","v":""},{"$f":"IF(【時計】入力欄!O347=\"\",\"\",【時計】入力欄!O347)","v":""}]
["３",{"$f":"IF(【時計】入力欄!E348=\"\",\"\",【時計】入力欄!E348)","v":""},{"$f":"IF(【時計】入力欄!F348=\"\",\"\",【時計】入力欄!F348)","v":""},{"$f":"CONCATENATE(IF(【時計】入力欄!G348=\"\",\"\",【時計】入力欄!G348&\" \"),IF(【時計】入力欄!H348=\"\",\"\",【時計】入力欄!H348&\" \"),IF(【時計】入力欄!I348=\"\",\"\",【時計】入力欄!I348&\" \"),IF(【時計】入力欄!J348=\"\",\"\",【時計】入力欄!J348&\" \"))","v":""},{"$f":"IF(【時計】入力欄!K348=\"\",\"\",【時計】入力欄!K348&\"g\")","v":""},{"$f":"IF(【時計】入力欄!L348=\"\",\"\",【時計】入力欄!L348)","v":""},{"$f":"IF(【時計】入力欄!O348=\"\",\"\",【時計】入力欄!O348)","v":""}]
["４",{"$f":"IF(【時計】入力欄!E349=\"\",\"\",【時計】入力欄!E349)","v":""},{"$f":"IF(【時計】入力欄!F349=\"\",\"\",【時計】入力欄!F349)","v":""},{"$f":"CONCATENATE(IF(【時計】入力欄!G349=\"\",\"\",【時計】入力欄!G349&\" \"),IF(【時計】入力欄!H349=\"\",\"\",【時計】入力欄!H349&\" \"),IF(【時計】入力欄!I349=\"\",\"\",【時計】入力欄!I349&\" \"),IF(【時計】入力欄!J349=\"\",\"\",【時計】入力欄!J349&\" \"))","v":""},{"$f":"IF(【時計】入力欄!K349=\"\",\"\",【時計】入力欄!K349&\"g\")","v":""},{"$f":"IF(【時計】入力欄!L349=\"\",\"\",【時計】入力欄!L349)","v":""},{"$f":"IF(【時計】入力欄!O349=\"\",\"\",【時計】入力欄!O349)","v":""}]
["５",{"$f":"IF(【時計】入力欄!E350=\"\",\"\",【時計】入力欄!E350)","v":""},{"$f":"IF(【時計】入力欄!F350=\"\",\"\",【時計】入力欄!F350)","v":""},{"$f":"CONCATENATE(IF(【時計】入力欄!G350=\"\",\"\",【時計】入力欄!G350&\" \"),IF(【時計】入力欄!H350=\"\",\"\",【時計】入力欄!H350&\" \"),IF(【時計】入力欄!I350=\"\",\"\",【時計】入力欄!I350&\" \"),IF(【時計】入力欄!J350=\"\",\"\",【時計】入力欄!J350&\" \"))","v":""},{"$f":"IF(【時計】入力欄!K350=\"\",\"\",【時計】入力欄!K350&\"g\")","v":""},{"$f":"IF(【時計】入力欄!L350=\"\",\"\",【時計】入力欄!L350)","v":""},{"$f":"IF(【時計】入力欄!O350=\"\",\"\",【時計】入力欄!O350)","v":""}]
["６",{"$f":"IF(【時計】入力欄!E351=\"\",\"\",【時計】入力欄!E351)","v":""},{"$f":"IF(【時計】入力欄!F351=\"\",\"\",【時計】入力欄!F351)","v":""},{"$f":"CONCATENATE(IF(【時計】入力欄!G351=\"\",\"\",【時計】入力欄!G351&\" \"),IF(【時計】入力欄!H351=\"\",\"\",【時計】入力欄!H351&\" \"),IF(【時計】入力欄!I351=\"\",\"\",【時計】入力欄!I351&\" \"),IF(【時計】入力欄!J351=\"\",\"\",【時計】入力欄!J351&\" \"))","v":""},{"$f":"IF(【時計】入力欄!K351=\"\",\"\",【時計】入力欄!K351&\"g\")","v":""},{"$f":"IF(【時計】入力欄!L351=\"\",\"\",【時計】入力欄!L351)","v":""},{"$f":"IF(【時計】入力欄!O351=\"\",\"\",【時計】入力欄!O351)","v":""}]
["７",{"$f":"IF(【時計】入力欄!E352=\"\",\"\",【時計】入力欄!E352)","v":""},{"$f":"IF(【時計】入力欄!F352=\"\",\"\",【時計】入力欄!F352)","v":""},{"$f":"CONCATENATE(IF(【時計】入力欄!G352=\"\",\"\",【時計】入力欄!G352&\" \"),IF(【時計】入力欄!H352=\"\",\"\",【時計】入力欄!H352&\" \"),IF(【時計】入力欄!I352=\"\",\"\",【時計】入力欄!I352&\" \"),IF(【時計】入力欄!J352=\"\",\"\",【時計】入力欄!J352&\" \"))","v":""},{"$f":"IF(【時計】入力欄!K352=\"\",\"\",【時計】入力欄!K352&\"g\")","v":""},{"$f":"IF(【時計】入力欄!L352=\"\",\"\",【時計】入力欄!L352)","v":""},{"$f":"IF(【時計】入力欄!O352=\"\",\"\",【時計】入力欄!O352)","v":""}]
["８",{"$f":"IF(【時計】入力欄!E353=\"\",\"\",【時計】入力欄!E353)","v":""},{"$f":"IF(【時計】入力欄!F353=\"\",\"\",【時計】入力欄!F353)","v":""},{"$f":"CONCATENATE(IF(【時計】入力欄!G353=\"\",\"\",【時計】入力欄!G353&\" \"),IF(【時計】入力欄!H353=\"\",\"\",【時計】入力欄!H353&\" \"),IF(【時計】入力欄!I353=\"\",\"\",【時計】入力欄!I353&\" \"),IF(【時計】入力欄!J353=\"\",\"\",【時計】入力欄!J353&\" \"))","v":""},{"$f":"IF(【時計】入力欄!K353=\"\",\"\",【時計】入力欄!K353&\"g\")","v":""},{"$f":"IF(【時計】入力欄!L353=\"\",\"\",【時計】入力欄!L353)","v":""},{"$f":"IF(【時計】入力欄!O353=\"\",\"\",【時計】入力欄!O353)","v":""}]
["９",{"$f":"IF(【時計】入力欄!E354=\"\",\"\",【時計】入力欄!E354)","v":""},{"$f":"IF(【時計】入力欄!F354=\"\",\"\",【時計】入力欄!F354)","v":""},{"$f":"CONCATENATE(IF(【時計】入力欄!G354=\"\",\"\",【時計】入力欄!G354&\" \"),IF(【時計】入力欄!H354=\"\",\"\",【時計】入力欄!H354&\" \"),IF(【時計】入力欄!I354=\"\",\"\",【時計】入力欄!I354&\" \"),IF(【時計】入力欄!J354=\"\",\"\",【時計】入力欄!J354&\" \"))","v":""},{"$f":"IF(【時計】入力欄!K354=\"\",\"\",【時計】入力欄!K354&\"g\")","v":""},{"$f":"IF(【時計】入力欄!L354=\"\",\"\",【時計】入力欄!L354)","v":""},{"$f":"IF(【時計】入力欄!O354=\"\",\"\",【時計】入力欄!O354)","v":""}]
["１０",{"$f":"IF(【時計】入力欄!E355=\"\",\"\",【時計】入力欄!E355)","v":""},{"$f":"IF(【時計】入力欄!F355=\"\",\"\",【時計】入力欄!F355)","v":""},{"$f":"CONCATENATE(IF(【時計】入力欄!G355=\"\",\"\",【時計】入力欄!G355&\" \"),IF(【時計】入力欄!H355=\"\",\"\",【時計】入力欄!H355&\" \"),IF(【時計】入力欄!I355=\"\",\"\",【時計】入力欄!I355&\" \"),IF(【時計】入力欄!J355=\"\",\"\",【時計】入力欄!J355&\" \"))","v":""},{"$f":"IF(【時計】入力欄!K355=\"\",\"\",【時計】入力欄!K355&\"g\")","v":""},{"$f":"IF(【時計】入力欄!L355=\"\",\"\",【時計】入力欄!L355)","v":""},{"$f":"IF(【時計】入力欄!O355=\"\",\"\",【時計】入力欄!O355)","v":""}]
[]
[" ",{"$f":"CONCATENATE(\"出品表　（　\",【時計】入力欄!I$3,\"大吉オークション　時計）\")","v":"出品表　（　大吉オークション　時計）"}]
[]
[null,"箱番：",{"$f":"IF(【時計】入力欄!C356=\"\",\"\",【時計】入力欄!C356)","v":""},"※太枠の中をご記入ください",null,"会社名",{"$f":"IF(【時計】入力欄!C$3=\"\",\"\",【時計】入力欄!C$3)","v":""}]
[]
["番号","ブランド","素材","詳細・特徴","重量","付属品","指値\n（3万円以上）","発句"]
["１",{"$f":"IF(【時計】入力欄!E356=\"\",\"\",【時計】入力欄!E356)","v":""},{"$f":"IF(【時計】入力欄!F356=\"\",\"\",【時計】入力欄!F356)","v":""},{"$f":"CONCATENATE(IF(【時計】入力欄!G356=\"\",\"\",【時計】入力欄!G356&\" \"),IF(【時計】入力欄!H356=\"\",\"\",【時計】入力欄!H356&\" \"),IF(【時計】入力欄!I356=\"\",\"\",【時計】入力欄!I356&\" \"),IF(【時計】入力欄!J356=\"\",\"\",【時計】入力欄!J356&\" \"))","v":""},{"$f":"IF(【時計】入力欄!K356=\"\",\"\",【時計】入力欄!K356&\"g\")","v":""},{"$f":"IF(【時計】入力欄!L356=\"\",\"\",【時計】入力欄!L356)","v":""},{"$f":"IF(【時計】入力欄!O356=\"\",\"\",【時計】入力欄!O356)","v":""}]
["２",{"$f":"IF(【時計】入力欄!E357=\"\",\"\",【時計】入力欄!E357)","v":""},{"$f":"IF(【時計】入力欄!F357=\"\",\"\",【時計】入力欄!F357)","v":""},{"$f":"CONCATENATE(IF(【時計】入力欄!G357=\"\",\"\",【時計】入力欄!G357&\" \"),IF(【時計】入力欄!H357=\"\",\"\",【時計】入力欄!H357&\" \"),IF(【時計】入力欄!I357=\"\",\"\",【時計】入力欄!I357&\" \"),IF(【時計】入力欄!J357=\"\",\"\",【時計】入力欄!J357&\" \"))","v":""},{"$f":"IF(【時計】入力欄!K357=\"\",\"\",【時計】入力欄!K357&\"g\")","v":""},{"$f":"IF(【時計】入力欄!L357=\"\",\"\",【時計】入力欄!L357)","v":""},{"$f":"IF(【時計】入力欄!O357=\"\",\"\",【時計】入力欄!O357)","v":""}]
["３",{"$f":"IF(【時計】入力欄!E358=\"\",\"\",【時計】入力欄!E358)","v":""},{"$f":"IF(【時計】入力欄!F358=\"\",\"\",【時計】入力欄!F358)","v":""},{"$f":"CONCATENATE(IF(【時計】入力欄!G358=\"\",\"\",【時計】入力欄!G358&\" \"),IF(【時計】入力欄!H358=\"\",\"\",【時計】入力欄!H358&\" \"),IF(【時計】入力欄!I358=\"\",\"\",【時計】入力欄!I358&\" \"),IF(【時計】入力欄!J358=\"\",\"\",【時計】入力欄!J358&\" \"))","v":""},{"$f":"IF(【時計】入力欄!K358=\"\",\"\",【時計】入力欄!K358&\"g\")","v":""},{"$f":"IF(【時計】入力欄!L358=\"\",\"\",【時計】入力欄!L358)","v":""},{"$f":"IF(【時計】入力欄!O358=\"\",\"\",【時計】入力欄!O358)","v":""}]
["４",{"$f":"IF(【時計】入力欄!E359=\"\",\"\",【時計】入力欄!E359)","v":""},{"$f":"IF(【時計】入力欄!F359=\"\",\"\",【時計】入力欄!F359)","v":""},{"$f":"CONCATENATE(IF(【時計】入力欄!G359=\"\",\"\",【時計】入力欄!G359&\" \"),IF(【時計】入力欄!H359=\"\",\"\",【時計】入力欄!H359&\" \"),IF(【時計】入力欄!I359=\"\",\"\",【時計】入力欄!I359&\" \"),IF(【時計】入力欄!J359=\"\",\"\",【時計】入力欄!J359&\" \"))","v":""},{"$f":"IF(【時計】入力欄!K359=\"\",\"\",【時計】入力欄!K359&\"g\")","v":""},{"$f":"IF(【時計】入力欄!L359=\"\",\"\",【時計】入力欄!L359)","v":""},{"$f":"IF(【時計】入力欄!O359=\"\",\"\",【時計】入力欄!O359)","v":""}]
["５",{"$f":"IF(【時計】入力欄!E360=\"\",\"\",【時計】入力欄!E360)","v":""},{"$f":"IF(【時計】入力欄!F360=\"\",\"\",【時計】入力欄!F360)","v":""},{"$f":"CONCATENATE(IF(【時計】入力欄!G360=\"\",\"\",【時計】入力欄!G360&\" \"),IF(【時計】入力欄!H360=\"\",\"\",【時計】入力欄!H360&\" \"),IF(【時計】入力欄!I360=\"\",\"\",【時計】入力欄!I360&\" \"),IF(【時計】入力欄!J360=\"\",\"\",【時計】入力欄!J360&\" \"))","v":""},{"$f":"IF(【時計】入力欄!K360=\"\",\"\",【時計】入力欄!K360&\"g\")","v":""},{"$f":"IF(【時計】入力欄!L360=\"\",\"\",【時計】入力欄!L360)","v":""},{"$f":"IF(【時計】入力欄!O360=\"\",\"\",【時計】入力欄!O360)","v":""}]
["６",{"$f":"IF(【時計】入力欄!E361=\"\",\"\",【時計】入力欄!E361)","v":""},{"$f":"IF(【時計】入力欄!F361=\"\",\"\",【時計】入力欄!F361)","v":""},{"$f":"CONCATENATE(IF(【時計】入力欄!G361=\"\",\"\",【時計】入力欄!G361&\" \"),IF(【時計】入力欄!H361=\"\",\"\",【時計】入力欄!H361&\" \"),IF(【時計】入力欄!I361=\"\",\"\",【時計】入力欄!I361&\" \"),IF(【時計】入力欄!J361=\"\",\"\",【時計】入力欄!J361&\" \"))","v":""},{"$f":"IF(【時計】入力欄!K361=\"\",\"\",【時計】入力欄!K361&\"g\")","v":""},{"$f":"IF(【時計】入力欄!L361=\"\",\"\",【時計】入力欄!L361)","v":""},{"$f":"IF(【時計】入力欄!O361=\"\",\"\",【時計】入力欄!O361)","v":""}]
["７",{"$f":"IF(【時計】入力欄!E362=\"\",\"\",【時計】入力欄!E362)","v":""},{"$f":"IF(【時計】入力欄!F362=\"\",\"\",【時計】入力欄!F362)","v":""},{"$f":"CONCATENATE(IF(【時計】入力欄!G362=\"\",\"\",【時計】入力欄!G362&\" \"),IF(【時計】入力欄!H362=\"\",\"\",【時計】入力欄!H362&\" \"),IF(【時計】入力欄!I362=\"\",\"\",【時計】入力欄!I362&\" \"),IF(【時計】入力欄!J362=\"\",\"\",【時計】入力欄!J362&\" \"))","v":""},{"$f":"IF(【時計】入力欄!K362=\"\",\"\",【時計】入力欄!K362&\"g\")","v":""},{"$f":"IF(【時計】入力欄!L362=\"\",\"\",【時計】入力欄!L362)","v":""},{"$f":"IF(【時計】入力欄!O362=\"\",\"\",【時計】入力欄!O362)","v":""}]
["８",{"$f":"IF(【時計】入力欄!E363=\"\",\"\",【時計】入力欄!E363)","v":""},{"$f":"IF(【時計】入力欄!F363=\"\",\"\",【時計】入力欄!F363)","v":""},{"$f":"CONCATENATE(IF(【時計】入力欄!G363=\"\",\"\",【時計】入力欄!G363&\" \"),IF(【時計】入力欄!H363=\"\",\"\",【時計】入力欄!H363&\" \"),IF(【時計】入力欄!I363=\"\",\"\",【時計】入力欄!I363&\" \"),IF(【時計】入力欄!J363=\"\",\"\",【時計】入力欄!J363&\" \"))","v":""},{"$f":"IF(【時計】入力欄!K363=\"\",\"\",【時計】入力欄!K363&\"g\")","v":""},{"$f":"IF(【時計】入力欄!L363=\"\",\"\",【時計】入力欄!L363)","v":""},{"$f":"IF(【時計】入力欄!O363=\"\",\"\",【時計】入力欄!O363)","v":""}]
["９",{"$f":"IF(【時計】入力欄!E364=\"\",\"\",【時計】入力欄!E364)","v":""},{"$f":"IF(【時計】入力欄!F364=\"\",\"\",【時計】入力欄!F364)","v":""},{"$f":"CONCATENATE(IF(【時計】入力欄!G364=\"\",\"\",【時計】入力欄!G364&\" \"),IF(【時計】入力欄!H364=\"\",\"\",【時計】入力欄!H364&\" \"),IF(【時計】入力欄!I364=\"\",\"\",【時計】入力欄!I364&\" \"),IF(【時計】入力欄!J364=\"\",\"\",【時計】入力欄!J364&\" \"))","v":""},{"$f":"IF(【時計】入力欄!K364=\"\",\"\",【時計】入力欄!K364&\"g\")","v":""},{"$f":"IF(【時計】入力欄!L364=\"\",\"\",【時計】入力欄!L364)","v":""},{"$f":"IF(【時計】入力欄!O364=\"\",\"\",【時計】入力欄!O364)","v":""}]
["１０",{"$f":"IF(【時計】入力欄!E365=\"\",\"\",【時計】入力欄!E365)","v":""},{"$f":"IF(【時計】入力欄!F365=\"\",\"\",【時計】入力欄!F365)","v":""},{"$f":"CONCATENATE(IF(【時計】入力欄!G365=\"\",\"\",【時計】入力欄!G365&\" \"),IF(【時計】入力欄!H365=\"\",\"\",【時計】入力欄!H365&\" \"),IF(【時計】入力欄!I365=\"\",\"\",【時計】入力欄!I365&\" \"),IF(【時計】入力欄!J365=\"\",\"\",【時計】入力欄!J365&\" \"))","v":""},{"$f":"IF(【時計】入力欄!K365=\"\",\"\",【時計】入力欄!K365&\"g\")","v":""},{"$f":"IF(【時計】入力欄!L365=\"\",\"\",【時計】入力欄!L365)","v":""},{"$f":"IF(【時計】入力欄!O365=\"\",\"\",【時計】入力欄!O365)","v":""}]
[]
[" ",{"$f":"CONCATENATE(\"出品表　（　\",【時計】入力欄!I$3,\"大吉オークション　時計）\")","v":"出品表　（　大吉オークション　時計）"}]
[]
[null,"箱番：",{"$f":"IF(【時計】入力欄!C366=\"\",\"\",【時計】入力欄!C366)","v":""},"※太枠の中をご記入ください",null,"会社名",{"$f":"IF(【時計】入力欄!C$3=\"\",\"\",【時計】入力欄!C$3)","v":""}]
[]
["番号","ブランド","素材","詳細・特徴","重量","付属品","指値\n（3万円以上）","発句"]
["１",{"$f":"IF(【時計】入力欄!E366=\"\",\"\",【時計】入力欄!E366)","v":""},{"$f":"IF(【時計】入力欄!F366=\"\",\"\",【時計】入力欄!F366)","v":""},{"$f":"CONCATENATE(IF(【時計】入力欄!G366=\"\",\"\",【時計】入力欄!G366&\" \"),IF(【時計】入力欄!H366=\"\",\"\",【時計】入力欄!H366&\" \"),IF(【時計】入力欄!I366=\"\",\"\",【時計】入力欄!I366&\" \"),IF(【時計】入力欄!J366=\"\",\"\",【時計】入力欄!J366&\" \"))","v":""},{"$f":"IF(【時計】入力欄!K366=\"\",\"\",【時計】入力欄!K366&\"g\")","v":""},{"$f":"IF(【時計】入力欄!L366=\"\",\"\",【時計】入力欄!L366)","v":""},{"$f":"IF(【時計】入力欄!O366=\"\",\"\",【時計】入力欄!O366)","v":""}]
["２",{"$f":"IF(【時計】入力欄!E367=\"\",\"\",【時計】入力欄!E367)","v":""},{"$f":"IF(【時計】入力欄!F367=\"\",\"\",【時計】入力欄!F367)","v":""},{"$f":"CONCATENATE(IF(【時計】入力欄!G367=\"\",\"\",【時計】入力欄!G367&\" \"),IF(【時計】入力欄!H367=\"\",\"\",【時計】入力欄!H367&\" \"),IF(【時計】入力欄!I367=\"\",\"\",【時計】入力欄!I367&\" \"),IF(【時計】入力欄!J367=\"\",\"\",【時計】入力欄!J367&\" \"))","v":""},{"$f":"IF(【時計】入力欄!K367=\"\",\"\",【時計】入力欄!K367&\"g\")","v":""},{"$f":"IF(【時計】入力欄!L367=\"\",\"\",【時計】入力欄!L367)","v":""},{"$f":"IF(【時計】入力欄!O367=\"\",\"\",【時計】入力欄!O367)","v":""}]
["３",{"$f":"IF(【時計】入力欄!E368=\"\",\"\",【時計】入力欄!E368)","v":""},{"$f":"IF(【時計】入力欄!F368=\"\",\"\",【時計】入力欄!F368)","v":""},{"$f":"CONCATENATE(IF(【時計】入力欄!G368=\"\",\"\",【時計】入力欄!G368&\" \"),IF(【時計】入力欄!H368=\"\",\"\",【時計】入力欄!H368&\" \"),IF(【時計】入力欄!I368=\"\",\"\",【時計】入力欄!I368&\" \"),IF(【時計】入力欄!J368=\"\",\"\",【時計】入力欄!J368&\" \"))","v":""},{"$f":"IF(【時計】入力欄!K368=\"\",\"\",【時計】入力欄!K368&\"g\")","v":""},{"$f":"IF(【時計】入力欄!L368=\"\",\"\",【時計】入力欄!L368)","v":""},{"$f":"IF(【時計】入力欄!O368=\"\",\"\",【時計】入力欄!O368)","v":""}]
["４",{"$f":"IF(【時計】入力欄!E369=\"\",\"\",【時計】入力欄!E369)","v":""},{"$f":"IF(【時計】入力欄!F369=\"\",\"\",【時計】入力欄!F369)","v":""},{"$f":"CONCATENATE(IF(【時計】入力欄!G369=\"\",\"\",【時計】入力欄!G369&\" \"),IF(【時計】入力欄!H369=\"\",\"\",【時計】入力欄!H369&\" \"),IF(【時計】入力欄!I369=\"\",\"\",【時計】入力欄!I369&\" \"),IF(【時計】入力欄!J369=\"\",\"\",【時計】入力欄!J369&\" \"))","v":""},{"$f":"IF(【時計】入力欄!K369=\"\",\"\",【時計】入力欄!K369&\"g\")","v":""},{"$f":"IF(【時計】入力欄!L369=\"\",\"\",【時計】入力欄!L369)","v":""},{"$f":"IF(【時計】入力欄!O369=\"\",\"\",【時計】入力欄!O369)","v":""}]
["５",{"$f":"IF(【時計】入力欄!E370=\"\",\"\",【時計】入力欄!E370)","v":""},{"$f":"IF(【時計】入力欄!F370=\"\",\"\",【時計】入力欄!F370)","v":""},{"$f":"CONCATENATE(IF(【時計】入力欄!G370=\"\",\"\",【時計】入力欄!G370&\" \"),IF(【時計】入力欄!H370=\"\",\"\",【時計】入力欄!H370&\" \"),IF(【時計】入力欄!I370=\"\",\"\",【時計】入力欄!I370&\" \"),IF(【時計】入力欄!J370=\"\",\"\",【時計】入力欄!J370&\" \"))","v":""},{"$f":"IF(【時計】入力欄!K370=\"\",\"\",【時計】入力欄!K370&\"g\")","v":""},{"$f":"IF(【時計】入力欄!L370=\"\",\"\",【時計】入力欄!L370)","v":""},{"$f":"IF(【時計】入力欄!O370=\"\",\"\",【時計】入力欄!O370)","v":""}]
["６",{"$f":"IF(【時計】入力欄!E371=\"\",\"\",【時計】入力欄!E371)","v":""},{"$f":"IF(【時計】入力欄!F371=\"\",\"\",【時計】入力欄!F371)","v":""},{"$f":"CONCATENATE(IF(【時計】入力欄!G371=\"\",\"\",【時計】入力欄!G371&\" \"),IF(【時計】入力欄!H371=\"\",\"\",【時計】入力欄!H371&\" \"),IF(【時計】入力欄!I371=\"\",\"\",【時計】入力欄!I371&\" \"),IF(【時計】入力欄!J371=\"\",\"\",【時計】入力欄!J371&\" \"))","v":""},{"$f":"IF(【時計】入力欄!K371=\"\",\"\",【時計】入力欄!K371&\"g\")","v":""},{"$f":"IF(【時計】入力欄!L371=\"\",\"\",【時計】入力欄!L371)","v":""},{"$f":"IF(【時計】入力欄!O371=\"\",\"\",【時計】入力欄!O371)","v":""}]
["７",{"$f":"IF(【時計】入力欄!E372=\"\",\"\",【時計】入力欄!E372)","v":""},{"$f":"IF(【時計】入力欄!F372=\"\",\"\",【時計】入力欄!F372)","v":""},{"$f":"CONCATENATE(IF(【時計】入力欄!G372=\"\",\"\",【時計】入力欄!G372&\" \"),IF(【時計】入力欄!H372=\"\",\"\",【時計】入力欄!H372&\" \"),IF(【時計】入力欄!I372=\"\",\"\",【時計】入力欄!I372&\" \"),IF(【時計】入力欄!J372=\"\",\"\",【時計】入力欄!J372&\" \"))","v":""},{"$f":"IF(【時計】入力欄!K372=\"\",\"\",【時計】入力欄!K372&\"g\")","v":""},{"$f":"IF(【時計】入力欄!L372=\"\",\"\",【時計】入力欄!L372)","v":""},{"$f":"IF(【時計】入力欄!O372=\"\",\"\",【時計】入力欄!O372)","v":""}]
["８",{"$f":"IF(【時計】入力欄!E373=\"\",\"\",【時計】入力欄!E373)","v":""},{"$f":"IF(【時計】入力欄!F373=\"\",\"\",【時計】入力欄!F373)","v":""},{"$f":"CONCATENATE(IF(【時計】入力欄!G373=\"\",\"\",【時計】入力欄!G373&\" \"),IF(【時計】入力欄!H373=\"\",\"\",【時計】入力欄!H373&\" \"),IF(【時計】入力欄!I373=\"\",\"\",【時計】入力欄!I373&\" \"),IF(【時計】入力欄!J373=\"\",\"\",【時計】入力欄!J373&\" \"))","v":""},{"$f":"IF(【時計】入力欄!K373=\"\",\"\",【時計】入力欄!K373&\"g\")","v":""},{"$f":"IF(【時計】入力欄!L373=\"\",\"\",【時計】入力欄!L373)","v":""},{"$f":"IF(【時計】入力欄!O373=\"\",\"\",【時計】入力欄!O373)","v":""}]
["９",{"$f":"IF(【時計】入力欄!E374=\"\",\"\",【時計】入力欄!E374)","v":""},{"$f":"IF(【時計】入力欄!F374=\"\",\"\",【時計】入力欄!F374)","v":""},{"$f":"CONCATENATE(IF(【時計】入力欄!G374=\"\",\"\",【時計】入力欄!G374&\" \"),IF(【時計】入力欄!H374=\"\",\"\",【時計】入力欄!H374&\" \"),IF(【時計】入力欄!I374=\"\",\"\",【時計】入力欄!I374&\" \"),IF(【時計】入力欄!J374=\"\",\"\",【時計】入力欄!J374&\" \"))","v":""},{"$f":"IF(【時計】入力欄!K374=\"\",\"\",【時計】入力欄!K374&\"g\")","v":""},{"$f":"IF(【時計】入力欄!L374=\"\",\"\",【時計】入力欄!L374)","v":""},{"$f":"IF(【時計】入力欄!O374=\"\",\"\",【時計】入力欄!O374)","v":""}]
["１０",{"$f":"IF(【時計】入力欄!E375=\"\",\"\",【時計】入力欄!E375)","v":""},{"$f":"IF(【時計】入力欄!F375=\"\",\"\",【時計】入力欄!F375)","v":""},{"$f":"CONCATENATE(IF(【時計】入力欄!G375=\"\",\"\",【時計】入力欄!G375&\" \"),IF(【時計】入力欄!H375=\"\",\"\",【時計】入力欄!H375&\" \"),IF(【時計】入力欄!I375=\"\",\"\",【時計】入力欄!I375&\" \"),IF(【時計】入力欄!J375=\"\",\"\",【時計】入力欄!J375&\" \"))","v":""},{"$f":"IF(【時計】入力欄!K375=\"\",\"\",【時計】入力欄!K375&\"g\")","v":""},{"$f":"IF(【時計】入力欄!L375=\"\",\"\",【時計】入力欄!L375)","v":""},{"$f":"IF(【時計】入力欄!O375=\"\",\"\",【時計】入力欄!O375)","v":""}]
[]
[" ",{"$f":"CONCATENATE(\"出品表　（　\",【時計】入力欄!I$3,\"大吉オークション　時計）\")","v":"出品表　（　大吉オークション　時計）"}]
[]
[null,"箱番：",{"$f":"IF(【時計】入力欄!C376=\"\",\"\",【時計】入力欄!C376)","v":""},"※太枠の中をご記入ください",null,"会社名",{"$f":"IF(【時計】入力欄!C$3=\"\",\"\",【時計】入力欄!C$3)","v":""}]
[]
["番号","ブランド","素材","詳細・特徴","重量","付属品","指値\n（3万円以上）","発句"]
["１",{"$f":"IF(【時計】入力欄!E376=\"\",\"\",【時計】入力欄!E376)","v":""},{"$f":"IF(【時計】入力欄!F376=\"\",\"\",【時計】入力欄!F376)","v":""},{"$f":"CONCATENATE(IF(【時計】入力欄!G376=\"\",\"\",【時計】入力欄!G376&\" \"),IF(【時計】入力欄!H376=\"\",\"\",【時計】入力欄!H376&\" \"),IF(【時計】入力欄!I376=\"\",\"\",【時計】入力欄!I376&\" \"),IF(【時計】入力欄!J376=\"\",\"\",【時計】入力欄!J376&\" \"))","v":""},{"$f":"IF(【時計】入力欄!K376=\"\",\"\",【時計】入力欄!K376&\"g\")","v":""},{"$f":"IF(【時計】入力欄!L376=\"\",\"\",【時計】入力欄!L376)","v":""},{"$f":"IF(【時計】入力欄!O376=\"\",\"\",【時計】入力欄!O376)","v":""}]
["２",{"$f":"IF(【時計】入力欄!E377=\"\",\"\",【時計】入力欄!E377)","v":""},{"$f":"IF(【時計】入力欄!F377=\"\",\"\",【時計】入力欄!F377)","v":""},{"$f":"CONCATENATE(IF(【時計】入力欄!G377=\"\",\"\",【時計】入力欄!G377&\" \"),IF(【時計】入力欄!H377=\"\",\"\",【時計】入力欄!H377&\" \"),IF(【時計】入力欄!I377=\"\",\"\",【時計】入力欄!I377&\" \"),IF(【時計】入力欄!J377=\"\",\"\",【時計】入力欄!J377&\" \"))","v":""},{"$f":"IF(【時計】入力欄!K377=\"\",\"\",【時計】入力欄!K377&\"g\")","v":""},{"$f":"IF(【時計】入力欄!L377=\"\",\"\",【時計】入力欄!L377)","v":""},{"$f":"IF(【時計】入力欄!O377=\"\",\"\",【時計】入力欄!O377)","v":""}]
["３",{"$f":"IF(【時計】入力欄!E378=\"\",\"\",【時計】入力欄!E378)","v":""},{"$f":"IF(【時計】入力欄!F378=\"\",\"\",【時計】入力欄!F378)","v":""},{"$f":"CONCATENATE(IF(【時計】入力欄!G378=\"\",\"\",【時計】入力欄!G378&\" \"),IF(【時計】入力欄!H378=\"\",\"\",【時計】入力欄!H378&\" \"),IF(【時計】入力欄!I378=\"\",\"\",【時計】入力欄!I378&\" \"),IF(【時計】入力欄!J378=\"\",\"\",【時計】入力欄!J378&\" \"))","v":""},{"$f":"IF(【時計】入力欄!K378=\"\",\"\",【時計】入力欄!K378&\"g\")","v":""},{"$f":"IF(【時計】入力欄!L378=\"\",\"\",【時計】入力欄!L378)","v":""},{"$f":"IF(【時計】入力欄!O378=\"\",\"\",【時計】入力欄!O378)","v":""}]
["４",{"$f":"IF(【時計】入力欄!E379=\"\",\"\",【時計】入力欄!E379)","v":""},{"$f":"IF(【時計】入力欄!F379=\"\",\"\",【時計】入力欄!F379)","v":""},{"$f":"CONCATENATE(IF(【時計】入力欄!G379=\"\",\"\",【時計】入力欄!G379&\" \"),IF(【時計】入力欄!H379=\"\",\"\",【時計】入力欄!H379&\" \"),IF(【時計】入力欄!I379=\"\",\"\",【時計】入力欄!I379&\" \"),IF(【時計】入力欄!J379=\"\",\"\",【時計】入力欄!J379&\" \"))","v":""},{"$f":"IF(【時計】入力欄!K379=\"\",\"\",【時計】入力欄!K379&\"g\")","v":""},{"$f":"IF(【時計】入力欄!L379=\"\",\"\",【時計】入力欄!L379)","v":""},{"$f":"IF(【時計】入力欄!O379=\"\",\"\",【時計】入力欄!O379)","v":""}]
["５",{"$f":"IF(【時計】入力欄!E380=\"\",\"\",【時計】入力欄!E380)","v":""},{"$f":"IF(【時計】入力欄!F380=\"\",\"\",【時計】入力欄!F380)","v":""},{"$f":"CONCATENATE(IF(【時計】入力欄!G380=\"\",\"\",【時計】入力欄!G380&\" \"),IF(【時計】入力欄!H380=\"\",\"\",【時計】入力欄!H380&\" \"),IF(【時計】入力欄!I380=\"\",\"\",【時計】入力欄!I380&\" \"),IF(【時計】入力欄!J380=\"\",\"\",【時計】入力欄!J380&\" \"))","v":""},{"$f":"IF(【時計】入力欄!K380=\"\",\"\",【時計】入力欄!K380&\"g\")","v":""},{"$f":"IF(【時計】入力欄!L380=\"\",\"\",【時計】入力欄!L380)","v":""},{"$f":"IF(【時計】入力欄!O380=\"\",\"\",【時計】入力欄!O380)","v":""}]
["６",{"$f":"IF(【時計】入力欄!E381=\"\",\"\",【時計】入力欄!E381)","v":""},{"$f":"IF(【時計】入力欄!F381=\"\",\"\",【時計】入力欄!F381)","v":""},{"$f":"CONCATENATE(IF(【時計】入力欄!G381=\"\",\"\",【時計】入力欄!G381&\" \"),IF(【時計】入力欄!H381=\"\",\"\",【時計】入力欄!H381&\" \"),IF(【時計】入力欄!I381=\"\",\"\",【時計】入力欄!I381&\" \"),IF(【時計】入力欄!J381=\"\",\"\",【時計】入力欄!J381&\" \"))","v":""},{"$f":"IF(【時計】入力欄!K381=\"\",\"\",【時計】入力欄!K381&\"g\")","v":""},{"$f":"IF(【時計】入力欄!L381=\"\",\"\",【時計】入力欄!L381)","v":""},{"$f":"IF(【時計】入力欄!O381=\"\",\"\",【時計】入力欄!O381)","v":""}]
["７",{"$f":"IF(【時計】入力欄!E382=\"\",\"\",【時計】入力欄!E382)","v":""},{"$f":"IF(【時計】入力欄!F382=\"\",\"\",【時計】入力欄!F382)","v":""},{"$f":"CONCATENATE(IF(【時計】入力欄!G382=\"\",\"\",【時計】入力欄!G382&\" \"),IF(【時計】入力欄!H382=\"\",\"\",【時計】入力欄!H382&\" \"),IF(【時計】入力欄!I382=\"\",\"\",【時計】入力欄!I382&\" \"),IF(【時計】入力欄!J382=\"\",\"\",【時計】入力欄!J382&\" \"))","v":""},{"$f":"IF(【時計】入力欄!K382=\"\",\"\",【時計】入力欄!K382&\"g\")","v":""},{"$f":"IF(【時計】入力欄!L382=\"\",\"\",【時計】入力欄!L382)","v":""},{"$f":"IF(【時計】入力欄!O382=\"\",\"\",【時計】入力欄!O382)","v":""}]
["８",{"$f":"IF(【時計】入力欄!E383=\"\",\"\",【時計】入力欄!E383)","v":""},{"$f":"IF(【時計】入力欄!F383=\"\",\"\",【時計】入力欄!F383)","v":""},{"$f":"CONCATENATE(IF(【時計】入力欄!G383=\"\",\"\",【時計】入力欄!G383&\" \"),IF(【時計】入力欄!H383=\"\",\"\",【時計】入力欄!H383&\" \"),IF(【時計】入力欄!I383=\"\",\"\",【時計】入力欄!I383&\" \"),IF(【時計】入力欄!J383=\"\",\"\",【時計】入力欄!J383&\" \"))","v":""},{"$f":"IF(【時計】入力欄!K383=\"\",\"\",【時計】入力欄!K383&\"g\")","v":""},{"$f":"IF(【時計】入力欄!L383=\"\",\"\",【時計】入力欄!L383)","v":""},{"$f":"IF(【時計】入力欄!O383=\"\",\"\",【時計】入力欄!O383)","v":""}]
["９",{"$f":"IF(【時計】入力欄!E384=\"\",\"\",【時計】入力欄!E384)","v":""},{"$f":"IF(【時計】入力欄!F384=\"\",\"\",【時計】入力欄!F384)","v":""},{"$f":"CONCATENATE(IF(【時計】入力欄!G384=\"\",\"\",【時計】入力欄!G384&\" \"),IF(【時計】入力欄!H384=\"\",\"\",【時計】入力欄!H384&\" \"),IF(【時計】入力欄!I384=\"\",\"\",【時計】入力欄!I384&\" \"),IF(【時計】入力欄!J384=\"\",\"\",【時計】入力欄!J384&\" \"))","v":""},{"$f":"IF(【時計】入力欄!K384=\"\",\"\",【時計】入力欄!K384&\"g\")","v":""},{"$f":"IF(【時計】入力欄!L384=\"\",\"\",【時計】入力欄!L384)","v":""},{"$f":"IF(【時計】入力欄!O384=\"\",\"\",【時計】入力欄!O384)","v":""}]
["１０",{"$f":"IF(【時計】入力欄!E385=\"\",\"\",【時計】入力欄!E385)","v":""},{"$f":"IF(【時計】入力欄!F385=\"\",\"\",【時計】入力欄!F385)","v":""},{"$f":"CONCATENATE(IF(【時計】入力欄!G385=\"\",\"\",【時計】入力欄!G385&\" \"),IF(【時計】入力欄!H385=\"\",\"\",【時計】入力欄!H385&\" \"),IF(【時計】入力欄!I385=\"\",\"\",【時計】入力欄!I385&\" \"),IF(【時計】入力欄!J385=\"\",\"\",【時計】入力欄!J385&\" \"))","v":""},{"$f":"IF(【時計】入力欄!K385=\"\",\"\",【時計】入力欄!K385&\"g\")","v":""},{"$f":"IF(【時計】入力欄!L385=\"\",\"\",【時計】入力欄!L385)","v":""},{"$f":"IF(【時計】入力欄!O385=\"\",\"\",【時計】入力欄!O385)","v":""}]
[]
[" ",{"$f":"CONCATENATE(\"出品表　（　\",【時計】入力欄!I$3,\"大吉オークション　時計）\")","v":"出品表　（　大吉オークション　時計）"}]
[]
[null,"箱番：",{"$f":"IF(【時計】入力欄!C386=\"\",\"\",【時計】入力欄!C386)","v":""},"※太枠の中をご記入ください",null,"会社名",{"$f":"IF(【時計】入力欄!C$3=\"\",\"\",【時計】入力欄!C$3)","v":""}]
[]
["番号","ブランド","素材","詳細・特徴","重量","付属品","指値\n（3万円以上）","発句"]
["１",{"$f":"IF(【時計】入力欄!E386=\"\",\"\",【時計】入力欄!E386)","v":""},{"$f":"IF(【時計】入力欄!F386=\"\",\"\",【時計】入力欄!F386)","v":""},{"$f":"CONCATENATE(IF(【時計】入力欄!G386=\"\",\"\",【時計】入力欄!G386&\" \"),IF(【時計】入力欄!H386=\"\",\"\",【時計】入力欄!H386&\" \"),IF(【時計】入力欄!I386=\"\",\"\",【時計】入力欄!I386&\" \"),IF(【時計】入力欄!J386=\"\",\"\",【時計】入力欄!J386&\" \"))","v":""},{"$f":"IF(【時計】入力欄!K386=\"\",\"\",【時計】入力欄!K386&\"g\")","v":""},{"$f":"IF(【時計】入力欄!L386=\"\",\"\",【時計】入力欄!L386)","v":""},{"$f":"IF(【時計】入力欄!O386=\"\",\"\",【時計】入力欄!O386)","v":""}]
["２",{"$f":"IF(【時計】入力欄!E387=\"\",\"\",【時計】入力欄!E387)","v":""},{"$f":"IF(【時計】入力欄!F387=\"\",\"\",【時計】入力欄!F387)","v":""},{"$f":"CONCATENATE(IF(【時計】入力欄!G387=\"\",\"\",【時計】入力欄!G387&\" \"),IF(【時計】入力欄!H387=\"\",\"\",【時計】入力欄!H387&\" \"),IF(【時計】入力欄!I387=\"\",\"\",【時計】入力欄!I387&\" \"),IF(【時計】入力欄!J387=\"\",\"\",【時計】入力欄!J387&\" \"))","v":""},{"$f":"IF(【時計】入力欄!K387=\"\",\"\",【時計】入力欄!K387&\"g\")","v":""},{"$f":"IF(【時計】入力欄!L387=\"\",\"\",【時計】入力欄!L387)","v":""},{"$f":"IF(【時計】入力欄!O387=\"\",\"\",【時計】入力欄!O387)","v":""}]
["３",{"$f":"IF(【時計】入力欄!E388=\"\",\"\",【時計】入力欄!E388)","v":""},{"$f":"IF(【時計】入力欄!F388=\"\",\"\",【時計】入力欄!F388)","v":""},{"$f":"CONCATENATE(IF(【時計】入力欄!G388=\"\",\"\",【時計】入力欄!G388&\" \"),IF(【時計】入力欄!H388=\"\",\"\",【時計】入力欄!H388&\" \"),IF(【時計】入力欄!I388=\"\",\"\",【時計】入力欄!I388&\" \"),IF(【時計】入力欄!J388=\"\",\"\",【時計】入力欄!J388&\" \"))","v":""},{"$f":"IF(【時計】入力欄!K388=\"\",\"\",【時計】入力欄!K388&\"g\")","v":""},{"$f":"IF(【時計】入力欄!L388=\"\",\"\",【時計】入力欄!L388)","v":""},{"$f":"IF(【時計】入力欄!O388=\"\",\"\",【時計】入力欄!O388)","v":""}]
["４",{"$f":"IF(【時計】入力欄!E389=\"\",\"\",【時計】入力欄!E389)","v":""},{"$f":"IF(【時計】入力欄!F389=\"\",\"\",【時計】入力欄!F389)","v":""},{"$f":"CONCATENATE(IF(【時計】入力欄!G389=\"\",\"\",【時計】入力欄!G389&\" \"),IF(【時計】入力欄!H389=\"\",\"\",【時計】入力欄!H389&\" \"),IF(【時計】入力欄!I389=\"\",\"\",【時計】入力欄!I389&\" \"),IF(【時計】入力欄!J389=\"\",\"\",【時計】入力欄!J389&\" \"))","v":""},{"$f":"IF(【時計】入力欄!K389=\"\",\"\",【時計】入力欄!K389&\"g\")","v":""},{"$f":"IF(【時計】入力欄!L389=\"\",\"\",【時計】入力欄!L389)","v":""},{"$f":"IF(【時計】入力欄!O389=\"\",\"\",【時計】入力欄!O389)","v":""}]
["５",{"$f":"IF(【時計】入力欄!E390=\"\",\"\",【時計】入力欄!E390)","v":""},{"$f":"IF(【時計】入力欄!F390=\"\",\"\",【時計】入力欄!F390)","v":""},{"$f":"CONCATENATE(IF(【時計】入力欄!G390=\"\",\"\",【時計】入力欄!G390&\" \"),IF(【時計】入力欄!H390=\"\",\"\",【時計】入力欄!H390&\" \"),IF(【時計】入力欄!I390=\"\",\"\",【時計】入力欄!I390&\" \"),IF(【時計】入力欄!J390=\"\",\"\",【時計】入力欄!J390&\" \"))","v":""},{"$f":"IF(【時計】入力欄!K390=\"\",\"\",【時計】入力欄!K390&\"g\")","v":""},{"$f":"IF(【時計】入力欄!L390=\"\",\"\",【時計】入力欄!L390)","v":""},{"$f":"IF(【時計】入力欄!O390=\"\",\"\",【時計】入力欄!O390)","v":""}]
["６",{"$f":"IF(【時計】入力欄!E391=\"\",\"\",【時計】入力欄!E391)","v":""},{"$f":"IF(【時計】入力欄!F391=\"\",\"\",【時計】入力欄!F391)","v":""},{"$f":"CONCATENATE(IF(【時計】入力欄!G391=\"\",\"\",【時計】入力欄!G391&\" \"),IF(【時計】入力欄!H391=\"\",\"\",【時計】入力欄!H391&\" \"),IF(【時計】入力欄!I391=\"\",\"\",【時計】入力欄!I391&\" \"),IF(【時計】入力欄!J391=\"\",\"\",【時計】入力欄!J391&\" \"))","v":""},{"$f":"IF(【時計】入力欄!K391=\"\",\"\",【時計】入力欄!K391&\"g\")","v":""},{"$f":"IF(【時計】入力欄!L391=\"\",\"\",【時計】入力欄!L391)","v":""},{"$f":"IF(【時計】入力欄!O391=\"\",\"\",【時計】入力欄!O391)","v":""}]
["７",{"$f":"IF(【時計】入力欄!E392=\"\",\"\",【時計】入力欄!E392)","v":""},{"$f":"IF(【時計】入力欄!F392=\"\",\"\",【時計】入力欄!F392)","v":""},{"$f":"CONCATENATE(IF(【時計】入力欄!G392=\"\",\"\",【時計】入力欄!G392&\" \"),IF(【時計】入力欄!H392=\"\",\"\",【時計】入力欄!H392&\" \"),IF(【時計】入力欄!I392=\"\",\"\",【時計】入力欄!I392&\" \"),IF(【時計】入力欄!J392=\"\",\"\",【時計】入力欄!J392&\" \"))","v":""},{"$f":"IF(【時計】入力欄!K392=\"\",\"\",【時計】入力欄!K392&\"g\")","v":""},{"$f":"IF(【時計】入力欄!L392=\"\",\"\",【時計】入力欄!L392)","v":""},{"$f":"IF(【時計】入力欄!O392=\"\",\"\",【時計】入力欄!O392)","v":""}]
["８",{"$f":"IF(【時計】入力欄!E393=\"\",\"\",【時計】入力欄!E393)","v":""},{"$f":"IF(【時計】入力欄!F393=\"\",\"\",【時計】入力欄!F393)","v":""},{"$f":"CONCATENATE(IF(【時計】入力欄!G393=\"\",\"\",【時計】入力欄!G393&\" \"),IF(【時計】入力欄!H393=\"\",\"\",【時計】入力欄!H393&\" \"),IF(【時計】入力欄!I393=\"\",\"\",【時計】入力欄!I393&\" \"),IF(【時計】入力欄!J393=\"\",\"\",【時計】入力欄!J393&\" \"))","v":""},{"$f":"IF(【時計】入力欄!K393=\"\",\"\",【時計】入力欄!K393&\"g\")","v":""},{"$f":"IF(【時計】入力欄!L393=\"\",\"\",【時計】入力欄!L393)","v":""},{"$f":"IF(【時計】入力欄!O393=\"\",\"\",【時計】入力欄!O393)","v":""}]
["９",{"$f":"IF(【時計】入力欄!E394=\"\",\"\",【時計】入力欄!E394)","v":""},{"$f":"IF(【時計】入力欄!F394=\"\",\"\",【時計】入力欄!F394)","v":""},{"$f":"CONCATENATE(IF(【時計】入力欄!G394=\"\",\"\",【時計】入力欄!G394&\" \"),IF(【時計】入力欄!H394=\"\",\"\",【時計】入力欄!H394&\" \"),IF(【時計】入力欄!I394=\"\",\"\",【時計】入力欄!I394&\" \"),IF(【時計】入力欄!J394=\"\",\"\",【時計】入力欄!J394&\" \"))","v":""},{"$f":"IF(【時計】入力欄!K394=\"\",\"\",【時計】入力欄!K394&\"g\")","v":""},{"$f":"IF(【時計】入力欄!L394=\"\",\"\",【時計】入力欄!L394)","v":""},{"$f":"IF(【時計】入力欄!O394=\"\",\"\",【時計】入力欄!O394)","v":""}]
["１０",{"$f":"IF(【時計】入力欄!E395=\"\",\"\",【時計】入力欄!E395)","v":""},{"$f":"IF(【時計】入力欄!F395=\"\",\"\",【時計】入力欄!F395)","v":""},{"$f":"CONCATENATE(IF(【時計】入力欄!G395=\"\",\"\",【時計】入力欄!G395&\" \"),IF(【時計】入力欄!H395=\"\",\"\",【時計】入力欄!H395&\" \"),IF(【時計】入力欄!I395=\"\",\"\",【時計】入力欄!I395&\" \"),IF(【時計】入力欄!J395=\"\",\"\",【時計】入力欄!J395&\" \"))","v":""},{"$f":"IF(【時計】入力欄!K395=\"\",\"\",【時計】入力欄!K395&\"g\")","v":""},{"$f":"IF(【時計】入力欄!L395=\"\",\"\",【時計】入力欄!L395)","v":""},{"$f":"IF(【時計】入力欄!O395=\"\",\"\",【時計】入力欄!O395)","v":""}]
[]
[" ",{"$f":"CONCATENATE(\"出品表　（　\",【時計】入力欄!I$3,\"大吉オークション　時計）\")","v":"出品表　（　大吉オークション　時計）"}]
[]
[null,"箱番：",{"$f":"IF(【時計】入力欄!C396=\"\",\"\",【時計】入力欄!C396)","v":""},"※太枠の中をご記入ください",null,"会社名",{"$f":"IF(【時計】入力欄!C$3=\"\",\"\",【時計】入力欄!C$3)","v":""}]
[]
["番号","ブランド","素材","詳細・特徴","重量","付属品","指値\n（3万円以上）","発句"]
["１",{"$f":"IF(【時計】入力欄!E396=\"\",\"\",【時計】入力欄!E396)","v":""},{"$f":"IF(【時計】入力欄!F396=\"\",\"\",【時計】入力欄!F396)","v":""},{"$f":"CONCATENATE(IF(【時計】入力欄!G396=\"\",\"\",【時計】入力欄!G396&\" \"),IF(【時計】入力欄!H396=\"\",\"\",【時計】入力欄!H396&\" \"),IF(【時計】入力欄!I396=\"\",\"\",【時計】入力欄!I396&\" \"),IF(【時計】入力欄!J396=\"\",\"\",【時計】入力欄!J396&\" \"))","v":""},{"$f":"IF(【時計】入力欄!K396=\"\",\"\",【時計】入力欄!K396&\"g\")","v":""},{"$f":"IF(【時計】入力欄!L396=\"\",\"\",【時計】入力欄!L396)","v":""},{"$f":"IF(【時計】入力欄!O396=\"\",\"\",【時計】入力欄!O396)","v":""}]
["２",{"$f":"IF(【時計】入力欄!E397=\"\",\"\",【時計】入力欄!E397)","v":""},{"$f":"IF(【時計】入力欄!F397=\"\",\"\",【時計】入力欄!F397)","v":""},{"$f":"CONCATENATE(IF(【時計】入力欄!G397=\"\",\"\",【時計】入力欄!G397&\" \"),IF(【時計】入力欄!H397=\"\",\"\",【時計】入力欄!H397&\" \"),IF(【時計】入力欄!I397=\"\",\"\",【時計】入力欄!I397&\" \"),IF(【時計】入力欄!J397=\"\",\"\",【時計】入力欄!J397&\" \"))","v":""},{"$f":"IF(【時計】入力欄!K397=\"\",\"\",【時計】入力欄!K397&\"g\")","v":""},{"$f":"IF(【時計】入力欄!L397=\"\",\"\",【時計】入力欄!L397)","v":""},{"$f":"IF(【時計】入力欄!O397=\"\",\"\",【時計】入力欄!O397)","v":""}]
["３",{"$f":"IF(【時計】入力欄!E398=\"\",\"\",【時計】入力欄!E398)","v":""},{"$f":"IF(【時計】入力欄!F398=\"\",\"\",【時計】入力欄!F398)","v":""},{"$f":"CONCATENATE(IF(【時計】入力欄!G398=\"\",\"\",【時計】入力欄!G398&\" \"),IF(【時計】入力欄!H398=\"\",\"\",【時計】入力欄!H398&\" \"),IF(【時計】入力欄!I398=\"\",\"\",【時計】入力欄!I398&\" \"),IF(【時計】入力欄!J398=\"\",\"\",【時計】入力欄!J398&\" \"))","v":""},{"$f":"IF(【時計】入力欄!K398=\"\",\"\",【時計】入力欄!K398&\"g\")","v":""},{"$f":"IF(【時計】入力欄!L398=\"\",\"\",【時計】入力欄!L398)","v":""},{"$f":"IF(【時計】入力欄!O398=\"\",\"\",【時計】入力欄!O398)","v":""}]
["４",{"$f":"IF(【時計】入力欄!E399=\"\",\"\",【時計】入力欄!E399)","v":""},{"$f":"IF(【時計】入力欄!F399=\"\",\"\",【時計】入力欄!F399)","v":""},{"$f":"CONCATENATE(IF(【時計】入力欄!G399=\"\",\"\",【時計】入力欄!G399&\" \"),IF(【時計】入力欄!H399=\"\",\"\",【時計】入力欄!H399&\" \"),IF(【時計】入力欄!I399=\"\",\"\",【時計】入力欄!I399&\" \"),IF(【時計】入力欄!J399=\"\",\"\",【時計】入力欄!J399&\" \"))","v":""},{"$f":"IF(【時計】入力欄!K399=\"\",\"\",【時計】入力欄!K399&\"g\")","v":""},{"$f":"IF(【時計】入力欄!L399=\"\",\"\",【時計】入力欄!L399)","v":""},{"$f":"IF(【時計】入力欄!O399=\"\",\"\",【時計】入力欄!O399)","v":""}]
["５",{"$f":"IF(【時計】入力欄!E400=\"\",\"\",【時計】入力欄!E400)","v":""},{"$f":"IF(【時計】入力欄!F400=\"\",\"\",【時計】入力欄!F400)","v":""},{"$f":"CONCATENATE(IF(【時計】入力欄!G400=\"\",\"\",【時計】入力欄!G400&\" \"),IF(【時計】入力欄!H400=\"\",\"\",【時計】入力欄!H400&\" \"),IF(【時計】入力欄!I400=\"\",\"\",【時計】入力欄!I400&\" \"),IF(【時計】入力欄!J400=\"\",\"\",【時計】入力欄!J400&\" \"))","v":""},{"$f":"IF(【時計】入力欄!K400=\"\",\"\",【時計】入力欄!K400&\"g\")","v":""},{"$f":"IF(【時計】入力欄!L400=\"\",\"\",【時計】入力欄!L400)","v":""},{"$f":"IF(【時計】入力欄!O400=\"\",\"\",【時計】入力欄!O400)","v":""}]
["６",{"$f":"IF(【時計】入力欄!E401=\"\",\"\",【時計】入力欄!E401)","v":""},{"$f":"IF(【時計】入力欄!F401=\"\",\"\",【時計】入力欄!F401)","v":""},{"$f":"CONCATENATE(IF(【時計】入力欄!G401=\"\",\"\",【時計】入力欄!G401&\" \"),IF(【時計】入力欄!H401=\"\",\"\",【時計】入力欄!H401&\" \"),IF(【時計】入力欄!I401=\"\",\"\",【時計】入力欄!I401&\" \"),IF(【時計】入力欄!J401=\"\",\"\",【時計】入力欄!J401&\" \"))","v":""},{"$f":"IF(【時計】入力欄!K401=\"\",\"\",【時計】入力欄!K401&\"g\")","v":""},{"$f":"IF(【時計】入力欄!L401=\"\",\"\",【時計】入力欄!L401)","v":""},{"$f":"IF(【時計】入力欄!O401=\"\",\"\",【時計】入力欄!O401)","v":""}]
["７",{"$f":"IF(【時計】入力欄!E402=\"\",\"\",【時計】入力欄!E402)","v":""},{"$f":"IF(【時計】入力欄!F402=\"\",\"\",【時計】入力欄!F402)","v":""},{"$f":"CONCATENATE(IF(【時計】入力欄!G402=\"\",\"\",【時計】入力欄!G402&\" \"),IF(【時計】入力欄!H402=\"\",\"\",【時計】入力欄!H402&\" \"),IF(【時計】入力欄!I402=\"\",\"\",【時計】入力欄!I402&\" \"),IF(【時計】入力欄!J402=\"\",\"\",【時計】入力欄!J402&\" \"))","v":""},{"$f":"IF(【時計】入力欄!K402=\"\",\"\",【時計】入力欄!K402&\"g\")","v":""},{"$f":"IF(【時計】入力欄!L402=\"\",\"\",【時計】入力欄!L402)","v":""},{"$f":"IF(【時計】入力欄!O402=\"\",\"\",【時計】入力欄!O402)","v":""}]
["８",{"$f":"IF(【時計】入力欄!E403=\"\",\"\",【時計】入力欄!E403)","v":""},{"$f":"IF(【時計】入力欄!F403=\"\",\"\",【時計】入力欄!F403)","v":""},{"$f":"CONCATENATE(IF(【時計】入力欄!G403=\"\",\"\",【時計】入力欄!G403&\" \"),IF(【時計】入力欄!H403=\"\",\"\",【時計】入力欄!H403&\" \"),IF(【時計】入力欄!I403=\"\",\"\",【時計】入力欄!I403&\" \"),IF(【時計】入力欄!J403=\"\",\"\",【時計】入力欄!J403&\" \"))","v":""},{"$f":"IF(【時計】入力欄!K403=\"\",\"\",【時計】入力欄!K403&\"g\")","v":""},{"$f":"IF(【時計】入力欄!L403=\"\",\"\",【時計】入力欄!L403)","v":""},{"$f":"IF(【時計】入力欄!O403=\"\",\"\",【時計】入力欄!O403)","v":""}]
["９",{"$f":"IF(【時計】入力欄!E404=\"\",\"\",【時計】入力欄!E404)","v":""},{"$f":"IF(【時計】入力欄!F404=\"\",\"\",【時計】入力欄!F404)","v":""},{"$f":"CONCATENATE(IF(【時計】入力欄!G404=\"\",\"\",【時計】入力欄!G404&\" \"),IF(【時計】入力欄!H404=\"\",\"\",【時計】入力欄!H404&\" \"),IF(【時計】入力欄!I404=\"\",\"\",【時計】入力欄!I404&\" \"),IF(【時計】入力欄!J404=\"\",\"\",【時計】入力欄!J404&\" \"))","v":""},{"$f":"IF(【時計】入力欄!K404=\"\",\"\",【時計】入力欄!K404&\"g\")","v":""},{"$f":"IF(【時計】入力欄!L404=\"\",\"\",【時計】入力欄!L404)","v":""},{"$f":"IF(【時計】入力欄!O404=\"\",\"\",【時計】入力欄!O404)","v":""}]
["１０",{"$f":"IF(【時計】入力欄!E405=\"\",\"\",【時計】入力欄!E405)","v":""},{"$f":"IF(【時計】入力欄!F405=\"\",\"\",【時計】入力欄!F405)","v":""},{"$f":"CONCATENATE(IF(【時計】入力欄!G405=\"\",\"\",【時計】入力欄!G405&\" \"),IF(【時計】入力欄!H405=\"\",\"\",【時計】入力欄!H405&\" \"),IF(【時計】入力欄!I405=\"\",\"\",【時計】入力欄!I405&\" \"),IF(【時計】入力欄!J405=\"\",\"\",【時計】入力欄!J405&\" \"))","v":""},{"$f":"IF(【時計】入力欄!K405=\"\",\"\",【時計】入力欄!K405&\"g\")","v":""},{"$f":"IF(【時計】入力欄!L405=\"\",\"\",【時計】入力欄!L405)","v":""},{"$f":"IF(【時計】入力欄!O405=\"\",\"\",【時計】入力欄!O405)","v":""}]
[]
[" ",{"$f":"CONCATENATE(\"出品表　（　\",【時計】入力欄!I$3,\"APREオークション　時計）\")","v":"出品表　（　APREオークション　時計）"}]
[]
[null,"箱番：",{"$f":"IF(【時計】入力欄!C406=\"\",\"\",【時計】入力欄!C406)","v":""},"※太枠の中をご記入ください",null,"会社名",{"$f":"IF(【時計】入力欄!C$3=\"\",\"\",【時計】入力欄!C$3)","v":""}]
[]
["番号","ブランド","素材","詳細・特徴","重量","付属品","指値\n（3万円以上）","発句"]
["１",{"$f":"IF(【時計】入力欄!E406=\"\",\"\",【時計】入力欄!E406)","v":""},{"$f":"IF(【時計】入力欄!F406=\"\",\"\",【時計】入力欄!F406)","v":""},{"$f":"CONCATENATE(IF(【時計】入力欄!G406=\"\",\"\",【時計】入力欄!G406&\" \"),IF(【時計】入力欄!H406=\"\",\"\",【時計】入力欄!H406&\" \"),IF(【時計】入力欄!I406=\"\",\"\",【時計】入力欄!I406&\" \"),IF(【時計】入力欄!J406=\"\",\"\",【時計】入力欄!J406&\" \"))","v":""},{"$f":"IF(【時計】入力欄!K406=\"\",\"\",【時計】入力欄!K406&\"g\")","v":""},{"$f":"IF(【時計】入力欄!L406=\"\",\"\",【時計】入力欄!L406)","v":""},{"$f":"IF(【時計】入力欄!O406=\"\",\"\",【時計】入力欄!O406)","v":""}]
["２",{"$f":"IF(【時計】入力欄!E407=\"\",\"\",【時計】入力欄!E407)","v":""},{"$f":"IF(【時計】入力欄!F407=\"\",\"\",【時計】入力欄!F407)","v":""},{"$f":"CONCATENATE(IF(【時計】入力欄!G407=\"\",\"\",【時計】入力欄!G407&\" \"),IF(【時計】入力欄!H407=\"\",\"\",【時計】入力欄!H407&\" \"),IF(【時計】入力欄!I407=\"\",\"\",【時計】入力欄!I407&\" \"),IF(【時計】入力欄!J407=\"\",\"\",【時計】入力欄!J407&\" \"))","v":""},{"$f":"IF(【時計】入力欄!K407=\"\",\"\",【時計】入力欄!K407&\"g\")","v":""},{"$f":"IF(【時計】入力欄!L407=\"\",\"\",【時計】入力欄!L407)","v":""},{"$f":"IF(【時計】入力欄!O407=\"\",\"\",【時計】入力欄!O407)","v":""}]
["３",{"$f":"IF(【時計】入力欄!E408=\"\",\"\",【時計】入力欄!E408)","v":""},{"$f":"IF(【時計】入力欄!F408=\"\",\"\",【時計】入力欄!F408)","v":""},{"$f":"CONCATENATE(IF(【時計】入力欄!G408=\"\",\"\",【時計】入力欄!G408&\" \"),IF(【時計】入力欄!H408=\"\",\"\",【時計】入力欄!H408&\" \"),IF(【時計】入力欄!I408=\"\",\"\",【時計】入力欄!I408&\" \"),IF(【時計】入力欄!J408=\"\",\"\",【時計】入力欄!J408&\" \"))","v":""},{"$f":"IF(【時計】入力欄!K408=\"\",\"\",【時計】入力欄!K408&\"g\")","v":""},{"$f":"IF(【時計】入力欄!L408=\"\",\"\",【時計】入力欄!L408)","v":""},{"$f":"IF(【時計】入力欄!O408=\"\",\"\",【時計】入力欄!O408)","v":""}]
["４",{"$f":"IF(【時計】入力欄!E409=\"\",\"\",【時計】入力欄!E409)","v":""},{"$f":"IF(【時計】入力欄!F409=\"\",\"\",【時計】入力欄!F409)","v":""},{"$f":"CONCATENATE(IF(【時計】入力欄!G409=\"\",\"\",【時計】入力欄!G409&\" \"),IF(【時計】入力欄!H409=\"\",\"\",【時計】入力欄!H409&\" \"),IF(【時計】入力欄!I409=\"\",\"\",【時計】入力欄!I409&\" \"),IF(【時計】入力欄!J409=\"\",\"\",【時計】入力欄!J409&\" \"))","v":""},{"$f":"IF(【時計】入力欄!K409=\"\",\"\",【時計】入力欄!K409&\"g\")","v":""},{"$f":"IF(【時計】入力欄!L409=\"\",\"\",【時計】入力欄!L409)","v":""},{"$f":"IF(【時計】入力欄!O409=\"\",\"\",【時計】入力欄!O409)","v":""}]
["５",{"$f":"IF(【時計】入力欄!E410=\"\",\"\",【時計】入力欄!E410)","v":""},{"$f":"IF(【時計】入力欄!F410=\"\",\"\",【時計】入力欄!F410)","v":""},{"$f":"CONCATENATE(IF(【時計】入力欄!G410=\"\",\"\",【時計】入力欄!G410&\" \"),IF(【時計】入力欄!H410=\"\",\"\",【時計】入力欄!H410&\" \"),IF(【時計】入力欄!I410=\"\",\"\",【時計】入力欄!I410&\" \"),IF(【時計】入力欄!J410=\"\",\"\",【時計】入力欄!J410&\" \"))","v":""},{"$f":"IF(【時計】入力欄!K410=\"\",\"\",【時計】入力欄!K410&\"g\")","v":""},{"$f":"IF(【時計】入力欄!L410=\"\",\"\",【時計】入力欄!L410)","v":""},{"$f":"IF(【時計】入力欄!O410=\"\",\"\",【時計】入力欄!O410)","v":""}]
["６",{"$f":"IF(【時計】入力欄!E411=\"\",\"\",【時計】入力欄!E411)","v":""},{"$f":"IF(【時計】入力欄!F411=\"\",\"\",【時計】入力欄!F411)","v":""},{"$f":"CONCATENATE(IF(【時計】入力欄!G411=\"\",\"\",【時計】入力欄!G411&\" \"),IF(【時計】入力欄!H411=\"\",\"\",【時計】入力欄!H411&\" \"),IF(【時計】入力欄!I411=\"\",\"\",【時計】入力欄!I411&\" \"),IF(【時計】入力欄!J411=\"\",\"\",【時計】入力欄!J411&\" \"))","v":""},{"$f":"IF(【時計】入力欄!K411=\"\",\"\",【時計】入力欄!K411&\"g\")","v":""},{"$f":"IF(【時計】入力欄!L411=\"\",\"\",【時計】入力欄!L411)","v":""},{"$f":"IF(【時計】入力欄!O411=\"\",\"\",【時計】入力欄!O411)","v":""}]
["７",{"$f":"IF(【時計】入力欄!E412=\"\",\"\",【時計】入力欄!E412)","v":""},{"$f":"IF(【時計】入力欄!F412=\"\",\"\",【時計】入力欄!F412)","v":""},{"$f":"CONCATENATE(IF(【時計】入力欄!G412=\"\",\"\",【時計】入力欄!G412&\" \"),IF(【時計】入力欄!H412=\"\",\"\",【時計】入力欄!H412&\" \"),IF(【時計】入力欄!I412=\"\",\"\",【時計】入力欄!I412&\" \"),IF(【時計】入力欄!J412=\"\",\"\",【時計】入力欄!J412&\" \"))","v":""},{"$f":"IF(【時計】入力欄!K412=\"\",\"\",【時計】入力欄!K412&\"g\")","v":""},{"$f":"IF(【時計】入力欄!L412=\"\",\"\",【時計】入力欄!L412)","v":""},{"$f":"IF(【時計】入力欄!O412=\"\",\"\",【時計】入力欄!O412)","v":""}]
["８",{"$f":"IF(【時計】入力欄!E413=\"\",\"\",【時計】入力欄!E413)","v":""},{"$f":"IF(【時計】入力欄!F413=\"\",\"\",【時計】入力欄!F413)","v":""},{"$f":"CONCATENATE(IF(【時計】入力欄!G413=\"\",\"\",【時計】入力欄!G413&\" \"),IF(【時計】入力欄!H413=\"\",\"\",【時計】入力欄!H413&\" \"),IF(【時計】入力欄!I413=\"\",\"\",【時計】入力欄!I413&\" \"),IF(【時計】入力欄!J413=\"\",\"\",【時計】入力欄!J413&\" \"))","v":""},{"$f":"IF(【時計】入力欄!K413=\"\",\"\",【時計】入力欄!K413&\"g\")","v":""},{"$f":"IF(【時計】入力欄!L413=\"\",\"\",【時計】入力欄!L413)","v":""},{"$f":"IF(【時計】入力欄!O413=\"\",\"\",【時計】入力欄!O413)","v":""}]
["９",{"$f":"IF(【時計】入力欄!E414=\"\",\"\",【時計】入力欄!E414)","v":""},{"$f":"IF(【時計】入力欄!F414=\"\",\"\",【時計】入力欄!F414)","v":""},{"$f":"CONCATENATE(IF(【時計】入力欄!G414=\"\",\"\",【時計】入力欄!G414&\" \"),IF(【時計】入力欄!H414=\"\",\"\",【時計】入力欄!H414&\" \"),IF(【時計】入力欄!I414=\"\",\"\",【時計】入力欄!I414&\" \"),IF(【時計】入力欄!J414=\"\",\"\",【時計】入力欄!J414&\" \"))","v":""},{"$f":"IF(【時計】入力欄!K414=\"\",\"\",【時計】入力欄!K414&\"g\")","v":""},{"$f":"IF(【時計】入力欄!L414=\"\",\"\",【時計】入力欄!L414)","v":""},{"$f":"IF(【時計】入力欄!O414=\"\",\"\",【時計】入力欄!O414)","v":""}]
["１０",{"$f":"IF(【時計】入力欄!E415=\"\",\"\",【時計】入力欄!E415)","v":""},{"$f":"IF(【時計】入力欄!F415=\"\",\"\",【時計】入力欄!F415)","v":""},{"$f":"CONCATENATE(IF(【時計】入力欄!G415=\"\",\"\",【時計】入力欄!G415&\" \"),IF(【時計】入力欄!H415=\"\",\"\",【時計】入力欄!H415&\" \"),IF(【時計】入力欄!I415=\"\",\"\",【時計】入力欄!I415&\" \"),IF(【時計】入力欄!J415=\"\",\"\",【時計】入力欄!J415&\" \"))","v":""},{"$f":"IF(【時計】入力欄!K415=\"\",\"\",【時計】入力欄!K415&\"g\")","v":""},{"$f":"IF(【時計】入力欄!L415=\"\",\"\",【時計】入力欄!L415)","v":""},{"$f":"IF(【時計】入力欄!O415=\"\",\"\",【時計】入力欄!O415)","v":""}]
[]
[" ",{"$f":"CONCATENATE(\"出品表　（　\",【時計】入力欄!I$3,\"大吉オークション　時計）\")","v":"出品表　（　大吉オークション　時計）"}]
[]
[null,"箱番：",{"$f":"IF(【時計】入力欄!C416=\"\",\"\",【時計】入力欄!C416)","v":""},"※太枠の中をご記入ください",null,"会社名",{"$f":"IF(【時計】入力欄!C$3=\"\",\"\",【時計】入力欄!C$3)","v":""}]
[]
["番号","ブランド","素材","詳細・特徴","重量","付属品","指値\n（3万円以上）","発句"]
["１",{"$f":"IF(【時計】入力欄!E416=\"\",\"\",【時計】入力欄!E416)","v":""},{"$f":"IF(【時計】入力欄!F416=\"\",\"\",【時計】入力欄!F416)","v":""},{"$f":"CONCATENATE(IF(【時計】入力欄!G416=\"\",\"\",【時計】入力欄!G416&\" \"),IF(【時計】入力欄!H416=\"\",\"\",【時計】入力欄!H416&\" \"),IF(【時計】入力欄!I416=\"\",\"\",【時計】入力欄!I416&\" \"),IF(【時計】入力欄!J416=\"\",\"\",【時計】入力欄!J416&\" \"))","v":""},{"$f":"IF(【時計】入力欄!K416=\"\",\"\",【時計】入力欄!K416&\"g\")","v":""},{"$f":"IF(【時計】入力欄!L416=\"\",\"\",【時計】入力欄!L416)","v":""},{"$f":"IF(【時計】入力欄!O416=\"\",\"\",【時計】入力欄!O416)","v":""}]
["２",{"$f":"IF(【時計】入力欄!E417=\"\",\"\",【時計】入力欄!E417)","v":""},{"$f":"IF(【時計】入力欄!F417=\"\",\"\",【時計】入力欄!F417)","v":""},{"$f":"CONCATENATE(IF(【時計】入力欄!G417=\"\",\"\",【時計】入力欄!G417&\" \"),IF(【時計】入力欄!H417=\"\",\"\",【時計】入力欄!H417&\" \"),IF(【時計】入力欄!I417=\"\",\"\",【時計】入力欄!I417&\" \"),IF(【時計】入力欄!J417=\"\",\"\",【時計】入力欄!J417&\" \"))","v":""},{"$f":"IF(【時計】入力欄!K417=\"\",\"\",【時計】入力欄!K417&\"g\")","v":""},{"$f":"IF(【時計】入力欄!L417=\"\",\"\",【時計】入力欄!L417)","v":""},{"$f":"IF(【時計】入力欄!O417=\"\",\"\",【時計】入力欄!O417)","v":""}]
["３",{"$f":"IF(【時計】入力欄!E418=\"\",\"\",【時計】入力欄!E418)","v":""},{"$f":"IF(【時計】入力欄!F418=\"\",\"\",【時計】入力欄!F418)","v":""},{"$f":"CONCATENATE(IF(【時計】入力欄!G418=\"\",\"\",【時計】入力欄!G418&\" \"),IF(【時計】入力欄!H418=\"\",\"\",【時計】入力欄!H418&\" \"),IF(【時計】入力欄!I418=\"\",\"\",【時計】入力欄!I418&\" \"),IF(【時計】入力欄!J418=\"\",\"\",【時計】入力欄!J418&\" \"))","v":""},{"$f":"IF(【時計】入力欄!K418=\"\",\"\",【時計】入力欄!K418&\"g\")","v":""},{"$f":"IF(【時計】入力欄!L418=\"\",\"\",【時計】入力欄!L418)","v":""},{"$f":"IF(【時計】入力欄!O418=\"\",\"\",【時計】入力欄!O418)","v":""}]
["４",{"$f":"IF(【時計】入力欄!E419=\"\",\"\",【時計】入力欄!E419)","v":""},{"$f":"IF(【時計】入力欄!F419=\"\",\"\",【時計】入力欄!F419)","v":""},{"$f":"CONCATENATE(IF(【時計】入力欄!G419=\"\",\"\",【時計】入力欄!G419&\" \"),IF(【時計】入力欄!H419=\"\",\"\",【時計】入力欄!H419&\" \"),IF(【時計】入力欄!I419=\"\",\"\",【時計】入力欄!I419&\" \"),IF(【時計】入力欄!J419=\"\",\"\",【時計】入力欄!J419&\" \"))","v":""},{"$f":"IF(【時計】入力欄!K419=\"\",\"\",【時計】入力欄!K419&\"g\")","v":""},{"$f":"IF(【時計】入力欄!L419=\"\",\"\",【時計】入力欄!L419)","v":""},{"$f":"IF(【時計】入力欄!O419=\"\",\"\",【時計】入力欄!O419)","v":""}]
["５",{"$f":"IF(【時計】入力欄!E420=\"\",\"\",【時計】入力欄!E420)","v":""},{"$f":"IF(【時計】入力欄!F420=\"\",\"\",【時計】入力欄!F420)","v":""},{"$f":"CONCATENATE(IF(【時計】入力欄!G420=\"\",\"\",【時計】入力欄!G420&\" \"),IF(【時計】入力欄!H420=\"\",\"\",【時計】入力欄!H420&\" \"),IF(【時計】入力欄!I420=\"\",\"\",【時計】入力欄!I420&\" \"),IF(【時計】入力欄!J420=\"\",\"\",【時計】入力欄!J420&\" \"))","v":""},{"$f":"IF(【時計】入力欄!K420=\"\",\"\",【時計】入力欄!K420&\"g\")","v":""},{"$f":"IF(【時計】入力欄!L420=\"\",\"\",【時計】入力欄!L420)","v":""},{"$f":"IF(【時計】入力欄!O420=\"\",\"\",【時計】入力欄!O420)","v":""}]
["６",{"$f":"IF(【時計】入力欄!E421=\"\",\"\",【時計】入力欄!E421)","v":""},{"$f":"IF(【時計】入力欄!F421=\"\",\"\",【時計】入力欄!F421)","v":""},{"$f":"CONCATENATE(IF(【時計】入力欄!G421=\"\",\"\",【時計】入力欄!G421&\" \"),IF(【時計】入力欄!H421=\"\",\"\",【時計】入力欄!H421&\" \"),IF(【時計】入力欄!I421=\"\",\"\",【時計】入力欄!I421&\" \"),IF(【時計】入力欄!J421=\"\",\"\",【時計】入力欄!J421&\" \"))","v":""},{"$f":"IF(【時計】入力欄!K421=\"\",\"\",【時計】入力欄!K421&\"g\")","v":""},{"$f":"IF(【時計】入力欄!L421=\"\",\"\",【時計】入力欄!L421)","v":""},{"$f":"IF(【時計】入力欄!O421=\"\",\"\",【時計】入力欄!O421)","v":""}]
["７",{"$f":"IF(【時計】入力欄!E422=\"\",\"\",【時計】入力欄!E422)","v":""},{"$f":"IF(【時計】入力欄!F422=\"\",\"\",【時計】入力欄!F422)","v":""},{"$f":"CONCATENATE(IF(【時計】入力欄!G422=\"\",\"\",【時計】入力欄!G422&\" \"),IF(【時計】入力欄!H422=\"\",\"\",【時計】入力欄!H422&\" \"),IF(【時計】入力欄!I422=\"\",\"\",【時計】入力欄!I422&\" \"),IF(【時計】入力欄!J422=\"\",\"\",【時計】入力欄!J422&\" \"))","v":""},{"$f":"IF(【時計】入力欄!K422=\"\",\"\",【時計】入力欄!K422&\"g\")","v":""},{"$f":"IF(【時計】入力欄!L422=\"\",\"\",【時計】入力欄!L422)","v":""},{"$f":"IF(【時計】入力欄!O422=\"\",\"\",【時計】入力欄!O422)","v":""}]
["８",{"$f":"IF(【時計】入力欄!E423=\"\",\"\",【時計】入力欄!E423)","v":""},{"$f":"IF(【時計】入力欄!F423=\"\",\"\",【時計】入力欄!F423)","v":""},{"$f":"CONCATENATE(IF(【時計】入力欄!G423=\"\",\"\",【時計】入力欄!G423&\" \"),IF(【時計】入力欄!H423=\"\",\"\",【時計】入力欄!H423&\" \"),IF(【時計】入力欄!I423=\"\",\"\",【時計】入力欄!I423&\" \"),IF(【時計】入力欄!J423=\"\",\"\",【時計】入力欄!J423&\" \"))","v":""},{"$f":"IF(【時計】入力欄!K423=\"\",\"\",【時計】入力欄!K423&\"g\")","v":""},{"$f":"IF(【時計】入力欄!L423=\"\",\"\",【時計】入力欄!L423)","v":""},{"$f":"IF(【時計】入力欄!O423=\"\",\"\",【時計】入力欄!O423)","v":""}]
["９",{"$f":"IF(【時計】入力欄!E424=\"\",\"\",【時計】入力欄!E424)","v":""},{"$f":"IF(【時計】入力欄!F424=\"\",\"\",【時計】入力欄!F424)","v":""},{"$f":"CONCATENATE(IF(【時計】入力欄!G424=\"\",\"\",【時計】入力欄!G424&\" \"),IF(【時計】入力欄!H424=\"\",\"\",【時計】入力欄!H424&\" \"),IF(【時計】入力欄!I424=\"\",\"\",【時計】入力欄!I424&\" \"),IF(【時計】入力欄!J424=\"\",\"\",【時計】入力欄!J424&\" \"))","v":""},{"$f":"IF(【時計】入力欄!K424=\"\",\"\",【時計】入力欄!K424&\"g\")","v":""},{"$f":"IF(【時計】入力欄!L424=\"\",\"\",【時計】入力欄!L424)","v":""},{"$f":"IF(【時計】入力欄!O424=\"\",\"\",【時計】入力欄!O424)","v":""}]
["１０",{"$f":"IF(【時計】入力欄!E425=\"\",\"\",【時計】入力欄!E425)","v":""},{"$f":"IF(【時計】入力欄!F425=\"\",\"\",【時計】入力欄!F425)","v":""},{"$f":"CONCATENATE(IF(【時計】入力欄!G425=\"\",\"\",【時計】入力欄!G425&\" \"),IF(【時計】入力欄!H425=\"\",\"\",【時計】入力欄!H425&\" \"),IF(【時計】入力欄!I425=\"\",\"\",【時計】入力欄!I425&\" \"),IF(【時計】入力欄!J425=\"\",\"\",【時計】入力欄!J425&\" \"))","v":""},{"$f":"IF(【時計】入力欄!K425=\"\",\"\",【時計】入力欄!K425&\"g\")","v":""},{"$f":"IF(【時計】入力欄!L425=\"\",\"\",【時計】入力欄!L425)","v":""},{"$f":"IF(【時計】入力欄!O425=\"\",\"\",【時計】入力欄!O425)","v":""}]
[]
[" ",{"$f":"CONCATENATE(\"出品表　（　\",【時計】入力欄!I$3,\"大吉オークション　時計）\")","v":"出品表　（　大吉オークション　時計）"}]
[]
[null,"箱番：",{"$f":"IF(【時計】入力欄!C426=\"\",\"\",【時計】入力欄!C426)","v":""},"※太枠の中をご記入ください",null,"会社名",{"$f":"IF(【時計】入力欄!C$3=\"\",\"\",【時計】入力欄!C$3)","v":""}]
[]
["番号","ブランド","素材","詳細・特徴","重量","付属品","指値\n（3万円以上）","発句"]
["１",{"$f":"IF(【時計】入力欄!E426=\"\",\"\",【時計】入力欄!E426)","v":""},{"$f":"IF(【時計】入力欄!F426=\"\",\"\",【時計】入力欄!F426)","v":""},{"$f":"CONCATENATE(IF(【時計】入力欄!G426=\"\",\"\",【時計】入力欄!G426&\" \"),IF(【時計】入力欄!H426=\"\",\"\",【時計】入力欄!H426&\" \"),IF(【時計】入力欄!I426=\"\",\"\",【時計】入力欄!I426&\" \"),IF(【時計】入力欄!J426=\"\",\"\",【時計】入力欄!J426&\" \"))","v":""},{"$f":"IF(【時計】入力欄!K426=\"\",\"\",【時計】入力欄!K426&\"g\")","v":""},{"$f":"IF(【時計】入力欄!L426=\"\",\"\",【時計】入力欄!L426)","v":""},{"$f":"IF(【時計】入力欄!O426=\"\",\"\",【時計】入力欄!O426)","v":""}]
["２",{"$f":"IF(【時計】入力欄!E427=\"\",\"\",【時計】入力欄!E427)","v":""},{"$f":"IF(【時計】入力欄!F427=\"\",\"\",【時計】入力欄!F427)","v":""},{"$f":"CONCATENATE(IF(【時計】入力欄!G427=\"\",\"\",【時計】入力欄!G427&\" \"),IF(【時計】入力欄!H427=\"\",\"\",【時計】入力欄!H427&\" \"),IF(【時計】入力欄!I427=\"\",\"\",【時計】入力欄!I427&\" \"),IF(【時計】入力欄!J427=\"\",\"\",【時計】入力欄!J427&\" \"))","v":""},{"$f":"IF(【時計】入力欄!K427=\"\",\"\",【時計】入力欄!K427&\"g\")","v":""},{"$f":"IF(【時計】入力欄!L427=\"\",\"\",【時計】入力欄!L427)","v":""},{"$f":"IF(【時計】入力欄!O427=\"\",\"\",【時計】入力欄!O427)","v":""}]
["３",{"$f":"IF(【時計】入力欄!E428=\"\",\"\",【時計】入力欄!E428)","v":""},{"$f":"IF(【時計】入力欄!F428=\"\",\"\",【時計】入力欄!F428)","v":""},{"$f":"CONCATENATE(IF(【時計】入力欄!G428=\"\",\"\",【時計】入力欄!G428&\" \"),IF(【時計】入力欄!H428=\"\",\"\",【時計】入力欄!H428&\" \"),IF(【時計】入力欄!I428=\"\",\"\",【時計】入力欄!I428&\" \"),IF(【時計】入力欄!J428=\"\",\"\",【時計】入力欄!J428&\" \"))","v":""},{"$f":"IF(【時計】入力欄!K428=\"\",\"\",【時計】入力欄!K428&\"g\")","v":""},{"$f":"IF(【時計】入力欄!L428=\"\",\"\",【時計】入力欄!L428)","v":""},{"$f":"IF(【時計】入力欄!O428=\"\",\"\",【時計】入力欄!O428)","v":""}]
["４",{"$f":"IF(【時計】入力欄!E429=\"\",\"\",【時計】入力欄!E429)","v":""},{"$f":"IF(【時計】入力欄!F429=\"\",\"\",【時計】入力欄!F429)","v":""},{"$f":"CONCATENATE(IF(【時計】入力欄!G429=\"\",\"\",【時計】入力欄!G429&\" \"),IF(【時計】入力欄!H429=\"\",\"\",【時計】入力欄!H429&\" \"),IF(【時計】入力欄!I429=\"\",\"\",【時計】入力欄!I429&\" \"),IF(【時計】入力欄!J429=\"\",\"\",【時計】入力欄!J429&\" \"))","v":""},{"$f":"IF(【時計】入力欄!K429=\"\",\"\",【時計】入力欄!K429&\"g\")","v":""},{"$f":"IF(【時計】入力欄!L429=\"\",\"\",【時計】入力欄!L429)","v":""},{"$f":"IF(【時計】入力欄!O429=\"\",\"\",【時計】入力欄!O429)","v":""}]
["５",{"$f":"IF(【時計】入力欄!E430=\"\",\"\",【時計】入力欄!E430)","v":""},{"$f":"IF(【時計】入力欄!F430=\"\",\"\",【時計】入力欄!F430)","v":""},{"$f":"CONCATENATE(IF(【時計】入力欄!G430=\"\",\"\",【時計】入力欄!G430&\" \"),IF(【時計】入力欄!H430=\"\",\"\",【時計】入力欄!H430&\" \"),IF(【時計】入力欄!I430=\"\",\"\",【時計】入力欄!I430&\" \"),IF(【時計】入力欄!J430=\"\",\"\",【時計】入力欄!J430&\" \"))","v":""},{"$f":"IF(【時計】入力欄!K430=\"\",\"\",【時計】入力欄!K430&\"g\")","v":""},{"$f":"IF(【時計】入力欄!L430=\"\",\"\",【時計】入力欄!L430)","v":""},{"$f":"IF(【時計】入力欄!O430=\"\",\"\",【時計】入力欄!O430)","v":""}]
["６",{"$f":"IF(【時計】入力欄!E431=\"\",\"\",【時計】入力欄!E431)","v":""},{"$f":"IF(【時計】入力欄!F431=\"\",\"\",【時計】入力欄!F431)","v":""},{"$f":"CONCATENATE(IF(【時計】入力欄!G431=\"\",\"\",【時計】入力欄!G431&\" \"),IF(【時計】入力欄!H431=\"\",\"\",【時計】入力欄!H431&\" \"),IF(【時計】入力欄!I431=\"\",\"\",【時計】入力欄!I431&\" \"),IF(【時計】入力欄!J431=\"\",\"\",【時計】入力欄!J431&\" \"))","v":""},{"$f":"IF(【時計】入力欄!K431=\"\",\"\",【時計】入力欄!K431&\"g\")","v":""},{"$f":"IF(【時計】入力欄!L431=\"\",\"\",【時計】入力欄!L431)","v":""},{"$f":"IF(【時計】入力欄!O431=\"\",\"\",【時計】入力欄!O431)","v":""}]
["７",{"$f":"IF(【時計】入力欄!E432=\"\",\"\",【時計】入力欄!E432)","v":""},{"$f":"IF(【時計】入力欄!F432=\"\",\"\",【時計】入力欄!F432)","v":""},{"$f":"CONCATENATE(IF(【時計】入力欄!G432=\"\",\"\",【時計】入力欄!G432&\" \"),IF(【時計】入力欄!H432=\"\",\"\",【時計】入力欄!H432&\" \"),IF(【時計】入力欄!I432=\"\",\"\",【時計】入力欄!I432&\" \"),IF(【時計】入力欄!J432=\"\",\"\",【時計】入力欄!J432&\" \"))","v":""},{"$f":"IF(【時計】入力欄!K432=\"\",\"\",【時計】入力欄!K432&\"g\")","v":""},{"$f":"IF(【時計】入力欄!L432=\"\",\"\",【時計】入力欄!L432)","v":""},{"$f":"IF(【時計】入力欄!O432=\"\",\"\",【時計】入力欄!O432)","v":""}]
["８",{"$f":"IF(【時計】入力欄!E433=\"\",\"\",【時計】入力欄!E433)","v":""},{"$f":"IF(【時計】入力欄!F433=\"\",\"\",【時計】入力欄!F433)","v":""},{"$f":"CONCATENATE(IF(【時計】入力欄!G433=\"\",\"\",【時計】入力欄!G433&\" \"),IF(【時計】入力欄!H433=\"\",\"\",【時計】入力欄!H433&\" \"),IF(【時計】入力欄!I433=\"\",\"\",【時計】入力欄!I433&\" \"),IF(【時計】入力欄!J433=\"\",\"\",【時計】入力欄!J433&\" \"))","v":""},{"$f":"IF(【時計】入力欄!K433=\"\",\"\",【時計】入力欄!K433&\"g\")","v":""},{"$f":"IF(【時計】入力欄!L433=\"\",\"\",【時計】入力欄!L433)","v":""},{"$f":"IF(【時計】入力欄!O433=\"\",\"\",【時計】入力欄!O433)","v":""}]
["９",{"$f":"IF(【時計】入力欄!E434=\"\",\"\",【時計】入力欄!E434)","v":""},{"$f":"IF(【時計】入力欄!F434=\"\",\"\",【時計】入力欄!F434)","v":""},{"$f":"CONCATENATE(IF(【時計】入力欄!G434=\"\",\"\",【時計】入力欄!G434&\" \"),IF(【時計】入力欄!H434=\"\",\"\",【時計】入力欄!H434&\" \"),IF(【時計】入力欄!I434=\"\",\"\",【時計】入力欄!I434&\" \"),IF(【時計】入力欄!J434=\"\",\"\",【時計】入力欄!J434&\" \"))","v":""},{"$f":"IF(【時計】入力欄!K434=\"\",\"\",【時計】入力欄!K434&\"g\")","v":""},{"$f":"IF(【時計】入力欄!L434=\"\",\"\",【時計】入力欄!L434)","v":""},{"$f":"IF(【時計】入力欄!O434=\"\",\"\",【時計】入力欄!O434)","v":""}]
["１０",{"$f":"IF(【時計】入力欄!E435=\"\",\"\",【時計】入力欄!E435)","v":""},{"$f":"IF(【時計】入力欄!F435=\"\",\"\",【時計】入力欄!F435)","v":""},{"$f":"CONCATENATE(IF(【時計】入力欄!G435=\"\",\"\",【時計】入力欄!G435&\" \"),IF(【時計】入力欄!H435=\"\",\"\",【時計】入力欄!H435&\" \"),IF(【時計】入力欄!I435=\"\",\"\",【時計】入力欄!I435&\" \"),IF(【時計】入力欄!J435=\"\",\"\",【時計】入力欄!J435&\" \"))","v":""},{"$f":"IF(【時計】入力欄!K435=\"\",\"\",【時計】入力欄!K435&\"g\")","v":""},{"$f":"IF(【時計】入力欄!L435=\"\",\"\",【時計】入力欄!L435)","v":""},{"$f":"IF(【時計】入力欄!O435=\"\",\"\",【時計】入力欄!O435)","v":""}]
[]
[" ",{"$f":"CONCATENATE(\"出品表　（　\",【時計】入力欄!I$3,\"大吉オークション　時計）\")","v":"出品表　（　大吉オークション　時計）"}]
[]
[null,"箱番：",{"$f":"IF(【時計】入力欄!C436=\"\",\"\",【時計】入力欄!C436)","v":""},"※太枠の中をご記入ください",null,"会社名",{"$f":"IF(【時計】入力欄!C$3=\"\",\"\",【時計】入力欄!C$3)","v":""}]
[]
["番号","ブランド","素材","詳細・特徴","重量","付属品","指値\n（3万円以上）","発句"]
["１",{"$f":"IF(【時計】入力欄!E436=\"\",\"\",【時計】入力欄!E436)","v":""},{"$f":"IF(【時計】入力欄!F436=\"\",\"\",【時計】入力欄!F436)","v":""},{"$f":"CONCATENATE(IF(【時計】入力欄!G436=\"\",\"\",【時計】入力欄!G436&\" \"),IF(【時計】入力欄!H436=\"\",\"\",【時計】入力欄!H436&\" \"),IF(【時計】入力欄!I436=\"\",\"\",【時計】入力欄!I436&\" \"),IF(【時計】入力欄!J436=\"\",\"\",【時計】入力欄!J436&\" \"))","v":""},{"$f":"IF(【時計】入力欄!K436=\"\",\"\",【時計】入力欄!K436&\"g\")","v":""},{"$f":"IF(【時計】入力欄!L436=\"\",\"\",【時計】入力欄!L436)","v":""},{"$f":"IF(【時計】入力欄!O436=\"\",\"\",【時計】入力欄!O436)","v":""}]
["２",{"$f":"IF(【時計】入力欄!E437=\"\",\"\",【時計】入力欄!E437)","v":""},{"$f":"IF(【時計】入力欄!F437=\"\",\"\",【時計】入力欄!F437)","v":""},{"$f":"CONCATENATE(IF(【時計】入力欄!G437=\"\",\"\",【時計】入力欄!G437&\" \"),IF(【時計】入力欄!H437=\"\",\"\",【時計】入力欄!H437&\" \"),IF(【時計】入力欄!I437=\"\",\"\",【時計】入力欄!I437&\" \"),IF(【時計】入力欄!J437=\"\",\"\",【時計】入力欄!J437&\" \"))","v":""},{"$f":"IF(【時計】入力欄!K437=\"\",\"\",【時計】入力欄!K437&\"g\")","v":""},{"$f":"IF(【時計】入力欄!L437=\"\",\"\",【時計】入力欄!L437)","v":""},{"$f":"IF(【時計】入力欄!O437=\"\",\"\",【時計】入力欄!O437)","v":""}]
["３",{"$f":"IF(【時計】入力欄!E438=\"\",\"\",【時計】入力欄!E438)","v":""},{"$f":"IF(【時計】入力欄!F438=\"\",\"\",【時計】入力欄!F438)","v":""},{"$f":"CONCATENATE(IF(【時計】入力欄!G438=\"\",\"\",【時計】入力欄!G438&\" \"),IF(【時計】入力欄!H438=\"\",\"\",【時計】入力欄!H438&\" \"),IF(【時計】入力欄!I438=\"\",\"\",【時計】入力欄!I438&\" \"),IF(【時計】入力欄!J438=\"\",\"\",【時計】入力欄!J438&\" \"))","v":""},{"$f":"IF(【時計】入力欄!K438=\"\",\"\",【時計】入力欄!K438&\"g\")","v":""},{"$f":"IF(【時計】入力欄!L438=\"\",\"\",【時計】入力欄!L438)","v":""},{"$f":"IF(【時計】入力欄!O438=\"\",\"\",【時計】入力欄!O438)","v":""}]
["４",{"$f":"IF(【時計】入力欄!E439=\"\",\"\",【時計】入力欄!E439)","v":""},{"$f":"IF(【時計】入力欄!F439=\"\",\"\",【時計】入力欄!F439)","v":""},{"$f":"CONCATENATE(IF(【時計】入力欄!G439=\"\",\"\",【時計】入力欄!G439&\" \"),IF(【時計】入力欄!H439=\"\",\"\",【時計】入力欄!H439&\" \"),IF(【時計】入力欄!I439=\"\",\"\",【時計】入力欄!I439&\" \"),IF(【時計】入力欄!J439=\"\",\"\",【時計】入力欄!J439&\" \"))","v":""},{"$f":"IF(【時計】入力欄!K439=\"\",\"\",【時計】入力欄!K439&\"g\")","v":""},{"$f":"IF(【時計】入力欄!L439=\"\",\"\",【時計】入力欄!L439)","v":""},{"$f":"IF(【時計】入力欄!O439=\"\",\"\",【時計】入力欄!O439)","v":""}]
["５",{"$f":"IF(【時計】入力欄!E440=\"\",\"\",【時計】入力欄!E440)","v":""},{"$f":"IF(【時計】入力欄!F440=\"\",\"\",【時計】入力欄!F440)","v":""},{"$f":"CONCATENATE(IF(【時計】入力欄!G440=\"\",\"\",【時計】入力欄!G440&\" \"),IF(【時計】入力欄!H440=\"\",\"\",【時計】入力欄!H440&\" \"),IF(【時計】入力欄!I440=\"\",\"\",【時計】入力欄!I440&\" \"),IF(【時計】入力欄!J440=\"\",\"\",【時計】入力欄!J440&\" \"))","v":""},{"$f":"IF(【時計】入力欄!K440=\"\",\"\",【時計】入力欄!K440&\"g\")","v":""},{"$f":"IF(【時計】入力欄!L440=\"\",\"\",【時計】入力欄!L440)","v":""},{"$f":"IF(【時計】入力欄!O440=\"\",\"\",【時計】入力欄!O440)","v":""}]
["６",{"$f":"IF(【時計】入力欄!E441=\"\",\"\",【時計】入力欄!E441)","v":""},{"$f":"IF(【時計】入力欄!F441=\"\",\"\",【時計】入力欄!F441)","v":""},{"$f":"CONCATENATE(IF(【時計】入力欄!G441=\"\",\"\",【時計】入力欄!G441&\" \"),IF(【時計】入力欄!H441=\"\",\"\",【時計】入力欄!H441&\" \"),IF(【時計】入力欄!I441=\"\",\"\",【時計】入力欄!I441&\" \"),IF(【時計】入力欄!J441=\"\",\"\",【時計】入力欄!J441&\" \"))","v":""},{"$f":"IF(【時計】入力欄!K441=\"\",\"\",【時計】入力欄!K441&\"g\")","v":""},{"$f":"IF(【時計】入力欄!L441=\"\",\"\",【時計】入力欄!L441)","v":""},{"$f":"IF(【時計】入力欄!O441=\"\",\"\",【時計】入力欄!O441)","v":""}]
["７",{"$f":"IF(【時計】入力欄!E442=\"\",\"\",【時計】入力欄!E442)","v":""},{"$f":"IF(【時計】入力欄!F442=\"\",\"\",【時計】入力欄!F442)","v":""},{"$f":"CONCATENATE(IF(【時計】入力欄!G442=\"\",\"\",【時計】入力欄!G442&\" \"),IF(【時計】入力欄!H442=\"\",\"\",【時計】入力欄!H442&\" \"),IF(【時計】入力欄!I442=\"\",\"\",【時計】入力欄!I442&\" \"),IF(【時計】入力欄!J442=\"\",\"\",【時計】入力欄!J442&\" \"))","v":""},{"$f":"IF(【時計】入力欄!K442=\"\",\"\",【時計】入力欄!K442&\"g\")","v":""},{"$f":"IF(【時計】入力欄!L442=\"\",\"\",【時計】入力欄!L442)","v":""},{"$f":"IF(【時計】入力欄!O442=\"\",\"\",【時計】入力欄!O442)","v":""}]
["８",{"$f":"IF(【時計】入力欄!E443=\"\",\"\",【時計】入力欄!E443)","v":""},{"$f":"IF(【時計】入力欄!F443=\"\",\"\",【時計】入力欄!F443)","v":""},{"$f":"CONCATENATE(IF(【時計】入力欄!G443=\"\",\"\",【時計】入力欄!G443&\" \"),IF(【時計】入力欄!H443=\"\",\"\",【時計】入力欄!H443&\" \"),IF(【時計】入力欄!I443=\"\",\"\",【時計】入力欄!I443&\" \"),IF(【時計】入力欄!J443=\"\",\"\",【時計】入力欄!J443&\" \"))","v":""},{"$f":"IF(【時計】入力欄!K443=\"\",\"\",【時計】入力欄!K443&\"g\")","v":""},{"$f":"IF(【時計】入力欄!L443=\"\",\"\",【時計】入力欄!L443)","v":""},{"$f":"IF(【時計】入力欄!O443=\"\",\"\",【時計】入力欄!O443)","v":""}]
["９",{"$f":"IF(【時計】入力欄!E444=\"\",\"\",【時計】入力欄!E444)","v":""},{"$f":"IF(【時計】入力欄!F444=\"\",\"\",【時計】入力欄!F444)","v":""},{"$f":"CONCATENATE(IF(【時計】入力欄!G444=\"\",\"\",【時計】入力欄!G444&\" \"),IF(【時計】入力欄!H444=\"\",\"\",【時計】入力欄!H444&\" \"),IF(【時計】入力欄!I444=\"\",\"\",【時計】入力欄!I444&\" \"),IF(【時計】入力欄!J444=\"\",\"\",【時計】入力欄!J444&\" \"))","v":""},{"$f":"IF(【時計】入力欄!K444=\"\",\"\",【時計】入力欄!K444&\"g\")","v":""},{"$f":"IF(【時計】入力欄!L444=\"\",\"\",【時計】入力欄!L444)","v":""},{"$f":"IF(【時計】入力欄!O444=\"\",\"\",【時計】入力欄!O444)","v":""}]
["１０",{"$f":"IF(【時計】入力欄!E445=\"\",\"\",【時計】入力欄!E445)","v":""},{"$f":"IF(【時計】入力欄!F445=\"\",\"\",【時計】入力欄!F445)","v":""},{"$f":"CONCATENATE(IF(【時計】入力欄!G445=\"\",\"\",【時計】入力欄!G445&\" \"),IF(【時計】入力欄!H445=\"\",\"\",【時計】入力欄!H445&\" \"),IF(【時計】入力欄!I445=\"\",\"\",【時計】入力欄!I445&\" \"),IF(【時計】入力欄!J445=\"\",\"\",【時計】入力欄!J445&\" \"))","v":""},{"$f":"IF(【時計】入力欄!K445=\"\",\"\",【時計】入力欄!K445&\"g\")","v":""},{"$f":"IF(【時計】入力欄!L445=\"\",\"\",【時計】入力欄!L445)","v":""},{"$f":"IF(【時計】入力欄!O445=\"\",\"\",【時計】入力欄!O445)","v":""}]
[]
[" ",{"$f":"CONCATENATE(\"出品表　（　\",【時計】入力欄!I$3,\"大吉オークション　時計）\")","v":"出品表　（　大吉オークション　時計）"}]
[]
[null,"箱番：",{"$f":"IF(【時計】入力欄!C446=\"\",\"\",【時計】入力欄!C446)","v":""},"※太枠の中をご記入ください",null,"会社名",{"$f":"IF(【時計】入力欄!C$3=\"\",\"\",【時計】入力欄!C$3)","v":""}]
[]
["番号","ブランド","素材","詳細・特徴","重量","付属品","指値\n（3万円以上）","発句"]
["１",{"$f":"IF(【時計】入力欄!E446=\"\",\"\",【時計】入力欄!E446)","v":""},{"$f":"IF(【時計】入力欄!F446=\"\",\"\",【時計】入力欄!F446)","v":""},{"$f":"CONCATENATE(IF(【時計】入力欄!G446=\"\",\"\",【時計】入力欄!G446&\" \"),IF(【時計】入力欄!H446=\"\",\"\",【時計】入力欄!H446&\" \"),IF(【時計】入力欄!I446=\"\",\"\",【時計】入力欄!I446&\" \"),IF(【時計】入力欄!J446=\"\",\"\",【時計】入力欄!J446&\" \"))","v":""},{"$f":"IF(【時計】入力欄!K446=\"\",\"\",【時計】入力欄!K446&\"g\")","v":""},{"$f":"IF(【時計】入力欄!L446=\"\",\"\",【時計】入力欄!L446)","v":""},{"$f":"IF(【時計】入力欄!O446=\"\",\"\",【時計】入力欄!O446)","v":""}]
["２",{"$f":"IF(【時計】入力欄!E447=\"\",\"\",【時計】入力欄!E447)","v":""},{"$f":"IF(【時計】入力欄!F447=\"\",\"\",【時計】入力欄!F447)","v":""},{"$f":"CONCATENATE(IF(【時計】入力欄!G447=\"\",\"\",【時計】入力欄!G447&\" \"),IF(【時計】入力欄!H447=\"\",\"\",【時計】入力欄!H447&\" \"),IF(【時計】入力欄!I447=\"\",\"\",【時計】入力欄!I447&\" \"),IF(【時計】入力欄!J447=\"\",\"\",【時計】入力欄!J447&\" \"))","v":""},{"$f":"IF(【時計】入力欄!K447=\"\",\"\",【時計】入力欄!K447&\"g\")","v":""},{"$f":"IF(【時計】入力欄!L447=\"\",\"\",【時計】入力欄!L447)","v":""},{"$f":"IF(【時計】入力欄!O447=\"\",\"\",【時計】入力欄!O447)","v":""}]
["３",{"$f":"IF(【時計】入力欄!E448=\"\",\"\",【時計】入力欄!E448)","v":""},{"$f":"IF(【時計】入力欄!F448=\"\",\"\",【時計】入力欄!F448)","v":""},{"$f":"CONCATENATE(IF(【時計】入力欄!G448=\"\",\"\",【時計】入力欄!G448&\" \"),IF(【時計】入力欄!H448=\"\",\"\",【時計】入力欄!H448&\" \"),IF(【時計】入力欄!I448=\"\",\"\",【時計】入力欄!I448&\" \"),IF(【時計】入力欄!J448=\"\",\"\",【時計】入力欄!J448&\" \"))","v":""},{"$f":"IF(【時計】入力欄!K448=\"\",\"\",【時計】入力欄!K448&\"g\")","v":""},{"$f":"IF(【時計】入力欄!L448=\"\",\"\",【時計】入力欄!L448)","v":""},{"$f":"IF(【時計】入力欄!O448=\"\",\"\",【時計】入力欄!O448)","v":""}]
["４",{"$f":"IF(【時計】入力欄!E449=\"\",\"\",【時計】入力欄!E449)","v":""},{"$f":"IF(【時計】入力欄!F449=\"\",\"\",【時計】入力欄!F449)","v":""},{"$f":"CONCATENATE(IF(【時計】入力欄!G449=\"\",\"\",【時計】入力欄!G449&\" \"),IF(【時計】入力欄!H449=\"\",\"\",【時計】入力欄!H449&\" \"),IF(【時計】入力欄!I449=\"\",\"\",【時計】入力欄!I449&\" \"),IF(【時計】入力欄!J449=\"\",\"\",【時計】入力欄!J449&\" \"))","v":""},{"$f":"IF(【時計】入力欄!K449=\"\",\"\",【時計】入力欄!K449&\"g\")","v":""},{"$f":"IF(【時計】入力欄!L449=\"\",\"\",【時計】入力欄!L449)","v":""},{"$f":"IF(【時計】入力欄!O449=\"\",\"\",【時計】入力欄!O449)","v":""}]
["５",{"$f":"IF(【時計】入力欄!E450=\"\",\"\",【時計】入力欄!E450)","v":""},{"$f":"IF(【時計】入力欄!F450=\"\",\"\",【時計】入力欄!F450)","v":""},{"$f":"CONCATENATE(IF(【時計】入力欄!G450=\"\",\"\",【時計】入力欄!G450&\" \"),IF(【時計】入力欄!H450=\"\",\"\",【時計】入力欄!H450&\" \"),IF(【時計】入力欄!I450=\"\",\"\",【時計】入力欄!I450&\" \"),IF(【時計】入力欄!J450=\"\",\"\",【時計】入力欄!J450&\" \"))","v":""},{"$f":"IF(【時計】入力欄!K450=\"\",\"\",【時計】入力欄!K450&\"g\")","v":""},{"$f":"IF(【時計】入力欄!L450=\"\",\"\",【時計】入力欄!L450)","v":""},{"$f":"IF(【時計】入力欄!O450=\"\",\"\",【時計】入力欄!O450)","v":""}]
["６",{"$f":"IF(【時計】入力欄!E451=\"\",\"\",【時計】入力欄!E451)","v":""},{"$f":"IF(【時計】入力欄!F451=\"\",\"\",【時計】入力欄!F451)","v":""},{"$f":"CONCATENATE(IF(【時計】入力欄!G451=\"\",\"\",【時計】入力欄!G451&\" \"),IF(【時計】入力欄!H451=\"\",\"\",【時計】入力欄!H451&\" \"),IF(【時計】入力欄!I451=\"\",\"\",【時計】入力欄!I451&\" \"),IF(【時計】入力欄!J451=\"\",\"\",【時計】入力欄!J451&\" \"))","v":""},{"$f":"IF(【時計】入力欄!K451=\"\",\"\",【時計】入力欄!K451&\"g\")","v":""},{"$f":"IF(【時計】入力欄!L451=\"\",\"\",【時計】入力欄!L451)","v":""},{"$f":"IF(【時計】入力欄!O451=\"\",\"\",【時計】入力欄!O451)","v":""}]
["７",{"$f":"IF(【時計】入力欄!E452=\"\",\"\",【時計】入力欄!E452)","v":""},{"$f":"IF(【時計】入力欄!F452=\"\",\"\",【時計】入力欄!F452)","v":""},{"$f":"CONCATENATE(IF(【時計】入力欄!G452=\"\",\"\",【時計】入力欄!G452&\" \"),IF(【時計】入力欄!H452=\"\",\"\",【時計】入力欄!H452&\" \"),IF(【時計】入力欄!I452=\"\",\"\",【時計】入力欄!I452&\" \"),IF(【時計】入力欄!J452=\"\",\"\",【時計】入力欄!J452&\" \"))","v":""},{"$f":"IF(【時計】入力欄!K452=\"\",\"\",【時計】入力欄!K452&\"g\")","v":""},{"$f":"IF(【時計】入力欄!L452=\"\",\"\",【時計】入力欄!L452)","v":""},{"$f":"IF(【時計】入力欄!O452=\"\",\"\",【時計】入力欄!O452)","v":""}]
["８",{"$f":"IF(【時計】入力欄!E453=\"\",\"\",【時計】入力欄!E453)","v":""},{"$f":"IF(【時計】入力欄!F453=\"\",\"\",【時計】入力欄!F453)","v":""},{"$f":"CONCATENATE(IF(【時計】入力欄!G453=\"\",\"\",【時計】入力欄!G453&\" \"),IF(【時計】入力欄!H453=\"\",\"\",【時計】入力欄!H453&\" \"),IF(【時計】入力欄!I453=\"\",\"\",【時計】入力欄!I453&\" \"),IF(【時計】入力欄!J453=\"\",\"\",【時計】入力欄!J453&\" \"))","v":""},{"$f":"IF(【時計】入力欄!K453=\"\",\"\",【時計】入力欄!K453&\"g\")","v":""},{"$f":"IF(【時計】入力欄!L453=\"\",\"\",【時計】入力欄!L453)","v":""},{"$f":"IF(【時計】入力欄!O453=\"\",\"\",【時計】入力欄!O453)","v":""}]
["９",{"$f":"IF(【時計】入力欄!E454=\"\",\"\",【時計】入力欄!E454)","v":""},{"$f":"IF(【時計】入力欄!F454=\"\",\"\",【時計】入力欄!F454)","v":""},{"$f":"CONCATENATE(IF(【時計】入力欄!G454=\"\",\"\",【時計】入力欄!G454&\" \"),IF(【時計】入力欄!H454=\"\",\"\",【時計】入力欄!H454&\" \"),IF(【時計】入力欄!I454=\"\",\"\",【時計】入力欄!I454&\" \"),IF(【時計】入力欄!J454=\"\",\"\",【時計】入力欄!J454&\" \"))","v":""},{"$f":"IF(【時計】入力欄!K454=\"\",\"\",【時計】入力欄!K454&\"g\")","v":""},{"$f":"IF(【時計】入力欄!L454=\"\",\"\",【時計】入力欄!L454)","v":""},{"$f":"IF(【時計】入力欄!O454=\"\",\"\",【時計】入力欄!O454)","v":""}]
["１０",{"$f":"IF(【時計】入力欄!E455=\"\",\"\",【時計】入力欄!E455)","v":""},{"$f":"IF(【時計】入力欄!F455=\"\",\"\",【時計】入力欄!F455)","v":""},{"$f":"CONCATENATE(IF(【時計】入力欄!G455=\"\",\"\",【時計】入力欄!G455&\" \"),IF(【時計】入力欄!H455=\"\",\"\",【時計】入力欄!H455&\" \"),IF(【時計】入力欄!I455=\"\",\"\",【時計】入力欄!I455&\" \"),IF(【時計】入力欄!J455=\"\",\"\",【時計】入力欄!J455&\" \"))","v":""},{"$f":"IF(【時計】入力欄!K455=\"\",\"\",【時計】入力欄!K455&\"g\")","v":""},{"$f":"IF(【時計】入力欄!L455=\"\",\"\",【時計】入力欄!L455)","v":""},{"$f":"IF(【時計】入力欄!O455=\"\",\"\",【時計】入力欄!O455)","v":""}]
[]
[" ",{"$f":"CONCATENATE(\"出品表　（　\",【時計】入力欄!I$3,\"大吉オークション　時計）\")","v":"出品表　（　大吉オークション　時計）"}]
[]
[null,"箱番：",{"$f":"IF(【時計】入力欄!C456=\"\",\"\",【時計】入力欄!C456)","v":""},"※太枠の中をご記入ください",null,"会社名",{"$f":"IF(【時計】入力欄!C$3=\"\",\"\",【時計】入力欄!C$3)","v":""}]
[]
["番号","ブランド","素材","詳細・特徴","重量","付属品","指値\n（3万円以上）","発句"]
["１",{"$f":"IF(【時計】入力欄!E456=\"\",\"\",【時計】入力欄!E456)","v":""},{"$f":"IF(【時計】入力欄!F456=\"\",\"\",【時計】入力欄!F456)","v":""},{"$f":"CONCATENATE(IF(【時計】入力欄!G456=\"\",\"\",【時計】入力欄!G456&\" \"),IF(【時計】入力欄!H456=\"\",\"\",【時計】入力欄!H456&\" \"),IF(【時計】入力欄!I456=\"\",\"\",【時計】入力欄!I456&\" \"),IF(【時計】入力欄!J456=\"\",\"\",【時計】入力欄!J456&\" \"))","v":""},{"$f":"IF(【時計】入力欄!K456=\"\",\"\",【時計】入力欄!K456&\"g\")","v":""},{"$f":"IF(【時計】入力欄!L456=\"\",\"\",【時計】入力欄!L456)","v":""},{"$f":"IF(【時計】入力欄!O456=\"\",\"\",【時計】入力欄!O456)","v":""}]
["２",{"$f":"IF(【時計】入力欄!E457=\"\",\"\",【時計】入力欄!E457)","v":""},{"$f":"IF(【時計】入力欄!F457=\"\",\"\",【時計】入力欄!F457)","v":""},{"$f":"CONCATENATE(IF(【時計】入力欄!G457=\"\",\"\",【時計】入力欄!G457&\" \"),IF(【時計】入力欄!H457=\"\",\"\",【時計】入力欄!H457&\" \"),IF(【時計】入力欄!I457=\"\",\"\",【時計】入力欄!I457&\" \"),IF(【時計】入力欄!J457=\"\",\"\",【時計】入力欄!J457&\" \"))","v":""},{"$f":"IF(【時計】入力欄!K457=\"\",\"\",【時計】入力欄!K457&\"g\")","v":""},{"$f":"IF(【時計】入力欄!L457=\"\",\"\",【時計】入力欄!L457)","v":""},{"$f":"IF(【時計】入力欄!O457=\"\",\"\",【時計】入力欄!O457)","v":""}]
["３",{"$f":"IF(【時計】入力欄!E458=\"\",\"\",【時計】入力欄!E458)","v":""},{"$f":"IF(【時計】入力欄!F458=\"\",\"\",【時計】入力欄!F458)","v":""},{"$f":"CONCATENATE(IF(【時計】入力欄!G458=\"\",\"\",【時計】入力欄!G458&\" \"),IF(【時計】入力欄!H458=\"\",\"\",【時計】入力欄!H458&\" \"),IF(【時計】入力欄!I458=\"\",\"\",【時計】入力欄!I458&\" \"),IF(【時計】入力欄!J458=\"\",\"\",【時計】入力欄!J458&\" \"))","v":""},{"$f":"IF(【時計】入力欄!K458=\"\",\"\",【時計】入力欄!K458&\"g\")","v":""},{"$f":"IF(【時計】入力欄!L458=\"\",\"\",【時計】入力欄!L458)","v":""},{"$f":"IF(【時計】入力欄!O458=\"\",\"\",【時計】入力欄!O458)","v":""}]
["４",{"$f":"IF(【時計】入力欄!E459=\"\",\"\",【時計】入力欄!E459)","v":""},{"$f":"IF(【時計】入力欄!F459=\"\",\"\",【時計】入力欄!F459)","v":""},{"$f":"CONCATENATE(IF(【時計】入力欄!G459=\"\",\"\",【時計】入力欄!G459&\" \"),IF(【時計】入力欄!H459=\"\",\"\",【時計】入力欄!H459&\" \"),IF(【時計】入力欄!I459=\"\",\"\",【時計】入力欄!I459&\" \"),IF(【時計】入力欄!J459=\"\",\"\",【時計】入力欄!J459&\" \"))","v":""},{"$f":"IF(【時計】入力欄!K459=\"\",\"\",【時計】入力欄!K459&\"g\")","v":""},{"$f":"IF(【時計】入力欄!L459=\"\",\"\",【時計】入力欄!L459)","v":""},{"$f":"IF(【時計】入力欄!O459=\"\",\"\",【時計】入力欄!O459)","v":""}]
["５",{"$f":"IF(【時計】入力欄!E460=\"\",\"\",【時計】入力欄!E460)","v":""},{"$f":"IF(【時計】入力欄!F460=\"\",\"\",【時計】入力欄!F460)","v":""},{"$f":"CONCATENATE(IF(【時計】入力欄!G460=\"\",\"\",【時計】入力欄!G460&\" \"),IF(【時計】入力欄!H460=\"\",\"\",【時計】入力欄!H460&\" \"),IF(【時計】入力欄!I460=\"\",\"\",【時計】入力欄!I460&\" \"),IF(【時計】入力欄!J460=\"\",\"\",【時計】入力欄!J460&\" \"))","v":""},{"$f":"IF(【時計】入力欄!K460=\"\",\"\",【時計】入力欄!K460&\"g\")","v":""},{"$f":"IF(【時計】入力欄!L460=\"\",\"\",【時計】入力欄!L460)","v":""},{"$f":"IF(【時計】入力欄!O460=\"\",\"\",【時計】入力欄!O460)","v":""}]
["６",{"$f":"IF(【時計】入力欄!E461=\"\",\"\",【時計】入力欄!E461)","v":""},{"$f":"IF(【時計】入力欄!F461=\"\",\"\",【時計】入力欄!F461)","v":""},{"$f":"CONCATENATE(IF(【時計】入力欄!G461=\"\",\"\",【時計】入力欄!G461&\" \"),IF(【時計】入力欄!H461=\"\",\"\",【時計】入力欄!H461&\" \"),IF(【時計】入力欄!I461=\"\",\"\",【時計】入力欄!I461&\" \"),IF(【時計】入力欄!J461=\"\",\"\",【時計】入力欄!J461&\" \"))","v":""},{"$f":"IF(【時計】入力欄!K461=\"\",\"\",【時計】入力欄!K461&\"g\")","v":""},{"$f":"IF(【時計】入力欄!L461=\"\",\"\",【時計】入力欄!L461)","v":""},{"$f":"IF(【時計】入力欄!O461=\"\",\"\",【時計】入力欄!O461)","v":""}]
["７",{"$f":"IF(【時計】入力欄!E462=\"\",\"\",【時計】入力欄!E462)","v":""},{"$f":"IF(【時計】入力欄!F462=\"\",\"\",【時計】入力欄!F462)","v":""},{"$f":"CONCATENATE(IF(【時計】入力欄!G462=\"\",\"\",【時計】入力欄!G462&\" \"),IF(【時計】入力欄!H462=\"\",\"\",【時計】入力欄!H462&\" \"),IF(【時計】入力欄!I462=\"\",\"\",【時計】入力欄!I462&\" \"),IF(【時計】入力欄!J462=\"\",\"\",【時計】入力欄!J462&\" \"))","v":""},{"$f":"IF(【時計】入力欄!K462=\"\",\"\",【時計】入力欄!K462&\"g\")","v":""},{"$f":"IF(【時計】入力欄!L462=\"\",\"\",【時計】入力欄!L462)","v":""},{"$f":"IF(【時計】入力欄!O462=\"\",\"\",【時計】入力欄!O462)","v":""}]
["８",{"$f":"IF(【時計】入力欄!E463=\"\",\"\",【時計】入力欄!E463)","v":""},{"$f":"IF(【時計】入力欄!F463=\"\",\"\",【時計】入力欄!F463)","v":""},{"$f":"CONCATENATE(IF(【時計】入力欄!G463=\"\",\"\",【時計】入力欄!G463&\" \"),IF(【時計】入力欄!H463=\"\",\"\",【時計】入力欄!H463&\" \"),IF(【時計】入力欄!I463=\"\",\"\",【時計】入力欄!I463&\" \"),IF(【時計】入力欄!J463=\"\",\"\",【時計】入力欄!J463&\" \"))","v":""},{"$f":"IF(【時計】入力欄!K463=\"\",\"\",【時計】入力欄!K463&\"g\")","v":""},{"$f":"IF(【時計】入力欄!L463=\"\",\"\",【時計】入力欄!L463)","v":""},{"$f":"IF(【時計】入力欄!O463=\"\",\"\",【時計】入力欄!O463)","v":""}]
["９",{"$f":"IF(【時計】入力欄!E464=\"\",\"\",【時計】入力欄!E464)","v":""},{"$f":"IF(【時計】入力欄!F464=\"\",\"\",【時計】入力欄!F464)","v":""},{"$f":"CONCATENATE(IF(【時計】入力欄!G464=\"\",\"\",【時計】入力欄!G464&\" \"),IF(【時計】入力欄!H464=\"\",\"\",【時計】入力欄!H464&\" \"),IF(【時計】入力欄!I464=\"\",\"\",【時計】入力欄!I464&\" \"),IF(【時計】入力欄!J464=\"\",\"\",【時計】入力欄!J464&\" \"))","v":""},{"$f":"IF(【時計】入力欄!K464=\"\",\"\",【時計】入力欄!K464&\"g\")","v":""},{"$f":"IF(【時計】入力欄!L464=\"\",\"\",【時計】入力欄!L464)","v":""},{"$f":"IF(【時計】入力欄!O464=\"\",\"\",【時計】入力欄!O464)","v":""}]
["１０",{"$f":"IF(【時計】入力欄!E465=\"\",\"\",【時計】入力欄!E465)","v":""},{"$f":"IF(【時計】入力欄!F465=\"\",\"\",【時計】入力欄!F465)","v":""},{"$f":"CONCATENATE(IF(【時計】入力欄!G465=\"\",\"\",【時計】入力欄!G465&\" \"),IF(【時計】入力欄!H465=\"\",\"\",【時計】入力欄!H465&\" \"),IF(【時計】入力欄!I465=\"\",\"\",【時計】入力欄!I465&\" \"),IF(【時計】入力欄!J465=\"\",\"\",【時計】入力欄!J465&\" \"))","v":""},{"$f":"IF(【時計】入力欄!K465=\"\",\"\",【時計】入力欄!K465&\"g\")","v":""},{"$f":"IF(【時計】入力欄!L465=\"\",\"\",【時計】入力欄!L465)","v":""},{"$f":"IF(【時計】入力欄!O465=\"\",\"\",【時計】入力欄!O465)","v":""}]
[]
[" ",{"$f":"CONCATENATE(\"出品表　（　\",【時計】入力欄!I$3,\"大吉オークション　時計）\")","v":"出品表　（　大吉オークション　時計）"}]
[]
[null,"箱番：",{"$f":"IF(【時計】入力欄!C466=\"\",\"\",【時計】入力欄!C466)","v":""},"※太枠の中をご記入ください",null,"会社名",{"$f":"IF(【時計】入力欄!C$3=\"\",\"\",【時計】入力欄!C$3)","v":""}]
[]
["番号","ブランド","素材","詳細・特徴","重量","付属品","指値\n（3万円以上）","発句"]
["１",{"$f":"IF(【時計】入力欄!E466=\"\",\"\",【時計】入力欄!E466)","v":""},{"$f":"IF(【時計】入力欄!F466=\"\",\"\",【時計】入力欄!F466)","v":""},{"$f":"CONCATENATE(IF(【時計】入力欄!G466=\"\",\"\",【時計】入力欄!G466&\" \"),IF(【時計】入力欄!H466=\"\",\"\",【時計】入力欄!H466&\" \"),IF(【時計】入力欄!I466=\"\",\"\",【時計】入力欄!I466&\" \"),IF(【時計】入力欄!J466=\"\",\"\",【時計】入力欄!J466&\" \"))","v":""},{"$f":"IF(【時計】入力欄!K466=\"\",\"\",【時計】入力欄!K466&\"g\")","v":""},{"$f":"IF(【時計】入力欄!L466=\"\",\"\",【時計】入力欄!L466)","v":""},{"$f":"IF(【時計】入力欄!O466=\"\",\"\",【時計】入力欄!O466)","v":""}]
["２",{"$f":"IF(【時計】入力欄!E467=\"\",\"\",【時計】入力欄!E467)","v":""},{"$f":"IF(【時計】入力欄!F467=\"\",\"\",【時計】入力欄!F467)","v":""},{"$f":"CONCATENATE(IF(【時計】入力欄!G467=\"\",\"\",【時計】入力欄!G467&\" \"),IF(【時計】入力欄!H467=\"\",\"\",【時計】入力欄!H467&\" \"),IF(【時計】入力欄!I467=\"\",\"\",【時計】入力欄!I467&\" \"),IF(【時計】入力欄!J467=\"\",\"\",【時計】入力欄!J467&\" \"))","v":""},{"$f":"IF(【時計】入力欄!K467=\"\",\"\",【時計】入力欄!K467&\"g\")","v":""},{"$f":"IF(【時計】入力欄!L467=\"\",\"\",【時計】入力欄!L467)","v":""},{"$f":"IF(【時計】入力欄!O467=\"\",\"\",【時計】入力欄!O467)","v":""}]
["３",{"$f":"IF(【時計】入力欄!E468=\"\",\"\",【時計】入力欄!E468)","v":""},{"$f":"IF(【時計】入力欄!F468=\"\",\"\",【時計】入力欄!F468)","v":""},{"$f":"CONCATENATE(IF(【時計】入力欄!G468=\"\",\"\",【時計】入力欄!G468&\" \"),IF(【時計】入力欄!H468=\"\",\"\",【時計】入力欄!H468&\" \"),IF(【時計】入力欄!I468=\"\",\"\",【時計】入力欄!I468&\" \"),IF(【時計】入力欄!J468=\"\",\"\",【時計】入力欄!J468&\" \"))","v":""},{"$f":"IF(【時計】入力欄!K468=\"\",\"\",【時計】入力欄!K468&\"g\")","v":""},{"$f":"IF(【時計】入力欄!L468=\"\",\"\",【時計】入力欄!L468)","v":""},{"$f":"IF(【時計】入力欄!O468=\"\",\"\",【時計】入力欄!O468)","v":""}]
["４",{"$f":"IF(【時計】入力欄!E469=\"\",\"\",【時計】入力欄!E469)","v":""},{"$f":"IF(【時計】入力欄!F469=\"\",\"\",【時計】入力欄!F469)","v":""},{"$f":"CONCATENATE(IF(【時計】入力欄!G469=\"\",\"\",【時計】入力欄!G469&\" \"),IF(【時計】入力欄!H469=\"\",\"\",【時計】入力欄!H469&\" \"),IF(【時計】入力欄!I469=\"\",\"\",【時計】入力欄!I469&\" \"),IF(【時計】入力欄!J469=\"\",\"\",【時計】入力欄!J469&\" \"))","v":""},{"$f":"IF(【時計】入力欄!K469=\"\",\"\",【時計】入力欄!K469&\"g\")","v":""},{"$f":"IF(【時計】入力欄!L469=\"\",\"\",【時計】入力欄!L469)","v":""},{"$f":"IF(【時計】入力欄!O469=\"\",\"\",【時計】入力欄!O469)","v":""}]
["５",{"$f":"IF(【時計】入力欄!E470=\"\",\"\",【時計】入力欄!E470)","v":""},{"$f":"IF(【時計】入力欄!F470=\"\",\"\",【時計】入力欄!F470)","v":""},{"$f":"CONCATENATE(IF(【時計】入力欄!G470=\"\",\"\",【時計】入力欄!G470&\" \"),IF(【時計】入力欄!H470=\"\",\"\",【時計】入力欄!H470&\" \"),IF(【時計】入力欄!I470=\"\",\"\",【時計】入力欄!I470&\" \"),IF(【時計】入力欄!J470=\"\",\"\",【時計】入力欄!J470&\" \"))","v":""},{"$f":"IF(【時計】入力欄!K470=\"\",\"\",【時計】入力欄!K470&\"g\")","v":""},{"$f":"IF(【時計】入力欄!L470=\"\",\"\",【時計】入力欄!L470)","v":""},{"$f":"IF(【時計】入力欄!O470=\"\",\"\",【時計】入力欄!O470)","v":""}]
["６",{"$f":"IF(【時計】入力欄!E471=\"\",\"\",【時計】入力欄!E471)","v":""},{"$f":"IF(【時計】入力欄!F471=\"\",\"\",【時計】入力欄!F471)","v":""},{"$f":"CONCATENATE(IF(【時計】入力欄!G471=\"\",\"\",【時計】入力欄!G471&\" \"),IF(【時計】入力欄!H471=\"\",\"\",【時計】入力欄!H471&\" \"),IF(【時計】入力欄!I471=\"\",\"\",【時計】入力欄!I471&\" \"),IF(【時計】入力欄!J471=\"\",\"\",【時計】入力欄!J471&\" \"))","v":""},{"$f":"IF(【時計】入力欄!K471=\"\",\"\",【時計】入力欄!K471&\"g\")","v":""},{"$f":"IF(【時計】入力欄!L471=\"\",\"\",【時計】入力欄!L471)","v":""},{"$f":"IF(【時計】入力欄!O471=\"\",\"\",【時計】入力欄!O471)","v":""}]
["７",{"$f":"IF(【時計】入力欄!E472=\"\",\"\",【時計】入力欄!E472)","v":""},{"$f":"IF(【時計】入力欄!F472=\"\",\"\",【時計】入力欄!F472)","v":""},{"$f":"CONCATENATE(IF(【時計】入力欄!G472=\"\",\"\",【時計】入力欄!G472&\" \"),IF(【時計】入力欄!H472=\"\",\"\",【時計】入力欄!H472&\" \"),IF(【時計】入力欄!I472=\"\",\"\",【時計】入力欄!I472&\" \"),IF(【時計】入力欄!J472=\"\",\"\",【時計】入力欄!J472&\" \"))","v":""},{"$f":"IF(【時計】入力欄!K472=\"\",\"\",【時計】入力欄!K472&\"g\")","v":""},{"$f":"IF(【時計】入力欄!L472=\"\",\"\",【時計】入力欄!L472)","v":""},{"$f":"IF(【時計】入力欄!O472=\"\",\"\",【時計】入力欄!O472)","v":""}]
["８",{"$f":"IF(【時計】入力欄!E473=\"\",\"\",【時計】入力欄!E473)","v":""},{"$f":"IF(【時計】入力欄!F473=\"\",\"\",【時計】入力欄!F473)","v":""},{"$f":"CONCATENATE(IF(【時計】入力欄!G473=\"\",\"\",【時計】入力欄!G473&\" \"),IF(【時計】入力欄!H473=\"\",\"\",【時計】入力欄!H473&\" \"),IF(【時計】入力欄!I473=\"\",\"\",【時計】入力欄!I473&\" \"),IF(【時計】入力欄!J473=\"\",\"\",【時計】入力欄!J473&\" \"))","v":""},{"$f":"IF(【時計】入力欄!K473=\"\",\"\",【時計】入力欄!K473&\"g\")","v":""},{"$f":"IF(【時計】入力欄!L473=\"\",\"\",【時計】入力欄!L473)","v":""},{"$f":"IF(【時計】入力欄!O473=\"\",\"\",【時計】入力欄!O473)","v":""}]
["９",{"$f":"IF(【時計】入力欄!E474=\"\",\"\",【時計】入力欄!E474)","v":""},{"$f":"IF(【時計】入力欄!F474=\"\",\"\",【時計】入力欄!F474)","v":""},{"$f":"CONCATENATE(IF(【時計】入力欄!G474=\"\",\"\",【時計】入力欄!G474&\" \"),IF(【時計】入力欄!H474=\"\",\"\",【時計】入力欄!H474&\" \"),IF(【時計】入力欄!I474=\"\",\"\",【時計】入力欄!I474&\" \"),IF(【時計】入力欄!J474=\"\",\"\",【時計】入力欄!J474&\" \"))","v":""},{"$f":"IF(【時計】入力欄!K474=\"\",\"\",【時計】入力欄!K474&\"g\")","v":""},{"$f":"IF(【時計】入力欄!L474=\"\",\"\",【時計】入力欄!L474)","v":""},{"$f":"IF(【時計】入力欄!O474=\"\",\"\",【時計】入力欄!O474)","v":""}]
["１０",{"$f":"IF(【時計】入力欄!E475=\"\",\"\",【時計】入力欄!E475)","v":""},{"$f":"IF(【時計】入力欄!F475=\"\",\"\",【時計】入力欄!F475)","v":""},{"$f":"CONCATENATE(IF(【時計】入力欄!G475=\"\",\"\",【時計】入力欄!G475&\" \"),IF(【時計】入力欄!H475=\"\",\"\",【時計】入力欄!H475&\" \"),IF(【時計】入力欄!I475=\"\",\"\",【時計】入力欄!I475&\" \"),IF(【時計】入力欄!J475=\"\",\"\",【時計】入力欄!J475&\" \"))","v":""},{"$f":"IF(【時計】入力欄!K475=\"\",\"\",【時計】入力欄!K475&\"g\")","v":""},{"$f":"IF(【時計】入力欄!L475=\"\",\"\",【時計】入力欄!L475)","v":""},{"$f":"IF(【時計】入力欄!O475=\"\",\"\",【時計】入力欄!O475)","v":""}]
[]
[" ",{"$f":"CONCATENATE(\"出品表　（　\",【時計】入力欄!I$3,\"大吉オークション　時計）\")","v":"出品表　（　大吉オークション　時計）"}]
[]
[null,"箱番：",{"$f":"IF(【時計】入力欄!C476=\"\",\"\",【時計】入力欄!C476)","v":""},"※太枠の中をご記入ください",null,"会社名",{"$f":"IF(【時計】入力欄!C$3=\"\",\"\",【時計】入力欄!C$3)","v":""}]
[]
["番号","ブランド","素材","詳細・特徴","重量","付属品","指値\n（3万円以上）","発句"]
["１",{"$f":"IF(【時計】入力欄!E476=\"\",\"\",【時計】入力欄!E476)","v":""},{"$f":"IF(【時計】入力欄!F476=\"\",\"\",【時計】入力欄!F476)","v":""},{"$f":"CONCATENATE(IF(【時計】入力欄!G476=\"\",\"\",【時計】入力欄!G476&\" \"),IF(【時計】入力欄!H476=\"\",\"\",【時計】入力欄!H476&\" \"),IF(【時計】入力欄!I476=\"\",\"\",【時計】入力欄!I476&\" \"),IF(【時計】入力欄!J476=\"\",\"\",【時計】入力欄!J476&\" \"))","v":""},{"$f":"IF(【時計】入力欄!K476=\"\",\"\",【時計】入力欄!K476&\"g\")","v":""},{"$f":"IF(【時計】入力欄!L476=\"\",\"\",【時計】入力欄!L476)","v":""},{"$f":"IF(【時計】入力欄!O476=\"\",\"\",【時計】入力欄!O476)","v":""}]
["２",{"$f":"IF(【時計】入力欄!E477=\"\",\"\",【時計】入力欄!E477)","v":""},{"$f":"IF(【時計】入力欄!F477=\"\",\"\",【時計】入力欄!F477)","v":""},{"$f":"CONCATENATE(IF(【時計】入力欄!G477=\"\",\"\",【時計】入力欄!G477&\" \"),IF(【時計】入力欄!H477=\"\",\"\",【時計】入力欄!H477&\" \"),IF(【時計】入力欄!I477=\"\",\"\",【時計】入力欄!I477&\" \"),IF(【時計】入力欄!J477=\"\",\"\",【時計】入力欄!J477&\" \"))","v":""},{"$f":"IF(【時計】入力欄!K477=\"\",\"\",【時計】入力欄!K477&\"g\")","v":""},{"$f":"IF(【時計】入力欄!L477=\"\",\"\",【時計】入力欄!L477)","v":""},{"$f":"IF(【時計】入力欄!O477=\"\",\"\",【時計】入力欄!O477)","v":""}]
["３",{"$f":"IF(【時計】入力欄!E478=\"\",\"\",【時計】入力欄!E478)","v":""},{"$f":"IF(【時計】入力欄!F478=\"\",\"\",【時計】入力欄!F478)","v":""},{"$f":"CONCATENATE(IF(【時計】入力欄!G478=\"\",\"\",【時計】入力欄!G478&\" \"),IF(【時計】入力欄!H478=\"\",\"\",【時計】入力欄!H478&\" \"),IF(【時計】入力欄!I478=\"\",\"\",【時計】入力欄!I478&\" \"),IF(【時計】入力欄!J478=\"\",\"\",【時計】入力欄!J478&\" \"))","v":""},{"$f":"IF(【時計】入力欄!K478=\"\",\"\",【時計】入力欄!K478&\"g\")","v":""},{"$f":"IF(【時計】入力欄!L478=\"\",\"\",【時計】入力欄!L478)","v":""},{"$f":"IF(【時計】入力欄!O478=\"\",\"\",【時計】入力欄!O478)","v":""}]
["４",{"$f":"IF(【時計】入力欄!E479=\"\",\"\",【時計】入力欄!E479)","v":""},{"$f":"IF(【時計】入力欄!F479=\"\",\"\",【時計】入力欄!F479)","v":""},{"$f":"CONCATENATE(IF(【時計】入力欄!G479=\"\",\"\",【時計】入力欄!G479&\" \"),IF(【時計】入力欄!H479=\"\",\"\",【時計】入力欄!H479&\" \"),IF(【時計】入力欄!I479=\"\",\"\",【時計】入力欄!I479&\" \"),IF(【時計】入力欄!J479=\"\",\"\",【時計】入力欄!J479&\" \"))","v":""},{"$f":"IF(【時計】入力欄!K479=\"\",\"\",【時計】入力欄!K479&\"g\")","v":""},{"$f":"IF(【時計】入力欄!L479=\"\",\"\",【時計】入力欄!L479)","v":""},{"$f":"IF(【時計】入力欄!O479=\"\",\"\",【時計】入力欄!O479)","v":""}]
["５",{"$f":"IF(【時計】入力欄!E480=\"\",\"\",【時計】入力欄!E480)","v":""},{"$f":"IF(【時計】入力欄!F480=\"\",\"\",【時計】入力欄!F480)","v":""},{"$f":"CONCATENATE(IF(【時計】入力欄!G480=\"\",\"\",【時計】入力欄!G480&\" \"),IF(【時計】入力欄!H480=\"\",\"\",【時計】入力欄!H480&\" \"),IF(【時計】入力欄!I480=\"\",\"\",【時計】入力欄!I480&\" \"),IF(【時計】入力欄!J480=\"\",\"\",【時計】入力欄!J480&\" \"))","v":""},{"$f":"IF(【時計】入力欄!K480=\"\",\"\",【時計】入力欄!K480&\"g\")","v":""},{"$f":"IF(【時計】入力欄!L480=\"\",\"\",【時計】入力欄!L480)","v":""},{"$f":"IF(【時計】入力欄!O480=\"\",\"\",【時計】入力欄!O480)","v":""}]
["６",{"$f":"IF(【時計】入力欄!E481=\"\",\"\",【時計】入力欄!E481)","v":""},{"$f":"IF(【時計】入力欄!F481=\"\",\"\",【時計】入力欄!F481)","v":""},{"$f":"CONCATENATE(IF(【時計】入力欄!G481=\"\",\"\",【時計】入力欄!G481&\" \"),IF(【時計】入力欄!H481=\"\",\"\",【時計】入力欄!H481&\" \"),IF(【時計】入力欄!I481=\"\",\"\",【時計】入力欄!I481&\" \"),IF(【時計】入力欄!J481=\"\",\"\",【時計】入力欄!J481&\" \"))","v":""},{"$f":"IF(【時計】入力欄!K481=\"\",\"\",【時計】入力欄!K481&\"g\")","v":""},{"$f":"IF(【時計】入力欄!L481=\"\",\"\",【時計】入力欄!L481)","v":""},{"$f":"IF(【時計】入力欄!O481=\"\",\"\",【時計】入力欄!O481)","v":""}]
["７",{"$f":"IF(【時計】入力欄!E482=\"\",\"\",【時計】入力欄!E482)","v":""},{"$f":"IF(【時計】入力欄!F482=\"\",\"\",【時計】入力欄!F482)","v":""},{"$f":"CONCATENATE(IF(【時計】入力欄!G482=\"\",\"\",【時計】入力欄!G482&\" \"),IF(【時計】入力欄!H482=\"\",\"\",【時計】入力欄!H482&\" \"),IF(【時計】入力欄!I482=\"\",\"\",【時計】入力欄!I482&\" \"),IF(【時計】入力欄!J482=\"\",\"\",【時計】入力欄!J482&\" \"))","v":""},{"$f":"IF(【時計】入力欄!K482=\"\",\"\",【時計】入力欄!K482&\"g\")","v":""},{"$f":"IF(【時計】入力欄!L482=\"\",\"\",【時計】入力欄!L482)","v":""},{"$f":"IF(【時計】入力欄!O482=\"\",\"\",【時計】入力欄!O482)","v":""}]
["８",{"$f":"IF(【時計】入力欄!E483=\"\",\"\",【時計】入力欄!E483)","v":""},{"$f":"IF(【時計】入力欄!F483=\"\",\"\",【時計】入力欄!F483)","v":""},{"$f":"CONCATENATE(IF(【時計】入力欄!G483=\"\",\"\",【時計】入力欄!G483&\" \"),IF(【時計】入力欄!H483=\"\",\"\",【時計】入力欄!H483&\" \"),IF(【時計】入力欄!I483=\"\",\"\",【時計】入力欄!I483&\" \"),IF(【時計】入力欄!J483=\"\",\"\",【時計】入力欄!J483&\" \"))","v":""},{"$f":"IF(【時計】入力欄!K483=\"\",\"\",【時計】入力欄!K483&\"g\")","v":""},{"$f":"IF(【時計】入力欄!L483=\"\",\"\",【時計】入力欄!L483)","v":""},{"$f":"IF(【時計】入力欄!O483=\"\",\"\",【時計】入力欄!O483)","v":""}]
["９",{"$f":"IF(【時計】入力欄!E484=\"\",\"\",【時計】入力欄!E484)","v":""},{"$f":"IF(【時計】入力欄!F484=\"\",\"\",【時計】入力欄!F484)","v":""},{"$f":"CONCATENATE(IF(【時計】入力欄!G484=\"\",\"\",【時計】入力欄!G484&\" \"),IF(【時計】入力欄!H484=\"\",\"\",【時計】入力欄!H484&\" \"),IF(【時計】入力欄!I484=\"\",\"\",【時計】入力欄!I484&\" \"),IF(【時計】入力欄!J484=\"\",\"\",【時計】入力欄!J484&\" \"))","v":""},{"$f":"IF(【時計】入力欄!K484=\"\",\"\",【時計】入力欄!K484&\"g\")","v":""},{"$f":"IF(【時計】入力欄!L484=\"\",\"\",【時計】入力欄!L484)","v":""},{"$f":"IF(【時計】入力欄!O484=\"\",\"\",【時計】入力欄!O484)","v":""}]
["１０",{"$f":"IF(【時計】入力欄!E485=\"\",\"\",【時計】入力欄!E485)","v":""},{"$f":"IF(【時計】入力欄!F485=\"\",\"\",【時計】入力欄!F485)","v":""},{"$f":"CONCATENATE(IF(【時計】入力欄!G485=\"\",\"\",【時計】入力欄!G485&\" \"),IF(【時計】入力欄!H485=\"\",\"\",【時計】入力欄!H485&\" \"),IF(【時計】入力欄!I485=\"\",\"\",【時計】入力欄!I485&\" \"),IF(【時計】入力欄!J485=\"\",\"\",【時計】入力欄!J485&\" \"))","v":""},{"$f":"IF(【時計】入力欄!K485=\"\",\"\",【時計】入力欄!K485&\"g\")","v":""},{"$f":"IF(【時計】入力欄!L485=\"\",\"\",【時計】入力欄!L485)","v":""},{"$f":"IF(【時計】入力欄!O485=\"\",\"\",【時計】入力欄!O485)","v":""}]
[]
[" ",{"$f":"CONCATENATE(\"出品表　（　\",【時計】入力欄!I$3,\"大吉オークション　時計）\")","v":"出品表　（　大吉オークション　時計）"}]
[]
[null,"箱番：",{"$f":"IF(【時計】入力欄!C486=\"\",\"\",【時計】入力欄!C486)","v":""},"※太枠の中をご記入ください",null,"会社名",{"$f":"IF(【時計】入力欄!C$3=\"\",\"\",【時計】入力欄!C$3)","v":""}]
[]
["番号","ブランド","素材","詳細・特徴","重量","付属品","指値\n（3万円以上）","発句"]
["１",{"$f":"IF(【時計】入力欄!E486=\"\",\"\",【時計】入力欄!E486)","v":""},{"$f":"IF(【時計】入力欄!F486=\"\",\"\",【時計】入力欄!F486)","v":""},{"$f":"CONCATENATE(IF(【時計】入力欄!G486=\"\",\"\",【時計】入力欄!G486&\" \"),IF(【時計】入力欄!H486=\"\",\"\",【時計】入力欄!H486&\" \"),IF(【時計】入力欄!I486=\"\",\"\",【時計】入力欄!I486&\" \"),IF(【時計】入力欄!J486=\"\",\"\",【時計】入力欄!J486&\" \"))","v":""},{"$f":"IF(【時計】入力欄!K486=\"\",\"\",【時計】入力欄!K486&\"g\")","v":""},{"$f":"IF(【時計】入力欄!L486=\"\",\"\",【時計】入力欄!L486)","v":""},{"$f":"IF(【時計】入力欄!O486=\"\",\"\",【時計】入力欄!O486)","v":""}]
["２",{"$f":"IF(【時計】入力欄!E487=\"\",\"\",【時計】入力欄!E487)","v":""},{"$f":"IF(【時計】入力欄!F487=\"\",\"\",【時計】入力欄!F487)","v":""},{"$f":"CONCATENATE(IF(【時計】入力欄!G487=\"\",\"\",【時計】入力欄!G487&\" \"),IF(【時計】入力欄!H487=\"\",\"\",【時計】入力欄!H487&\" \"),IF(【時計】入力欄!I487=\"\",\"\",【時計】入力欄!I487&\" \"),IF(【時計】入力欄!J487=\"\",\"\",【時計】入力欄!J487&\" \"))","v":""},{"$f":"IF(【時計】入力欄!K487=\"\",\"\",【時計】入力欄!K487&\"g\")","v":""},{"$f":"IF(【時計】入力欄!L487=\"\",\"\",【時計】入力欄!L487)","v":""},{"$f":"IF(【時計】入力欄!O487=\"\",\"\",【時計】入力欄!O487)","v":""}]
["３",{"$f":"IF(【時計】入力欄!E488=\"\",\"\",【時計】入力欄!E488)","v":""},{"$f":"IF(【時計】入力欄!F488=\"\",\"\",【時計】入力欄!F488)","v":""},{"$f":"CONCATENATE(IF(【時計】入力欄!G488=\"\",\"\",【時計】入力欄!G488&\" \"),IF(【時計】入力欄!H488=\"\",\"\",【時計】入力欄!H488&\" \"),IF(【時計】入力欄!I488=\"\",\"\",【時計】入力欄!I488&\" \"),IF(【時計】入力欄!J488=\"\",\"\",【時計】入力欄!J488&\" \"))","v":""},{"$f":"IF(【時計】入力欄!K488=\"\",\"\",【時計】入力欄!K488&\"g\")","v":""},{"$f":"IF(【時計】入力欄!L488=\"\",\"\",【時計】入力欄!L488)","v":""},{"$f":"IF(【時計】入力欄!O488=\"\",\"\",【時計】入力欄!O488)","v":""}]
["４",{"$f":"IF(【時計】入力欄!E489=\"\",\"\",【時計】入力欄!E489)","v":""},{"$f":"IF(【時計】入力欄!F489=\"\",\"\",【時計】入力欄!F489)","v":""},{"$f":"CONCATENATE(IF(【時計】入力欄!G489=\"\",\"\",【時計】入力欄!G489&\" \"),IF(【時計】入力欄!H489=\"\",\"\",【時計】入力欄!H489&\" \"),IF(【時計】入力欄!I489=\"\",\"\",【時計】入力欄!I489&\" \"),IF(【時計】入力欄!J489=\"\",\"\",【時計】入力欄!J489&\" \"))","v":""},{"$f":"IF(【時計】入力欄!K489=\"\",\"\",【時計】入力欄!K489&\"g\")","v":""},{"$f":"IF(【時計】入力欄!L489=\"\",\"\",【時計】入力欄!L489)","v":""},{"$f":"IF(【時計】入力欄!O489=\"\",\"\",【時計】入力欄!O489)","v":""}]
["５",{"$f":"IF(【時計】入力欄!E490=\"\",\"\",【時計】入力欄!E490)","v":""},{"$f":"IF(【時計】入力欄!F490=\"\",\"\",【時計】入力欄!F490)","v":""},{"$f":"CONCATENATE(IF(【時計】入力欄!G490=\"\",\"\",【時計】入力欄!G490&\" \"),IF(【時計】入力欄!H490=\"\",\"\",【時計】入力欄!H490&\" \"),IF(【時計】入力欄!I490=\"\",\"\",【時計】入力欄!I490&\" \"),IF(【時計】入力欄!J490=\"\",\"\",【時計】入力欄!J490&\" \"))","v":""},{"$f":"IF(【時計】入力欄!K490=\"\",\"\",【時計】入力欄!K490&\"g\")","v":""},{"$f":"IF(【時計】入力欄!L490=\"\",\"\",【時計】入力欄!L490)","v":""},{"$f":"IF(【時計】入力欄!O490=\"\",\"\",【時計】入力欄!O490)","v":""}]
["６",{"$f":"IF(【時計】入力欄!E491=\"\",\"\",【時計】入力欄!E491)","v":""},{"$f":"IF(【時計】入力欄!F491=\"\",\"\",【時計】入力欄!F491)","v":""},{"$f":"CONCATENATE(IF(【時計】入力欄!G491=\"\",\"\",【時計】入力欄!G491&\" \"),IF(【時計】入力欄!H491=\"\",\"\",【時計】入力欄!H491&\" \"),IF(【時計】入力欄!I491=\"\",\"\",【時計】入力欄!I491&\" \"),IF(【時計】入力欄!J491=\"\",\"\",【時計】入力欄!J491&\" \"))","v":""},{"$f":"IF(【時計】入力欄!K491=\"\",\"\",【時計】入力欄!K491&\"g\")","v":""},{"$f":"IF(【時計】入力欄!L491=\"\",\"\",【時計】入力欄!L491)","v":""},{"$f":"IF(【時計】入力欄!O491=\"\",\"\",【時計】入力欄!O491)","v":""}]
["７",{"$f":"IF(【時計】入力欄!E492=\"\",\"\",【時計】入力欄!E492)","v":""},{"$f":"IF(【時計】入力欄!F492=\"\",\"\",【時計】入力欄!F492)","v":""},{"$f":"CONCATENATE(IF(【時計】入力欄!G492=\"\",\"\",【時計】入力欄!G492&\" \"),IF(【時計】入力欄!H492=\"\",\"\",【時計】入力欄!H492&\" \"),IF(【時計】入力欄!I492=\"\",\"\",【時計】入力欄!I492&\" \"),IF(【時計】入力欄!J492=\"\",\"\",【時計】入力欄!J492&\" \"))","v":""},{"$f":"IF(【時計】入力欄!K492=\"\",\"\",【時計】入力欄!K492&\"g\")","v":""},{"$f":"IF(【時計】入力欄!L492=\"\",\"\",【時計】入力欄!L492)","v":""},{"$f":"IF(【時計】入力欄!O492=\"\",\"\",【時計】入力欄!O492)","v":""}]
["８",{"$f":"IF(【時計】入力欄!E493=\"\",\"\",【時計】入力欄!E493)","v":""},{"$f":"IF(【時計】入力欄!F493=\"\",\"\",【時計】入力欄!F493)","v":""},{"$f":"CONCATENATE(IF(【時計】入力欄!G493=\"\",\"\",【時計】入力欄!G493&\" \"),IF(【時計】入力欄!H493=\"\",\"\",【時計】入力欄!H493&\" \"),IF(【時計】入力欄!I493=\"\",\"\",【時計】入力欄!I493&\" \"),IF(【時計】入力欄!J493=\"\",\"\",【時計】入力欄!J493&\" \"))","v":""},{"$f":"IF(【時計】入力欄!K493=\"\",\"\",【時計】入力欄!K493&\"g\")","v":""},{"$f":"IF(【時計】入力欄!L493=\"\",\"\",【時計】入力欄!L493)","v":""},{"$f":"IF(【時計】入力欄!O493=\"\",\"\",【時計】入力欄!O493)","v":""}]
["９",{"$f":"IF(【時計】入力欄!E494=\"\",\"\",【時計】入力欄!E494)","v":""},{"$f":"IF(【時計】入力欄!F494=\"\",\"\",【時計】入力欄!F494)","v":""},{"$f":"CONCATENATE(IF(【時計】入力欄!G494=\"\",\"\",【時計】入力欄!G494&\" \"),IF(【時計】入力欄!H494=\"\",\"\",【時計】入力欄!H494&\" \"),IF(【時計】入力欄!I494=\"\",\"\",【時計】入力欄!I494&\" \"),IF(【時計】入力欄!J494=\"\",\"\",【時計】入力欄!J494&\" \"))","v":""},{"$f":"IF(【時計】入力欄!K494=\"\",\"\",【時計】入力欄!K494&\"g\")","v":""},{"$f":"IF(【時計】入力欄!L494=\"\",\"\",【時計】入力欄!L494)","v":""},{"$f":"IF(【時計】入力欄!O494=\"\",\"\",【時計】入力欄!O494)","v":""}]
["１０",{"$f":"IF(【時計】入力欄!E495=\"\",\"\",【時計】入力欄!E495)","v":""},{"$f":"IF(【時計】入力欄!F495=\"\",\"\",【時計】入力欄!F495)","v":""},{"$f":"CONCATENATE(IF(【時計】入力欄!G495=\"\",\"\",【時計】入力欄!G495&\" \"),IF(【時計】入力欄!H495=\"\",\"\",【時計】入力欄!H495&\" \"),IF(【時計】入力欄!I495=\"\",\"\",【時計】入力欄!I495&\" \"),IF(【時計】入力欄!J495=\"\",\"\",【時計】入力欄!J495&\" \"))","v":""},{"$f":"IF(【時計】入力欄!K495=\"\",\"\",【時計】入力欄!K495&\"g\")","v":""},{"$f":"IF(【時計】入力欄!L495=\"\",\"\",【時計】入力欄!L495)","v":""},{"$f":"IF(【時計】入力欄!O495=\"\",\"\",【時計】入力欄!O495)","v":""}]
[]
[" ",{"$f":"CONCATENATE(\"出品表　（　\",【時計】入力欄!I$3,\"大吉オークション　時計）\")","v":"出品表　（　大吉オークション　時計）"}]
[]
[null,"箱番：",{"$f":"IF(【時計】入力欄!C496=\"\",\"\",【時計】入力欄!C496)","v":""},"※太枠の中をご記入ください",null,"会社名",{"$f":"IF(【時計】入力欄!C$3=\"\",\"\",【時計】入力欄!C$3)","v":""}]
[]
["番号","ブランド","素材","詳細・特徴","重量","付属品","指値\n（3万円以上）","発句"]
["１",{"$f":"IF(【時計】入力欄!E496=\"\",\"\",【時計】入力欄!E496)","v":""},{"$f":"IF(【時計】入力欄!F496=\"\",\"\",【時計】入力欄!F496)","v":""},{"$f":"CONCATENATE(IF(【時計】入力欄!G496=\"\",\"\",【時計】入力欄!G496&\" \"),IF(【時計】入力欄!H496=\"\",\"\",【時計】入力欄!H496&\" \"),IF(【時計】入力欄!I496=\"\",\"\",【時計】入力欄!I496&\" \"),IF(【時計】入力欄!J496=\"\",\"\",【時計】入力欄!J496&\" \"))","v":""},{"$f":"IF(【時計】入力欄!K496=\"\",\"\",【時計】入力欄!K496&\"g\")","v":""},{"$f":"IF(【時計】入力欄!L496=\"\",\"\",【時計】入力欄!L496)","v":""},{"$f":"IF(【時計】入力欄!O496=\"\",\"\",【時計】入力欄!O496)","v":""}]
["２",{"$f":"IF(【時計】入力欄!E497=\"\",\"\",【時計】入力欄!E497)","v":""},{"$f":"IF(【時計】入力欄!F497=\"\",\"\",【時計】入力欄!F497)","v":""},{"$f":"CONCATENATE(IF(【時計】入力欄!G497=\"\",\"\",【時計】入力欄!G497&\" \"),IF(【時計】入力欄!H497=\"\",\"\",【時計】入力欄!H497&\" \"),IF(【時計】入力欄!I497=\"\",\"\",【時計】入力欄!I497&\" \"),IF(【時計】入力欄!J497=\"\",\"\",【時計】入力欄!J497&\" \"))","v":""},{"$f":"IF(【時計】入力欄!K497=\"\",\"\",【時計】入力欄!K497&\"g\")","v":""},{"$f":"IF(【時計】入力欄!L497=\"\",\"\",【時計】入力欄!L497)","v":""},{"$f":"IF(【時計】入力欄!O497=\"\",\"\",【時計】入力欄!O497)","v":""}]
["３",{"$f":"IF(【時計】入力欄!E498=\"\",\"\",【時計】入力欄!E498)","v":""},{"$f":"IF(【時計】入力欄!F498=\"\",\"\",【時計】入力欄!F498)","v":""},{"$f":"CONCATENATE(IF(【時計】入力欄!G498=\"\",\"\",【時計】入力欄!G498&\" \"),IF(【時計】入力欄!H498=\"\",\"\",【時計】入力欄!H498&\" \"),IF(【時計】入力欄!I498=\"\",\"\",【時計】入力欄!I498&\" \"),IF(【時計】入力欄!J498=\"\",\"\",【時計】入力欄!J498&\" \"))","v":""},{"$f":"IF(【時計】入力欄!K498=\"\",\"\",【時計】入力欄!K498&\"g\")","v":""},{"$f":"IF(【時計】入力欄!L498=\"\",\"\",【時計】入力欄!L498)","v":""},{"$f":"IF(【時計】入力欄!O498=\"\",\"\",【時計】入力欄!O498)","v":""}]
["４",{"$f":"IF(【時計】入力欄!E499=\"\",\"\",【時計】入力欄!E499)","v":""},{"$f":"IF(【時計】入力欄!F499=\"\",\"\",【時計】入力欄!F499)","v":""},{"$f":"CONCATENATE(IF(【時計】入力欄!G499=\"\",\"\",【時計】入力欄!G499&\" \"),IF(【時計】入力欄!H499=\"\",\"\",【時計】入力欄!H499&\" \"),IF(【時計】入力欄!I499=\"\",\"\",【時計】入力欄!I499&\" \"),IF(【時計】入力欄!J499=\"\",\"\",【時計】入力欄!J499&\" \"))","v":""},{"$f":"IF(【時計】入力欄!K499=\"\",\"\",【時計】入力欄!K499&\"g\")","v":""},{"$f":"IF(【時計】入力欄!L499=\"\",\"\",【時計】入力欄!L499)","v":""},{"$f":"IF(【時計】入力欄!O499=\"\",\"\",【時計】入力欄!O499)","v":""}]
["５",{"$f":"IF(【時計】入力欄!E500=\"\",\"\",【時計】入力欄!E500)","v":""},{"$f":"IF(【時計】入力欄!F500=\"\",\"\",【時計】入力欄!F500)","v":""},{"$f":"CONCATENATE(IF(【時計】入力欄!G500=\"\",\"\",【時計】入力欄!G500&\" \"),IF(【時計】入力欄!H500=\"\",\"\",【時計】入力欄!H500&\" \"),IF(【時計】入力欄!I500=\"\",\"\",【時計】入力欄!I500&\" \"),IF(【時計】入力欄!J500=\"\",\"\",【時計】入力欄!J500&\" \"))","v":""},{"$f":"IF(【時計】入力欄!K500=\"\",\"\",【時計】入力欄!K500&\"g\")","v":""},{"$f":"IF(【時計】入力欄!L500=\"\",\"\",【時計】入力欄!L500)","v":""},{"$f":"IF(【時計】入力欄!O500=\"\",\"\",【時計】入力欄!O500)","v":""}]
["６",{"$f":"IF(【時計】入力欄!E501=\"\",\"\",【時計】入力欄!E501)","v":""},{"$f":"IF(【時計】入力欄!F501=\"\",\"\",【時計】入力欄!F501)","v":""},{"$f":"CONCATENATE(IF(【時計】入力欄!G501=\"\",\"\",【時計】入力欄!G501&\" \"),IF(【時計】入力欄!H501=\"\",\"\",【時計】入力欄!H501&\" \"),IF(【時計】入力欄!I501=\"\",\"\",【時計】入力欄!I501&\" \"),IF(【時計】入力欄!J501=\"\",\"\",【時計】入力欄!J501&\" \"))","v":""},{"$f":"IF(【時計】入力欄!K501=\"\",\"\",【時計】入力欄!K501&\"g\")","v":""},{"$f":"IF(【時計】入力欄!L501=\"\",\"\",【時計】入力欄!L501)","v":""},{"$f":"IF(【時計】入力欄!O501=\"\",\"\",【時計】入力欄!O501)","v":""}]
["７",{"$f":"IF(【時計】入力欄!E502=\"\",\"\",【時計】入力欄!E502)","v":""},{"$f":"IF(【時計】入力欄!F502=\"\",\"\",【時計】入力欄!F502)","v":""},{"$f":"CONCATENATE(IF(【時計】入力欄!G502=\"\",\"\",【時計】入力欄!G502&\" \"),IF(【時計】入力欄!H502=\"\",\"\",【時計】入力欄!H502&\" \"),IF(【時計】入力欄!I502=\"\",\"\",【時計】入力欄!I502&\" \"),IF(【時計】入力欄!J502=\"\",\"\",【時計】入力欄!J502&\" \"))","v":""},{"$f":"IF(【時計】入力欄!K502=\"\",\"\",【時計】入力欄!K502&\"g\")","v":""},{"$f":"IF(【時計】入力欄!L502=\"\",\"\",【時計】入力欄!L502)","v":""},{"$f":"IF(【時計】入力欄!O502=\"\",\"\",【時計】入力欄!O502)","v":""}]
["８",{"$f":"IF(【時計】入力欄!E503=\"\",\"\",【時計】入力欄!E503)","v":""},{"$f":"IF(【時計】入力欄!F503=\"\",\"\",【時計】入力欄!F503)","v":""},{"$f":"CONCATENATE(IF(【時計】入力欄!G503=\"\",\"\",【時計】入力欄!G503&\" \"),IF(【時計】入力欄!H503=\"\",\"\",【時計】入力欄!H503&\" \"),IF(【時計】入力欄!I503=\"\",\"\",【時計】入力欄!I503&\" \"),IF(【時計】入力欄!J503=\"\",\"\",【時計】入力欄!J503&\" \"))","v":""},{"$f":"IF(【時計】入力欄!K503=\"\",\"\",【時計】入力欄!K503&\"g\")","v":""},{"$f":"IF(【時計】入力欄!L503=\"\",\"\",【時計】入力欄!L503)","v":""},{"$f":"IF(【時計】入力欄!O503=\"\",\"\",【時計】入力欄!O503)","v":""}]
["９",{"$f":"IF(【時計】入力欄!E504=\"\",\"\",【時計】入力欄!E504)","v":""},{"$f":"IF(【時計】入力欄!F504=\"\",\"\",【時計】入力欄!F504)","v":""},{"$f":"CONCATENATE(IF(【時計】入力欄!G504=\"\",\"\",【時計】入力欄!G504&\" \"),IF(【時計】入力欄!H504=\"\",\"\",【時計】入力欄!H504&\" \"),IF(【時計】入力欄!I504=\"\",\"\",【時計】入力欄!I504&\" \"),IF(【時計】入力欄!J504=\"\",\"\",【時計】入力欄!J504&\" \"))","v":""},{"$f":"IF(【時計】入力欄!K504=\"\",\"\",【時計】入力欄!K504&\"g\")","v":""},{"$f":"IF(【時計】入力欄!L504=\"\",\"\",【時計】入力欄!L504)","v":""},{"$f":"IF(【時計】入力欄!O504=\"\",\"\",【時計】入力欄!O504)","v":""}]
["１０",{"$f":"IF(【時計】入力欄!E505=\"\",\"\",【時計】入力欄!E505)","v":""},{"$f":"IF(【時計】入力欄!F505=\"\",\"\",【時計】入力欄!F505)","v":""},{"$f":"CONCATENATE(IF(【時計】入力欄!G505=\"\",\"\",【時計】入力欄!G505&\" \"),IF(【時計】入力欄!H505=\"\",\"\",【時計】入力欄!H505&\" \"),IF(【時計】入力欄!I505=\"\",\"\",【時計】入力欄!I505&\" \"),IF(【時計】入力欄!J505=\"\",\"\",【時計】入力欄!J505&\" \"))","v":""},{"$f":"IF(【時計】入力欄!K505=\"\",\"\",【時計】入力欄!K505&\"g\")","v":""},{"$f":"IF(【時計】入力欄!L505=\"\",\"\",【時計】入力欄!L505)","v":""},{"$f":"IF(【時計】入力欄!O505=\"\",\"\",【時計】入力欄!O505)","v":""}]

{"sheet":"出品表61～120","index":9,"n_rows":93,"n_cols":11,"rows_kept":93,"cut":false,"hidden":true,"merged":[[63,0,63,6],[65,0,65,1],[65,2,65,4],[79,0,79,6],[81,0,81,1],[81,2,81,4],[32,0,32,6],[34,0,34,1],[34,2,34,4],[48,0,48,6],[50,0,50,1],[50,2,50,4],[1,0,1,6],[3,0,3,1],[3,2,3,4],[17,0,17,6],[19,0,19,1],[19,2,19,4]]}
[]
["出品表　（第　　回　TIMELESSオークションｂｙAPRE　宝石・ジュエリー）"]
[]
["箱番号"]
[]
["番号","品名","金性","ブランド","詳細・特徴","重量","点数","付属","番号","指値","発句"]
[61,null,null,null,null,null,null,null,61]
[62,null,null,null,null,null,null,null,62]
[63,null,null,null,null,null,null,null,63]
[64,null,null,null,null,null,null,null,64]
[65,null,null,null,null,null,null,null,65]
[66,null,null,null,null,null,null,null,66]
[67,null,null,null,null,null,null,null,67]
[68,null,null,null,null,null,null,null,68]
[69,null,null,null,null,null,null,null,69]
[70,null,null,null,null,null,null,null,70]
[]
["出品表　（第　　回　TIMELESSオークションｂｙAPRE　宝石・ジュエリー）"]
[]
["箱番号"]
["番号","品名","金性","ブランド","詳細・特徴","重量","点数","付属","番号","指値","発句"]
[71,null,null,null,null,null,null,null,71]
[72,null,null,null,null,null,null,null,72]
[73,null,null,null,null,null,null,null,73]
[74,null,null,null,null,null,null,null,74]
[75,null,null,null,null,null,null,null,75]
[76,null,null,null,null,null,null,null,76]
[77,null,null,null,null,null,null,null,77]
[78,null,null,null,null,null,null,null,78]
[79,null,null,null,null,null,null,null,79]
[80,null,null,null,null,null,null,null,80]
[]
["出品表　（第　　回　TIMELESSオークションｂｙAPRE　宝石・ジュエリー）"]
[]
["箱番号"]
[]
["番号","品名","金性","ブランド","詳細・特徴","重量","点数","付属","番号","指値","発句"]
[81,null,null,null,null,null,null,null,81]
[82,null,null,null,null,null,null,null,82]
[83,null,null,null,null,null,null,null,83]
[84,null,null,null,null,null,null,null,84]
[85,null,null,null,null,null,null,null,85]
[86,null,null,null,null,null,null,null,86]
[87,null,null,null,null,null,null,null,87]
[88,null,null,null,null,null,null,null,88]
[89,null,null,null,null,null,null,null,89]
[90,null,null,null,null,null,null,null,90]
[]
["出品表　（第　　回　TIMELESSオークションｂｙAPRE　宝石・ジュエリー）"]
[]
["箱番号"]
["番号","品名","金性","ブランド","詳細・特徴","重量","点数","付属","番号","指値","発句"]
[91,null,null,null,null,null,null,null,91]
[92,null,null,null,null,null,null,null,92]
[93,null,null,null,null,null,null,null,93]
[94,null,null,null,null,null,null,null,94]
[95,null,null,null,null,null,null,null,95]
[96,null,null,null,null,null,null,null,96]
[97,null,null,null,null,null,null,null,97]
[98,null,null,null,null,null,null,null,98]
[99,null,null,null,null,null,null,null,99]
[100,null,null,null,null,null,null,null,100]
[]
["出品表　（第　　回　TIMELESSオークションｂｙAPRE　宝石・ジュエリー）"]
[]
["箱番号"]
[]
["番号","品名","金性","ブランド","詳細・特徴","重量","点数","付属","番号","指値","発句"]
[101,null,null,null,null,null,null,null,101]
[102,null,null,null,null,null,null,null,102]
[103,null,null,null,null,null,null,null,103]
[104,null,null,null,null,null,null,null,104]
[105,null,null,null,null,null,null,null,105]
[106,null,null,null,null,null,null,null,106]
[107,null,null,null,null,null,null,null,107]
[108,null,null,null,null,null,null,null,108]
[109,null,null,null,null,null,null,null,109]
[110,null,null,null,null,null,null,null,110]
[]
["出品表　（第　　回　TIMELESSオークションｂｙAPERE　宝石・ジュエリー）"]
[]
["箱番号"]
["番号","品名","金性","ブランド","詳細・特徴","重量","点数","付属","番号","指値","発句"]
[111,null,null,null,null,null,null,null,111]
[112,null,null,null,null,null,null,null,112]
[113,null,null,null,null,null,null,null,113]
[114,null,null,null,null,null,null,null,114]
[115,null,null,null,null,null,null,null,115]
[116,null,null,null,null,null,null,null,116]
[117,null,null,null,null,null,null,null,117]
[118,null,null,null,null,null,null,null,118]
[119,null,null,null,null,null,null,null,119]
[120,null,null,null,null,null,null,null,120]

{"sheet":"出品表121～180","index":10,"n_rows":93,"n_cols":11,"rows_kept":93,"cut":false,"hidden":true,"merged":[[63,0,63,6],[65,0,65,1],[65,2,65,4],[79,0,79,6],[81,0,81,1],[81,2,81,4],[32,0,32,6],[34,0,34,1],[34,2,34,4],[48,0,48,6],[50,0,50,1],[50,2,50,4],[1,0,1,6],[3,0,3,1],[3,2,3,4],[17,0,17,6],[19,0,19,1],[19,2,19,4]]}
[]
["出品表　（第　　回　TIMELESSオークションｂｙAPRE　宝石・ジュエリー）"]
[]
["箱番号"]
[]
["番号","品名","金性","ブランド","詳細・特徴","重量","点数","付属","番号","指値","発句"]
[121,null,null,null,null,null,null,null,121]
[122,null,null,null,null,null,null,null,122]
[123,null,null,null,null,null,null,null,123]
[124,null,null,null,null,null,null,null,124]
[125,null,null,null,null,null,null,null,125]
[126,null,null,null,null,null,null,null,126]
[127,null,null,null,null,null,null,null,127]
[128,null,null,null,null,null,null,null,128]
[129,null,null,null,null,null,null,null,129]
[130,null,null,null,null,null,null,null,130]
[]
["出品表　（第　　回　TIMELESSオークションｂｙAPRE　宝石・ジュエリー）"]
[]
["箱番号"]
["番号","品名","金性","ブランド","詳細・特徴","重量","点数","付属","番号","指値","発句"]
[131,null,null,null,null,null,null,null,131]
[132,null,null,null,null,null,null,null,132]
[133,null,null,null,null,null,null,null,133]
[134,null,null,null,null,null,null,null,134]
[135,null,null,null,null,null,null,null,135]
[136,null,null,null,null,null,null,null,136]
[137,null,null,null,null,null,null,null,137]
[138,null,null,null,null,null,null,null,138]
[139,null,null,null,null,null,null,null,139]
[140,null,null,null,null,null,null,null,140]
[]
["出品表　（第　　回　TIMELESSオークションｂｙAPRE　宝石・ジュエリー）"]
[]
["箱番号"]
[]
["番号","品名","金性","ブランド","詳細・特徴","重量","点数","付属","番号","指値","発句"]
[141,null,null,null,null,null,null,null,141]
[142,null,null,null,null,null,null,null,142]
[143,null,null,null,null,null,null,null,143]
[144,null,null,null,null,null,null,null,144]
[145,null,null,null,null,null,null,null,145]
[146,null,null,null,null,null,null,null,146]
[147,null,null,null,null,null,null,null,147]
[148,null,null,null,null,null,null,null,148]
[149,null,null,null,null,null,null,null,149]
[150,null,null,null,null,null,null,null,150]
[]
["出品表　（第　　回　TIMELESSオークションｂｙAPRE　宝石・ジュエリー）"]
[]
["箱番号"]
["番号","品名","金性","ブランド","詳細・特徴","重量","点数","付属","番号","指値","発句"]
[151,null,null,null,null,null,null,null,151]
[152,null,null,null,null,null,null,null,152]
[153,null,null,null,null,null,null,null,153]
[154,null,null,null,null,null,null,null,154]
[155,null,null,null,null,null,null,null,155]
[156,null,null,null,null,null,null,null,156]
[157,null,null,null,null,null,null,null,157]
[158,null,null,null,null,null,null,null,158]
[159,null,null,null,null,null,null,null,159]
[160,null,null,null,null,null,null,null,160]
[]
["出品表　（第　　回　TIMELESSオークションｂｙAPRE　宝石・ジュエリー）"]
[]
["箱番号"]
[]
["番号","品名","金性","ブランド","詳細・特徴","重量","点数","付属","番号","指値","発句"]
[161,null,null,null,null,null,null,null,161]
[162,null,null,null,null,null,null,null,162]
[163,null,null,null,null,null,null,null,163]
[164,null,null,null,null,null,null,null,164]
[165,null,null,null,null,null,null,null,165]
[166,null,null,null,null,null,null,null,166]
[167,null,null,null,null,null,null,null,167]
[168,null,null,null,null,null,null,null,168]
[169,null,null,null,null,null,null,null,169]
[170,null,null,null,null,null,null,null,170]
[]
["出品表　（第　　回　TIMELESSオークションｂｙAPERE　宝石・ジュエリー）"]
[]
["箱番号"]
["番号","品名","金性","ブランド","詳細・特徴","重量","点数","付属","番号","指値","発句"]
[171,null,null,null,null,null,null,null,171]
[172,null,null,null,null,null,null,null,172]
[173,null,null,null,null,null,null,null,173]
[174,null,null,null,null,null,null,null,174]
[175,null,null,null,null,null,null,null,175]
[176,null,null,null,null,null,null,null,176]
[177,null,null,null,null,null,null,null,177]
[178,null,null,null,null,null,null,null,178]
[179,null,null,null,null,null,null,null,179]
[180,null,null,null,null,null,null,null,180]

{"sheet":"出品表181～240","index":11,"n_rows":93,"n_cols":11,"rows_kept":93,"cut":false,"hidden":true,"merged":[[63,0,63,6],[65,0,65,1],[65,2,65,4],[79,0,79,6],[81,0,81,1],[81,2,81,4],[32,0,32,6],[34,0,34,1],[34,2,34,4],[48,0,48,6],[50,0,50,1],[50,2,50,4],[1,0,1,6],[3,0,3,1],[3,2,3,4],[17,0,17,6],[19,0,19,1],[19,2,19,4]]}
[]
["出品表　（第　　回　TIMELESSオークションｂｙAPRE　宝石・ジュエリー）"]
[]
["箱番号"]
[]
["番号","品名","金性","ブランド","詳細・特徴","重量","点数","付属","番号","指値","発句"]
[181,null,null,null,null,null,null,null,181]
[182,null,null,null,null,null,null,null,182]
[183,null,null,null,null,null,null,null,183]
[184,null,null,null,null,null,null,null,184]
[185,null,null,null,null,null,null,null,185]
[186,null,null,null,null,null,null,null,186]
[187,null,null,null,null,null,null,null,187]
[188,null,null,null,null,null,null,null,188]
[189,null,null,null,null,null,null,null,189]
[190,null,null,null,null,null,null,null,190]
[]
["出品表　（第　　回　TIMELESSオークションｂｙAPRE　宝石・ジュエリー）"]
[]
["箱番号"]
["番号","品名","金性","ブランド","詳細・特徴","重量","点数","付属","番号","指値","発句"]
[191,null,null,null,null,null,null,null,191]
[192,null,null,null,null,null,null,null,192]
[193,null,null,null,null,null,null,null,193]
[194,null,null,null,null,null,null,null,194]
[195,null,null,null,null,null,null,null,195]
[196,null,null,null,null,null,null,null,196]
[197,null,null,null,null,null,null,null,197]
[198,null,null,null,null,null,null,null,198]
[199,null,null,null,null,null,null,null,199]
[200,null,null,null,null,null,null,null,200]
[]
["出品表　（第　　回　TIMELESSオークションｂｙAPRE　宝石・ジュエリー）"]
[]
["箱番号"]
[]
["番号","品名","金性","ブランド","詳細・特徴","重量","点数","付属","番号","指値","発句"]
[201,null,null,null,null,null,null,null,201]
[202,null,null,null,null,null,null,null,202]
[203,null,null,null,null,null,null,null,203]
[204,null,null,null,null,null,null,null,204]
[205,null,null,null,null,null,null,null,205]
[206,null,null,null,null,null,null,null,206]
[207,null,null,null,null,null,null,null,207]
[208,null,null,null,null,null,null,null,208]
[209,null,null,null,null,null,null,null,209]
[210,null,null,null,null,null,null,null,210]
[]
["出品表　（第　　回　TIMELESSオークションｂｙAPRE　宝石・ジュエリー）"]
[]
["箱番号"]
["番号","品名","金性","ブランド","詳細・特徴","重量","点数","付属","番号","指値","発句"]
[211,null,null,null,null,null,null,null,211]
[212,null,null,null,null,null,null,null,212]
[213,null,null,null,null,null,null,null,213]
[214,null,null,null,null,null,null,null,214]
[215,null,null,null,null,null,null,null,215]
[216,null,null,null,null,null,null,null,216]
[217,null,null,null,null,null,null,null,217]
[218,null,null,null,null,null,null,null,218]
[219,null,null,null,null,null,null,null,219]
[220,null,null,null,null,null,null,null,220]
[]
["出品表　（第　　回　TIMELESSオークションｂｙAPRE　宝石・ジュエリー）"]
[]
["箱番号"]
[]
["番号","品名","金性","ブランド","詳細・特徴","重量","点数","付属","番号","指値","発句"]
[221,null,null,null,null,null,null,null,221]
[222,null,null,null,null,null,null,null,222]
[223,null,null,null,null,null,null,null,223]
[224,null,null,null,null,null,null,null,224]
[225,null,null,null,null,null,null,null,225]
[226,null,null,null,null,null,null,null,226]
[227,null,null,null,null,null,null,null,227]
[228,null,null,null,null,null,null,null,228]
[229,null,null,null,null,null,null,null,229]
[230,null,null,null,null,null,null,null,230]
[]
["出品表　（第　　回　TIMELESSオークションｂｙAPERE　宝石・ジュエリー）"]
[]
["箱番号"]
["番号","品名","金性","ブランド","詳細・特徴","重量","点数","付属","番号","指値","発句"]
[231,null,null,null,null,null,null,null,231]
[232,null,null,null,null,null,null,null,232]
[233,null,null,null,null,null,null,null,233]
[234,null,null,null,null,null,null,null,234]
[235,null,null,null,null,null,null,null,235]
[236,null,null,null,null,null,null,null,236]
[237,null,null,null,null,null,null,null,237]
[238,null,null,null,null,null,null,null,238]
[239,null,null,null,null,null,null,null,239]
[240,null,null,null,null,null,null,null,240]

{"sheet":"出品表241～300","index":12,"n_rows":93,"n_cols":11,"rows_kept":93,"cut":false,"hidden":true,"merged":[[63,0,63,6],[65,0,65,1],[65,2,65,4],[79,0,79,6],[81,0,81,1],[81,2,81,4],[32,0,32,6],[34,0,34,1],[34,2,34,4],[48,0,48,6],[50,0,50,1],[50,2,50,4],[1,0,1,6],[3,0,3,1],[3,2,3,4],[17,0,17,6],[19,0,19,1],[19,2,19,4]]}
[]
["出品表　（第　　回　TIMELESSオークションｂｙAPRE　宝石・ジュエリー）"]
[]
["箱番号"]
[]
["番号","品名","金性","ブランド","詳細・特徴","重量","点数","付属","番号","指値","発句"]
[241,null,null,null,null,null,null,null,241]
[242,null,null,null,null,null,null,null,242]
[243,null,null,null,null,null,null,null,243]
[244,null,null,null,null,null,null,null,244]
[245,null,null,null,null,null,null,null,245]
[246,null,null,null,null,null,null,null,246]
[247,null,null,null,null,null,null,null,247]
[248,null,null,null,null,null,null,null,248]
[249,null,null,null,null,null,null,null,249]
[250,null,null,null,null,null,null,null,250]
[]
["出品表　（第　　回　TIMELESSオークションｂｙAPRE　宝石・ジュエリー）"]
[]
["箱番号"]
["番号","品名","金性","ブランド","詳細・特徴","重量","点数","付属","番号","指値","発句"]
[251,null,null,null,null,null,null,null,251]
[252,null,null,null,null,null,null,null,252]
[253,null,null,null,null,null,null,null,253]
[254,null,null,null,null,null,null,null,254]
[255,null,null,null,null,null,null,null,255]
[256,null,null,null,null,null,null,null,256]
[257,null,null,null,null,null,null,null,257]
[258,null,null,null,null,null,null,null,258]
[259,null,null,null,null,null,null,null,259]
[260,null,null,null,null,null,null,null,260]
[]
["出品表　（第　　回　TIMELESSオークションｂｙAPRE　宝石・ジュエリー）"]
[]
["箱番号"]
[]
["番号","品名","金性","ブランド","詳細・特徴","重量","点数","付属","番号","指値","発句"]
[261,null,null,null,null,null,null,null,261]
[262,null,null,null,null,null,null,null,262]
[263,null,null,null,null,null,null,null,263]
[264,null,null,null,null,null,null,null,264]
[265,null,null,null,null,null,null,null,265]
[266,null,null,null,null,null,null,null,266]
[267,null,null,null,null,null,null,null,267]
[268,null,null,null,null,null,null,null,268]
[269,null,null,null,null,null,null,null,269]
[270,null,null,null,null,null,null,null,270]
[]
["出品表　（第　　回　TIMELESSオークションｂｙAPRE　宝石・ジュエリー）"]
[]
["箱番号"]
["番号","品名","金性","ブランド","詳細・特徴","重量","点数","付属","番号","指値","発句"]
[271,null,null,null,null,null,null,null,271]
[272,null,null,null,null,null,null,null,272]
[273,null,null,null,null,null,null,null,273]
[274,null,null,null,null,null,null,null,274]
[275,null,null,null,null,null,null,null,275]
[276,null,null,null,null,null,null,null,276]
[277,null,null,null,null,null,null,null,277]
[278,null,null,null,null,null,null,null,278]
[279,null,null,null,null,null,null,null,279]
[280,null,null,null,null,null,null,null,280]
[]
["出品表　（第　　回　TIMELESSオークションｂｙAPRE　宝石・ジュエリー）"]
[]
["箱番号"]
[]
["番号","品名","金性","ブランド","詳細・特徴","重量","点数","付属","番号","指値","発句"]
[281,null,null,null,null,null,null,null,281]
[282,null,null,null,null,null,null,null,282]
[283,null,null,null,null,null,null,null,283]
[284,null,null,null,null,null,null,null,284]
[285,null,null,null,null,null,null,null,285]
[286,null,null,null,null,null,null,null,286]
[287,null,null,null,null,null,null,null,287]
[288,null,null,null,null,null,null,null,288]
[289,null,null,null,null,null,null,null,289]
[290,null,null,null,null,null,null,null,290]
[]
["出品表　（第　　回　TIMELESSオークションｂｙAPERE　宝石・ジュエリー）"]
[]
["箱番号"]
["番号","品名","金性","ブランド","詳細・特徴","重量","点数","付属","番号","指値","発句"]
[291,null,null,null,null,null,null,null,291]
[292,null,null,null,null,null,null,null,292]
[293,null,null,null,null,null,null,null,293]
[294,null,null,null,null,null,null,null,294]
[295,null,null,null,null,null,null,null,295]
[296,null,null,null,null,null,null,null,296]
[297,null,null,null,null,null,null,null,297]
[298,null,null,null,null,null,null,null,298]
[299,null,null,null,null,null,null,null,299]
[300,null,null,null,null,null,null,null,300]